{"text_format":"1","workbook":"xlsx","n_sheets":23,"sheets":["Cover","Indicators","Check","PP1(LP)","PP2","PP3","PP4","PP5","Project identification","T1-PPs","T2-B(PP1)","T2-B(PP2)","T2-B(PP3)","T2-B(PP4)","T2-B(PP5)","Table 2-total","Table 3-summary","Table 4 PP`BL","Table 5-Sources","Statements","Declarations","Summary","Named_ranges"],"not_rendered":{"charts":0,"images":7,"macros":1,"external_links":0,"defined_names":10286,"comments":0,"pivot_tables":0},"unopened":[],"bounds":{"document_bytes":16777216,"sheet_cells":100000,"rows_first":2000,"rows_last":500,"rows_between":2000,"halvings":0,"cell_chars":16384,"cell_head_chars":4096},"cells_cut":0,"cells_raw":0,"read":"whole","date_system":"1900"}

{"sheet":"Cover","index":0,"n_rows":54,"n_cols":21,"rows_kept":54,"cut":false,"hidden":false,"merged":[[21,2,21,9],[35,2,35,9],[38,2,38,9],[26,2,26,9],[28,2,28,9],[30,2,30,9],[24,2,24,9],[32,2,32,9],[17,0,17,8],[18,0,18,10],[3,1,3,9],[1,1,1,3],[1,4,1,6],[1,7,1,9],[2,1,2,3],[2,4,2,6],[2,7,2,9],[16,0,16,10],[8,0,8,10],[9,0,9,10],[10,0,10,10],[11,0,11,9],[15,0,15,10]]}
[]
[]
[null,"Signature (Chairperson)",null,null,"Signature (Secretary)",null,null,"Project number"]
[null,"(filled in by the Joint Secretariat)"]
[]
[]
[]
[]
["Managing Authority"]
["Directorate General Territorial Cooperation Management"]
["Ministry of Regional Development and Public Works"]
[" of the Republic of Bulgaria "]
[]
[]
[]
["INTERREG IPA CBC PROGRAMME BULGARIA - FORMER YUGOSLAV REPUBLIC OF MACEDONIA"]
["Application Form "]
[]
["Call for Proposals No: 2014TC16I5CB006-2017-2"]
[]
[null,null,null,null,null,null,null,null,null,null,null,{"$f":"IF(M21<0,FALSE,TRUE)","v":true},{"$f":"SUM(M22:M23)","v":0}]
[null,"Project title",null,null,null,null,null,null,null,null,null,null,{"$f":"-ISBLANK(B22)","v":0},{"$f":"ISBLANK(B22)","v":false}]
[]
[null,null,null,null,null,null,null,null,null,null,null,null,null,null,null,null,null,null,{"$f":"VLOOKUP(C29,T25:U30,2)","v":{"$error":"#N/A"}}]
[null,"Full Name:",{"$f":"IF(Cover!B40=\"\",\"\",Cover!B40)","v":""},null,null,null,null,null,null,null,null,{"$f":"Cover!N40","v":0},null,null,null,null,null,null,null,"1.1 Environmental protection and sustainable use of the common natural resources of the CBC area","both"]
[null,null,null,null,null,null,null,null,null,null,null,null,null,null,null,null,null,null,null,"1.2 Prevention and mitigation of consequences of natural and man-caused disasters of cross-border dimension and impact","both"]
[null,"Priority Axis",null,null,null,null,null,null,null,null,null,{"$f":"ISBLANK(C27)","v":true},{"$f":"Q24","v":0},"Environment",null,null,null,null,null,"2.1 Enhancing the tourism potential of the region through cooperation initiatives in better preservation and sustainable utilization of natural and cultural heritage","Investment"]
[null,null,null,null,null,null,null,null,null,null,null,null,null,"Tourism",null,null,null,null,null,"2.2 Raising the competitiveness of the CBC region’s tourist offer","Soft"]
[null,"Specific Objective",null,null,null,null,null,null,null,null,null,{"$f":"ISBLANK(C29)","v":true},{"$f":"#REF!","v":{"$error":"#REF!"}},"Competitiveness",null,null,null,null,null,"2.3 Promoting cooperation among regional actors in the area of sustainable tourism","Soft"]
[null,null,null,null,null,null,null,null,null,null,null,null,null,null,null,null,null,null,null,"3.1 Improving the competitiveness of regional businesses","Soft"]
[null,"Type of project",null,null,null,null,null,null,null,null,null,{"$f":"ISBLANK(C31)","v":true},null,"Soft","Investment","Soft"]
[null,null,null,null,null,null,null,null,null,null,null,null,null,null,null,"Investment"]
[null,"Intervention field"]
[]
[]
[null,"Lead Partner Organization",null,null,null,null,null,null,null,null,null,null,{"$f":"-ISBLANK(B36)","v":0},{"$f":"ISBLANK(B36)","v":false}]
[]
[]
[null,"Legal  representative – name, signature, stamp",null,null,null,null,null,null,null,null,null,null,{"$f":"-ISBLANK(B39)","v":0},{"$f":"ISBLANK(B39)","v":false}]
[]
[]
[]
[]
[]
[null,null,null,null,null,null,null,null,null,null,null,null,null,{"$f":"C27","v":0},{"$f":"CONCATENATE(N45,\"1\")","v":"01"}]
[null,null,null,null,null,null,null,null,null,null,null,null,null,"085 Protection and enhancement of biodiversity, nature protection and green infrastructure","075 Development and promotion of tourism services in or for SMEs ","063 Cluster support and business networks primarily benefiting SMEs "]
[null,null,null,null,null,null,null,null,null,null,null,null,null,"087 Adaptation to climate change measures and prevention and management of climate related risks e.g. erosion, fires, flooding, storms and drought, including awareness raising, civil protection and disaster management systems and infrastructures","079  Access to public sector information (including open data e-Tourism)","064 Research and innovation processes in SMEs (including voucher schemes, process, design, service and social innovation)"]
[null,null,null,null,null,null,null,null,null,null,null,null,null,null,"090 Cycle tracks and footpaths","066 Advanced support services for SMEs and groups of SMEs (including management, marketing and design services)"]
[null,null,null,null,null,null,null,null,null,null,null,null,null,null,"092 Protection, development and promotion of public tourism assets ","067 SME business development, support to entrepreneurship and incubation (including support to spin offs and spin outs)"]
[null,null,null,null,null,null,null,null,null,null,null,null,null,null,"094 Protection, development and promotion of public cultural and heritage assets","073 Support to social enterprises (SMEs)"]
[null,null,null,null,null,null,null,null,null,null,null,null,null,null,"095 Development and promotion of public cultural and heritage services","103 Sustainable integration into the labour market of young people, in particular those not in employment, education or training, including young people at risk of social exclusion and young people from marginalised communities, including through the implementation of the Youth Guarantee"]
[null,null,null,null,null,null,null,null,null,null,null,null,null,null,"103 Sustainable integration into the labour market of young people, in particular those not in employment, education or training, including young people at risk of social exclusion and young people from marginalised communities, including through the implementation of the Youth Guarantee","104 Self-employment, entrepreneurship and business creation including innovative micro, small and medium sized enterprises"]
[null,null,null,null,null,null,null,null,null,null,null,null,null,null,null,"105 Equality between men and women in all areas, including in access to employment, career progression, reconciliation of work and private life and promotion of equal pay for equal work"]
[null,null,null,null,null,null,null,null,null,null,null,null,null,null,null,"109 Active inclusion, including with a view to promoting equal opportunities and active participation, and improving employability"]

{"sheet":"Indicators","index":1,"n_rows":7,"n_cols":5,"rows_kept":7,"cut":false,"hidden":false,"merged":[[5,2,5,3],[5,4,5,9],[6,2,6,3],[6,4,6,9],[2,2,2,3],[2,4,2,9],[3,2,3,3],[3,4,3,9],[4,2,4,3],[4,4,4,9]]}
[null,"Ouput indicators"]
[]
[null,"Ouput indicator","Quantity ",null,"Sources of verification "]
[null,0,0,null,0]
[null,0,0,null,0]
[null,0,0,null,0]
[null,0,0,null,0]

{"sheet":"Check","index":2,"n_rows":73,"n_cols":13,"rows_kept":73,"cut":false,"hidden":false,"merged":[[0,1,1,9]]}
[null,"INTERREG - IPA \nCROSS-BORDER COOPERATION PROGRAMME\nPART I\n     \n     \n     \n"]
[]
[]
[null,"Project partner 1 (Lead Beneficiery)"]
[null,null,"1.1.Detailed information",null,null,null,null,"x",null,null,null,{"$f":"'PP1(LP)'!K6=0","v":false}]
[null,null,"1.2. Partner profile",null,null,null,null,"x",null,null,null,{"$f":"'PP1(LP)'!K39>0","v":false}]
[null,null,"1.3. Partner experience",null,null,null,null,"x",null,null,null,true]
[]
[null,null,"2.1. Detailed information",null,null,null,null,"x",null,null,null,{"$f":"'PP1(LP)'!$K$70=FALSE","v":false}]
[null,null,"2.2. Financial status, capacity and equipment",null,null,null,null,"x",null,null,null,{"$f":"'PP1(LP)'!$N$80=9","v":true}]
[]
[null,"Project partner 2"]
[null,null,"1.1.Detailed information",null,null,null,null,"x",null,null,null,{"$f":"'PP2'!$K$6=0","v":false}]
[null,null,"1.2. Partner profile",null,null,null,null,"x",null,null,null,{"$f":"'PP2'!$K$39>0","v":false}]
[null,null,"1.3. Partner experience",null,null,null,null,"x",null,null,null,true]
[]
[null,null,"2.1. Detailed information",null,null,null,null,"x",null,null,null,{"$f":"'PP2'!$K$70=FALSE","v":false}]
[null,null,"2.2. Financial status, capacity and equipment",null,null,null,null,"x",null,null,null,{"$f":"'PP2'!$N$80=9","v":false}]
[]
[null,"Project partner 3",null,null,null,null,null,null,null,null,null,null,"x"]
[null,null,"1.1.Detailed information",null,null,null,null,"x",null,null,null,{"$f":"'PP3'!$K$6=0","v":false}]
[null,null,"1.2. Partner profile",null,null,null,null,"x",null,null,null,{"$f":"'PP3'!$K$39>0","v":false}]
[null,null,"1.3. Partner experience",null,null,null,null,"x",null,null,null,true]
[]
[null,null,"2.1. Detailed information",null,null,null,null,"x",null,null,null,{"$f":"'PP3'!$K$70=FALSE","v":false}]
[null,null,"2.2. Financial status, capacity and equipment",null,null,null,null,"x",null,null,null,{"$f":"'PP3'!$N$80=9","v":false}]
[]
[null,"Project partner 4"]
[null,null,"1.1.Detailed information",null,null,null,null,"x",null,null,null,{"$f":"'PP4'!$K$6=0","v":false}]
[null,null,"1.2. Partner profile",null,null,null,null,"x",null,null,null,{"$f":"'PP4'!$K$39>0","v":false}]
[null,null,"1.3. Partner experience",null,null,null,null,"x",null,null,null,true]
[]
[null,null,"2.1. Detailed information",null,null,null,null,"x",null,null,null,{"$f":"'PP4'!$K$70=FALSE","v":false}]
[null,null,"2.2. Financial status, capacity and equipment",null,null,null,null,"x",null,null,null,{"$f":"'PP4'!$N$80=9","v":false}]
[]
[null,"Project partner 5"]
[null,null,"1.1.Detailed information",null,null,null,null,"x",null,null,null,{"$f":"'PP5'!$K$6=0","v":false}]
[null,null,"1.2. Partner profile",null,null,null,null,"x",null,null,null,{"$f":"'PP5'!$K$39>0","v":false}]
[null,null,"1.3. Partner experience",null,null,null,null,"x",null,null,null,true]
[]
[null,null,"2.1. Detailed information",null,null,null,null,"x",null,null,null,{"$f":"'PP5'!$K$70=FALSE","v":false}]
[null,null,"2.2. Financial status, capacity and equipment",null,null,null,null,"x",null,null,null,{"$f":"'PP5'!$N$80=9","v":false}]
[]
[null,"Project Identification"]
[null,"1. Project Identity"]
[null,null,"1.1. Project Identity",null,null,null,null,"x",null,null,null,{"$f":"'Project identification'!L7=0","v":false}]
[null,null,"1.2. Cooperation criteria",null,null,null,null,"x",null,null,null,{"$f":"'Project identification'!O23=2","v":false}]
[null,null,"1.3 Cross-border impact and benefits of the project",null,null,null,null,"x",null,null,null,{"$f":"'Project identification'!O35=2","v":false}]
[]
[null,"2. Financial information - Project budget (EUR)"]
[null,null,"2.1. Sources of financing (EUR)",null,null,null,null,"x",null,null,null,{"$f":"'Project identification'!L47","v":false}]
[null,null,"2.2. Breakdown of eligible expenditure (EUR)",null,null,null,null,"x",null,null,null,{"$f":"'Project identification'!L59","v":false}]
[]
[null,"3. Project description"]
[null,null,"3.1. Background and demand for the project proposal ",null,null,null,null,"x",null,null,null,{"$f":"'Project identification'!O66=2","v":false}]
[null,null,"3.2. Consistency with the Programme specific objective",null,null,null,null,"x",null,null,null,{"$f":"'Project identification'!O70=2","v":false}]
[null,null,"3.3. Consistency with the Programme overall objective",null,null,null,null,"x",null,null,null,{"$f":"'Project identification'!O74=2","v":false}]
[null,null,"3.4. Description of the target groups and beneficiaries",null,null,null,null,"x",null,null,null,{"$f":"'Project identification'!L80","v":false}]
[null,null,"3.5. Project activities ",null,null,null,null,"x",null,null,null,{"$f":"'Project identification'!M89","v":false}]
[null,null,"3.6.Communication and visibility",null,null,null,null,"x",null,null,null,{"$f":"'Project identification'!O288=2","v":false}]
[null,null,"3.7. Duration and action plan:",null,null,null,null,"x",null,null,null,{"$f":"'Project identification'!M299=2","v":false}]
[]
[null,"4. Management of the project and reporting ",null,null,null,null,null,"x",null,null,null,{"$f":"'Project identification'!O321=2","v":false}]
[]
[null,"5. Monitoring of the project "]
[null,null,"5.1. Expected outputs",null,null,null,null,"x",null,null,null,{"$f":"'Project identification'!X329=0","v":false}]
[null,null,"5.2. Multiplier effect",null,null,null,null,"x",null,null,null,{"$f":"'Project identification'!O340=2","v":false}]
[null,null,"5.3. Sustainability",null,null,null,null,"x",null,null,null,{"$f":"'Project identification'!O345=2","v":false}]
[]
[null,"6. Project coherence with:"]
[null,null,"6.1. Other strategies",null,null,null,null,"x",null,null,null,{"$f":"'Project identification'!O353=2","v":false}]
[null,null,"6.2. Other projects ",null,null,null,null,"x",null,null,null,{"$f":"'Project identification'!O358=2","v":false}]
[null,null,"6.3. Horizontal themes",null,null,null,null,"x",null,null,null,{"$f":"'Project identification'!M365=0","v":false}]

{"sheet":"PP1(LP)","index":3,"n_rows":148,"n_cols":22,"rows_kept":148,"cut":false,"hidden":false,"merged":[[41,16,45,16],[10,2,10,7],[45,6,45,7],[46,6,46,7],[44,2,44,7],[42,2,42,7],[43,2,43,7],[45,2,45,4],[46,2,46,4],[37,1,38,7],[36,1,36,7],[32,2,32,7],[30,2,30,7],[0,1,1,9],[28,2,28,7],[26,2,26,7],[24,2,24,7],[6,2,6,7],[8,2,8,7],[9,2,9,7],[4,1,4,7],[22,2,22,7],[20,2,20,7],[18,2,18,7],[16,2,16,7],[14,2,14,7],[2,1,2,7],[62,2,62,4],[62,6,62,7],[75,5,75,7],[69,2,69,7],[71,2,71,7],[74,1,74,7],[65,1,65,7],[75,3,75,4],[48,2,48,5],[56,2,56,5],[40,1,40,5],[61,2,61,4],[60,2,60,7],[50,2,50,7],[51,2,51,7],[52,2,52,7],[54,6,54,7],[53,6,53,7],[53,2,53,4],[54,2,54,4],[61,6,61,7],[58,2,58,7],[59,2,59,7],[76,3,76,4],[77,3,77,4],[78,3,78,4],[82,11,82,16],[94,13,95,13],[76,5,76,7],[77,5,77,7],[78,5,78,7]]}
[null,"INTERREG - IPA \nCROSS-BORDER COOPERATION PROGRAMME\nPART I\n     \n     \n     \n"]
[]
[null,"Project Partner 1"]
[]
[null,"1. Identity"]
[null,"1.1.Detailed information",null,null,null,null,null,null,null,null,{"$f":"K7+K9+K11+K13+K15+K17+K19+K21+K23+K25+K27+K29+K31","v":11}]
[null,"Organization (in English):",{"$f":"IF(Cover!C36<>\"\",Cover!C36,\"\")","v":""},null,null,null,null,null,null,null,{"$f":"ISBLANK(Cover!C36)","v":true}]
[]
[null,"Organization (in native language)",null,null,null,null,null,null,null,null,{"$f":"ISBLANK(C9)","v":true}]
[]
[null,"Type of organization:",null,null,null,null,null,null,null,null,{"$f":"IF(C11=\"\",TRUE,FALSE)","v":true}]
[]
[null,"Country:",null,null,null,null,null,null,null,null,{"$f":"K14=0","v":false}]
[null,null,null,null,null,null,null,null,null,null,2]
[null,"District/NUTS III",null,null,null,null,null,null,null,null,{"$f":"ISBLANK(C15)","v":true}]
[]
[null,"Town/city:",null,null,null,null,null,null,null,null,{"$f":"ISBLANK(C17)","v":true}]
[null,null,null,null,null,null,null,null,null,null,null,"Blagoevgrad",null,null,"North-East region"]
[null,"Address:",null,null,null,null,null,null,null,null,{"$f":"ISBLANK(C19)","v":true},"Kyustendil",null,null,"South-East region"]
[null,null,null,null,null,null,null,null,null,null,null,"Other",null,null,"East region"]
[null,"Postal Code:",null,null,null,null,null,null,null,null,{"$f":"ISBLANK(C21)","v":true},"South-East region",null,null,"Other"]
[null,null,null,null,null,null,null,null,null,null,null,"East region"]
[null,"Legal representative (Name):",{"$f":"IF(Cover!C39=\"\",\"\",Cover!C39)","v":""},null,null,null,null,null,null,null,{"$f":"ISBLANK(Cover!#REF!)","v":false}]
[]
[null,"Legal representative (Position):",null,null,null,null,null,null,null,null,{"$f":"ISBLANK(C25)","v":true}]
[]
[null,"Telephone:",null,null,null,null,null,null,null,null,{"$f":"ISBLANK(C27)","v":true}]
[]
[null,"Fax:",null,null,null,null,null,null,null,null,{"$f":"ISBLANK(C29)","v":true}]
[]
[null,"E-mail:",null,null,null,null,null,null,null,null,{"$f":"ISBLANK(C31)","v":true}]
[]
[null,"Website:"]
[]
[null,"1.2. Partner profile"]
[]
[null,"Please describe the organization's background and scope of competences and activities.(max 2500 chars)",null,null,null,null,null,null,null,null,{"$f":"ISBLANK(B38)","v":true},null,null,null,"check text size"]
[]
[null,null,null,null,null,null,null,null,null,null,{"$f":"LEN(B38)","v":0},{"$f":"K39>2500","v":false}]
[null,"1.3. Partner experience",null,null,null,null,null,null,null,null,null,null,null,null,"check if \"Yes\""]
[null,"Have you ever received financing from European funds? "]
[null,null,null,null,null,null,null,null,null,null,"hidden until Yes on G36",null,null,null,"check if filled",null,"global check if \"yes\" inG39"]
[null,"Initiative/Programme",null,null,null,null,null,null,null,null,null,null,null,null,"check if filled"]
[null,"Project title",null,null,null,null,null,null,null,null,null,null,null,null,"check if filled"]
[null,"Short description\n(max. 500 characters)",null,null,null,null,null,null,null,null,null,null,null,null,"check if filled"]
[null,"Total value of the project (Euro)",null,null,null,"Project Partner's budget",null,null,null,null,null,null,null,null,"check if filled"]
[null,"Organization’s role in the project (main applicant, partner etc.)",null,null,null,"Period of implementation\n(from m/y to m/y) ",null,null,null,null,"Add button"]
[]
[null,null,"Add new project information",null,null,null,null,null,null,null,"No",null,1]
[null,null,null,null,null,null,null,null,null,null,"Visible after \"add\""]
[null,"Initiative/Programme"]
[null,"Project title"]
[null,"Short description \n(max. 500 characters)"]
[null,"Total value of the project (Euro)",null,null,null,"Project Partner's budget"]
[null,"Organization’s role in the project (main applicant, partner etc.)",null,null,null,"Period of implementation\n(from m/y to m/y) ",null,null,null,null,"Add button"]
[]
[null,null,"Add new project information",null,null,null,null,null,null,null,"No",null,1]
[null,null,null,null,null,null,null,null,null,null,"Visible after \"add\""]
[null,"Initiative/Programme"]
[null,"Project title"]
[null,"Short description \n(max. 500 characters)"]
[null,"Total value of the project (Euro)",null,null,null,"Project Partner's budget"]
[null,"Organization’s role in the project (main applicant, partner etc.)",null,null,null,"Period of implementation\n(from m/y to m/y) "]
[]
[]
[null,"2. Financial Data"]
[]
[null,"2.1. Detailed information",null,null,null,null,null,null,null,null,null,null,null,null,"check if filled"]
[]
[null,"National registration code:",null,null,null,null,null,null,null,null,{"$f":"ISBLANK(C70)","v":true}]
[]
[null,"VAT registration code:"]
[]
[null,"2.2. Financial status and human resources "]
[null,"Please provide the following information on the basis of the Profit and loss account and Balance sheet of your organization and any information related to the staff and technical capacity for the past 3 (three) years."]
[null,"Year","Turnover or equivalent\n(in EUR)","Number of full-time staff",null,"Number of part-time staff\n (if applicable)"]
[null,2014,null,null,null,null,null,null,null,null,null,{"$f":"ISBLANK(C77)","v":true},{"$f":"ISBLANK(D77)","v":true},true,true,{"$f":"L77+M77+N77","v":3},{"$f":"P77=0","v":false},null,null,null,{"$f":"Q77","v":false},{"$f":"(U77+U78+U79)=3","v":false}]
[null,2015,null,null,null,null,null,null,null,null,null,{"$f":"ISBLANK(C78)","v":true},true,true,true,{"$f":"L78+M78+N78","v":3},{"$f":"P78=0","v":false},null,null,null,{"$f":"Q78","v":false}]
[null,2016,null,null,null,null,null,null,null,null,null,true,true,true,true,3,false,null,null,null,false]
[null,"The table is not properly filled!",null,null,null,null,null,null,null,null,null,null,null,{"$f":"9-SUM(N77:N79)","v":9}]
[]
[]
[null,null,null,null,null,null,null,null,null,null,null,"This menu will be available when you fill in point 1.1. from Project identification"]
[null,null,null,null,null,null,null,null,null,null,null,"Any association of the above",null,null,{"$f":"IF('Project identification'!C11=\"ENVIROMENT;1,00;IF('Project identification'!C11=\"\"TOURISM\",2,3)","v":3},0,{"$f":"O84+P84","v":3}]
[null,null,null,null,null,null,null,null,null,null,1,"Business support structures",null,{"$f":"SMALL(IF($K$85:$K$115=$Q$84,ROW($K$85:$K$115)),ROW(1:1))","v":109},{"$f":"IFERROR(INDEX($K$85:$L$115,N85-84,2),\"\")","v":0}]
[null,null,null,null,null,null,null,null,null,null,1,"Civil society / non-government organisations",null,{"$f":"SMALL(IF($K$85:$K$115=$Q$84,ROW($K$85:$K$115)),ROW(2:2))","v":110},{"$f":"IFERROR(INDEX($K$85:$L$115,N86-84,2),\"\")","v":0}]
[null,null,null,null,null,null,null,null,null,null,1,"Cultural institutes",null,{"$f":"SMALL(IF($K$85:$K$115=$Q$84,ROW($K$85:$K$115)),ROW(3:3))","v":111},0]
[null,null,null,null,null,null,null,null,null,null,1,"Education and training institutions / centres",null,{"$f":"SMALL(IF($K$85:$K$115=$Q$84,ROW($K$85:$K$115)),ROW(4:4))","v":112},0]
[null,null,null,null,null,null,null,null,null,null,1,"Euroregions",null,{"$f":"SMALL(IF($K$85:$K$115=$Q$84,ROW($K$85:$K$115)),ROW(5:5))","v":113},0]
[null,null,null,null,null,null,null,null,null,null,1,"Local and regional authorities (and their associations) ",null,{"$f":"SMALL(IF($K$85:$K$115=$Q$84,ROW($K$85:$K$115)),ROW(6:6))","v":114},0]
[null,null,null,null,null,null,null,null,null,null,4,"Other",null,{"$f":"SMALL(IF($K$85:$K$115=$Q$84,ROW($K$85:$K$115)),ROW(7:7))","v":115},0]
[null,null,null,null,null,null,null,null,null,null,4,"Partner",null,{"$f":"SMALL(IF($K$85:$K$115=$Q$84,ROW($K$85:$K$115)),ROW(8:8))","v":{"$error":"#NUM!"}},""]
[null,null,null,null,null,null,null,null,null,null,4,"Regional and sector development agencies",null,{"$f":"SMALL(IF($K$85:$K$115=$Q$84,ROW($K$85:$K$115)),ROW(9:9))","v":{"$error":"#NUM!"}},""]
[null,null,null,null,null,null,null,null,null,null,4,"Regional structure of central public authority",null,{"$f":"SMALL(IF($K$85:$K$115=$Q$84,ROW($K$85:$K$115)),ROW(10:10))","v":{"$error":"#NUM!"}},""]
[null,null,null,null,null,null,null,null,null,null,2,"Regional structures of central public authorities",null,null,"Other"]
[null,null,null,null,null,null,null,null,null,null,2,"Regional touristic associations / NGOs in the field of tourism",null,null,""]
[null,null,null,null,null,null,null,null,null,null,2,"Research, education and training institutions / centres",null,null,""]
[null,null,null,null,null,null,null,null,null,null,2,"Social institutions",null,null,""]
[null,null,null,null,null,null,null,null,null,null,2]
[null,null,null,null,null,null,null,null,null,null,2]
[null,null,null,null,null,null,null,null,null,null,2]
[null,null,null,null,null,null,null,null,null,null,2]
[null,null,null,null,null,null,null,null,null,null,2]
[null,null,null,null,null,null,null,null,null,null,2]
[null,null,null,null,null,null,null,null,null,null,5]
[null,null,null,null,null,null,null,null,null,null,5]
[null,null,null,null,null,null,null,null,null,null,5]
[null,null,null,null,null,null,null,null,null,null,5]
[null,null,null,null,null,null,null,null,null,null,3]
[null,null,null,null,null,null,null,null,null,null,3]
[null,null,null,null,null,null,null,null,null,null,3]
[null,null,null,null,null,null,null,null,null,null,3]
[null,null,null,null,null,null,null,null,null,null,3]
[null,null,null,null,null,null,null,null,null,null,3]
[null,null,null,null,null,null,null,null,null,null,3]
[]
[]
[null,null,null,null,null,null,null,null,null,null,null,null,null,null,"Other"]
[null,null,null,null,null,null,null,null,null,null,1,"Blagoevgrad",{"$f":"SMALL(IF($K$119:$K$123=$K$14,ROW($K$119:$K$123)),ROW(1:1))","v":121},121,{"$f":"IFERROR(INDEX($K$119:$L$123,M119-118,2),\"\")","v":"North-East region"}]
[null,null,null,null,null,null,null,null,null,null,1,"Kyustendil",{"$f":"SMALL(IF($K$119:$K$123=$K$14,ROW($K$119:$K$123)),ROW(2:2))","v":122},null,{"$f":"IFERROR(INDEX($K$119:$L$123,M120-118,2),\"\")","v":"South-East region"}]
[null,null,null,null,null,null,null,null,null,null,2,"North-East region",{"$f":"SMALL(IF($K$119:$K$123=$K$14,ROW($K$119:$K$123)),ROW(3:3))","v":123},null,{"$f":"IFERROR(INDEX($K$119:$L$123,M121-118,2),\"\")","v":"East region"}]
[null,null,null,null,null,null,null,null,null,null,2,"South-East region"]
[null,null,null,null,null,null,null,null,null,null,2,"East region"]
[]
[]
[]
[]
[]
[]
[]
[]
[]
[null,null,null,null,null,null,null,null,null,null,null,"Local/Regional Authorities"]
[null,null,null,null,null,null,null,null,null,null,null,"Associations of the above"]
[null,null,null,null,null,null,null,null,null,null,null,"Business support structures"]
[null,null,null,null,null,null,null,null,null,null,null,"Civil society / non-government organisations"]
[null,null,null,null,null,null,null,null,null,null,null,"Cultural institutes"]
[null,null,null,null,null,null,null,null,null,null,null,"Education and training institutions / centres"]
[null,null,null,null,null,null,null,null,null,null,null,"Euroregions"]
[null,null,null,null,null,null,null,null,null,null,null,"Local / Regional authority"]
[null,null,null,null,null,null,null,null,null,null,null,"Local and regional authorities (and their associations) "]
[null,null,null,null,null,null,null,null,null,null,null,"Social institutions"]
[null,null,null,null,null,null,null,null,null,null,null,"Regional and sector development agencies"]
[null,null,null,null,null,null,null,null,null,null,null,"Regional structures of central public authorities"]
[null,null,null,null,null,null,null,null,null,null,null,"Regional touristic associations / NGOs in the field of tourism"]
[null,null,null,null,null,null,null,null,null,null,null,"Research / Education / Training institution"]
[null,null,null,null,null,null,null,null,null,null,null,"Any association of the above"]
[null,null,null,null,null,null,null,null,null,null,null,"Other"]

{"sheet":"PP2","index":4,"n_rows":123,"n_cols":17,"rows_kept":123,"cut":false,"hidden":false,"merged":[[43,2,43,7],[44,2,44,7],[45,2,45,4],[45,6,45,7],[54,2,54,4],[48,2,48,5],[50,2,50,7],[46,2,46,4],[46,6,46,7],[78,5,78,7],[75,5,75,7],[76,5,76,7],[51,2,51,7],[54,6,54,7],[65,1,65,7],[69,2,69,7],[56,2,56,5],[58,2,58,7],[53,2,53,4],[53,6,53,7],[0,1,1,9],[14,2,14,7],[16,2,16,7],[18,2,18,7],[20,2,20,7],[4,1,4,7],[6,2,6,7],[8,2,8,7],[10,2,10,7],[9,2,9,7],[22,2,22,7],[28,2,28,7],[30,2,30,7],[32,2,32,7],[36,1,36,7],[24,2,24,7],[26,2,26,7],[37,1,38,7],[40,1,40,5],[42,2,42,7],[82,11,82,16],[94,13,95,13],[41,16,45,16],[71,2,71,7],[74,1,74,7],[59,2,59,7],[60,2,60,7],[61,2,61,4],[61,6,61,7],[62,2,62,4],[62,6,62,7],[52,2,52,7],[77,5,77,7]]}
[null,"INTERREG - IPA \nCROSS-BORDER COOPERATION PROGRAMME\nPART I\n     \n     \n     \n"]
[]
[null,"PROJECT PARTNER No 2",null,null,null,null,null,null,null,"Link to budget page"]
[]
[null,"1. Identity"]
[null,"1.1.Detailed information",null,null,null,null,null,null,null,null,{"$f":"K7+K9+K11+K13+K15+K17+K19+K21+K23+K25+K27","v":8}]
[null,"Organization (in English):",null,null,null,null,null,null,null,null,{"$f":"ISBLANK(Cover!#REF!)","v":false}]
[]
[null,"Organization (in native language)",null,null,null,null,null,null,null,null,{"$f":"ISBLANK(C9)","v":true}]
[]
[null,"Type of organization:","",null,null,null,null,null,null,null,{"$f":"IF(C11=\"\",TRUE,FALSE)","v":true}]
[]
[null,"Country:",null,null,null,null,null,null,null,null,{"$f":"ISBLANK(K14)","v":false}]
[null,null,null,null,null,null,null,null,null,null,1]
[null,"District/NUTS III",null,null,null,null,null,null,null,null,{"$f":"ISBLANK(C15)","v":true}]
[]
[null,"Town/city:",null,null,null,null,null,null,null,null,{"$f":"ISBLANK(C17)","v":true}]
[]
[null,"Address:",null,null,null,null,null,null,null,null,{"$f":"ISBLANK(C19)","v":true}]
[]
[null,"Postal Code:",null,null,null,null,null,null,null,null,{"$f":"ISBLANK(C21)","v":true}]
[]
[null,"Legal representative (Name):",null,null,null,null,null,null,null,null,{"$f":"ISBLANK(Cover!#REF!)","v":false}]
[]
[null,"Legal representative (Position):",null,null,null,null,null,null,null,null,{"$f":"ISBLANK(C25)","v":true}]
[]
[null,"Telephone:",null,null,null,null,null,null,null,null,{"$f":"ISBLANK(C27)","v":true}]
[]
[null,"Fax:",null,null,null,null,null,null,null,null,{"$f":"ISBLANK(C29)","v":true}]
[]
[null,"E-mail:",null,null,null,null,null,null,null,null,{"$f":"ISBLANK(C31)","v":true}]
[]
[null,"Website:"]
[]
[null,"1.2. Partner profile"]
[]
[null,"Please describe the organization's background and scope of competences and activities.(max 2500 chars)",null,null,null,null,null,null,null,null,{"$f":"ISBLANK(B38)","v":true},null,null,null,"check text size"]
[]
[null,null,null,null,null,null,null,null,null,null,{"$f":"LEN(B38)","v":0},{"$f":"K39>2500","v":false}]
[null,"1.3. Partner experience",null,null,null,null,null,null,null,null,null,null,null,null,"check if \"Yes\""]
[null,"Have you ever received financing from European funds? "]
[null,null,null,null,null,null,null,null,null,null,"hidden until Yes on G36",null,null,null,"check if filled",null,"global check if \"yes\" inG39"]
[null,"Initiative/Programme",null,null,null,null,null,null,null,null,null,null,null,null,"check if filled"]
[null,"Project title",null,null,null,null,null,null,null,null,null,null,null,null,"check if filled"]
[null,"Short description\n(max. 500 characters)",null,null,null,null,null,null,null,null,null,null,null,null,"check if filled"]
[null,"Total value of the project (Euro)",null,null,null,"Project Partner's budget",null,null,null,null,null,null,null,null,"check if filled"]
[null,"Organization’s role in the project (main applicant, partner etc.)",null,null,null,"Period of implementation\n(from m/y to m/y) ",null,null,null,null,"Add button"]
[]
[null,null,"Add new project information",null,null,null,null,null,null,null,"No",null,1]
[null,null,null,null,null,null,null,null,null,null,"Visible after \"add\""]
[null,"Initiative/Programme"]
[null,"Project title"]
[null,"Short description \n(max. 500 characters)"]
[null,"Total value of the project (Euro)",null,null,null,"Project Partner's budget"]
[null,"Organization’s role in the project (main applicant, partner etc.)",null,null,null,"Period of implementation\n(from m/y to m/y) ",null,null,null,null,"Add button"]
[]
[null,null,"Add new project information",null,null,null,null,null,null,null,"No",null,1]
[null,null,null,null,null,null,null,null,null,null,"Visible after \"add\""]
[null,"Initiative/Programme"]
[null,"Project title"]
[null,"Short description \n(max. 500 characters)"]
[null,"Total value of the project (Euro)",null,null,null,"Project Partner's budget"]
[null,"Organization’s role in the project (main applicant, partner etc.)",null,null,null,"Period of implementation\n(from m/y to m/y) "]
[]
[]
[null,"2. Financial Data"]
[]
[null,"2.1. Detailed information",null,null,null,null,null,null,null,null,null,null,null,null,"check if filled"]
[]
[null,"National registration code:",null,null,null,null,null,null,null,null,{"$f":"ISBLANK(C70)","v":true}]
[]
[null,"VAT registration code:"]
[]
[null,"2.2. Financial status, capacity and equipment"]
[null,"Please provide the following information on the basis of the Profit and loss account and Balance sheet of your organization  and any information related to the staff and technical capacity for the past 3 (three) years."]
[null,"Year","Turnover or equivalent\n(in EUR)","Number of full-time staff","Number of part-time staff","Number of offices and description of equipment    (if applicable)",null,null,null,null,{"$f":"N80<9","v":true}]
[null,2014,null,null,null,null,null,null,null,null,{"$f":"ISBLANK(C77)","v":true},{"$f":"ISBLANK(D77)","v":true},true,{"$f":"K77+L77+M77","v":3}]
[null,2013,null,null,null,null,null,null,null,null,{"$f":"ISBLANK(C78)","v":true},true,true,{"$f":"K78+L78+M78","v":3}]
[null,2012,null,null,null,null,null,null,null,null,true,true,true,3]
[null,"The table is not properly filled!",null,null,null,null,null,null,null,null,null,null,null,{"$f":"9-SUM(N77:N79)","v":0}]
[]
[]
[null,null,null,null,null,null,null,null,null,null,null,"This menu will be available when you fill in point 1.1. from Project identification"]
[null,null,null,null,null,null,null,null,null,null,null,"Partner",null,null,{"$f":"IF('Project identification'!C11=\"ENVIROMENT;1,00;IF('Project identification'!C11=\"\"TOURISM\",2,3)","v":3},0,{"$f":"O84+P84","v":3}]
[null,null,null,null,null,null,null,null,null,null,1,"Local / Regional authority",null,{"$f":"SMALL(IF($K$85:$K$115=$Q$84,ROW($K$85:$K$115)),ROW(1:1))","v":109},{"$f":"IFERROR(INDEX($K$85:$L$115,N85-84,2),\"\")","v":"Local and regional authorities (and their associations) "}]
[null,null,null,null,null,null,null,null,null,null,1,"Regional structure of central public authority",null,{"$f":"SMALL(IF($K$85:$K$115=$Q$84,ROW($K$85:$K$115)),ROW(2:2))","v":110},{"$f":"IFERROR(INDEX($K$85:$L$115,N86-84,2),\"\")","v":"Regional structures of central public authorities"}]
[null,null,null,null,null,null,null,null,null,null,1,"Research / Education / Training institution",null,{"$f":"SMALL(IF($K$85:$K$115=$Q$84,ROW($K$85:$K$115)),ROW(3:3))","v":111},"Business support structures"]
[null,null,null,null,null,null,null,null,null,null,1,"Social institutions",null,{"$f":"SMALL(IF($K$85:$K$115=$Q$84,ROW($K$85:$K$115)),ROW(4:4))","v":112},"Regional and sector development agencies"]
[null,null,null,null,null,null,null,null,null,null,1,"Regional / Sectoral development agency",null,{"$f":"SMALL(IF($K$85:$K$115=$Q$84,ROW($K$85:$K$115)),ROW(5:5))","v":113},"Research, education and training institutions / centres"]
[null,null,null,null,null,null,null,null,null,null,1,"Any association of the above",null,{"$f":"SMALL(IF($K$85:$K$115=$Q$84,ROW($K$85:$K$115)),ROW(6:6))","v":114},"Euroregions"]
[null,null,null,null,null,null,null,null,null,null,4,"Local / Regional authority",null,{"$f":"SMALL(IF($K$85:$K$115=$Q$84,ROW($K$85:$K$115)),ROW(7:7))","v":115},"Associations of the above"]
[null,null,null,null,null,null,null,null,null,null,4,"Regional structure of central public authority",null,{"$f":"SMALL(IF($K$85:$K$115=$Q$84,ROW($K$85:$K$115)),ROW(8:8))","v":{"$error":"#NUM!"}},""]
[null,null,null,null,null,null,null,null,null,null,4,"Research, education and training institutions",null,{"$f":"SMALL(IF($K$85:$K$115=$Q$84,ROW($K$85:$K$115)),ROW(9:9))","v":{"$error":"#NUM!"}},""]
[null,null,null,null,null,null,null,null,null,null,4,"Social institutions",null,{"$f":"SMALL(IF($K$85:$K$115=$Q$84,ROW($K$85:$K$115)),ROW(10:10))","v":{"$error":"#NUM!"}},""]
[null,null,null,null,null,null,null,null,null,null,2,"Local and regional authorities and their associations",null,null,""]
[null,null,null,null,null,null,null,null,null,null,2,"Regional structures of central public authorities",null,null,""]
[null,null,null,null,null,null,null,null,null,null,2,"Education and training institutions / centres",null,null,""]
[null,null,null,null,null,null,null,null,null,null,2,"Cultural institutes",null,null,""]
[null,null,null,null,null,null,null,null,null,null,2,"Euroregions"]
[null,null,null,null,null,null,null,null,null,null,2,"Regional and sector development agencies"]
[null,null,null,null,null,null,null,null,null,null,2,"Civil society / non-government organisations"]
[null,null,null,null,null,null,null,null,null,null,2,"Regional touristic associations / NGOs in the field of tourism"]
[null,null,null,null,null,null,null,null,null,null,2,"Business support structures"]
[null,null,null,null,null,null,null,null,null,null,2,"Any association of the above"]
[null,null,null,null,null,null,null,null,null,null,5,"Local and regional authorities and their associations"]
[null,null,null,null,null,null,null,null,null,null,5,"Regional structures of central public authorities"]
[null,null,null,null,null,null,null,null,null,null,5,"Education and training institutions / centres"]
[null,null,null,null,null,null,null,null,null,null,5,"Cultural institutes"]
[null,null,null,null,null,null,null,null,null,null,3,"Local and regional authorities (and their associations) "]
[null,null,null,null,null,null,null,null,null,null,3,"Regional structures of central public authorities"]
[null,null,null,null,null,null,null,null,null,null,3,"Business support structures"]
[null,null,null,null,null,null,null,null,null,null,3,"Regional and sector development agencies"]
[null,null,null,null,null,null,null,null,null,null,3,"Research, education and training institutions / centres"]
[null,null,null,null,null,null,null,null,null,null,3,"Euroregions"]
[null,null,null,null,null,null,null,null,null,null,3,"Associations of the above"]
[]
[]
[]
[null,null,null,null,null,null,null,null,null,null,1,"Blagoevgrad",{"$f":"SMALL(IF($K$119:$K$123=$K$14,ROW($K$119:$K$123)),ROW(1:1))","v":119},119,{"$f":"IFERROR(INDEX($K$119:$L$123,M119-118,2),\"\")","v":"Blagoevgrad"}]
[null,null,null,null,null,null,null,null,null,null,1,"Kyustendil",{"$f":"SMALL(IF($K$119:$K$123=$K$14,ROW($K$119:$K$123)),ROW(2:2))","v":120},null,{"$f":"IFERROR(INDEX($K$119:$L$123,M120-118,2),\"\")","v":"Kyustendil"}]
[null,null,null,null,null,null,null,null,null,null,2,"North-East region",{"$f":"SMALL(IF($K$119:$K$123=$K$14,ROW($K$119:$K$123)),ROW(3:3))","v":{"$error":"#NUM!"}},null,{"$f":"IFERROR(INDEX($K$119:$L$123,M121-118,2),\"\")","v":""}]
[null,null,null,null,null,null,null,null,null,null,2,"South-East region"]
[null,null,null,null,null,null,null,null,null,null,2,"East region"]

{"sheet":"PP3","index":5,"n_rows":123,"n_cols":17,"rows_kept":123,"cut":false,"hidden":true,"merged":[[0,1,1,9],[37,1,38,7],[14,2,14,7],[16,2,16,7],[18,2,18,7],[20,2,20,7],[22,2,22,7],[24,2,24,7],[26,2,26,7],[28,2,28,7],[30,2,30,7],[32,2,32,7],[36,1,36,7],[10,2,10,7],[4,1,4,7],[6,2,6,7],[41,16,45,16],[42,2,42,7],[43,2,43,7],[44,2,44,7],[45,2,45,4],[45,6,45,7],[8,2,8,7],[9,2,9,7],[58,2,58,7],[46,2,46,4],[46,6,46,7],[48,2,48,5],[50,2,50,7],[51,2,51,7],[52,2,52,7],[53,2,53,4],[53,6,53,7],[54,2,54,4],[54,6,54,7],[56,2,56,5],[40,1,40,5],[59,2,59,7],[60,2,60,7],[61,2,61,4],[61,6,61,7],[62,2,62,4],[62,6,62,7],[77,5,77,7],[78,5,78,7],[82,11,82,16],[94,13,95,13],[65,1,65,7],[69,2,69,7],[71,2,71,7],[74,1,74,7],[75,5,75,7],[76,5,76,7]]}
[null,"INTERREG - IPA \nCROSS-BORDER COOPERATION PROGRAMME\nPART I\n     \n     \n     \n"]
[]
[null,"PROJECT PARTNER No 3",null,null,null,null,null,null,null,"Link to budget page"]
[]
[null,"1. Identity"]
[null,"1.1.Detailed information",null,null,null,null,null,null,null,null,{"$f":"K7+K9+K11+K13+K15+K17+K19+K21+K23+K25+K27","v":8}]
[null,"Organization (in English):",null,null,null,null,null,null,null,null,{"$f":"ISBLANK(Cover!#REF!)","v":false}]
[]
[null,"Organization (in native language)",null,null,null,null,null,null,null,null,{"$f":"ISBLANK(C9)","v":true}]
[]
[null,"Type of organization:",null,null,null,null,null,null,null,null,{"$f":"IF(C11=\"\",TRUE,FALSE)","v":true}]
[]
[null,"Country:",null,null,null,null,null,null,null,null,{"$f":"ISBLANK(K14)","v":false}]
[null,null,null,null,null,null,null,null,null,null,2]
[null,"District/NUTS III",null,null,null,null,null,null,null,null,{"$f":"ISBLANK(C15)","v":true}]
[]
[null,"Town/city:",null,null,null,null,null,null,null,null,{"$f":"ISBLANK(C17)","v":true}]
[]
[null,"Address:",null,null,null,null,null,null,null,null,{"$f":"ISBLANK(C19)","v":true}]
[]
[null,"Postal Code:",null,null,null,null,null,null,null,null,{"$f":"ISBLANK(C21)","v":true}]
[]
[null,"Legal representative (Name):",null,null,null,null,null,null,null,null,{"$f":"ISBLANK(Cover!#REF!)","v":false}]
[]
[null,"Legal representative (Position):",null,null,null,null,null,null,null,null,{"$f":"ISBLANK(C25)","v":true}]
[]
[null,"Telephone:",null,null,null,null,null,null,null,null,{"$f":"ISBLANK(C27)","v":true}]
[]
[null,"Fax:",null,null,null,null,null,null,null,null,{"$f":"ISBLANK(C29)","v":true}]
[]
[null,"E-mail:",null,null,null,null,null,null,null,null,{"$f":"ISBLANK(C31)","v":true}]
[]
[null,"Website:"]
[]
[null,"1.2. Partner profile"]
[]
[null,"Please describe the organization's background and scope of competences and activities.(max 2500 chars)",null,null,null,null,null,null,null,null,{"$f":"ISBLANK(B38)","v":true},null,null,null,"check text size"]
[]
[null,null,null,null,null,null,null,null,null,null,{"$f":"LEN(B38)","v":0},{"$f":"K39>2500","v":false}]
[null,"1.3. Partner experience",null,null,null,null,null,null,null,null,null,null,null,null,"check if \"Yes\""]
[null,"Have you ever received financing from European funds? "]
[null,null,null,null,null,null,null,null,null,null,"hidden until Yes on G36",null,null,null,"check if filled",null,"global check if \"yes\" inG39"]
[null,"Initiative/Programme",null,null,null,null,null,null,null,null,null,null,null,null,"check if filled"]
[null,"Project title",null,null,null,null,null,null,null,null,null,null,null,null,"check if filled"]
[null,"Short description\n(max. 500 characters)",null,null,null,null,null,null,null,null,null,null,null,null,"check if filled"]
[null,"Total value of the project (Euro)",null,null,null,"Project Partner's budget",null,null,null,null,null,null,null,null,"check if filled"]
[null,"Organization’s role in the project (main applicant, partner etc.)",null,null,null,"Period of implementation\n(from m/y to m/y) ",null,null,null,null,"Add button"]
[]
[null,null,"Add new project information",null,null,null,null,null,null,null,"No",null,1]
[null,null,null,null,null,null,null,null,null,null,"Visible after \"add\""]
[null,"Initiative/Programme"]
[null,"Project title"]
[null,"Short description \n(max. 500 characters)"]
[null,"Total value of the project (Euro)",null,null,null,"Project Partner's budget"]
[null,"Organization’s role in the project (main applicant, partner etc.)",null,null,null,"Period of implementation\n(from m/y to m/y) ",null,null,null,null,"Add button"]
[]
[null,null,"Add new project information",null,null,null,null,null,null,null,"No",null,1]
[null,null,null,null,null,null,null,null,null,null,"Visible after \"add\""]
[null,"Initiative/Programme"]
[null,"Project title"]
[null,"Short description \n(max. 500 characters)"]
[null,"Total value of the project (Euro)",null,null,null,"Project Partner's budget"]
[null,"Organization’s role in the project (main applicant, partner etc.)",null,null,null,"Period of implementation\n(from m/y to m/y) "]
[]
[]
[null,"2. Financial Data"]
[]
[null,"2.1. Detailed information",null,null,null,null,null,null,null,null,null,null,null,null,"check if filled"]
[]
[null,"National registration code:",null,null,null,null,null,null,null,null,{"$f":"ISBLANK(C70)","v":true}]
[]
[null,"VAT registration code:"]
[]
[null,"2.2. Financial status, capacity and equipment"]
[null,"Please provide the following information on the basis of the Profit and loss account and Balance sheet of your organization  and any information related to the staff and technical capacity for the past 3 (three) years."]
[null,"Year","Turnover or equivalent\n(in EUR)","Number of full-time staff","Number of part-time staff","Number of offices and description of equipment    (if applicable)",null,null,null,null,{"$f":"N80<9","v":true}]
[null,2014,null,null,null,null,null,null,null,null,{"$f":"ISBLANK(C77)","v":true},{"$f":"ISBLANK(D77)","v":true},true,{"$f":"K77+L77+M77","v":3}]
[null,2013,null,null,null,null,null,null,null,null,{"$f":"ISBLANK(C78)","v":true},true,true,{"$f":"K78+L78+M78","v":3}]
[null,2012,null,null,null,null,null,null,null,null,true,true,true,3]
[null,"The table is not properly filled!",null,null,null,null,null,null,null,null,null,null,null,{"$f":"9-SUM(N77:N79)","v":0}]
[]
[]
[null,null,null,null,null,null,null,null,null,null,null,"This menu will be available when you fill in point 1.1. from Project identification"]
[null,null,null,null,null,null,null,null,null,null,null,"Partner",null,null,{"$f":"IF('Project identification'!C11=\"ENVIROMENT;1,00;IF('Project identification'!C11=\"\"TOURISM\",2,3)","v":3},0,{"$f":"O84+P84","v":3}]
[null,null,null,null,null,null,null,null,null,null,1,"Local / Regional authority",null,{"$f":"SMALL(IF($K$85:$K$115=$Q$84,ROW($K$85:$K$115)),ROW(1:1))","v":109},{"$f":"IFERROR(INDEX($K$85:$L$115,N85-84,2),\"\")","v":"Local and regional authorities (and their associations) "}]
[null,null,null,null,null,null,null,null,null,null,1,"Regional structure of central public authority",null,{"$f":"SMALL(IF($K$85:$K$115=$Q$84,ROW($K$85:$K$115)),ROW(2:2))","v":110},{"$f":"IFERROR(INDEX($K$85:$L$115,N86-84,2),\"\")","v":"Regional structures of central public authorities"}]
[null,null,null,null,null,null,null,null,null,null,1,"Research / Education / Training institution",null,{"$f":"SMALL(IF($K$85:$K$115=$Q$84,ROW($K$85:$K$115)),ROW(3:3))","v":111},"Business support structures"]
[null,null,null,null,null,null,null,null,null,null,1,"Social institutions",null,{"$f":"SMALL(IF($K$85:$K$115=$Q$84,ROW($K$85:$K$115)),ROW(4:4))","v":112},"Regional and sector development agencies"]
[null,null,null,null,null,null,null,null,null,null,1,"Regional / Sectoral development agency",null,{"$f":"SMALL(IF($K$85:$K$115=$Q$84,ROW($K$85:$K$115)),ROW(5:5))","v":113},"Research, education and training institutions / centres"]
[null,null,null,null,null,null,null,null,null,null,1,"Any association of the above",null,{"$f":"SMALL(IF($K$85:$K$115=$Q$84,ROW($K$85:$K$115)),ROW(6:6))","v":114},"Euroregions"]
[null,null,null,null,null,null,null,null,null,null,4,"Local / Regional authority",null,{"$f":"SMALL(IF($K$85:$K$115=$Q$84,ROW($K$85:$K$115)),ROW(7:7))","v":115},"Associations of the above"]
[null,null,null,null,null,null,null,null,null,null,4,"Regional structure of central public authority",null,{"$f":"SMALL(IF($K$85:$K$115=$Q$84,ROW($K$85:$K$115)),ROW(8:8))","v":{"$error":"#NUM!"}},""]
[null,null,null,null,null,null,null,null,null,null,4,"Research, education and training institutions",null,{"$f":"SMALL(IF($K$85:$K$115=$Q$84,ROW($K$85:$K$115)),ROW(9:9))","v":{"$error":"#NUM!"}},""]
[null,null,null,null,null,null,null,null,null,null,4,"Social institutions",null,{"$f":"SMALL(IF($K$85:$K$115=$Q$84,ROW($K$85:$K$115)),ROW(10:10))","v":{"$error":"#NUM!"}},""]
[null,null,null,null,null,null,null,null,null,null,2,"Local and regional authorities and their associations",null,null,""]
[null,null,null,null,null,null,null,null,null,null,2,"Regional structures of central public authorities",null,null,""]
[null,null,null,null,null,null,null,null,null,null,2,"Education and training institutions / centres",null,null,""]
[null,null,null,null,null,null,null,null,null,null,2,"Cultural institutes",null,null,""]
[null,null,null,null,null,null,null,null,null,null,2,"Euroregions"]
[null,null,null,null,null,null,null,null,null,null,2,"Regional and sector development agencies"]
[null,null,null,null,null,null,null,null,null,null,2,"Civil society / non-government organisations"]
[null,null,null,null,null,null,null,null,null,null,2,"Regional touristic associations / NGOs in the field of tourism"]
[null,null,null,null,null,null,null,null,null,null,2,"Business support structures"]
[null,null,null,null,null,null,null,null,null,null,2,"Any association of the above"]
[null,null,null,null,null,null,null,null,null,null,5,"Local and regional authorities and their associations"]
[null,null,null,null,null,null,null,null,null,null,5,"Regional structures of central public authorities"]
[null,null,null,null,null,null,null,null,null,null,5,"Education and training institutions / centres"]
[null,null,null,null,null,null,null,null,null,null,5,"Cultural institutes"]
[null,null,null,null,null,null,null,null,null,null,3,"Local and regional authorities (and their associations) "]
[null,null,null,null,null,null,null,null,null,null,3,"Regional structures of central public authorities"]
[null,null,null,null,null,null,null,null,null,null,3,"Business support structures"]
[null,null,null,null,null,null,null,null,null,null,3,"Regional and sector development agencies"]
[null,null,null,null,null,null,null,null,null,null,3,"Research, education and training institutions / centres"]
[null,null,null,null,null,null,null,null,null,null,3,"Euroregions"]
[null,null,null,null,null,null,null,null,null,null,3,"Associations of the above"]
[]
[]
[]
[null,null,null,null,null,null,null,null,null,null,1,"Blagoevgrad",{"$f":"SMALL(IF($K$119:$K$123=$K$14,ROW($K$119:$K$123)),ROW(1:1))","v":121},121,{"$f":"IFERROR(INDEX($K$119:$L$123,M119-118,2),\"\")","v":"North-East region"}]
[null,null,null,null,null,null,null,null,null,null,1,"Kyustendil",{"$f":"SMALL(IF($K$119:$K$123=$K$14,ROW($K$119:$K$123)),ROW(2:2))","v":122},null,{"$f":"IFERROR(INDEX($K$119:$L$123,M120-118,2),\"\")","v":"South-East region"}]
[null,null,null,null,null,null,null,null,null,null,2,"North-East region",{"$f":"SMALL(IF($K$119:$K$123=$K$14,ROW($K$119:$K$123)),ROW(3:3))","v":123},null,{"$f":"IFERROR(INDEX($K$119:$L$123,M121-118,2),\"\")","v":"East region"}]
[null,null,null,null,null,null,null,null,null,null,2,"South-East region"]
[null,null,null,null,null,null,null,null,null,null,2,"East region"]

{"sheet":"PP4","index":6,"n_rows":123,"n_cols":17,"rows_kept":123,"cut":false,"hidden":true,"merged":[[0,1,1,9],[37,1,38,7],[14,2,14,7],[16,2,16,7],[18,2,18,7],[20,2,20,7],[22,2,22,7],[24,2,24,7],[26,2,26,7],[28,2,28,7],[30,2,30,7],[32,2,32,7],[36,1,36,7],[10,2,10,7],[4,1,4,7],[6,2,6,7],[41,16,45,16],[42,2,42,7],[43,2,43,7],[44,2,44,7],[45,2,45,4],[45,6,45,7],[8,2,8,7],[9,2,9,7],[58,2,58,7],[46,2,46,4],[46,6,46,7],[48,2,48,5],[50,2,50,7],[51,2,51,7],[52,2,52,7],[53,2,53,4],[53,6,53,7],[54,2,54,4],[54,6,54,7],[56,2,56,5],[40,1,40,5],[59,2,59,7],[60,2,60,7],[61,2,61,4],[61,6,61,7],[62,2,62,4],[62,6,62,7],[77,5,77,7],[78,5,78,7],[82,11,82,16],[94,13,95,13],[65,1,65,7],[69,2,69,7],[71,2,71,7],[74,1,74,7],[75,5,75,7],[76,5,76,7]]}
[null,"INTERREG - IPA \nCROSS-BORDER COOPERATION PROGRAMME\nPART I\n     \n     \n     \n"]
[]
[null,"PROJECT PARTNER No 4",null,null,null,null,null,null,null,"Link to budget page"]
[]
[null,"1. Identity"]
[null,"1.1.Detailed information",null,null,null,null,null,null,null,null,{"$f":"K7+K9+K11+K13+K15+K17+K19+K21+K23+K25+K27","v":8}]
[null,"Organization (in English):",null,null,null,null,null,null,null,null,{"$f":"ISBLANK(Cover!#REF!)","v":false}]
[]
[null,"Organization (in native language)",null,null,null,null,null,null,null,null,{"$f":"ISBLANK(C9)","v":true}]
[]
[null,"Type of organization:",null,null,null,null,null,null,null,null,{"$f":"IF(C11=\"\",TRUE,FALSE)","v":true}]
[]
[null,"Country:",null,null,null,null,null,null,null,null,{"$f":"ISBLANK(K14)","v":false}]
[null,null,null,null,null,null,null,null,null,null,2]
[null,"District/NUTS III",null,null,null,null,null,null,null,null,{"$f":"ISBLANK(C15)","v":true}]
[]
[null,"Town/city:",null,null,null,null,null,null,null,null,{"$f":"ISBLANK(C17)","v":true}]
[]
[null,"Address:",null,null,null,null,null,null,null,null,{"$f":"ISBLANK(C19)","v":true}]
[]
[null,"Postal Code:",null,null,null,null,null,null,null,null,{"$f":"ISBLANK(C21)","v":true}]
[]
[null,"Legal representative (Name):",null,null,null,null,null,null,null,null,{"$f":"ISBLANK(Cover!#REF!)","v":false}]
[]
[null,"Legal representative (Position):",null,null,null,null,null,null,null,null,{"$f":"ISBLANK(C25)","v":true}]
[]
[null,"Telephone:",null,null,null,null,null,null,null,null,{"$f":"ISBLANK(C27)","v":true}]
[]
[null,"Fax:",null,null,null,null,null,null,null,null,{"$f":"ISBLANK(C29)","v":true}]
[]
[null,"E-mail:",null,null,null,null,null,null,null,null,{"$f":"ISBLANK(C31)","v":true}]
[]
[null,"Website:"]
[]
[null,"1.2. Partner profile"]
[]
[null,"Please describe the organization's background and scope of competences and activities.(max 2500 chars)",null,null,null,null,null,null,null,null,{"$f":"ISBLANK(B38)","v":true},null,null,null,"check text size"]
[]
[null,null,null,null,null,null,null,null,null,null,{"$f":"LEN(B38)","v":0},{"$f":"K39>2500","v":false}]
[null,"1.3. Partner experience",null,null,null,null,null,null,null,null,null,null,null,null,"check if \"Yes\""]
[null,"Have you ever received financing from European funds? "]
[null,null,null,null,null,null,null,null,null,null,"hidden until Yes on G36",null,null,null,"check if filled",null,"global check if \"yes\" inG39"]
[null,"Initiative/Programme",null,null,null,null,null,null,null,null,null,null,null,null,"check if filled"]
[null,"Project title",null,null,null,null,null,null,null,null,null,null,null,null,"check if filled"]
[null,"Short description\n(max. 500 characters)",null,null,null,null,null,null,null,null,null,null,null,null,"check if filled"]
[null,"Total value of the project (Euro)",null,null,null,"Project Partner's budget",null,null,null,null,null,null,null,null,"check if filled"]
[null,"Organization’s role in the project (main applicant, partner etc.)",null,null,null,"Period of implementation\n(from m/y to m/y) ",null,null,null,null,"Add button"]
[]
[null,null,"Add new project information",null,null,null,null,null,null,null,"No",null,1]
[null,null,null,null,null,null,null,null,null,null,"Visible after \"add\""]
[null,"Initiative/Programme"]
[null,"Project title"]
[null,"Short description \n(max. 500 characters)"]
[null,"Total value of the project (Euro)",null,null,null,"Project Partner's budget"]
[null,"Organization’s role in the project (main applicant, partner etc.)",null,null,null,"Period of implementation\n(from m/y to m/y) ",null,null,null,null,"Add button"]
[]
[null,null,"Add new project information",null,null,null,null,null,null,null,"No",null,1]
[null,null,null,null,null,null,null,null,null,null,"Visible after \"add\""]
[null,"Initiative/Programme"]
[null,"Project title"]
[null,"Short description \n(max. 500 characters)"]
[null,"Total value of the project (Euro)",null,null,null,"Project Partner's budget"]
[null,"Organization’s role in the project (main applicant, partner etc.)",null,null,null,"Period of implementation\n(from m/y to m/y) "]
[]
[]
[null,"2. Financial Data"]
[]
[null,"2.1. Detailed information",null,null,null,null,null,null,null,null,null,null,null,null,"check if filled"]
[]
[null,"National registration code:",null,null,null,null,null,null,null,null,{"$f":"ISBLANK(C70)","v":true}]
[]
[null,"VAT registration code:"]
[]
[null,"2.2. Financial status, capacity and equipment"]
[null,"Please provide the following information on the basis of the Profit and loss account and Balance sheet of your organization  and any information related to the staff and technical capacity for the past 3 (three) years."]
[null,"Year","Turnover or equivalent\n(in EUR)","Number of full-time staff","Number of part-time staff","Number of offices and description of equipment    (if applicable)",null,null,null,null,{"$f":"N80<9","v":true}]
[null,2014,null,null,null,null,null,null,null,null,{"$f":"ISBLANK(C77)","v":true},{"$f":"ISBLANK(D77)","v":true},true,{"$f":"K77+L77+M77","v":3}]
[null,2013,null,null,null,null,null,null,null,null,{"$f":"ISBLANK(C78)","v":true},true,true,{"$f":"K78+L78+M78","v":3}]
[null,2012,null,null,null,null,null,null,null,null,true,true,true,3]
[null,"The table is not properly filled!",null,null,null,null,null,null,null,null,null,null,null,{"$f":"9-SUM(N77:N79)","v":0}]
[]
[]
[null,null,null,null,null,null,null,null,null,null,null,"This menu will be available when you fill in point 1.1. from Project identification"]
[null,null,null,null,null,null,null,null,null,null,null,"Partner",null,null,{"$f":"IF('Project identification'!C11=\"ENVIROMENT;1,00;IF('Project identification'!C11=\"\"TOURISM\",2,3)","v":3},0,{"$f":"O84+P84","v":3}]
[null,null,null,null,null,null,null,null,null,null,1,"Local / Regional authority",null,{"$f":"SMALL(IF($K$85:$K$115=$Q$84,ROW($K$85:$K$115)),ROW(1:1))","v":109},{"$f":"IFERROR(INDEX($K$85:$L$115,N85-84,2),\"\")","v":"Local and regional authorities (and their associations) "}]
[null,null,null,null,null,null,null,null,null,null,1,"Regional structure of central public authority",null,{"$f":"SMALL(IF($K$85:$K$115=$Q$84,ROW($K$85:$K$115)),ROW(2:2))","v":110},{"$f":"IFERROR(INDEX($K$85:$L$115,N86-84,2),\"\")","v":"Regional structures of central public authorities"}]
[null,null,null,null,null,null,null,null,null,null,1,"Research / Education / Training institution",null,{"$f":"SMALL(IF($K$85:$K$115=$Q$84,ROW($K$85:$K$115)),ROW(3:3))","v":111},"Business support structures"]
[null,null,null,null,null,null,null,null,null,null,1,"Social institutions",null,{"$f":"SMALL(IF($K$85:$K$115=$Q$84,ROW($K$85:$K$115)),ROW(4:4))","v":112},"Regional and sector development agencies"]
[null,null,null,null,null,null,null,null,null,null,1,"Regional / Sectoral development agency",null,{"$f":"SMALL(IF($K$85:$K$115=$Q$84,ROW($K$85:$K$115)),ROW(5:5))","v":113},"Research, education and training institutions / centres"]
[null,null,null,null,null,null,null,null,null,null,1,"Any association of the above",null,{"$f":"SMALL(IF($K$85:$K$115=$Q$84,ROW($K$85:$K$115)),ROW(6:6))","v":114},"Euroregions"]
[null,null,null,null,null,null,null,null,null,null,4,"Local / Regional authority",null,{"$f":"SMALL(IF($K$85:$K$115=$Q$84,ROW($K$85:$K$115)),ROW(7:7))","v":115},"Associations of the above"]
[null,null,null,null,null,null,null,null,null,null,4,"Regional structure of central public authority",null,{"$f":"SMALL(IF($K$85:$K$115=$Q$84,ROW($K$85:$K$115)),ROW(8:8))","v":{"$error":"#NUM!"}},""]
[null,null,null,null,null,null,null,null,null,null,4,"Research, education and training institutions",null,{"$f":"SMALL(IF($K$85:$K$115=$Q$84,ROW($K$85:$K$115)),ROW(9:9))","v":{"$error":"#NUM!"}},""]
[null,null,null,null,null,null,null,null,null,null,4,"Social institutions",null,{"$f":"SMALL(IF($K$85:$K$115=$Q$84,ROW($K$85:$K$115)),ROW(10:10))","v":{"$error":"#NUM!"}},""]
[null,null,null,null,null,null,null,null,null,null,2,"Local and regional authorities and their associations",null,null,""]
[null,null,null,null,null,null,null,null,null,null,2,"Regional structures of central public authorities",null,null,""]
[null,null,null,null,null,null,null,null,null,null,2,"Education and training institutions / centres",null,null,""]
[null,null,null,null,null,null,null,null,null,null,2,"Cultural institutes",null,null,""]
[null,null,null,null,null,null,null,null,null,null,2,"Euroregions"]
[null,null,null,null,null,null,null,null,null,null,2,"Regional and sector development agencies"]
[null,null,null,null,null,null,null,null,null,null,2,"Civil society / non-government organisations"]
[null,null,null,null,null,null,null,null,null,null,2,"Regional touristic associations / NGOs in the field of tourism"]
[null,null,null,null,null,null,null,null,null,null,2,"Business support structures"]
[null,null,null,null,null,null,null,null,null,null,2,"Any association of the above"]
[null,null,null,null,null,null,null,null,null,null,5,"Local and regional authorities and their associations"]
[null,null,null,null,null,null,null,null,null,null,5,"Regional structures of central public authorities"]
[null,null,null,null,null,null,null,null,null,null,5,"Education and training institutions / centres"]
[null,null,null,null,null,null,null,null,null,null,5,"Cultural institutes"]
[null,null,null,null,null,null,null,null,null,null,3,"Local and regional authorities (and their associations) "]
[null,null,null,null,null,null,null,null,null,null,3,"Regional structures of central public authorities"]
[null,null,null,null,null,null,null,null,null,null,3,"Business support structures"]
[null,null,null,null,null,null,null,null,null,null,3,"Regional and sector development agencies"]
[null,null,null,null,null,null,null,null,null,null,3,"Research, education and training institutions / centres"]
[null,null,null,null,null,null,null,null,null,null,3,"Euroregions"]
[null,null,null,null,null,null,null,null,null,null,3,"Associations of the above"]
[]
[]
[]
[null,null,null,null,null,null,null,null,null,null,1,"Blagoevgrad",{"$f":"SMALL(IF($K$119:$K$123=$K$14,ROW($K$119:$K$123)),ROW(1:1))","v":121},121,{"$f":"IFERROR(INDEX($K$119:$L$123,M119-118,2),\"\")","v":"North-East region"}]
[null,null,null,null,null,null,null,null,null,null,1,"Kyustendil",{"$f":"SMALL(IF($K$119:$K$123=$K$14,ROW($K$119:$K$123)),ROW(2:2))","v":122},null,{"$f":"IFERROR(INDEX($K$119:$L$123,M120-118,2),\"\")","v":"South-East region"}]
[null,null,null,null,null,null,null,null,null,null,2,"North-East region",{"$f":"SMALL(IF($K$119:$K$123=$K$14,ROW($K$119:$K$123)),ROW(3:3))","v":123},null,{"$f":"IFERROR(INDEX($K$119:$L$123,M121-118,2),\"\")","v":"East region"}]
[null,null,null,null,null,null,null,null,null,null,2,"South-East region"]
[null,null,null,null,null,null,null,null,null,null,2,"East region"]

{"sheet":"PP5","index":7,"n_rows":123,"n_cols":17,"rows_kept":123,"cut":false,"hidden":true,"merged":[[0,1,1,9],[37,1,38,7],[14,2,14,7],[16,2,16,7],[18,2,18,7],[20,2,20,7],[22,2,22,7],[24,2,24,7],[26,2,26,7],[28,2,28,7],[30,2,30,7],[32,2,32,7],[36,1,36,7],[10,2,10,7],[4,1,4,7],[6,2,6,7],[41,16,45,16],[42,2,42,7],[43,2,43,7],[44,2,44,7],[45,2,45,4],[45,6,45,7],[8,2,8,7],[9,2,9,7],[58,2,58,7],[46,2,46,4],[46,6,46,7],[48,2,48,5],[50,2,50,7],[51,2,51,7],[52,2,52,7],[53,2,53,4],[53,6,53,7],[54,2,54,4],[54,6,54,7],[56,2,56,5],[40,1,40,5],[59,2,59,7],[60,2,60,7],[61,2,61,4],[61,6,61,7],[62,2,62,4],[62,6,62,7],[77,5,77,7],[78,5,78,7],[82,11,82,16],[94,13,95,13],[65,1,65,7],[69,2,69,7],[71,2,71,7],[74,1,74,7],[75,5,75,7],[76,5,76,7]]}
[null,"INTERREG - IPA \nCROSS-BORDER COOPERATION PROGRAMME\nPART I\n     \n     \n     \n"]
[]
[null,"PROJECT PARTNER No 5",null,null,null,null,null,null,null,"Link to budget page"]
[]
[null,"1. Identity"]
[null,"1.1.Detailed information",null,null,null,null,null,null,null,null,{"$f":"K7+K9+K11+K13+K15+K17+K19+K21+K23+K25+K27","v":8}]
[null,"Organization (in English):",null,null,null,null,null,null,null,null,{"$f":"ISBLANK(Cover!#REF!)","v":false}]
[]
[null,"Organization (in native language)",null,null,null,null,null,null,null,null,{"$f":"ISBLANK(C9)","v":true}]
[]
[null,"Type of organization:",null,null,null,null,null,null,null,null,{"$f":"IF(C11=\"\",TRUE,FALSE)","v":true}]
[]
[null,"Country:",null,null,null,null,null,null,null,null,{"$f":"ISBLANK(K14)","v":false}]
[null,null,null,null,null,null,null,null,null,null,2]
[null,"District/NUTS III",null,null,null,null,null,null,null,null,{"$f":"ISBLANK(C15)","v":true}]
[]
[null,"Town/city:",null,null,null,null,null,null,null,null,{"$f":"ISBLANK(C17)","v":true}]
[]
[null,"Address:",null,null,null,null,null,null,null,null,{"$f":"ISBLANK(C19)","v":true}]
[]
[null,"Postal Code:",null,null,null,null,null,null,null,null,{"$f":"ISBLANK(C21)","v":true}]
[]
[null,"Legal representative (Name):",null,null,null,null,null,null,null,null,{"$f":"ISBLANK(Cover!#REF!)","v":false}]
[]
[null,"Legal representative (Position):",null,null,null,null,null,null,null,null,{"$f":"ISBLANK(C25)","v":true}]
[]
[null,"Telephone:",null,null,null,null,null,null,null,null,{"$f":"ISBLANK(C27)","v":true}]
[]
[null,"Fax:",null,null,null,null,null,null,null,null,{"$f":"ISBLANK(C29)","v":true}]
[]
[null,"E-mail:",null,null,null,null,null,null,null,null,{"$f":"ISBLANK(C31)","v":true}]
[]
[null,"Website:"]
[]
[null,"1.2. Partner profile"]
[]
[null,"Please describe the organization's background and scope of competences and activities.(max 2500 chars)",null,null,null,null,null,null,null,null,{"$f":"ISBLANK(B38)","v":true},null,null,null,"check text size"]
[]
[null,null,null,null,null,null,null,null,null,null,{"$f":"LEN(B38)","v":0},{"$f":"K39>2500","v":false}]
[null,"1.3. Partner experience",null,null,null,null,null,null,null,null,null,null,null,null,"check if \"Yes\""]
[null,"Have you ever received financing from European funds? "]
[null,null,null,null,null,null,null,null,null,null,"hidden until Yes on G36",null,null,null,"check if filled",null,"global check if \"yes\" inG39"]
[null,"Initiative/Programme",null,null,null,null,null,null,null,null,null,null,null,null,"check if filled"]
[null,"Project title",null,null,null,null,null,null,null,null,null,null,null,null,"check if filled"]
[null,"Short description\n(max. 500 characters)",null,null,null,null,null,null,null,null,null,null,null,null,"check if filled"]
[null,"Total value of the project (Euro)",null,null,null,"Project Partner's budget",null,null,null,null,null,null,null,null,"check if filled"]
[null,"Organization’s role in the project (main applicant, partner etc.)",null,null,null,"Period of implementation\n(from m/y to m/y) ",null,null,null,null,"Add button"]
[]
[null,null,"Add new project information",null,null,null,null,null,null,null,"No",null,1]
[null,null,null,null,null,null,null,null,null,null,"Visible after \"add\""]
[null,"Initiative/Programme"]
[null,"Project title"]
[null,"Short description \n(max. 500 characters)"]
[null,"Total value of the project (Euro)",null,null,null,"Project Partner's budget"]
[null,"Organization’s role in the project (main applicant, partner etc.)",null,null,null,"Period of implementation\n(from m/y to m/y) ",null,null,null,null,"Add button"]
[]
[null,null,"Add new project information",null,null,null,null,null,null,null,"No",null,1]
[null,null,null,null,null,null,null,null,null,null,"Visible after \"add\""]
[null,"Initiative/Programme"]
[null,"Project title"]
[null,"Short description \n(max. 500 characters)"]
[null,"Total value of the project (Euro)",null,null,null,"Project Partner's budget"]
[null,"Organization’s role in the project (main applicant, partner etc.)",null,null,null,"Period of implementation\n(from m/y to m/y) "]
[]
[]
[null,"2. Financial Data"]
[]
[null,"2.1. Detailed information",null,null,null,null,null,null,null,null,null,null,null,null,"check if filled"]
[]
[null,"National registration code:",null,null,null,null,null,null,null,null,{"$f":"ISBLANK(C70)","v":true}]
[]
[null,"VAT registration code:"]
[]
[null,"2.2. Financial status, capacity and equipment"]
[null,"Please provide the following information on the basis of the Profit and loss account and Balance sheet of your organization  and any information related to the staff and technical capacity for the past 3 (three) years."]
[null,"Year","Turnover or equivalent\n(in EUR)","Number of full-time staff","Number of part-time staff","Number of offices and description of equipment    (if applicable)",null,null,null,null,{"$f":"N80<9","v":true}]
[null,2014,null,null,null,null,null,null,null,null,{"$f":"ISBLANK(C77)","v":true},{"$f":"ISBLANK(D77)","v":true},true,{"$f":"K77+L77+M77","v":3}]
[null,2013,null,null,null,null,null,null,null,null,{"$f":"ISBLANK(C78)","v":true},true,true,{"$f":"K78+L78+M78","v":3}]
[null,2012,null,null,null,null,null,null,null,null,true,true,true,3]
[null,"The table is not properly filled!",null,null,null,null,null,null,null,null,null,null,null,{"$f":"9-SUM(N77:N79)","v":0}]
[]
[]
[null,null,null,null,null,null,null,null,null,null,null,"This menu will be available when you fill in point 1.1. from Project identification"]
[null,null,null,null,null,null,null,null,null,null,null,"Partner",null,null,{"$f":"IF('Project identification'!C11=\"ENVIROMENT;1,00;IF('Project identification'!C11=\"\"TOURISM\",2,3)","v":3},0,{"$f":"O84+P84","v":3}]
[null,null,null,null,null,null,null,null,null,null,1,"Local / Regional authority",null,{"$f":"SMALL(IF($K$85:$K$115=$Q$84,ROW($K$85:$K$115)),ROW(1:1))","v":109},{"$f":"IFERROR(INDEX($K$85:$L$115,N85-84,2),\"\")","v":"Local and regional authorities (and their associations) "}]
[null,null,null,null,null,null,null,null,null,null,1,"Regional structure of central public authority",null,{"$f":"SMALL(IF($K$85:$K$115=$Q$84,ROW($K$85:$K$115)),ROW(2:2))","v":110},{"$f":"IFERROR(INDEX($K$85:$L$115,N86-84,2),\"\")","v":"Regional structures of central public authorities"}]
[null,null,null,null,null,null,null,null,null,null,1,"Research / Education / Training institution",null,{"$f":"SMALL(IF($K$85:$K$115=$Q$84,ROW($K$85:$K$115)),ROW(3:3))","v":111},"Business support structures"]
[null,null,null,null,null,null,null,null,null,null,1,"Social institutions",null,{"$f":"SMALL(IF($K$85:$K$115=$Q$84,ROW($K$85:$K$115)),ROW(4:4))","v":112},"Regional and sector development agencies"]
[null,null,null,null,null,null,null,null,null,null,1,"Regional / Sectoral development agency",null,{"$f":"SMALL(IF($K$85:$K$115=$Q$84,ROW($K$85:$K$115)),ROW(5:5))","v":113},"Research, education and training institutions / centres"]
[null,null,null,null,null,null,null,null,null,null,1,"Any association of the above",null,{"$f":"SMALL(IF($K$85:$K$115=$Q$84,ROW($K$85:$K$115)),ROW(6:6))","v":114},"Euroregions"]
[null,null,null,null,null,null,null,null,null,null,4,"Local / Regional authority",null,{"$f":"SMALL(IF($K$85:$K$115=$Q$84,ROW($K$85:$K$115)),ROW(7:7))","v":115},"Associations of the above"]
[null,null,null,null,null,null,null,null,null,null,4,"Regional structure of central public authority",null,{"$f":"SMALL(IF($K$85:$K$115=$Q$84,ROW($K$85:$K$115)),ROW(8:8))","v":{"$error":"#NUM!"}},""]
[null,null,null,null,null,null,null,null,null,null,4,"Research, education and training institutions",null,{"$f":"SMALL(IF($K$85:$K$115=$Q$84,ROW($K$85:$K$115)),ROW(9:9))","v":{"$error":"#NUM!"}},""]
[null,null,null,null,null,null,null,null,null,null,4,"Social institutions",null,{"$f":"SMALL(IF($K$85:$K$115=$Q$84,ROW($K$85:$K$115)),ROW(10:10))","v":{"$error":"#NUM!"}},""]
[null,null,null,null,null,null,null,null,null,null,2,"Local and regional authorities and their associations",null,null,""]
[null,null,null,null,null,null,null,null,null,null,2,"Regional structures of central public authorities",null,null,""]
[null,null,null,null,null,null,null,null,null,null,2,"Education and training institutions / centres",null,null,""]
[null,null,null,null,null,null,null,null,null,null,2,"Cultural institutes",null,null,""]
[null,null,null,null,null,null,null,null,null,null,2,"Euroregions"]
[null,null,null,null,null,null,null,null,null,null,2,"Regional and sector development agencies"]
[null,null,null,null,null,null,null,null,null,null,2,"Civil society / non-government organisations"]
[null,null,null,null,null,null,null,null,null,null,2,"Regional touristic associations / NGOs in the field of tourism"]
[null,null,null,null,null,null,null,null,null,null,2,"Business support structures"]
[null,null,null,null,null,null,null,null,null,null,2,"Any association of the above"]
[null,null,null,null,null,null,null,null,null,null,5,"Local and regional authorities and their associations"]
[null,null,null,null,null,null,null,null,null,null,5,"Regional structures of central public authorities"]
[null,null,null,null,null,null,null,null,null,null,5,"Education and training institutions / centres"]
[null,null,null,null,null,null,null,null,null,null,5,"Cultural institutes"]
[null,null,null,null,null,null,null,null,null,null,3,"Local and regional authorities (and their associations) "]
[null,null,null,null,null,null,null,null,null,null,3,"Regional structures of central public authorities"]
[null,null,null,null,null,null,null,null,null,null,3,"Business support structures"]
[null,null,null,null,null,null,null,null,null,null,3,"Regional and sector development agencies"]
[null,null,null,null,null,null,null,null,null,null,3,"Research, education and training institutions / centres"]
[null,null,null,null,null,null,null,null,null,null,3,"Euroregions"]
[null,null,null,null,null,null,null,null,null,null,3,"Associations of the above"]
[]
[]
[]
[null,null,null,null,null,null,null,null,null,null,1,"Blagoevgrad",{"$f":"SMALL(IF($K$119:$K$123=$K$14,ROW($K$119:$K$123)),ROW(1:1))","v":121},121,{"$f":"IFERROR(INDEX($K$119:$L$123,M119-118,2),\"\")","v":"North-East region"}]
[null,null,null,null,null,null,null,null,null,null,1,"Kyustendil",{"$f":"SMALL(IF($K$119:$K$123=$K$14,ROW($K$119:$K$123)),ROW(2:2))","v":122},null,{"$f":"IFERROR(INDEX($K$119:$L$123,M120-118,2),\"\")","v":"South-East region"}]
[null,null,null,null,null,null,null,null,null,null,2,"North-East region",{"$f":"SMALL(IF($K$119:$K$123=$K$14,ROW($K$119:$K$123)),ROW(3:3))","v":123},null,{"$f":"IFERROR(INDEX($K$119:$L$123,M121-118,2),\"\")","v":"East region"}]
[null,null,null,null,null,null,null,null,null,null,2,"South-East region"]
[null,null,null,null,null,null,null,null,null,null,2,"East region"]

{"sheet":"Project identification","index":8,"n_rows":365,"n_cols":26,"rows_kept":365,"cut":false,"hidden":false,"merged":[[79,2,79,7],[80,2,80,7],[294,1,294,2],[294,3,294,4],[294,5,294,7],[294,8,294,9],[169,2,169,5],[169,6,169,8],[182,2,182,5],[182,6,182,8],[195,2,195,5],[195,6,195,8],[208,2,208,5],[208,6,208,8],[181,2,181,9],[183,1,183,9],[190,1,190,9],[194,2,194,9],[196,1,196,9],[185,1,185,9],[261,1,261,9],[262,1,262,9],[224,1,224,9],[225,1,225,9],[197,1,197,9],[203,1,203,9],[90,2,90,5],[90,6,90,8],[104,2,104,5],[104,6,104,8],[117,2,117,5],[117,6,117,8],[130,2,130,5],[130,6,130,8],[98,1,98,9],[144,1,144,9],[146,1,146,9],[148,1,148,9],[150,1,150,9],[106,1,106,9],[108,1,108,9],[110,1,110,9],[173,1,173,9],[120,1,120,9],[122,1,122,9],[124,1,124,9],[156,2,156,5],[156,6,156,8],[344,1,344,9],[338,1,338,9],[339,1,339,9],[343,1,343,9],[327,4,327,9],[328,2,328,3],[328,4,328,9],[329,2,329,3],[330,2,330,3],[331,2,331,3],[332,2,332,3],[333,2,333,3],[334,2,334,3],[330,4,330,9],[331,4,331,9],[332,4,332,9],[362,3,362,9],[363,3,363,9],[364,3,364,9],[357,1,357,9],[352,1,352,9],[350,1,350,9],[351,1,351,9],[356,1,356,9],[361,1,361,9],[362,1,362,2],[364,1,364,2],[363,1,363,2],[286,1,286,9],[287,1,287,9],[292,3,292,4],[292,1,292,2],[291,8,291,9],[291,5,291,7],[291,3,291,4],[291,1,291,2],[292,5,292,7],[292,8,292,9],[62,1,62,9],[315,1,315,9],[322,1,322,9],[348,1,348,9],[64,1,64,9],[65,1,65,9],[68,1,68,9],[69,1,69,9],[72,1,72,9],[73,1,73,9],[80,8,80,9],[81,8,81,9],[82,8,82,9],[81,2,81,7],[82,2,82,7],[79,8,79,9],[86,1,86,9],[92,1,92,9],[94,1,94,9],[96,1,96,9],[333,4,333,9],[334,4,334,9],[329,4,329,9],[327,2,327,3],[293,1,293,2],[0,1,1,9],[4,1,4,9],[14,2,14,9],[8,2,8,9],[10,2,10,9],[12,2,12,9],[16,2,16,9],[20,1,20,9],[24,1,24,9],[22,2,22,3],[22,4,22,9],[29,2,29,3],[29,4,29,9],[23,2,23,3],[23,4,23,9],[25,2,25,3],[25,4,25,9],[26,1,26,9],[45,1,45,3],[46,1,46,3],[30,1,30,9],[34,1,34,9],[33,1,33,9],[27,2,27,3],[27,4,27,9],[28,1,28,9],[47,1,47,3],[46,4,46,7],[47,4,47,7],[47,8,47,9],[37,1,37,9],[42,1,42,3],[43,1,43,3],[44,1,44,3],[41,8,41,9],[41,4,41,7],[53,1,53,3],[52,1,52,3],[51,1,51,3],[50,1,50,3],[50,6,50,7],[50,4,50,5],[58,1,58,3],[57,1,57,3],[56,1,56,3],[55,1,55,3],[54,1,54,3],[58,6,58,7],[51,4,51,5],[52,4,52,5],[53,4,53,5],[54,4,54,5],[55,4,55,5],[56,4,56,5],[57,4,57,5],[58,4,58,5],[51,6,51,7],[52,6,52,7],[53,6,53,7],[54,6,54,7],[57,6,57,7],[58,8,58,9],[42,8,42,9],[43,8,43,9],[44,8,44,9],[45,8,45,9],[46,8,46,9],[42,4,42,7],[43,4,43,7],[44,4,44,7],[45,4,45,7],[55,8,55,9],[56,8,56,9],[57,8,57,9],[55,6,55,7],[56,6,56,7],[50,8,50,9],[51,8,51,9],[52,8,52,9],[53,8,53,9],[54,8,54,9],[324,1,324,9],[325,1,325,9],[184,1,184,9],[186,1,186,9],[187,1,187,9],[188,1,188,9],[189,1,189,9],[251,1,251,9],[253,1,253,9],[255,1,255,9],[245,2,245,9],[246,2,246,9],[248,1,248,9],[249,1,249,9],[250,1,250,9],[252,1,252,9],[254,1,254,9],[227,1,227,9],[229,1,229,9],[239,1,239,9],[293,3,293,4],[293,5,293,7],[193,2,193,9],[264,1,264,9],[317,1,317,9],[320,1,320,9],[134,1,134,9],[136,1,136,9],[138,1,138,9],[293,8,293,9],[158,1,158,9],[160,1,160,9],[162,1,162,9],[171,1,171,9],[164,1,164,9],[167,2,167,9],[168,2,168,9],[170,1,170,9],[180,2,180,9],[157,1,157,9],[159,1,159,9],[161,1,161,9],[163,1,163,9],[172,1,172,9],[174,1,174,9],[175,1,175,9],[176,1,176,9],[177,1,177,9],[154,2,154,9],[155,2,155,9],[109,1,109,9],[151,1,151,9],[112,1,112,9],[119,1,119,9],[123,1,123,9],[107,1,107,9],[103,2,103,9],[145,1,145,9],[133,1,133,9],[142,2,142,9],[121,1,121,9],[135,1,135,9],[137,1,137,9],[141,2,141,9],[143,2,143,5],[143,6,143,8],[147,1,147,9],[149,1,149,9],[102,2,102,9],[115,2,115,9],[116,2,116,9],[118,1,118,9],[128,2,128,9],[129,2,129,9],[125,1,125,9],[132,1,132,9],[111,1,111,9],[131,1,131,9],[198,1,198,9],[199,1,199,9],[200,1,200,9],[201,1,201,9],[242,1,242,9],[221,2,221,5],[221,6,221,8],[234,2,234,5],[234,6,234,8],[202,1,202,9],[206,2,206,9],[207,2,207,9],[209,1,209,9],[215,1,215,9],[222,1,222,9],[223,1,223,9],[219,2,219,9],[220,2,220,9],[247,2,247,5],[247,6,247,8],[260,2,260,5],[260,6,260,8],[258,2,258,9],[259,2,259,9],[280,1,280,9],[281,1,281,9],[282,1,282,9],[263,1,263,9],[265,1,265,9],[267,1,267,9],[271,2,271,9],[272,2,272,9],[275,1,275,9],[276,1,276,9],[266,1,266,9],[268,1,268,9],[279,1,279,9],[273,2,273,5],[273,6,273,8],[277,1,277,9],[274,1,274,9],[97,1,97,9],[95,1,95,9],[93,1,93,9],[91,1,91,9],[89,2,89,9],[88,2,88,9],[105,1,105,9],[278,1,278,9],[226,1,226,9],[228,1,228,9],[232,2,232,9],[233,2,233,9],[235,1,235,9],[236,1,236,9],[237,1,237,9],[210,1,210,9],[211,1,211,9],[212,1,212,9],[213,1,213,9],[214,1,214,9],[216,1,216,9],[241,1,241,9],[238,1,238,9],[240,1,240,9]]}
[null,"INTERREG - IPA \nCROSS-BODGER COOPERATION PROGRAMME\nPART I\n     \n     \n     \n"]
[null,null,null,null,null,null,null,null,null,null,null,null,null,null,null,null,"1.1. Environmental protection and sustainable use of the natural resources ",null,"2.1. Enhancing the tourism potential of the region through cooperation initiatives in better preservation and sustainable utilization of natural and cultural heritage",null,"3.1: Improving the competitiveness of regional businesses"]
[null,"PROJECT IDENTIFICATION",null,null,null,null,null,null,null,null,null,null,null,null,null,null,"1.2. Prevention and mitigation of consequences of natural and man-caused disasters of cross-border dimension and impact",null,"2.2: Raising the competitiveness of the CBC region’s tourist offer"]
[null,null,null,null,null,null,null,null,null,null,null,null,null,null,null,null,null,null,"2.3: Promoting cooperation among regional actors in the area of sustainable tourism"]
[null,"1. Project Identity",null,null,null,null,null,null,null,null,null,null,{"$f":"CONCATENATE(\"Project duration between \",'Table 5-Sources'!M6,\" and \",'Table 5-Sources'!M7,\" months\")","v":{"$error":"#N/A"}}]
[]
[null,"1.1. Project Identity",null,null,null,null,null,null,null,null,null,{"$f":"L9+L11+L13+L15+L17","v":1},null,null,null,null,{"$f":"C11","v":0},null,{"$f":"VLOOKUP(C13,U9:V14,2)","v":{"$error":"#N/A"}}]
[null,null,null,null,null,null,null,null,null,null,null,null,null,null,null,null,{"$f":"IF(C11=R9,1,IF(C11=R10,2,3))","v":3}]
[null,"Full Name:",{"$f":"IF(Cover!C22=\"\",\"\",Cover!C22)","v":""},null,null,null,null,null,null,null,null,{"$f":"Cover!N22","v":false},null,"link from cover page",null,null,null,"ENVIRONMENT",1,1,"1.1. Environmental protection and sustainable use of the natural resources ","1.1",{"$f":"IFERROR(INDEX($T$9:$U$16,V9-8,2),\"\")","v":""},{"$f":"IF(W9<>\"\",W9,IF(W11<>\"\",W11,W14))","v":""}]
[null,null,null,null,null,null,null,null,null,null,null,null,null,null,null,null,null,"TOURISM",2,1,"1.2 Prevention and mitigation of consequences of natural and man-caused disasters of cross-border dimension and impact","1.2",{"$f":"IFERROR(INDEX($T$9:$U$16,V10-8,2),\"\")","v":""},{"$f":"IF(W10<>\"\",W10,IF(W12<>\"\",W12,\"\"))","v":""}]
[null,"Priority Axis",{"$f":"Cover!C27","v":0},null,null,null,null,null,null,null,null,{"$f":"ISBLANK(C11)","v":false},{"$f":"Q8","v":3},"menu","page 19 AG",null,null,"COMPETITIVENESS",3,2,"2.1 Enhancing the tourism potential of the region through cooperation initiatives in better preservation and sustainable utilization of natural and cultural heritage","2.1",{"$f":"IFERROR(INDEX($T$9:$U$16,V11-8,2),\"\")","v":""},{"$f":"IF(W13<>\"\",W13,IF(W13<>\"\",W13,\"\"))","v":""}]
[null,null,null,null,null,null,null,null,null,null,null,null,null,null,null,null,null,"tes",4,2,"2.2 Raising the competitiveness of the CBC region’s tourist offer","2.2",{"$f":"IFERROR(INDEX($T$9:$U$16,V12-8,2),\"\")","v":""}]
[null,"Specific Objective",{"$f":"Cover!C29","v":0},null,null,null,null,null,null,null,null,{"$f":"ISBLANK(C13)","v":false},{"$f":"IF(ISERROR(S7),\"1.1\",S7)","v":"1.1"},"menu","page 19 AG",null,null,null,null,2,"2.3 Promoting cooperation among regional actors in the area of sustainable tourism","2.3",{"$f":"IFERROR(INDEX($T$9:$U$16,V13-8,2),\"\")","v":""}]
[null,null,null,null,null,null,null,null,null,null,null,null,null,null,null,null,null,null,null,3,"3.1 Improving the competitiveness of regional businesses","3.1",{"$f":"IFERROR(INDEX($T$9:$U$16,V14-8,2),\"\")","v":""}]
[null,"Type of project",{"$f":"Cover!C31","v":0},null,null,null,null,null,null,null,null,{"$f":"ISBLANK(C15)","v":false},null,"menu","page 19 AG",null,"Soft"]
[null,null,null,null,null,null,null,null,null,null,null,null,null,null,null,null,"Investment",{"$f":"IF(C11=R11,3,0)","v":0},null,null,null,null,null,{"$f":"VLOOKUP(C15,X17:Z19,2)","v":{"$error":"#N/A"}}]
[null,"Duration in months",null,null,null,null,null,null,null,null,null,{"$f":"ISBLANK(C17)","v":true},null,"check limit","page 19 AG",null,null,null,null,null,null,null,null,"Soft",8,15]
[null,null,{"$f":"M5","v":{"$error":"#N/A"}},null,null,null,null,null,null,null,null,{"$f":"'Table 5-Sources'!M6","v":{"$error":"#N/A"}},null,null,null,null,null,null,null,null,null,null,null,"Investment",12,24]
[null,null,null,null,null,null,null,null,null,null,null,{"$f":"'Table 5-Sources'!M7","v":{"$error":"#N/A"}},null,"Soft","Investment","Soft"]
[null,"1.2. Cooperation criteria",null,null,null,null,null,null,null,null,null,null,null,null,null,"Investment"]
[null,"Please indicate which of the following cooperation criteria apply to the activities of the project (Please, be reminded that the Joint Development and Joint Implementation are mandatory and you should select minimum one from Joint Staffing and Joint Financing):",null,null,null,null,null,null,null,null,null,null,null,null,null,null,null,null,null,"1.1. Environmental protection and sustainable use of the natural resources ",1]
[null,null,null,null,null,null,null,null,null,null,null,null,null,null,null,null,null,null,null,"1.2. Prevention and mitigation of consequences of natural and man-caused disasters of cross-border dimension and impact",2]
[null,"Criteria","Applicable",null,"Description",null,null,null,null,null,null,{"$f":"L24+L26+L28+L30","v":4},null,null,{"$f":"P23+Q23","v":0},{"$f":"L23<2","v":false},{"$f":"R23>5","v":false},{"$f":"SUM(R24:R30)","v":0},null,"2.1. Enhancing the tourism potential of the region through cooperation initiatives in better preservation and sustainable utilization of natural and cultural heritage",3]
[null,"Joint Development",null,null,null,null,null,null,null,null,null,{"$f":"NOT(M24)","v":true},false,null,null,null,{"$f":"ISBLANK(E24)","v":true},{"$f":"IF(NOT(Q24),1,0)","v":0},null,"2.2: Raising the competitiveness of the CBC region’s tourist offer",4]
[null,null,null,null,null,null,null,null,null,null,null,null,null,null,null,null,null,null,null,"2.3: Promoting cooperation among regional actors in the area of sustainable tourism",5]
[null,"Joint Implementation",null,null,null,null,null,null,null,null,null,{"$f":"NOT(M26)","v":true},false,null,null,null,{"$f":"ISBLANK(E26)","v":true},{"$f":"IF(NOT(Q26),1,0)","v":0},null,"3.1: Improving the competitiveness of regional businesses",6]
[]
[null,"Joint Staff",null,null,null,null,null,null,null,null,null,{"$f":"NOT(M28)","v":true},false,null,null,null,{"$f":"ISBLANK(E28)","v":true},{"$f":"IF(NOT(Q28),3,0)","v":0}]
[]
[null,"Joint Financing",null,null,null,null,null,null,null,null,null,{"$f":"NOT(M30)","v":true},false,null,null,null,{"$f":"ISBLANK(E30)","v":true},{"$f":"IF(NOT(Q30),3,0)","v":0}]
[]
[]
[null,"1.3 Cross-border impact and benefits of the project"]
[null,"Please describe how the project demonstrate  importance of the cross-border approach to the topic addressed (maximum 1500 characters):"]
[null,null,null,null,null,null,null,null,null,null,null,{"$f":"LEN(B35)","v":0},{"$f":"L35>1","v":false},{"$f":"L35<1501","v":true},{"$f":"M35+N35","v":1}]
[]
[]
[null,"2. Financial information - Project budget (EUR)"]
[]
[null,"2.1. Sources of financing (EUR)"]
[]
[null,null,null,null,"Amount",null,null,null,"% of eligible expenditure"]
[null,"Total Value, of which",null,null,{"$f":"'Table 5-Sources'!G5","v":0}]
[null,"EU funding",null,null,{"$f":"'Table 5-Sources'!G11","v":0},null,null,null,{"$f":"E44/E43*100","v":{"$error":"#DIV/0!"}}]
[null,"National Co-financing, of which"]
[null,"State Budgets Contribution",null,null,{"$f":"'Table 5-Sources'!G6","v":0},null,null,null,{"$f":"E46/E43*100","v":{"$error":"#DIV/0!"}}]
[null,"Own Contribution",null,null,{"$f":"'Table 5-Sources'!G8","v":0},null,null,null,{"$f":"E47/E43*100","v":{"$error":"#DIV/0!"}},null,null,{"$f":"E47>0","v":false}]
[null,"Others "]
[]
[null,"2.2. Breakdown of eligible expenditure (EUR)"]
[null,"Type of eligible expenditure",null,null,"Expenditures in the eligible area",null,"Expenditures outside of the eligible area",null,"% from the total"]
[null,"Staff costs",null,null,{"$f":"'Table 3-summary'!C5","v":0},null,"NA",null,{"$f":"E52/$I$59*100","v":{"$error":"#DIV/0!"}}]
[null,"Office and administrative costs",null,null,{"$f":"'Table 3-summary'!C6","v":0},null,"NA",null,{"$f":"E53/$I$59*100","v":{"$error":"#DIV/0!"}}]
[null,"Travel and accommodation",null,null,{"$f":"'Table 3-summary'!C7","v":0},null,{"$f":"'Table 3-summary'!D7","v":0},null,{"$error":"#DIV/0!"}]
[null,"External expertise and services",null,null,{"$f":"'Table 3-summary'!C8","v":0},null,{"$f":"'Table 3-summary'!D8","v":0},null,{"$error":"#DIV/0!"}]
[null,"Equipment and works",null,null,{"$f":"'Table 3-summary'!C9","v":0},null,{"$f":"'Table 3-summary'!D9","v":"NA"},null,{"$error":"#DIV/0!"}]
[null,"Project Preparation",null,null,{"$f":"'Table 3-summary'!C10","v":0},null,"NA",null,{"$error":"#DIV/0!"}]
[null,"PROJECT DIRECT COSTS",null,null,{"$f":"'Table 2-total'!B41","v":0},null,{"$f":"'Table 2-total'!C41","v":0},null,{"$error":"#DIV/0!"}]
[null,"TOTAL",null,null,{"$f":"'Table 2-total'!B43","v":0},null,{"$f":"'Table 2-total'!C43","v":0},null,{"$f":"E59+G59","v":0},null,null,{"$f":"I59>0","v":false}]
[]
[]
[]
[null,"3. Project description\n"]
[null,"3.1. Background and demand for the project proposal "]
[null,"Please provide brief information about the project background, stating the concrete needs, strengths, weaknesses and constraints of the target group(s) and target region(s) that you focus on and the proposed strategy concerning these issues (maximum 2000 characters)"]
[null,null,null,null,null,null,null,null,null,null,null,{"$f":"LEN(B66)","v":0},{"$f":"L66>1","v":false},{"$f":"L66<2001","v":true},{"$f":"M66+N66","v":1}]
[]
[null,"3.2. Consistency with the Programme specific objective"]
[null,"Please describe how your project will contribute to achievement of the Programme specific objective addressed (maximum 1000 characters):"]
[null,null,null,null,null,null,null,null,null,null,null,{"$f":"LEN(B70)","v":0},{"$f":"L70>1","v":false},{"$f":"L70<1001","v":true},{"$f":"M70+N70","v":1}]
[]
[null,"3.3. Consistency with the Programme overall objective"]
[null,"Please describe how your project will contribute to achievement of the Programme overall aim (maximum 1000 characters):"]
[null,null,null,null,null,null,null,null,null,null,null,{"$f":"LEN(B74)","v":0},{"$f":"L74>1","v":false},{"$f":"L74<1001","v":true},{"$f":"M74+N74","v":1}]
[]
[null,"3.4. Description of the target groups and beneficiaries (estimated numbers):"]
[null,"“Target groups” are the groups/entities who will be positively affected by the project "]
[null,"“Direct beneficiaries” are those directly involved in the project implementation "]
[null,"“Final beneficiaries” are those who will benefit from the project in a long term "]
[null,null,"Description/ specification",null,null,null,null,null,"Indicative Number",null,null,{"$f":"SUM(L81:L83)=0","v":false}]
[null,"Target groups",null,null,null,null,null,null,null,null,null,{"$f":"ISBLANK(E81)+ISBLANK(I81)+ISBLANK(C81)","v":3},null,"D78 menu",null,"dependant on priority axis"]
[null,"Direct beneficiaries",null,null,null,null,null,null,null,null,null,{"$f":"ISBLANK(E82)+ISBLANK(I82)","v":2}]
[null,"Final beneficiaries",null,null,null,null,null,null,null,null,null,{"$f":"ISBLANK(E83)+ISBLANK(I83)","v":2},null,{"$f":"CONCATENATE(C11,\"1\")","v":"01"},"Prio 3","SMEs and other businesses in the region"]
[null,null,null,null,null,null,null,null,null,null,null,null,null,null,null,"Economically active population of the region "]
[null,null,null,null,null,null,null,null,null,null,null,null,null,null,null,"Research and development, education and training institutions"]
[null,"3.5. Project activities - description and methods of implementation",null,null,null,null,null,null,null,null,null,null,null,null,null,"Regional and local authorities"]
[null,"(Minimum 500 and maximum 1500 characters per activity)\n",null,null,null,null,null,null,null,null,null,null,null,null,"Prio 2","Population in the region"]
[null,null,null,null,null,null,null,null,null,null,null,null,null,null,null,"Public and private cultural institutions "]
[null,"Activity No",1,null,null,null,null,null,null,null,null,{"$f":"L90+L91+L93+L95+L97+L99","v":7},{"$f":"L89=0","v":false},"Autonumber",null,"Education and training institutions"]
[null,"Title of activity:",null,null,null,null,null,null,null,null,null,{"$f":"ISBLANK(C90)","v":true},null,null,null,"Regional and local authorities, their subsidiary structures and associations of local authorities"]
[null,"Location",null,null,null,null,"Outside eligible area:",null,null,null,null,{"$f":"ISBLANK(C91)+ISBLANK(J91)","v":2},null,null,null,"Small and medium enterprises (SMEs) in tourism"]
[null,"1. Brief description of the activity:",null,null,null,null,null,null,null,null,null,null,null,null,null,"Tourist operators"]
[null,null,null,null,null,null,null,null,null,null,null,{"$f":"ISBLANK(B93)","v":true},{"$f":"LEN(B93)","v":0},{"$f":"M93>1500","v":false},{"$f":"M93<500","v":true},{"$f":"N93+O93","v":1}]
[null,"2. Who will be the responsible partner for implementation and reporting of the activity?",null,null,null,null,null,null,null,null,null,null,null,null,"Prio 1","Population in the region"]
[null,null,null,null,null,null,null,null,null,null,null,{"$f":"ISBLANK(B95)","v":true},{"$f":"LEN(B95)","v":0},{"$f":"M95>1500","v":false},{"$f":"M95<500","v":true},{"$f":"N95+O95","v":1}]
[null,"3. What methods / resources will be used for impementation of the activity? ",null,null,null,null,null,null,null,null,null,null,null,null,null,"Regional structures of central public authorities (including protected areas administration and those dealing with emergency situations and nature / environment protection)"]
[null,null,null,null,null,null,null,null,null,null,null,{"$f":"ISBLANK(B97)","v":true},{"$f":"LEN(B97)","v":0},{"$f":"M97>1500","v":false},{"$f":"M97<500","v":true},{"$f":"N97+O97","v":1}]
[null,"4. What will be the output(s) of the activity?",null,null,null,null,null,null,null,null,null,null,null,null,null,"Research, education and training institutions"]
[null,null,null,null,null,null,null,null,null,null,null,{"$f":"ISBLANK(B99)","v":true},{"$f":"LEN(B99)","v":0},{"$f":"M99>1500","v":false},{"$f":"M99<500","v":true},{"$f":"N99+O99","v":1}]
[]
[null,"Add new activity?"]
[]
[null,"Activity No",2]
[null,"Title of activity:"]
[null,"Location",null,null,null,null,"Outside eligible area:"]
[null,"1. Brief description of the activity:"]
[null,null,null,null,null,null,null,null,null,null,null,{"$f":"ISBLANK(B107)","v":true},{"$f":"LEN(B107)","v":0},{"$f":"M107>1500","v":false},{"$f":"M107<500","v":true},{"$f":"N107+O107","v":1}]
[null,"2. Who will be the responsible partner for implementation and reporting of the activity?"]
[null,null,null,null,null,null,null,null,null,null,null,{"$f":"ISBLANK(B109)","v":true},{"$f":"LEN(B109)","v":0},{"$f":"M109>1500","v":false},{"$f":"M109<500","v":true},{"$f":"N109+O109","v":1}]
[null,"3. What methods / resources will be used for impementation of the activity? "]
[null,null,null,null,null,null,null,null,null,null,null,{"$f":"ISBLANK(B111)","v":true},{"$f":"LEN(B111)","v":0},{"$f":"M111>1500","v":false},{"$f":"M111<500","v":true},{"$f":"N111+O111","v":1}]
[null,"4. What will be the output(s) of the activity?"]
[null,null,null,null,null,null,null,null,null,null,null,{"$f":"ISBLANK(B113)","v":true},{"$f":"LEN(B113)","v":0},{"$f":"M113>1500","v":false},{"$f":"M113<500","v":true},{"$f":"N113+O113","v":1}]
[null,"Add new activity?"]
[]
[null,"Activity No",3]
[null,"Title of activity:"]
[null,"Location",null,null,null,null,"Outside eligible area:"]
[null,"1. Brief description of the activity:"]
[null,null,null,null,null,null,null,null,null,null,null,{"$f":"ISBLANK(B120)","v":true},{"$f":"LEN(B120)","v":0},{"$f":"M120>1500","v":false},{"$f":"M120<500","v":true},{"$f":"N120+O120","v":1}]
[null,"2. Who will be the responsible partner for implementation and reporting of the activity?"]
[null,null,null,null,null,null,null,null,null,null,null,{"$f":"ISBLANK(B122)","v":true},{"$f":"LEN(B122)","v":0},{"$f":"M122>1500","v":false},{"$f":"M122<500","v":true},{"$f":"N122+O122","v":1}]
[null,"3. What methods / resources will be used for impementation of the activity? "]
[null,null,null,null,null,null,null,null,null,null,null,{"$f":"ISBLANK(B124)","v":true},{"$f":"LEN(B124)","v":0},{"$f":"M124>1500","v":false},{"$f":"M124<500","v":true},{"$f":"N124+O124","v":1}]
[null,"4. What will be the output(s) of the activity?"]
[null,null,null,null,null,null,null,null,null,null,null,{"$f":"ISBLANK(B126)","v":true},{"$f":"LEN(B126)","v":0},{"$f":"M126>1500","v":false},{"$f":"M126<500","v":true},{"$f":"N126+O126","v":1}]
[null,"Add new activity?"]
[]
[null,"Activity No",4]
[null,"Title of activity:"]
[null,"Location",null,null,null,null,"Outside eligible area:"]
[null,"1. Brief description of the activity:"]
[null,null,null,null,null,null,null,null,null,null,null,{"$f":"ISBLANK(B133)","v":true},{"$f":"LEN(B133)","v":0},{"$f":"M133>1500","v":false},{"$f":"M133<500","v":true},{"$f":"N133+O133","v":1}]
[null,"2. Who will be the responsible partner for implementation and reporting of the activity?"]
[null,null,null,null,null,null,null,null,null,null,null,{"$f":"ISBLANK(B135)","v":true},{"$f":"LEN(B135)","v":0},{"$f":"M135>1500","v":false},{"$f":"M135<500","v":true},{"$f":"N135+O135","v":1}]
[null,"3. What methods / resources will be used for impementation of the activity? "]
[null,null,null,null,null,null,null,null,null,null,null,{"$f":"ISBLANK(B137)","v":true},{"$f":"LEN(B137)","v":0},{"$f":"M137>1500","v":false},{"$f":"M137<500","v":true},{"$f":"N137+O137","v":1}]
[null,"4. What will be the output(s) of the activity?"]
[null,null,null,null,null,null,null,null,null,null,null,{"$f":"ISBLANK(B139)","v":true},{"$f":"LEN(B139)","v":0},{"$f":"M139>1500","v":false},{"$f":"M139<500","v":true},{"$f":"N139+O139","v":1}]
[null,"Add new activity?"]
[]
[null,"Activity No",5]
[null,"Title of activity:"]
[null,"Location",null,null,null,null,"Outside eligible area:"]
[null,"1. Brief description of the activity:"]
[null,null,null,null,null,null,null,null,null,null,null,{"$f":"ISBLANK(B146)","v":true},{"$f":"LEN(B146)","v":0},{"$f":"M146>1500","v":false},{"$f":"M146<500","v":true},{"$f":"N146+O146","v":1}]
[null,"2. Who will be the responsible partner for implementation and reporting of the activity?"]
[null,null,null,null,null,null,null,null,null,null,null,{"$f":"ISBLANK(B148)","v":true},{"$f":"LEN(B148)","v":0},{"$f":"M148>1500","v":false},{"$f":"M148<500","v":true},{"$f":"N148+O148","v":1}]
[null,"3. What methods / resources will be used for impementation of the activity? "]
[null,null,null,null,null,null,null,null,null,null,null,{"$f":"ISBLANK(B150)","v":true},{"$f":"LEN(B150)","v":0},{"$f":"M150>1500","v":false},{"$f":"M150<500","v":true},{"$f":"N150+O150","v":1}]
[null,"4. What will be the output(s) of the activity?"]
[null,null,null,null,null,null,null,null,null,null,null,{"$f":"ISBLANK(B152)","v":true},{"$f":"LEN(B152)","v":0},{"$f":"M152>1500","v":false},{"$f":"M152<500","v":true},{"$f":"N152+O152","v":1}]
[null,"Add new activity?"]
[]
[null,"Activity No",6]
[null,"Title of activity:"]
[null,"Location",null,null,null,null,"Outside eligible area:"]
[null,"1. Brief description of the activity:"]
[null,null,null,null,null,null,null,null,null,null,null,{"$f":"ISBLANK(B159)","v":true},{"$f":"LEN(B159)","v":0},{"$f":"M159>1500","v":false},{"$f":"M159<500","v":true},{"$f":"N159+O159","v":1}]
[null,"2. Who will be the responsible partner for implementation and reporting of the activity?"]
[null,null,null,null,null,null,null,null,null,null,null,{"$f":"ISBLANK(B161)","v":true},{"$f":"LEN(B161)","v":0},{"$f":"M161>1500","v":false},{"$f":"M161<500","v":true},{"$f":"N161+O161","v":1}]
[null,"3. What methods / resources will be used for impementation of the activity? "]
[null,null,null,null,null,null,null,null,null,null,null,{"$f":"ISBLANK(B163)","v":true},{"$f":"LEN(B163)","v":0},{"$f":"M163>1500","v":false},{"$f":"M163<500","v":true},{"$f":"N163+O163","v":1}]
[null,"4. What will be the output(s) of the activity?"]
[null,null,null,null,null,null,null,null,null,null,null,{"$f":"ISBLANK(B165)","v":true},{"$f":"LEN(B165)","v":0},{"$f":"M165>1500","v":false},{"$f":"M165<500","v":true},{"$f":"N165+O165","v":1}]
[null,"Add new activity?"]
[]
[null,"Activity No",7]
[null,"Title of activity:"]
[null,"Location",null,null,null,null,"Outside eligible area:"]
[null,"1. Brief description of the activity:"]
[null,null,null,null,null,null,null,null,null,null,null,{"$f":"ISBLANK(B172)","v":true},{"$f":"LEN(B172)","v":0},{"$f":"M172>1500","v":false},{"$f":"M172<500","v":true},{"$f":"N172+O172","v":1}]
[null,"2. Who will be the responsible partner for implementation and reporting of the activity?"]
[null,null,null,null,null,null,null,null,null,null,null,{"$f":"ISBLANK(B174)","v":true},{"$f":"LEN(B174)","v":0},{"$f":"M174>1500","v":false},{"$f":"M174<500","v":true},{"$f":"N174+O174","v":1}]
[null,"3. What methods / resources will be used for impementation of the activity? "]
[null,null,null,null,null,null,null,null,null,null,null,{"$f":"ISBLANK(B176)","v":true},{"$f":"LEN(B176)","v":0},{"$f":"M176>1500","v":false},{"$f":"M176<500","v":true},{"$f":"N176+O176","v":1}]
[null,"4. What will be the output(s) of the activity?"]
[]
[null,"Add new activity?"]
[]
[null,"Activity No",8]
[null,"Title of activity:"]
[null,"Location",null,null,null,null,"Outside eligible area:"]
[null,"1. Brief description of the activity:"]
[null,null,null,null,null,null,null,null,null,null,null,{"$f":"ISBLANK(B185)","v":true},{"$f":"LEN(B185)","v":0},{"$f":"M185>1500","v":false},{"$f":"M185<500","v":true},{"$f":"N185+O185","v":1}]
[null,"2. Who will be the responsible partner for implementation and reporting of the activity?"]
[null,null,null,null,null,null,null,null,null,null,null,{"$f":"ISBLANK(B187)","v":true},{"$f":"LEN(B187)","v":0},{"$f":"M187>1500","v":false},{"$f":"M187<500","v":true},{"$f":"N187+O187","v":1}]
[null,"3. What methods / resources will be used for impementation of the activity? "]
[null,null,null,null,null,null,null,null,null,null,null,{"$f":"ISBLANK(B189)","v":true},{"$f":"LEN(B189)","v":0},{"$f":"M189>1500","v":false},{"$f":"M189<500","v":true},{"$f":"N189+O189","v":1}]
[null,"4. What will be the output(s) of the activity?"]
[null,null,null,null,null,null,null,null,null,null,null,{"$f":"ISBLANK(B191)","v":true},{"$f":"LEN(B191)","v":0},{"$f":"M191>1500","v":false},{"$f":"M191<500","v":true},{"$f":"N191+O191","v":1}]
[null,"Add new activity?"]
[]
[null,"Activity No",9]
[null,"Title of activity:"]
[null,"Location",null,null,null,null,"Outside eligible area:"]
[null,"1. Brief description of the activity:"]
[null,null,null,null,null,null,null,null,null,null,null,{"$f":"ISBLANK(B198)","v":true},{"$f":"LEN(B198)","v":0},{"$f":"M198>1500","v":false},{"$f":"M198<500","v":true},{"$f":"N198+O198","v":1}]
[null,"2. Who will be the responsible partner for implementation and reporting of the activity?"]
[null,null,null,null,null,null,null,null,null,null,null,{"$f":"ISBLANK(B200)","v":true},{"$f":"LEN(B200)","v":0},{"$f":"M200>1500","v":false},{"$f":"M200<500","v":true},{"$f":"N200+O200","v":1}]
[null,"3. What methods / resources will be used for impementation of the activity? "]
[null,null,null,null,null,null,null,null,null,null,null,{"$f":"ISBLANK(B202)","v":true},{"$f":"LEN(B202)","v":0},{"$f":"M202>1500","v":false},{"$f":"M202<500","v":true},{"$f":"N202+O202","v":1}]
[null,"4. What will be the output(s) of the activity?"]
[null,null,null,null,null,null,null,null,null,null,null,{"$f":"ISBLANK(B204)","v":true},{"$f":"LEN(B204)","v":0},{"$f":"M204>1500","v":false},{"$f":"M204<500","v":true},{"$f":"N204+O204","v":1}]
[null,"Add new activity?"]
[]
[null,"Activity No",10]
[null,"Title of activity:"]
[null,"Location",null,null,null,null,"Outside eligible area:"]
[null,"1. Brief description of the activity:"]
[null,null,null,null,null,null,null,null,null,null,null,{"$f":"ISBLANK(B211)","v":true},{"$f":"LEN(B211)","v":0},{"$f":"M211>1500","v":false},{"$f":"M211<500","v":true},{"$f":"N211+O211","v":1}]
[null,"2. Who will be the responsible partner for implementation and reporting of the activity?"]
[null,null,null,null,null,null,null,null,null,null,null,{"$f":"ISBLANK(B213)","v":true},{"$f":"LEN(B213)","v":0},{"$f":"M213>1500","v":false},{"$f":"M213<500","v":true},{"$f":"N213+O213","v":1}]
[null,"3. What methods / resources will be used for impementation of the activity? "]
[null,null,null,null,null,null,null,null,null,null,null,{"$f":"ISBLANK(B215)","v":true},{"$f":"LEN(B215)","v":0},{"$f":"M215>1500","v":false},{"$f":"M215<500","v":true},{"$f":"N215+O215","v":1}]
[null,"4. What will be the output(s) of the activity?"]
[null,null,null,null,null,null,null,null,null,null,null,{"$f":"ISBLANK(B217)","v":true},{"$f":"LEN(B217)","v":0},{"$f":"M217>1500","v":false},{"$f":"M217<500","v":true},{"$f":"N217+O217","v":1}]
[null,"Add new activity?"]
[]
[null,"Activity No",11]
[null,"Title of activity:"]
[null,"Location",null,null,null,null,"Outside eligible area:"]
[null,"1. Brief description of the activity:"]
[null,null,null,null,null,null,null,null,null,null,null,{"$f":"ISBLANK(B224)","v":true},{"$f":"LEN(B224)","v":0},{"$f":"M224>1500","v":false},{"$f":"M224<500","v":true},{"$f":"N224+O224","v":1}]
[null,"2. Who will be the responsible partner for implementation and reporting of the activity?"]
[null,null,null,null,null,null,null,null,null,null,null,{"$f":"ISBLANK(B226)","v":true},{"$f":"LEN(B226)","v":0},{"$f":"M226>1500","v":false},{"$f":"M226<500","v":true},{"$f":"N226+O226","v":1}]
[null,"3. What methods / resources will be used for impementation of the activity? "]
[null,null,null,null,null,null,null,null,null,null,null,{"$f":"ISBLANK(B228)","v":true},{"$f":"LEN(B228)","v":0},{"$f":"M228>1500","v":false},{"$f":"M228<500","v":true},{"$f":"N228+O228","v":1}]
[null,"4. What will be the output(s) of the activity?"]
[null,null,null,null,null,null,null,null,null,null,null,{"$f":"ISBLANK(B230)","v":true},{"$f":"LEN(B230)","v":0},{"$f":"M230>1500","v":false},{"$f":"M230<500","v":true},{"$f":"N230+O230","v":1}]
[null,"Add new activity?"]
[]
[null,"Activity No",12]
[null,"Title of activity:"]
[null,"Location",null,null,null,null,"Outside eligible area:"]
[null,"1. Brief description of the activity:"]
[null,null,null,null,null,null,null,null,null,null,null,{"$f":"ISBLANK(B237)","v":true},{"$f":"LEN(B237)","v":0},{"$f":"M237>1500","v":false},{"$f":"M237<500","v":true},{"$f":"N237+O237","v":1}]
[null,"2. Who will be the responsible partner for implementation and reporting of the activity?"]
[null,null,null,null,null,null,null,null,null,null,null,{"$f":"ISBLANK(B239)","v":true},{"$f":"LEN(B239)","v":0},{"$f":"M239>1500","v":false},{"$f":"M239<500","v":true},{"$f":"N239+O239","v":1}]
[null,"3. What methods / resources will be used for impementation of the activity? "]
[null,null,null,null,null,null,null,null,null,null,null,{"$f":"ISBLANK(B241)","v":true},{"$f":"LEN(B241)","v":0},{"$f":"M241>1500","v":false},{"$f":"M241<500","v":true},{"$f":"N241+O241","v":1}]
[null,"4. What will be the output(s) of the activity?"]
[null,null,null,null,null,null,null,null,null,null,null,{"$f":"ISBLANK(B243)","v":true},{"$f":"LEN(B243)","v":0},{"$f":"M243>1500","v":false},{"$f":"M243<500","v":true},{"$f":"N243+O243","v":1}]
[null,"Add new activity?"]
[]
[null,"Activity No",13]
[null,"Title of activity:"]
[null,"Location",null,null,null,null,"Outside eligible area:"]
[null,"1. Brief description of the activity:"]
[null,null,null,null,null,null,null,null,null,null,null,{"$f":"ISBLANK(B250)","v":true},{"$f":"LEN(B250)","v":0},{"$f":"M250>1500","v":false},{"$f":"M250<500","v":true},{"$f":"N250+O250","v":1}]
[null,"2. Who will be the responsible partner for implementation and reporting of the activity?"]
[null,null,null,null,null,null,null,null,null,null,null,{"$f":"ISBLANK(B252)","v":true},{"$f":"LEN(B252)","v":0},{"$f":"M252>1500","v":false},{"$f":"M252<500","v":true},{"$f":"N252+O252","v":1}]
[null,"3. What methods / resources will be used for impementation of the activity? "]
[null,null,null,null,null,null,null,null,null,null,null,{"$f":"ISBLANK(B254)","v":true},{"$f":"LEN(B254)","v":0},{"$f":"M254>1500","v":false},{"$f":"M254<500","v":true},{"$f":"N254+O254","v":1}]
[null,"4. What will be the output(s) of the activity?"]
[null,null,null,null,null,null,null,null,null,null,null,{"$f":"ISBLANK(B256)","v":true},{"$f":"LEN(B256)","v":0},{"$f":"M256>1500","v":false},{"$f":"M256<500","v":true},{"$f":"N256+O256","v":1}]
[null,"Add new activity?"]
[]
[null,"Activity No",14]
[null,"Title of activity:"]
[null,"Location",null,null,null,null,"Outside eligible area:"]
[null,"1. Brief description of the activity:"]
[null,null,null,null,null,null,null,null,null,null,null,{"$f":"ISBLANK(B263)","v":true},{"$f":"LEN(B263)","v":0},{"$f":"M263>1500","v":false},{"$f":"M263<500","v":true},{"$f":"N263+O263","v":1}]
[null,"2. Who will be the responsible partner for implementation and reporting of the activity?"]
[null,null,null,null,null,null,null,null,null,null,null,{"$f":"ISBLANK(B265)","v":true},{"$f":"LEN(B265)","v":0},{"$f":"M265>1500","v":false},{"$f":"M265<500","v":true},{"$f":"N265+O265","v":1}]
[null,"3. What methods / resources will be used for impementation of the activity? "]
[]
[null,"4. What will be the output(s) of the activity?"]
[null,null,null,null,null,null,null,null,null,null,null,{"$f":"ISBLANK(B269)","v":true},{"$f":"LEN(B269)","v":0},{"$f":"M269>1500","v":false},{"$f":"M269<500","v":true},{"$f":"N269+O269","v":1}]
[null,"Add new activity?"]
[]
[null,"Activity No",15]
[null,"Title of activity:"]
[null,"Location",null,null,null,null,"Outside eligible area:"]
[null,"1. Brief description of the activity:"]
[null,null,null,null,null,null,null,null,null,null,null,{"$f":"ISBLANK(B276)","v":true},{"$f":"LEN(B276)","v":0},{"$f":"M276>1500","v":false},{"$f":"M276<500","v":true},{"$f":"N276+O276","v":1}]
[null,"2. Who will be the responsible partner for implementation and reporting of the activity?"]
[null,null,null,null,null,null,null,null,null,null,null,{"$f":"ISBLANK(B278)","v":true},{"$f":"LEN(B278)","v":0},{"$f":"M278>1500","v":false},{"$f":"M278<500","v":true},{"$f":"N278+O278","v":1}]
[null,"3. What methods / resources will be used for impementation of the activity? "]
[null,null,null,null,null,null,null,null,null,null,null,{"$f":"ISBLANK(B280)","v":true},{"$f":"LEN(B280)","v":0},{"$f":"M280>1500","v":false},{"$f":"M280<500","v":true},{"$f":"N280+O280","v":1}]
[null,"4. What will be the output(s) of the activity?"]
[null,null,null,null,null,null,null,null,null,null,null,{"$f":"ISBLANK(B282)","v":true},{"$f":"LEN(B282)","v":0},{"$f":"M282>1500","v":false},{"$f":"M282<500","v":true},{"$f":"N282+O282","v":1}]
[]
[]
[null,"3.6.Communication and visibility"]
[null,"3.6.1.Communication strategy ",null,null,null,null,null,null,null,null,null,null,null,"Check text size"]
[null,"Please summarize the communication and visibility activities that you foresee in your project proposal (max 1500 )"]
[null,null,null,null,null,null,null,null,null,null,null,{"$f":"LEN(B288)","v":0},{"$f":"NOT(ISBLANK(B288))","v":false},{"$f":"L288<1501","v":true},{"$f":"M288+N288","v":1}]
[]
[null,"3.6.2.Communication tools "]
[null,"Please describe what communication tools will be used to fulfill communication strategy ",null,null,null,null,null,null,null,null,null,null,null,"check if filled"]
[null,"Type of communication tools/materials",null,"Responsible partner",null,"Target groups",null,null,"Number of persons to be reached"]
[]
[]
[]
[null,"3.7. Duration and action plan:"]
[null,"Duration in trimesters",null,null,null,null,null,null,null,null,null,null,"Check boxes (change color)",null,null,{"$f":"ROUNDUP(C17/3,0)","v":0}]
[null,"Activity","1st","2nd","3rd","4th","5th","6th","7th","8th",null,null,null,null,null,{"$f":"1/P297","v":{"$error":"#DIV/0!"}},{"$f":"2/P297","v":{"$error":"#DIV/0!"}},{"$f":"3/P297","v":{"$error":"#DIV/0!"}},{"$f":"4/P297","v":{"$error":"#DIV/0!"}},{"$f":"5/P297","v":{"$error":"#DIV/0!"}},{"$f":"6/P297","v":{"$error":"#DIV/0!"}},{"$f":"7/P297","v":{"$error":"#DIV/0!"}},{"$f":"8/P297","v":{"$error":"#DIV/0!"}}]
[null,{"$f":"IF(C90=\"\",\"\",C90)","v":""},null,null,null,null,null,null,null,null,null,null,{"$f":"O299+Y299","v":1},null,{"$f":"B299<>\"\"","v":false},{"$f":"ISBLANK(C299)","v":true},{"$f":"ISBLANK(D299)","v":true},true,{"$f":"ISBLANK(G299)","v":true},{"$f":"ISBLANK(#REF!)","v":false},true,true,{"$f":"ISBLANK(J299)","v":true},{"$f":"P299+Q299+R299+S299+T299+U299+V299+W299","v":7},{"$f":"X299<8","v":true}]
[null,{"$f":"IF(C104=\"\",\"\",C104)","v":""},null,null,null,null,null,null,null,null,null,null,{"$f":"O300+Y300","v":0},"x",{"$f":"ISBLANK(B300)","v":false},{"$f":"ISBLANK(C300)","v":true},{"$f":"ISBLANK(D300)","v":true},{"$f":"ISBLANK(E300)","v":true},{"$f":"ISBLANK(F300)","v":true},{"$f":"ISBLANK(G300)","v":true},{"$f":"ISBLANK(H300)","v":true},{"$f":"ISBLANK(I300)","v":true},{"$f":"ISBLANK(J300)","v":true},{"$f":"P300+Q300+R300+S300+T300+U300+V300+W300","v":8},{"$f":"X300<8","v":false}]
[null,{"$f":"IF(C117=\"\",\"\",C117)","v":""},null,null,null,null,null,null,null,null,null,null,0,null,false,true,true,true,true,true,true,true,true,{"$f":"P301+Q301+R301+S301+T301+U301+V301+W301","v":8},false]
[null,{"$f":"IF(C130=\"\",\"\",C130)","v":""},null,null,null,null,null,null,null,null,null,null,0,null,false,true,true,true,true,true,true,true,true,{"$f":"P302+Q302+R302+S302+T302+U302+V302+W302","v":8},false]
[null,{"$f":"IF(C143=\"\",\"\",C143)","v":""},null,null,null,null,null,null,null,null,null,null,0,null,false,true,true,true,true,true,true,true,true,{"$f":"P303+Q303+R303+S303+T303+U303+V303+W303","v":8},false]
[null,{"$f":"IF(C156=\"\",\"\",C156)","v":""},null,null,null,null,null,null,null,null,null,null,0,null,false,true,true,true,true,true,true,true,true,8,false]
[null,{"$f":"IF(C169=\"\",\"\",C169)","v":""},null,null,null,null,null,null,null,null,null,null,0,null,false,true,true,true,true,true,true,true,true,8,false]
[null,{"$f":"IF(C182=\"\",\"\",C182)","v":""},null,null,null,null,null,null,null,null,null,null,0,null,false,true,true,true,true,true,true,true,true,8,false]
[null,{"$f":"IF(C195=\"\",\"\",C195)","v":""},null,null,null,null,null,null,null,null,null,null,0,null,false,true,true,true,true,true,true,true,true,8,false]
[null,{"$f":"IF(C208=\"\",\"\",C208)","v":""},null,null,null,null,null,null,null,null,null,null,0,null,false,true,true,true,true,true,true,true,true,8,false]
[null,{"$f":"IF(C221=\"\",\"\",C221)","v":""},null,null,null,null,null,null,null,null,null,null,0,null,false,true,true,true,true,true,true,true,true,8,false]
[null,{"$f":"IF(C234=\"\",\"\",C234)","v":""},null,null,null,null,null,null,null,null,null,null,0,null,false,true,true,true,true,true,true,true,true,8,false]
[null,{"$f":"IF(C247=\"\",\"\",C247)","v":""},null,null,null,null,null,null,null,null,null,null,0,null,false,true,true,true,true,true,true,true,true,8,false]
[null,{"$f":"IF(C260=\"\",\"\",C260)","v":""},null,null,null,null,null,null,null,null,null,null,0,null,false,true,true,true,true,true,true,true,true,8,false]
[null,{"$f":"IF(C273=\"\",\"\",C273)","v":""},null,null,null,null,null,null,null,null,null,null,{"$f":"O313+Y313","v":0},null,{"$f":"ISBLANK(B313)","v":false},{"$f":"ISBLANK(C313)","v":true},{"$f":"ISBLANK(D313)","v":true},{"$f":"ISBLANK(E313)","v":true},{"$f":"ISBLANK(F313)","v":true},{"$f":"ISBLANK(G313)","v":true},{"$f":"ISBLANK(H313)","v":true},{"$f":"ISBLANK(I313)","v":true},{"$f":"ISBLANK(J313)","v":true},{"$f":"P313+Q313+R313+S313+T313+U313+V313+W313","v":8},{"$f":"X313<8","v":false}]
[]
[]
[null,"4. Management of the project and reporting "]
[null,"Please briefly describe (maximum 1200 characters):"]
[null,"- The reponsibilities of each project partner in view of the overall project implementation and reporting;"]
[null,"- The structure of the project team (both Bulgarian and Macedonian members); ",null,null,null,null,null,null,null,null,null,null,null,"text size check"]
[null,"- The reponsibilities of each member of the project team;"]
[null,null,null,null,null,null,null,null,null,null,null,{"$f":"LEN(B321)","v":0},{"$f":"NOT(ISBLANK(B321))","v":false},{"$f":"L321<1201","v":true},{"$f":"M321+N321","v":1}]
[]
[null,"5. Monitoring of the project ",null,null,null,null,null,null,null,null,null,null,null,null,null,null,null,"SO1.1"]
[null,"5.1. Expected outputs",null,null,null,null,null,null,null,null,null,null,null,null,null,null,null,"SO1.2"]
[null,"Please specify to which of the programme output indicators the project contributes:",null,null,null,null,null,null,null,null,null,null,null,null,null,null,null,"SO2.1"]
[null,"Only indicators relevant to the speciffic objective under which the project applies should be quantified and justified!",null,null,null,null,null,null,null,null,null,null,null,{"$f":"M11","v":3},{"$f":"M13","v":"1.1"},{"$f":"IF(N326=2,O326-1,IF(N326=3,3,1))","v":3},{"$f":"O326","v":"1.1"},"SO2.2"]
[null,null,null,null,null,null,null,null,null,null,null,null,null,null,null,null,null,"SO2.3"]
[null,"Ouput indicator","Quantity",null,"Justification",null,null,null,null,null,null,null,null,"1.1.1. Number of supported investments for improving the environmental conditions in the programme region","1.2.1 Supported investments for improving disaster management and risk prevention","2.1.1. Number of cultural and historical touristic sites reconstructed / restored / covered by conservation and protection actions","2.2.1.Number of joint touristic products, services, brands, thematic routes","2.3.1 Number of cross-border networks established or strengthened in the field of sustainable tourism","3.1.1 Supported joint start-up and self-employment initiatives"]
[null,null,null,null,null,null,null,null,null,null,null,null,null,"1.1.2. Number of nature protected areas addressed by supported interventions","1.2.2 Supported investments for adaptation and mitigation of climate change consequences","2.1.2 Length of new or reconstructed or upgraded access roads to natural, cultural and historic tourism sites, cycling routes and walking paths","2.2.2 Number of actions, tools and initiatives developed and/or implemented for promotion of sustainable tourism potential of the eligible border area","2.3.2 Number of cultural events held for promoting the region’s cultural identity","3.1.2 Number of participants (split into men and women) in supported training and qualification initiatives",null,{"$f":"ISBLANK(B329)","v":true},{"$f":"ISBLANK(C329)","v":true},{"$f":"ISBLANK(E329)","v":true},{"$f":"U329+V329+W329","v":3},{"$f":"IF(X329=0,TRUE,FALSE)","v":false}]
[null,null,null,null,null,null,null,null,null,null,null,null,null,"1.1.3 Number of supported joint mechanisms for environmental protection, promotion of biodiversity and sustainable use of natural resources","1.2.3 Supported joint mechanisms for disaster management and risk prevention and for promotion of climate change awareness","2.1.3 Number of newly built or reconstructed or upgraded tourist related facilities and attractions","2.2.3 Number of participants in joint training and qualification initiatives in the field of sustainable tourism","2.3.3 Number of participants in youth initiatives","3.1.3 Number of enterprises receiving non-financial support",null,{"$f":"ISBLANK(B330)","v":true},{"$f":"ISBLANK(C330)","v":true},{"$f":"ISBLANK(E330)","v":true},{"$f":"U330+V330+W330","v":3},{"$f":"IF(X330=0,TRUE,FALSE)","v":false}]
[null,null,null,null,null,null,null,null,null,null,null,null,null,"1.1.4 Number of institutions/organizations involved in environmental related activities","1.2.4 Number of institutions/organizations involved in initiatives related to risk prevention and management","2.1.4 Number of created/reconstructed facilities for disabled people for access to or in the supported touristic sites",null,null,"3.1.4 Supported initiatives for economic development and investment promotion",null,true,true,true,3,false]
[null,null,null,null,null,null,null,null,null,null,null,null,null,"1.1.5 Number of participants in environmental related trainings and campaigns","1.2.5 Number of participants in trainings and campaigns in the field of risk prevention, (including marginalized communities and other vulnerable groups)",null,null,null,"3.1.5 Number of cooperation networks",null,true,true,true,3,false]
[null,null,null,null,null,null,null,null,null,null,null,null,null,null,"1.2.6 Population benefiting from flood protection measures",null,null,null,null,null,true,true,true,3,false]
[null,null,null,null,null,null,null,null,null,null,null,null,null,"1.2.1 Supported investments for improving disaster management and risk prevention","1.2.7 Population benefiting from forest fire protection measures",null,null,null,"2.1.1. Number of cultural and historical touristic sites reconstructed / restored / covered by conservation and protection actions",null,true,true,true,3,false]
[null,null,null,null,null,null,null,null,null,null,null,null,null,"1.2.1 Supported investments for improving disaster management and risk prevention","1.2.7 Population benefiting from forest fire protection measures",null,null,null,"2.1.1. Number of cultural and historical touristic sites reconstructed / restored / covered by conservation and protection actions",null,true,true,true,3,false]
[]
[]
[null,"5.2. Multiplier effect"]
[null,"Please describe the possibilities for further development of the project idea in a subsequent project (maximum 1200 characters)"]
[null,null,null,null,null,null,null,null,null,null,null,{"$f":"LEN(B340)","v":0},{"$f":"NOT(ISBLANK(B340))","v":false},{"$f":"L340<1201","v":true},{"$f":"M340+N340","v":1}]
[]
[]
[null,"5.3. Sustainability"]
[null,"Please describe how you intend to maintain the sustainability of the project results  after the end of the project(5 (five) years for investment project and 2 (two) years for soft  measure). Which activities will be continued, in which way and who will be the responsible partner? (maximum 2000 characters)."]
[null,null,null,null,null,null,null,null,null,null,null,{"$f":"LEN(B345)","v":0},{"$f":"NOT(ISBLANK(B345))","v":false},{"$f":"L345<2001","v":true},{"$f":"M345+N345","v":1}]
[]
[]
[]
[null,"6. Project coherence with:"]
[null,"6.1. Other strategies"]
[null,"Please describe how your project proposal fits the larger European Union strategies concerning territorial cooperation (please consult the Programme document, Section 1, for a list of relevant policy frameworks and strategies)."]
[null,"Please indicate the potential synergy of the project with other initiatives/ programmes/ strategies at national level. (Maximum 1500 characters)"]
[null,null,null,null,null,null,null,null,null,null,null,{"$f":"LEN(B353)","v":0},{"$f":"NOT(ISBLANK(B353))","v":false},{"$f":"L353<1501","v":true},{"$f":"M353+N353","v":1}]
[]
[]
[null,"6.2. Other projects "]
[null,"If your project proposal is part of a bigger project or connected to another project(s), please indicate in which way. (Maximum 1200 characters)"]
[null,null,null,null,null,null,null,null,null,null,null,{"$f":"LEN(B358)","v":0},{"$f":"NOT(ISBLANK(B358))","v":false},{"$f":"L358<1201","v":true},{"$f":"M358+N358","v":1}]
[]
[]
[null,"6.3. Horizontal themes"]
[null,"Please indicate which type of the following horizontal themes applies to your project and justify (maximum 500 characters for each field):"]
[null,"Sustainable development",null,null,null,null,null,null,null,null,null,{"$f":"ISBLANK(D363)","v":true}]
[null,"Equal opportunities and non-discrimination",null,null,null,null,null,null,null,null,null,{"$f":"ISBLANK(D364)","v":true}]
[null,"Equality between men and women ",null,null,null,null,null,null,null,null,null,true,{"$f":"L365+L364+L363","v":3}]

{"sheet":"T1-PPs","index":9,"n_rows":11,"n_cols":8,"rows_kept":11,"cut":false,"hidden":false,"merged":[]}
[]
[null,"TABLE 1 - TOTAL BUDGET PER PROJECT PARTNERS"]
[]
[]
[null,"PROJECT PARTNERS","Organization","Country","Total financial contribution (sum of EU and national co-financing)  in EUR"]
[null,"PP1 LP",{"$f":"IF(Cover!C36=\"\",\"\",Cover!C36)","v":""},{"$f":"IF(H6=1,\"BG\",IF(H6=2,\"MK\",\"\"))","v":"MK"},{"$f":"'T2-B(PP1)'!J249","v":0},null,null,{"$f":"'PP1(LP)'!K14","v":2}]
[null,"PP2",{"$f":"IF('PP2'!$C$7=\"\",\"\",'PP2'!$C$7)","v":""},{"$f":"IF(H7=1,\"BG\",IF(H7=2,\"MK\",\"\"))","v":"BG"},{"$f":"'T2-B(PP2)'!J249","v":0},null,null,{"$f":"'PP2'!K14","v":1}]
[null,"PP3",{"$f":"IF('PP3'!$C$7=\"\",\"\",'PP3'!$C$7)","v":""},"MK",{"$f":"'T2-B(PP3)'!J249","v":0},null,null,{"$f":"'PP3'!K14","v":2}]
[null,"PP4",{"$f":"IF('PP4'!$C$7=\"\",\"\",'PP4'!$C$7)","v":""},"MK",{"$f":"'T2-B(PP4)'!J249","v":0},null,null,{"$f":"'PP4'!K14","v":2}]
[null,"PP5",{"$f":"IF('PP5'!$C$7=\"\",\"\",'PP5'!$C$7)","v":""},"MK",{"$f":"'T2-B(PP5)'!J249","v":0},null,null,{"$f":"'PP5'!K14","v":2}]
[null,"Total",null,null,{"$f":"SUM(E6:E10)","v":0}]

{"sheet":"T2-B(PP1)","index":10,"n_rows":250,"n_cols":18,"rows_kept":250,"cut":false,"hidden":false,"merged":[[233,9,234,9],[245,1,245,4],[245,6,245,7],[207,6,207,8],[248,1,248,4],[248,6,248,8],[231,1,231,4],[231,6,231,7],[247,1,247,4],[233,1,234,1],[233,2,234,2],[233,3,233,5],[233,6,233,8],[207,9,208,9],[247,6,247,8],[12,9,13,9],[49,1,50,1],[49,2,50,2],[207,2,208,2],[49,9,50,9],[12,1,13,1],[12,2,13,2],[12,3,12,5],[12,6,12,8],[49,3,49,5],[49,6,49,8],[205,1,205,4],[205,6,205,7],[207,3,207,5],[207,1,208,1],[10,8,10,9],[7,6,7,7],[8,6,8,7],[9,1,9,5],[9,6,9,7],[9,8,9,9],[7,1,8,5],[7,8,8,9],[10,1,10,7],[5,8,5,9],[4,1,4,5],[3,6,3,7],[4,6,4,7],[4,8,4,9],[2,1,3,5],[2,8,3,9],[2,6,2,7],[5,1,5,7]]}
[null,"TABLE 2 - DETAILED BREAKDOWN OF BUDGET LINES - PP1/LB",null,null,null,null,null,null,null,null,null,null,null,null,null,null,null,true]
[null,null,null,null,null,null,null,null,null,null,null,null,null,null,null,null,null,true]
[null,"BL1 - STAFF COSTS",null,null,null,null,"Flat rate",null,"TOTAL",null,null,null,null,null,null,null,null,true]
[null,null,null,null,null,null,"%",null,null,null,null,null,{"$f":"CONCATENATE('Project identification'!C15,\" project\")","v":"0 project"},null,null,null,10,true]
[null,{"$f":"M4","v":"0 project"},null,null,null,null,null,null,{"$f":"G5*J248/100","v":0},null,null,null,null,null,{"$f":"IF(M7=\"Soft\",15,10)","v":10},null,15,true]
[null,"TOTAL",null,null,null,null,null,null,{"$f":"I5","v":0},null,null,null,null,null,null,null,null,true]
[null,null,null,null,null,null,null,null,null,null,null,null,{"$f":"'Project identification'!C15","v":0},null,null,null,null,true]
[null,"BL2 - OFFICE AND ADMINISTRATIVE COSTS",null,null,null,null,"Flat rate",null,"TOTAL",null,null,null,null,null,null,null,null,true]
[null,null,null,null,null,null,"%",null,null,null,null,null,null,null,null,null,2,true]
[null,{"$f":"M4","v":"0 project"},null,null,null,null,null,null,{"$f":"G10*I5/100","v":0},null,null,null,null,null,{"$f":"IF(M7=\"Soft\",5,2)","v":2},null,5,true]
[null,"TOTAL",null,null,null,null,null,null,{"$f":"I10","v":0},null,null,null,null,null,null,null,null,true]
[null,null,null,null,null,null,null,null,null,null,null,null,null,null,null,null,null,true]
[null,"BL3 - TRAVEL AND ACCOMMODATION","Unit","Expenditures in the eligible area",null,null,"Expenditures outside of the eligible area",null,null,"TOTAL",null,null,null,null,null,null,null,true]
[null,null,null,"Units","Unit rate","TOTAL","Units","Unit rate","TOTAL",null,null,null,null,null,null,null,null,true]
[null,"3.1 Travel costs",null,null,null,{"$f":"SUM(F16:F25)","v":0},null,null,{"$f":"SUM(I16:I25)","v":0},{"$f":"SUM(J16:J25)","v":0},null,null,null,null,null,null,null,true]
[null,null,null,null,null,{"$f":"ROUND(D16*E16,2)","v":0},null,null,{"$f":"ROUND(G16*H16,2)","v":0},{"$f":"F16+I16","v":0},null,null,{"$f":"ISBLANK(B16)","v":true},{"$f":"ISBLANK(C16)","v":true},true,true,{"$f":"M16+N16+O16+P16","v":4},{"$f":"IF(Q16=0,TRUE,FALSE)","v":false}]
[null,null,null,null,null,{"$f":"ROUND(D17*E17,2)","v":0},null,null,0,{"$f":"F17+I17","v":0},null,null,{"$f":"ISBLANK(B17)","v":true},{"$f":"ISBLANK(C17)","v":true},{"$f":"ISBLANK(D17)","v":true},{"$f":"ISBLANK(E17)","v":true},{"$f":"M17+N17+O17+P17","v":4},{"$f":"IF(Q17=0,TRUE,FALSE)","v":false}]
[null,null,null,null,null,0,null,null,0,0,null,null,true,true,true,true,4,false]
[null,null,null,null,null,0,null,null,0,0,null,null,true,true,true,true,4,false]
[null,null,null,null,null,0,null,null,0,0,null,null,true,true,true,true,4,false]
[null,null,null,null,null,0,null,null,0,0,null,null,true,true,true,true,4,false]
[null,null,null,null,null,0,null,null,0,0,null,null,true,true,true,true,4,false]
[null,null,null,null,null,0,null,null,0,0,null,null,true,true,true,true,4,false]
[null,null,null,null,null,0,null,null,0,0,null,null,true,true,true,true,4,false]
[null,null,null,null,null,0,null,null,0,0,null,null,null,null,null,null,null,true]
[null,"3.2 Daily allowances",null,null,null,{"$f":"SUM(F27:F36)","v":0},null,null,{"$f":"SUM(I27:I36)","v":0},{"$f":"SUM(J27:J36)","v":0},null,null,null,null,null,null,null,true]
[null,null,null,null,null,{"$f":"ROUND(D27*E27,2)","v":0},null,null,{"$f":"ROUND(G27*H27,2)","v":0},{"$f":"F27+I27","v":0},null,null,{"$f":"ISBLANK(B27)","v":true},{"$f":"ISBLANK(C27)","v":true},{"$f":"ISBLANK(D27)","v":true},{"$f":"ISBLANK(E27)","v":true},{"$f":"M27+N27+O27+P27","v":4},{"$f":"IF(Q27=0,TRUE,FALSE)","v":false}]
[null,null,null,null,null,{"$f":"ROUND(D28*E28,2)","v":0},null,null,0,{"$f":"F28+I28","v":0},null,null,{"$f":"ISBLANK(B28)","v":true},true,true,true,{"$f":"M28+N28+O28+P28","v":4},{"$f":"IF(Q28=0,TRUE,FALSE)","v":false}]
[null,null,null,null,null,0,null,null,0,0,null,null,true,true,true,true,4,false]
[null,null,null,null,null,0,null,null,0,0,null,null,true,true,true,true,4,false]
[null,null,null,null,null,0,null,null,0,0,null,null,true,true,true,true,4,false]
[null,null,null,null,null,0,null,null,0,0,null,null,true,true,true,true,4,false]
[null,null,null,null,null,0,null,null,0,0,null,null,true,true,true,true,4,false]
[null,null,null,null,null,0,null,null,0,0,null,null,true,true,true,true,4,false]
[null,null,null,null,null,0,null,null,0,0,null,null,true,true,true,true,4,false]
[null,null,null,null,null,0,null,null,0,0,null,null,null,null,null,null,null,true]
[null,"3.3 Accommodation costs",null,null,null,{"$f":"SUM(F38:F47)","v":0},null,null,{"$f":"SUM(I38:I47)","v":0},{"$f":"SUM(J38:J47)","v":0},null,null,null,null,null,null,null,true]
[null,null,null,null,null,{"$f":"ROUND(D38*E38,2)","v":0},null,null,{"$f":"ROUND(G38*H38,2)","v":0},{"$f":"F38+I38","v":0},null,null,{"$f":"ISBLANK(B38)","v":true},{"$f":"ISBLANK(C38)","v":true},{"$f":"ISBLANK(D38)","v":true},{"$f":"ISBLANK(E38)","v":true},{"$f":"M38+N38+O38+P38","v":4},{"$f":"IF(Q38=0,TRUE,FALSE)","v":false}]
[null,null,null,null,null,{"$f":"ROUND(D39*E39,2)","v":0},null,null,0,{"$f":"F39+I39","v":0},null,null,{"$f":"ISBLANK(B39)","v":true},true,true,true,{"$f":"M39+N39+O39+P39","v":4},{"$f":"IF(Q39=0,TRUE,FALSE)","v":false}]
[null,null,null,null,null,0,null,null,0,0,null,null,true,true,true,true,4,false]
[null,null,null,null,null,0,null,null,0,0,null,null,true,true,true,true,4,false]
[null,null,null,null,null,0,null,null,0,0,null,null,true,true,true,true,4,false]
[null,null,null,null,null,0,null,null,0,0,null,null,true,true,true,true,4,false]
[null,null,null,null,null,0,null,null,0,0,null,null,true,true,true,true,4,false]
[null,null,null,null,null,0,null,null,0,0,null,null,true,true,true,true,4,false]
[null,null,null,null,null,0,null,null,0,0,null,null,true,true,true,true,4,false]
[null,null,null,null,null,0,null,null,0,0,null,null,null,null,null,null,null,true]
[null,"TOTAL",null,null,null,{"$f":"F37+F26+F15","v":0},null,null,{"$f":"I37+I26+I15","v":0},{"$f":"J37+J26+J15","v":0},null,null,null,null,null,null,null,true]
[null,null,null,null,null,null,null,null,null,null,null,null,null,null,null,null,null,true]
[null,"BL4 - EXTERNAL EXPERTISE AND SERVICES COSTS","Unit","Expenditures in the eligible area",null,null,"Expenditures outside of the eligible area",null,null,"TOTAL",null,null,null,null,null,null,null,true]
[null,null,null,"Units","Unit rate","TOTAL","Units","Unit rate","TOTAL",null,null,null,null,null,null,null,null,true]
[null,"4.1 Rent of hall",null,null,null,{"$f":"SUM(F53:F62)","v":0},null,null,{"$f":"SUM(I53:I62)","v":0},{"$f":"SUM(J53:J62)","v":0},null,null,null,null,null,null,null,true]
[null,null,null,null,null,{"$f":"ROUND(D53*E53,2)","v":0},null,null,{"$f":"ROUND(G53*H53,2)","v":0},{"$f":"F53+I53","v":0},null,null,{"$f":"ISBLANK(B53)","v":true},{"$f":"ISBLANK(C53)","v":true},{"$f":"ISBLANK(D53)","v":true},{"$f":"ISBLANK(E53)","v":true},{"$f":"M53+N53+O53+P53","v":4},{"$f":"IF(Q53=0,TRUE,FALSE)","v":false}]
[null,null,null,null,null,{"$f":"ROUND(D54*E54,2)","v":0},null,null,0,{"$f":"F54+I54","v":0},null,null,{"$f":"ISBLANK(B54)","v":true},true,true,true,{"$f":"M54+N54+O54+P54","v":4},{"$f":"IF(Q54=0,TRUE,FALSE)","v":false}]
[null,null,null,null,null,0,null,null,0,0,null,null,true,true,true,true,4,false]
[null,null,null,null,null,0,null,null,0,0,null,null,true,true,true,true,4,false]
[null,null,null,null,null,0,null,null,0,0,null,null,true,true,true,true,4,false]
[null,null,null,null,null,0,null,null,0,0,null,null,true,true,true,true,4,false]
[null,null,null,null,null,0,null,null,0,0,null,null,true,true,true,true,4,false]
[null,null,null,null,null,0,null,null,0,0,null,null,true,true,true,true,4,false]
[null,null,null,null,null,0,null,null,0,0,null,null,true,true,true,true,4,false]
[null,null,null,null,null,0,null,null,0,0,null,null,null,null,null,null,null,true]
[null,"4.2 Rent of equipment",null,null,null,{"$f":"SUM(F64:F73)","v":0},null,null,{"$f":"SUM(I64:I73)","v":0},{"$f":"SUM(J64:J73)","v":0},null,null,null,null,null,null,null,true]
[null,null,null,null,null,{"$f":"ROUND(D64*E64,2)","v":0},null,null,{"$f":"ROUND(G64*H64,2)","v":0},{"$f":"F64+I64","v":0},null,null,{"$f":"ISBLANK(B64)","v":true},{"$f":"ISBLANK(C64)","v":true},{"$f":"ISBLANK(D64)","v":true},{"$f":"ISBLANK(E64)","v":true},{"$f":"M64+N64+O64+P64","v":4},{"$f":"IF(Q64=0,TRUE,FALSE)","v":false}]
[null,null,null,null,null,{"$f":"ROUND(D65*E65,2)","v":0},null,null,0,{"$f":"F65+I65","v":0},null,null,{"$f":"ISBLANK(B65)","v":true},true,true,true,{"$f":"M65+N65+O65+P65","v":4},{"$f":"IF(Q65=0,TRUE,FALSE)","v":false}]
[null,null,null,null,null,0,null,null,0,0,null,null,true,true,true,true,4,false]
[null,null,null,null,null,0,null,null,0,0,null,null,true,true,true,true,4,false]
[null,null,null,null,null,0,null,null,0,0,null,null,true,true,true,true,4,false]
[null,null,null,null,null,0,null,null,0,0,null,null,true,true,true,true,4,false]
[null,null,null,null,null,0,null,null,0,0,null,null,true,true,true,true,4,false]
[null,null,null,null,null,0,null,null,0,0,null,null,true,true,true,true,4,false]
[null,null,null,null,null,0,null,null,0,0,null,null,true,true,true,true,4,false]
[null,null,null,null,null,0,null,null,0,0,null,null,null,null,null,null,null,true]
[null,"4.3 Coffee breaks …..",null,null,null,{"$f":"SUM(F75:F84)","v":0},null,null,{"$f":"SUM(I75:I84)","v":0},{"$f":"SUM(J75:J84)","v":0},null,null,null,null,null,null,null,true]
[null,null,null,null,null,{"$f":"ROUND(D75*E75,2)","v":0},null,null,{"$f":"ROUND(G75*H75,2)","v":0},{"$f":"F75+I75","v":0},null,null,{"$f":"ISBLANK(B75)","v":true},{"$f":"ISBLANK(C75)","v":true},{"$f":"ISBLANK(D75)","v":true},{"$f":"ISBLANK(E75)","v":true},{"$f":"M75+N75+O75+P75","v":4},{"$f":"IF(Q75=0,TRUE,FALSE)","v":false}]
[null,null,null,null,null,{"$f":"ROUND(D76*E76,2)","v":0},null,null,0,{"$f":"F76+I76","v":0},null,null,{"$f":"ISBLANK(B76)","v":true},true,true,true,{"$f":"M76+N76+O76+P76","v":4},{"$f":"IF(Q76=0,TRUE,FALSE)","v":false}]
[null,null,null,null,null,0,null,null,0,0,null,null,true,true,true,true,4,false]
[null,null,null,null,null,0,null,null,0,0,null,null,true,true,true,true,4,false]
[null,null,null,null,null,0,null,null,0,0,null,null,true,true,true,true,4,false]
[null,null,null,null,null,0,null,null,0,0,null,null,true,true,true,true,4,false]
[null,null,null,null,null,0,null,null,0,0,null,null,true,true,true,true,4,false]
[null,null,null,null,null,0,null,null,0,0,null,null,true,true,true,true,4,false]
[null,null,null,null,null,0,null,null,0,0,null,null,true,true,true,true,4,false]
[null,null,null,null,null,0,null,null,0,0,null,null,null,null,null,null,null,true]
[null,"4.4 Preparation of materials",null,null,null,{"$f":"SUM(F86:F95)","v":0},null,null,{"$f":"SUM(I86:I95)","v":0},{"$f":"SUM(J86:J95)","v":0},null,null,null,null,null,null,null,true]
[null,null,null,null,null,{"$f":"ROUND(D86*E86,2)","v":0},null,null,{"$f":"ROUND(G86*H86,2)","v":0},{"$f":"F86+I86","v":0},null,null,{"$f":"ISBLANK(B86)","v":true},{"$f":"ISBLANK(C86)","v":true},{"$f":"ISBLANK(D86)","v":true},{"$f":"ISBLANK(E86)","v":true},{"$f":"M86+N86+O86+P86","v":4},{"$f":"IF(Q86=0,TRUE,FALSE)","v":false}]
[null,null,null,null,null,{"$f":"ROUND(D87*E87,2)","v":0},null,null,0,{"$f":"F87+I87","v":0},null,null,{"$f":"ISBLANK(B87)","v":true},true,true,true,{"$f":"M87+N87+O87+P87","v":4},{"$f":"IF(Q87=0,TRUE,FALSE)","v":false}]
[null,null,null,null,null,0,null,null,0,0,null,null,true,true,true,true,4,false]
[null,null,null,null,null,0,null,null,0,0,null,null,true,true,true,true,4,false]
[null,null,null,null,null,0,null,null,0,0,null,null,true,true,true,true,4,false]
[null,null,null,null,null,0,null,null,0,0,null,null,true,true,true,true,4,false]
[null,null,null,null,null,0,null,null,0,0,null,null,true,true,true,true,4,false]
[null,null,null,null,null,0,null,null,0,0,null,null,true,true,true,true,4,false]
[null,null,null,null,null,0,null,null,0,0,null,null,true,true,true,true,4,false]
[null,null,null,null,null,0,null,null,0,0,null,null,null,null,null,null,null,true]
[null,"4.5 Consumables",null,null,null,{"$f":"SUM(F97:F106)","v":0},null,null,{"$f":"SUM(I97:I106)","v":0},{"$f":"SUM(J97:J106)","v":0},null,null,null,null,null,null,null,true]
[null,null,null,null,null,{"$f":"ROUND(D97*E97,2)","v":0},null,null,{"$f":"ROUND(G97*H97,2)","v":0},{"$f":"F97+I97","v":0},null,null,{"$f":"ISBLANK(B97)","v":true},{"$f":"ISBLANK(C97)","v":true},{"$f":"ISBLANK(D97)","v":true},{"$f":"ISBLANK(E97)","v":true},{"$f":"M97+N97+O97+P97","v":4},{"$f":"IF(Q97=0,TRUE,FALSE)","v":false}]
[null,null,null,null,null,{"$f":"ROUND(D98*E98,2)","v":0},null,null,0,{"$f":"F98+I98","v":0},null,null,{"$f":"ISBLANK(B98)","v":true},true,true,true,{"$f":"M98+N98+O98+P98","v":4},{"$f":"IF(Q98=0,TRUE,FALSE)","v":false}]
[null,null,null,null,null,0,null,null,0,0,null,null,true,true,true,true,4,false]
[null,null,null,null,null,0,null,null,0,0,null,null,true,true,true,true,4,false]
[null,null,null,null,null,0,null,null,0,0,null,null,true,true,true,true,4,false]
[null,null,null,null,null,0,null,null,0,0,null,null,true,true,true,true,4,false]
[null,null,null,null,null,0,null,null,0,0,null,null,true,true,true,true,4,false]
[null,null,null,null,null,0,null,null,0,0,null,null,true,true,true,true,4,false]
[null,null,null,null,null,0,null,null,0,0,null,null,true,true,true,true,4,false]
[null,null,null,null,null,0,null,null,0,0,null,null,null,null,null,null,null,true]
[null,"4.6 Rent of vehicle for event",null,null,null,{"$f":"SUM(F108:F117)","v":0},null,null,{"$f":"SUM(I108:I117)","v":0},{"$f":"SUM(J108:J117)","v":0},null,null,null,null,null,null,null,true]
[null,null,null,null,null,{"$f":"ROUND(D108*E108,2)","v":0},null,null,{"$f":"ROUND(G108*H108,2)","v":0},{"$f":"F108+I108","v":0},null,null,{"$f":"ISBLANK(B108)","v":true},{"$f":"ISBLANK(C108)","v":true},{"$f":"ISBLANK(D108)","v":true},{"$f":"ISBLANK(E108)","v":true},{"$f":"M108+N108+O108+P108","v":4},{"$f":"IF(Q108=0,TRUE,FALSE)","v":false}]
[null,null,null,null,null,{"$f":"ROUND(D109*E109,2)","v":0},null,null,0,{"$f":"F109+I109","v":0},null,null,{"$f":"ISBLANK(B109)","v":true},true,true,true,{"$f":"M109+N109+O109+P109","v":4},{"$f":"IF(Q109=0,TRUE,FALSE)","v":false}]
[null,null,null,null,null,0,null,null,0,0,null,null,true,true,true,true,4,false]
[null,null,null,null,null,0,null,null,0,0,null,null,true,true,true,true,4,false]
[null,null,null,null,null,0,null,null,0,0,null,null,true,true,true,true,4,false]
[null,null,null,null,null,0,null,null,0,0,null,null,true,true,true,true,4,false]
[null,null,null,null,null,0,null,null,0,0,null,null,true,true,true,true,4,false]
[null,null,null,null,null,0,null,null,0,0,null,null,true,true,true,true,4,false]
[null,null,null,null,null,0,null,null,0,0,null,null,true,true,true,true,4,false]
[null,null,null,null,null,0,null,null,0,0,null,null,null,null,null,null,null,true]
[null,"4.7 Accommodations for participants in the events ",null,null,null,{"$f":"SUM(F119:F128)","v":0},null,null,{"$f":"SUM(I119:I128)","v":0},{"$f":"SUM(J119:J128)","v":0},null,null,null,null,null,null,null,true]
[null,null,null,null,null,{"$f":"ROUND(D119*E119,2)","v":0},null,null,{"$f":"ROUND(G119*H119,2)","v":0},{"$f":"F119+I119","v":0},null,null,{"$f":"ISBLANK(B119)","v":true},{"$f":"ISBLANK(C119)","v":true},{"$f":"ISBLANK(D119)","v":true},{"$f":"ISBLANK(E119)","v":true},{"$f":"M119+N119+O119+P119","v":4},{"$f":"IF(Q119=0,TRUE,FALSE)","v":false}]
[null,null,null,null,null,{"$f":"ROUND(D120*E120,2)","v":0},null,null,0,{"$f":"F120+I120","v":0},null,null,{"$f":"ISBLANK(B120)","v":true},true,true,true,{"$f":"M120+N120+O120+P120","v":4},{"$f":"IF(Q120=0,TRUE,FALSE)","v":false}]
[null,null,null,null,null,0,null,null,0,0,null,null,true,true,true,true,4,false]
[null,null,null,null,null,0,null,null,0,0,null,null,true,true,true,true,4,false]
[null,null,null,null,null,0,null,null,0,0,null,null,true,true,true,true,4,false]
[null,null,null,null,null,0,null,null,0,0,null,null,true,true,true,true,4,false]
[null,null,null,null,null,0,null,null,0,0,null,null,true,true,true,true,4,false]
[null,null,null,null,null,0,null,null,0,0,null,null,true,true,true,true,4,false]
[null,null,null,null,null,0,null,null,0,0,null,null,true,true,true,true,4,false]
[null,null,null,null,null,0,null,null,0,0,null,null,null,null,null,null,null,true]
[null,"4.8 Purchase of advertising materials",null,null,null,{"$f":"SUM(F130:F139)","v":0},null,null,{"$f":"SUM(I130:I139)","v":0},{"$f":"SUM(J130:J139)","v":0},null,null,null,null,null,null,null,true]
[null,null,null,null,null,{"$f":"ROUND(D130*E130,2)","v":0},null,null,{"$f":"ROUND(G130*H130,2)","v":0},{"$f":"F130+I130","v":0},null,null,{"$f":"ISBLANK(B130)","v":true},{"$f":"ISBLANK(C130)","v":true},{"$f":"ISBLANK(D130)","v":true},{"$f":"ISBLANK(E130)","v":true},{"$f":"M130+N130+O130+P130","v":4},{"$f":"IF(Q130=0,TRUE,FALSE)","v":false}]
[null,null,null,null,null,{"$f":"ROUND(D131*E131,2)","v":0},null,null,0,{"$f":"F131+I131","v":0},null,null,{"$f":"ISBLANK(B131)","v":true},true,true,true,{"$f":"M131+N131+O131+P131","v":4},{"$f":"IF(Q131=0,TRUE,FALSE)","v":false}]
[null,null,null,null,null,0,null,null,0,0,null,null,true,true,true,true,4,false]
[null,null,null,null,null,0,null,null,0,0,null,null,true,true,true,true,4,false]
[null,null,null,null,null,0,null,null,0,0,null,null,true,true,true,true,4,false]
[null,null,null,null,null,0,null,null,0,0,null,null,true,true,true,true,4,false]
[null,null,null,null,null,0,null,null,0,0,null,null,true,true,true,true,4,false]
[null,null,null,null,null,0,null,null,0,0,null,null,true,true,true,true,4,false]
[null,null,null,null,null,0,null,null,0,0,null,null,true,true,true,true,4,false]
[null,null,null,null,null,0,null,null,0,0,null,null,null,null,null,null,null,true]
[null,"4.9 Elaboration, design etc.",null,null,null,{"$f":"SUM(F141:F150)","v":0},null,null,{"$f":"SUM(I141:I150)","v":0},{"$f":"SUM(J141:J150)","v":0},null,null,null,null,null,null,null,true]
[null,null,null,null,null,{"$f":"ROUND(D141*E141,2)","v":0},null,null,{"$f":"ROUND(G141*H141,2)","v":0},{"$f":"F141+I141","v":0},null,null,{"$f":"ISBLANK(B141)","v":true},{"$f":"ISBLANK(C141)","v":true},{"$f":"ISBLANK(D141)","v":true},{"$f":"ISBLANK(E141)","v":true},{"$f":"M141+N141+O141+P141","v":4},{"$f":"IF(Q141=0,TRUE,FALSE)","v":false}]
[null,null,null,null,null,{"$f":"ROUND(D142*E142,2)","v":0},null,null,0,{"$f":"F142+I142","v":0},null,null,{"$f":"ISBLANK(B142)","v":true},true,true,true,{"$f":"M142+N142+O142+P142","v":4},{"$f":"IF(Q142=0,TRUE,FALSE)","v":false}]
[null,null,null,null,null,0,null,null,0,0,null,null,true,true,true,true,4,false]
[null,null,null,null,null,0,null,null,0,0,null,null,true,true,true,true,4,false]
[null,null,null,null,null,0,null,null,0,0,null,null,true,true,true,true,4,false]
[null,null,null,null,null,0,null,null,0,0,null,null,true,true,true,true,4,false]
[null,null,null,null,null,0,null,null,0,0,null,null,true,true,true,true,4,false]
[null,null,null,null,null,0,null,null,0,0,null,null,true,true,true,true,4,false]
[null,null,null,null,null,0,null,null,0,0,null,null,true,true,true,true,4,false]
[null,null,null,null,null,0,null,null,0,0,null,null,null,null,null,null,null,true]
[null,"4.10 Publications in mass-media",null,null,null,{"$f":"SUM(F152:F161)","v":0},null,null,{"$f":"SUM(I152:I161)","v":0},{"$f":"SUM(J152:J161)","v":0},null,null,null,null,null,null,null,true]
[null,null,null,null,null,{"$f":"ROUND(D152*E152,2)","v":0},null,null,{"$f":"ROUND(G152*H152,2)","v":0},{"$f":"F152+I152","v":0},null,null,{"$f":"ISBLANK(B152)","v":true},{"$f":"ISBLANK(C152)","v":true},{"$f":"ISBLANK(D152)","v":true},{"$f":"ISBLANK(E152)","v":true},{"$f":"M152+N152+O152+P152","v":4},{"$f":"IF(Q152=0,TRUE,FALSE)","v":false}]
[null,null,null,null,null,{"$f":"ROUND(D153*E153,2)","v":0},null,null,0,{"$f":"F153+I153","v":0},null,null,{"$f":"ISBLANK(B153)","v":true},true,true,true,{"$f":"M153+N153+O153+P153","v":4},{"$f":"IF(Q153=0,TRUE,FALSE)","v":false}]
[null,null,null,null,null,0,null,null,0,0,null,null,true,true,true,true,4,false]
[null,null,null,null,null,0,null,null,0,0,null,null,true,true,true,true,4,false]
[null,null,null,null,null,0,null,null,0,0,null,null,true,true,true,true,4,false]
[null,null,null,null,null,0,null,null,0,0,null,null,true,true,true,true,4,false]
[null,null,null,null,null,0,null,null,0,0,null,null,true,true,true,true,4,false]
[null,null,null,null,null,0,null,null,0,0,null,null,true,true,true,true,4,false]
[null,null,null,null,null,0,null,null,0,0,null,null,true,true,true,true,4,false]
[null,null,null,null,null,0,null,null,0,0,null,null,null,null,null,null,null,true]
[null,"4.11 Consultancy, studies, designs etc.",null,null,null,{"$f":"SUM(F163:F172)","v":0},null,null,{"$f":"SUM(I163:I172)","v":0},{"$f":"SUM(J163:J172)","v":0},null,null,null,null,null,null,null,true]
[null,null,null,null,null,{"$f":"ROUND(D163*E163,2)","v":0},null,null,{"$f":"ROUND(G163*H163,2)","v":0},{"$f":"F163+I163","v":0},null,null,{"$f":"ISBLANK(B163)","v":true},{"$f":"ISBLANK(C163)","v":true},{"$f":"ISBLANK(D163)","v":true},{"$f":"ISBLANK(E163)","v":true},{"$f":"M163+N163+O163+P163","v":4},{"$f":"IF(Q163=0,TRUE,FALSE)","v":false}]
[null,null,null,null,null,{"$f":"ROUND(D164*E164,2)","v":0},null,null,0,{"$f":"F164+I164","v":0},null,null,{"$f":"ISBLANK(B164)","v":true},true,true,true,{"$f":"M164+N164+O164+P164","v":4},{"$f":"IF(Q164=0,TRUE,FALSE)","v":false}]
[null,null,null,null,null,0,null,null,0,0,null,null,true,true,true,true,4,false]
[null,null,null,null,null,0,null,null,0,0,null,null,true,true,true,true,4,false]
[null,null,null,null,null,0,null,null,0,0,null,null,true,true,true,true,4,false]
[null,null,null,null,null,0,null,null,0,0,null,null,true,true,true,true,4,false]
[null,null,null,null,null,0,null,null,0,0,null,null,true,true,true,true,4,false]
[null,null,null,null,null,0,null,null,0,0,null,null,true,true,true,true,4,false]
[null,null,null,null,null,0,null,null,0,0,null,null,true,true,true,true,4,false]
[null,null,null,null,null,0,null,null,0,0,null,null,null,null,null,null,null,true]
[null,"4.12 Authorizations, certificates",null,null,null,{"$f":"SUM(F174:F183)","v":0},null,null,{"$f":"SUM(I174:I183)","v":0},{"$f":"SUM(J174:J183)","v":0},null,null,null,null,null,null,null,true]
[null,null,null,null,null,{"$f":"ROUND(D174*E174,2)","v":0},null,null,{"$f":"ROUND(G174*H174,2)","v":0},{"$f":"F174+I174","v":0},null,null,{"$f":"ISBLANK(B174)","v":true},{"$f":"ISBLANK(C174)","v":true},{"$f":"ISBLANK(D174)","v":true},{"$f":"ISBLANK(E174)","v":true},{"$f":"M174+N174+O174+P174","v":4},{"$f":"IF(Q174=0,TRUE,FALSE)","v":false}]
[null,null,null,null,null,{"$f":"ROUND(D175*E175,2)","v":0},null,null,0,{"$f":"F175+I175","v":0},null,null,{"$f":"ISBLANK(B175)","v":true},true,true,true,{"$f":"M175+N175+O175+P175","v":4},{"$f":"IF(Q175=0,TRUE,FALSE)","v":false}]
[null,null,null,null,null,0,null,null,0,0,null,null,true,true,true,true,4,false]
[null,null,null,null,null,0,null,null,0,0,null,null,true,true,true,true,4,false]
[null,null,null,null,null,0,null,null,0,0,null,null,true,true,true,true,4,false]
[null,null,null,null,null,0,null,null,0,0,null,null,true,true,true,true,4,false]
[null,null,null,null,null,0,null,null,0,0,null,null,true,true,true,true,4,false]
[null,null,null,null,null,0,null,null,0,0,null,null,true,true,true,true,4,false]
[null,null,null,null,null,0,null,null,0,0,null,null,true,true,true,true,4,false]
[null,null,null,null,null,0,null,null,0,0,null,null,null,null,null,null,null,true]
[null,"4.13 Interpreters, lecturers, trainers",null,null,null,{"$f":"SUM(F185:F194)","v":0},null,null,{"$f":"SUM(I185:I194)","v":0},{"$f":"SUM(J185:J194)","v":0},null,null,null,null,null,null,null,true]
[null,null,null,null,null,{"$f":"ROUND(D185*E185,2)","v":0},null,null,{"$f":"ROUND(G185*H185,2)","v":0},{"$f":"F185+I185","v":0},null,null,{"$f":"ISBLANK(B185)","v":true},{"$f":"ISBLANK(C185)","v":true},{"$f":"ISBLANK(D185)","v":true},{"$f":"ISBLANK(E185)","v":true},{"$f":"M185+N185+O185+P185","v":4},{"$f":"IF(Q185=0,TRUE,FALSE)","v":false}]
[null,null,null,null,null,{"$f":"ROUND(D186*E186,2)","v":0},null,null,0,{"$f":"F186+I186","v":0},null,null,{"$f":"ISBLANK(B186)","v":true},true,true,true,{"$f":"M186+N186+O186+P186","v":4},{"$f":"IF(Q186=0,TRUE,FALSE)","v":false}]
[null,null,null,null,null,0,null,null,0,0,null,null,true,true,true,true,4,false]
[null,null,null,null,null,0,null,null,0,0,null,null,true,true,true,true,4,false]
[null,null,null,null,null,0,null,null,0,0,null,null,true,true,true,true,4,false]
[null,null,null,null,null,0,null,null,0,0,null,null,true,true,true,true,4,false]
[null,null,null,null,null,0,null,null,0,0,null,null,true,true,true,true,4,false]
[null,null,null,null,null,0,null,null,0,0,null,null,true,true,true,true,4,false]
[null,null,null,null,null,0,null,null,0,0,null,null,true,true,true,true,4,false]
[null,null,null,null,null,0,null,null,0,0,null,null,null,null,null,null,null,true]
[null,"4.14 Others",null,null,null,{"$f":"SUM(F196:F205)","v":0},null,null,{"$f":"SUM(I196:I205)","v":0},{"$f":"SUM(J196:J205)","v":0},null,null,null,null,null,null,null,true]
[null,null,null,null,null,{"$f":"ROUND(D196*E196,2)","v":0},null,null,{"$f":"ROUND(G196*H196,2)","v":0},{"$f":"F196+I196","v":0},null,null,{"$f":"ISBLANK(B196)","v":true},{"$f":"ISBLANK(C196)","v":true},{"$f":"ISBLANK(D196)","v":true},{"$f":"ISBLANK(E196)","v":true},{"$f":"M196+N196+O196+P196","v":4},{"$f":"IF(Q196=0,TRUE,FALSE)","v":false}]
[null,null,null,null,null,{"$f":"ROUND(D197*E197,2)","v":0},null,null,0,{"$f":"F197+I197","v":0},null,null,{"$f":"ISBLANK(B197)","v":true},true,true,true,{"$f":"M197+N197+O197+P197","v":4},{"$f":"IF(Q197=0,TRUE,FALSE)","v":false}]
[null,null,null,null,null,0,null,null,0,0,null,null,true,true,true,true,4,false]
[null,null,null,null,null,0,null,null,0,0,null,null,true,true,true,true,4,false]
[null,null,null,null,null,0,null,null,0,0,null,null,true,true,true,true,4,false]
[null,null,null,null,null,0,null,null,0,0,null,null,true,true,true,true,4,false]
[null,null,null,null,null,0,null,null,0,0,null,null,true,true,true,true,4,false]
[null,null,null,null,null,0,null,null,0,0,null,null,true,true,true,true,4,false]
[null,null,null,null,null,0,null,null,0,0,null,null,true,true,true,true,4,false]
[null,null,null,null,null,0,null,null,0,0,null,null,null,null,null,null,null,true]
[null,"TOTAL",null,null,null,{"$f":"F195+F184+F173+F162+F151+F140+F129+F118+F107+F96+F85+F74+F63+F52","v":0},null,null,{"$f":"I195+I184+I173+I162+I151+I140+I129+I118+I107+I96+I85+I74+I63+I52","v":0},{"$f":"J195+J184+J173+J162+J151+J140+J129+J118+J107+J96+J85+J74+J63+J52","v":0},null,null,null,null,null,null,null,true]
[null,null,null,null,null,null,null,null,null,null,null,null,null,null,null,null,null,true]
[null,"BL5 - EQUIPMENT AND WORKS","Unit","Expenditures in the eligible area",null,null,"N/A",null,null,"TOTAL",null,null,null,null,null,null,null,true]
[null,null,null,"Units","Unit rate","TOTAL","Units","Unit rate","TOTAL",null,null,null,null,null,null,null,null,true]
[null,"5.1 Small scale construction",null,null,null,{"$f":"SUM(F211:F220)","v":0},null,null,{"$f":"SUM(I211:I220)","v":0},{"$f":"SUM(J211:J220)","v":0},null,null,null,null,null,null,null,true]
[null,null,null,null,null,{"$f":"ROUND(D211*E211,2)","v":0},null,null,{"$f":"ROUND(G211*H211,2)","v":0},{"$f":"F211+I211","v":0},null,null,{"$f":"ISBLANK(B211)","v":true},{"$f":"ISBLANK(C211)","v":true},{"$f":"ISBLANK(D211)","v":true},{"$f":"ISBLANK(E211)","v":true},{"$f":"M211+N211+O211+P211","v":4},{"$f":"IF(Q211=0,TRUE,FALSE)","v":false}]
[null,null,null,null,null,{"$f":"ROUND(D212*E212,2)","v":0},null,null,0,{"$f":"F212+I212","v":0},null,null,{"$f":"ISBLANK(B212)","v":true},true,true,true,{"$f":"M212+N212+O212+P212","v":4},{"$f":"IF(Q212=0,TRUE,FALSE)","v":false}]
[null,null,null,null,null,0,null,null,0,0,null,null,true,true,true,true,4,false]
[null,null,null,null,null,0,null,null,0,0,null,null,true,true,true,true,4,false]
[null,null,null,null,null,0,null,null,0,0,null,null,true,true,true,true,4,false]
[null,null,null,null,null,0,null,null,0,0,null,null,true,true,true,true,4,false]
[null,null,null,null,null,0,null,null,0,0,null,null,true,true,true,true,4,false]
[null,null,null,null,null,0,null,null,0,0,null,null,true,true,true,true,4,false]
[null,null,null,null,null,0,null,null,0,0,null,null,true,true,true,true,4,false]
[null,null,null,null,null,0,null,null,0,0,null,null,null,null,null,null,null,true]
[null,"5.2 Supply",null,null,null,{"$f":"SUM(F222:F231)","v":0},null,null,{"$f":"SUM(I222:I231)","v":0},{"$f":"SUM(J222:J231)","v":0},null,null,null,null,null,null,null,true]
[null,null,null,null,null,{"$f":"ROUND(D222*E222,2)","v":0},null,null,{"$f":"ROUND(G222*H222,2)","v":0},{"$f":"F222+I222","v":0},null,null,{"$f":"ISBLANK(B222)","v":true},{"$f":"ISBLANK(C222)","v":true},{"$f":"ISBLANK(D222)","v":true},{"$f":"ISBLANK(E222)","v":true},{"$f":"M222+N222+O222+P222","v":4},{"$f":"IF(Q222=0,TRUE,FALSE)","v":false}]
[null,null,null,null,null,{"$f":"ROUND(D223*E223,2)","v":0},null,null,0,{"$f":"F223+I223","v":0},null,null,{"$f":"ISBLANK(B223)","v":true},true,true,true,{"$f":"M223+N223+O223+P223","v":4},{"$f":"IF(Q223=0,TRUE,FALSE)","v":false}]
[null,null,null,null,null,0,null,null,0,0,null,null,true,true,true,true,4,false]
[null,null,null,null,null,0,null,null,0,0,null,null,true,true,true,true,4,false]
[null,null,null,null,null,0,null,null,0,0,null,null,true,true,true,true,4,false]
[null,null,null,null,null,0,null,null,0,0,null,null,true,true,true,true,4,false]
[null,null,null,null,null,0,null,null,0,0,null,null,true,true,true,true,4,false]
[null,null,null,null,null,0,null,null,0,0,null,null,true,true,true,true,4,false]
[null,null,null,null,null,0,null,null,0,0,null,null,true,true,true,true,4,false]
[null,null,null,null,null,0,null,null,0,0,null,null,null,null,null,null,null,true]
[null,"TOTAL",null,null,null,{"$f":"F221+F210","v":0},null,null,{"$f":"I221+I210","v":0},{"$f":"J221+J210","v":0},null,null,null,null,null,null,null,true]
[null,null,null,null,null,null,null,null,null,null,null,null,null,null,null,null,null,true]
[null,"BL6 - PROJECT PREPARATION","Unit","Expenditures in the eligible area",null,null,"N/A",null,null,"TOTAL",null,null,null,null,null,null,null,true]
[null,null,null,"Units","Unit rate","TOTAL","Units","Unit rate","TOTAL",null,null,null,null,null,null,null,null,true]
[null,null,null,null,null,{"$f":"ROUND(D236*E236,2)","v":0},null,null,{"$f":"ROUND(G236*H236,2)","v":0},{"$f":"F236+I236","v":0},null,null,{"$f":"ISBLANK(B236)","v":true},{"$f":"ISBLANK(C236)","v":true},{"$f":"ISBLANK(D236)","v":true},{"$f":"ISBLANK(E236)","v":true},{"$f":"M236+N236+O236+P236","v":4},{"$f":"IF(Q236=0,TRUE,FALSE)","v":false}]
[null,null,null,null,null,{"$f":"ROUND(D237*E237,2)","v":0},null,null,{"$f":"ROUND(G237*H237,2)","v":0},{"$f":"F237+I237","v":0},null,null,{"$f":"ISBLANK(B237)","v":true},true,true,true,{"$f":"M237+N237+O237+P237","v":4},{"$f":"IF(Q237=0,TRUE,FALSE)","v":false}]
[null,null,null,null,null,0,null,null,0,0,null,null,true,true,true,true,4,false]
[null,null,null,null,null,0,null,null,0,0,null,null,true,true,true,true,4,false]
[null,null,null,null,null,0,null,null,0,0,null,null,true,true,true,true,4,false]
[null,null,null,null,null,0,null,null,0,0,null,null,true,true,true,true,4,false]
[null,null,null,null,null,0,null,null,0,0,null,null,true,true,true,true,4,false]
[null,null,null,null,null,0,null,null,0,0,null,null,true,true,true,true,4,false]
[null,null,null,null,null,0,null,null,0,0,null,null,true,true,true,true,4,false]
[null,null,null,null,null,0,null,null,0,0,null,null,null,null,null,null,null,true]
[null,"TOTAL",null,null,null,{"$f":"SUM(F236:F245)","v":0},null,null,{"$f":"SUM(I236:I245)","v":0},{"$f":"SUM(J236:J245)","v":0},null,null,null,null,null,null,null,true]
[null,null,null,null,null,null,null,null,null,null,null,null,null,null,null,null,null,true]
[null,"Total direct project costs (BL3+BL4+BL5)",null,null,null,{"$f":"F48+F206+F232","v":0},{"$f":"I48+I206+I232","v":0},null,null,{"$f":"F248+G248","v":0},null,null,null,null,null,null,null,true]
[null,"TOTAL PROJECT COSTS",null,null,null,{"$f":"F248+F246+I5+I10","v":0},{"$f":"I246+pp1_proj_direct_total_out","v":0},null,null,{"$f":"F249+G249","v":0},null,null,null,null,null,null,null,true]
[null,null,null,null,null,null,"Expenditures outside are above 20 %!"]

{"sheet":"T2-B(PP2)","index":11,"n_rows":250,"n_cols":18,"rows_kept":250,"cut":false,"hidden":false,"merged":[[5,1,5,7],[5,8,5,9],[7,1,8,5],[7,6,7,7],[7,8,8,9],[8,6,8,7],[2,1,3,5],[2,6,2,7],[2,8,3,9],[3,6,3,7],[4,1,4,5],[4,6,4,7],[4,8,4,9],[9,8,9,9],[10,1,10,7],[10,8,10,9],[12,1,13,1],[12,2,13,2],[12,3,12,5],[12,6,12,8],[12,9,13,9],[9,1,9,5],[9,6,9,7],[49,1,50,1],[49,2,50,2],[49,3,49,5],[49,6,49,8],[49,9,50,9],[205,1,205,4],[205,6,205,7],[207,1,208,1],[207,2,208,2],[207,3,207,5],[207,6,207,8],[207,9,208,9],[231,1,231,4],[231,6,231,7],[233,1,234,1],[233,2,234,2],[233,3,233,5],[233,6,233,8],[233,9,234,9],[245,1,245,4],[245,6,245,7],[247,1,247,4],[248,1,248,4],[248,6,248,8]]}
[null,"TABLE 2 - DETAILED BREAKDOWN OF BUDGET LINES  - PP2",null,null,null,null,null,null,null,null,null,null,null,null,null,null,null,true]
[null,null,null,null,null,null,null,null,null,null,null,null,null,null,null,null,null,true]
[null,"BL1 - STAFF COSTS",null,null,null,null,"Flat rate",null,"TOTAL",null,null,null,null,null,null,null,null,true]
[null,null,null,null,null,null,"%",null,null,null,null,null,{"$f":"CONCATENATE('Project identification'!C15,\" project\")","v":"0 project"},null,null,null,10,true]
[null,{"$f":"M4","v":"0 project"},null,null,null,null,null,null,{"$f":"G5*J248/100","v":0},null,null,null,null,null,{"$f":"IF(M7=\"Soft\",15,10)","v":10},null,15,true]
[null,"TOTAL",null,null,null,null,null,null,0,null,null,null,null,null,null,null,null,true]
[null,null,null,null,null,null,null,null,null,null,null,null,{"$f":"'Project identification'!C15","v":0},null,null,null,null,true]
[null,"BL2 - OFFICE AND ADMINISTRATIVE COSTS",null,null,null,null,"Flat rate",null,"TOTAL",null,null,null,null,null,null,null,null,true]
[null,null,null,null,null,null,"%",null,null,null,null,null,null,null,null,null,2,true]
[null,{"$f":"M4","v":"0 project"},null,null,null,null,null,null,{"$f":"G10*I5/100","v":0},null,null,null,null,null,{"$f":"IF(M7=\"Soft\",5,2)","v":2},null,5,true]
[null,"TOTAL",null,null,null,null,null,null,0,null,null,null,null,null,null,null,null,true]
[null,null,null,null,null,null,null,null,null,null,null,null,null,null,null,null,null,true]
[null,"BL3 - TRAVEL AND ACCOMMODATION","Unit","Expenditures in the eligible area",null,null,"Expenditures outside of the eligible area",null,null,"TOTAL",null,null,null,null,null,null,null,true]
[null,null,null,"Units","Unit rate","TOTAL","Units","Unit rate","TOTAL",null,null,null,null,null,null,null,null,true]
[null,"3.1 Travel costs",null,null,null,{"$f":"SUM(F16:F25)","v":0},null,null,{"$f":"SUM(I16:I25)","v":0},{"$f":"SUM(J16:J25)","v":0},null,null,null,null,null,null,null,true]
[null,null,null,null,null,{"$f":"ROUND(D16*E16,2)","v":0},null,null,{"$f":"ROUND(G16*H16,2)","v":0},{"$f":"F16+I16","v":0},null,null,{"$f":"ISBLANK(B16)","v":true},{"$f":"ISBLANK(C16)","v":true},true,true,{"$f":"M16+N16+O16+P16","v":4},{"$f":"IF(Q16=0,TRUE,FALSE)","v":false}]
[null,null,null,null,null,{"$f":"ROUND(D17*E17,2)","v":0},null,null,0,{"$f":"F17+I17","v":0},null,null,{"$f":"ISBLANK(B17)","v":true},true,true,true,{"$f":"M17+N17+O17+P17","v":4},{"$f":"IF(Q17=0,TRUE,FALSE)","v":false}]
[null,null,null,null,null,0,null,null,0,0,null,null,true,true,true,true,4,false]
[null,null,null,null,null,0,null,null,0,0,null,null,true,true,true,true,4,false]
[null,null,null,null,null,0,null,null,0,0,null,null,true,true,true,true,4,false]
[null,null,null,null,null,0,null,null,0,0,null,null,true,true,true,true,4,false]
[null,null,null,null,null,0,null,null,0,0,null,null,true,true,true,true,4,false]
[null,null,null,null,null,0,null,null,0,0,null,null,true,true,true,true,4,false]
[null,null,null,null,null,0,null,null,0,0,null,null,true,true,true,true,4,false]
[null,null,null,null,null,0,null,null,0,0,null,null,null,null,null,null,null,true]
[null,"3.2 Daily allowances",null,null,null,{"$f":"SUM(F27:F36)","v":0},null,null,{"$f":"SUM(I27:I36)","v":0},{"$f":"SUM(J27:J36)","v":0},null,null,null,null,null,null,null,true]
[null,null,null,null,null,{"$f":"ROUND(D27*E27,2)","v":0},null,null,{"$f":"ROUND(G27*H27,2)","v":0},{"$f":"F27+I27","v":0},null,null,{"$f":"ISBLANK(B27)","v":true},{"$f":"ISBLANK(C27)","v":true},true,true,{"$f":"M27+N27+O27+P27","v":4},{"$f":"IF(Q27=0,TRUE,FALSE)","v":false}]
[null,null,null,null,null,{"$f":"ROUND(D28*E28,2)","v":0},null,null,0,{"$f":"F28+I28","v":0},null,null,{"$f":"ISBLANK(B28)","v":true},true,true,true,{"$f":"M28+N28+O28+P28","v":4},{"$f":"IF(Q28=0,TRUE,FALSE)","v":false}]
[null,null,null,null,null,0,null,null,0,0,null,null,true,true,true,true,4,false]
[null,null,null,null,null,0,null,null,0,0,null,null,true,true,true,true,4,false]
[null,null,null,null,null,0,null,null,0,0,null,null,true,true,true,true,4,false]
[null,null,null,null,null,0,null,null,0,0,null,null,true,true,true,true,4,false]
[null,null,null,null,null,0,null,null,0,0,null,null,true,true,true,true,4,false]
[null,null,null,null,null,0,null,null,0,0,null,null,true,true,true,true,4,false]
[null,null,null,null,null,0,null,null,0,0,null,null,true,true,true,true,4,false]
[null,null,null,null,null,0,null,null,0,0,null,null,null,null,null,null,null,true]
[null,"3.3 Accommodation costs",null,null,null,{"$f":"SUM(F38:F47)","v":0},null,null,{"$f":"SUM(I38:I47)","v":0},{"$f":"SUM(J38:J47)","v":0},null,null,null,null,null,null,null,true]
[null,null,null,null,null,{"$f":"ROUND(D38*E38,2)","v":0},null,null,{"$f":"ROUND(G38*H38,2)","v":0},{"$f":"F38+I38","v":0},null,null,{"$f":"ISBLANK(B38)","v":true},{"$f":"ISBLANK(C38)","v":true},true,true,{"$f":"M38+N38+O38+P38","v":4},{"$f":"IF(Q38=0,TRUE,FALSE)","v":false}]
[null,"ttt","u",null,null,{"$f":"ROUND(D39*E39,2)","v":0},null,null,0,{"$f":"F39+I39","v":0},null,null,{"$f":"ISBLANK(B39)","v":false},false,true,true,{"$f":"M39+N39+O39+P39","v":2},{"$f":"IF(Q39=0,TRUE,FALSE)","v":false}]
[null,null,null,null,null,0,null,null,0,0,null,null,true,true,true,true,4,false]
[null,null,null,null,null,0,null,null,0,0,null,null,true,true,true,true,4,false]
[null,null,null,null,null,0,null,null,0,0,null,null,true,true,true,true,4,false]
[null,null,null,null,null,0,null,null,0,0,null,null,true,true,true,true,4,false]
[null,null,null,null,null,0,null,null,0,0,null,null,true,true,true,true,4,false]
[null,null,null,null,null,0,null,null,0,0,null,null,true,true,true,true,4,false]
[null,null,null,null,null,0,null,null,0,0,null,null,true,true,true,true,4,false]
[null,null,null,null,null,0,null,null,0,0,null,null,null,null,null,null,null,true]
[null,"TOTAL",null,null,null,{"$f":"F37+F26+F15","v":0},null,null,{"$f":"I37+I26+I15","v":0},{"$f":"J37+J26+J15","v":0},null,null,null,null,null,null,null,true]
[null,null,null,null,null,null,null,null,null,null,null,null,null,null,null,null,null,true]
[null,"BL4 - EXTERNAL EXPERTISE AND SERVICES COSTS","Unit","Expenditures in the eligible area",null,null,"Expenditures outside of the eligible area",null,null,"TOTAL",null,null,null,null,null,null,null,true]
[null,null,null,"Units","Unit rate","TOTAL","Units","Unit rate","TOTAL",null,null,null,null,null,null,null,null,true]
[null,"4.1 Rent of hall",null,null,null,{"$f":"SUM(F53:F62)","v":0},null,null,{"$f":"SUM(I53:I62)","v":0},{"$f":"SUM(J53:J62)","v":0},null,null,null,null,null,null,null,true]
[null,null,null,null,null,{"$f":"ROUND(D53*E53,2)","v":0},null,null,{"$f":"ROUND(G53*H53,2)","v":0},{"$f":"F53+I53","v":0},null,null,{"$f":"ISBLANK(B53)","v":true},{"$f":"ISBLANK(C53)","v":true},true,true,{"$f":"M53+N53+O53+P53","v":4},{"$f":"IF(Q53=0,TRUE,FALSE)","v":false}]
[null,null,null,null,null,{"$f":"ROUND(D54*E54,2)","v":0},null,null,0,{"$f":"F54+I54","v":0},null,null,{"$f":"ISBLANK(B54)","v":true},true,true,true,{"$f":"M54+N54+O54+P54","v":4},{"$f":"IF(Q54=0,TRUE,FALSE)","v":false}]
[null,null,null,null,null,0,null,null,0,0,null,null,true,true,true,true,4,false]
[null,null,null,null,null,0,null,null,0,0,null,null,true,true,true,true,4,false]
[null,null,null,null,null,0,null,null,0,0,null,null,true,true,true,true,4,false]
[null,null,null,null,null,0,null,null,0,0,null,null,true,true,true,true,4,false]
[null,null,null,null,null,0,null,null,0,0,null,null,true,true,true,true,4,false]
[null,null,null,null,null,0,null,null,0,0,null,null,true,true,true,true,4,false]
[null,null,null,null,null,0,null,null,0,0,null,null,true,true,true,true,4,false]
[null,null,null,null,null,0,null,null,0,0,null,null,null,null,null,null,null,true]
[null,"4.2 Rent of equipment",null,null,null,{"$f":"SUM(F64:F73)","v":0},null,null,{"$f":"SUM(I64:I73)","v":0},{"$f":"SUM(J64:J73)","v":0},null,null,null,null,null,null,null,true]
[null,null,null,null,null,{"$f":"ROUND(D64*E64,2)","v":0},null,null,{"$f":"ROUND(G64*H64,2)","v":0},{"$f":"F64+I64","v":0},null,null,{"$f":"ISBLANK(B64)","v":true},{"$f":"ISBLANK(C64)","v":true},true,true,{"$f":"M64+N64+O64+P64","v":4},{"$f":"IF(Q64=0,TRUE,FALSE)","v":false}]
[null,null,null,null,null,{"$f":"ROUND(D65*E65,2)","v":0},null,null,0,{"$f":"F65+I65","v":0},null,null,{"$f":"ISBLANK(B65)","v":true},true,true,true,{"$f":"M65+N65+O65+P65","v":4},{"$f":"IF(Q65=0,TRUE,FALSE)","v":false}]
[null,null,null,null,null,0,null,null,0,0,null,null,true,true,true,true,4,false]
[null,null,null,null,null,0,null,null,0,0,null,null,true,true,true,true,4,false]
[null,null,null,null,null,0,null,null,0,0,null,null,true,true,true,true,4,false]
[null,null,null,null,null,0,null,null,0,0,null,null,true,true,true,true,4,false]
[null,null,null,null,null,0,null,null,0,0,null,null,true,true,true,true,4,false]
[null,null,null,null,null,0,null,null,0,0,null,null,true,true,true,true,4,false]
[null,null,null,null,null,0,null,null,0,0,null,null,true,true,true,true,4,false]
[null,null,null,null,null,0,null,null,0,0,null,null,null,null,null,null,null,true]
[null,"4.3 Coffee breaks …..",null,null,null,{"$f":"SUM(F75:F84)","v":0},null,null,{"$f":"SUM(I75:I84)","v":0},{"$f":"SUM(J75:J84)","v":0},null,null,null,null,null,null,null,true]
[null,null,null,null,null,{"$f":"ROUND(D75*E75,2)","v":0},null,null,{"$f":"ROUND(G75*H75,2)","v":0},{"$f":"F75+I75","v":0},null,null,{"$f":"ISBLANK(B75)","v":true},{"$f":"ISBLANK(C75)","v":true},true,true,{"$f":"M75+N75+O75+P75","v":4},{"$f":"IF(Q75=0,TRUE,FALSE)","v":false}]
[null,null,null,null,null,{"$f":"ROUND(D76*E76,2)","v":0},null,null,0,{"$f":"F76+I76","v":0},null,null,{"$f":"ISBLANK(B76)","v":true},true,true,true,{"$f":"M76+N76+O76+P76","v":4},{"$f":"IF(Q76=0,TRUE,FALSE)","v":false}]
[null,null,null,null,null,0,null,null,0,0,null,null,true,true,true,true,4,false]
[null,null,null,null,null,0,null,null,0,0,null,null,true,true,true,true,4,false]
[null,null,null,null,null,0,null,null,0,0,null,null,true,true,true,true,4,false]
[null,null,null,null,null,0,null,null,0,0,null,null,true,true,true,true,4,false]
[null,null,null,null,null,0,null,null,0,0,null,null,true,true,true,true,4,false]
[null,null,null,null,null,0,null,null,0,0,null,null,true,true,true,true,4,false]
[null,null,null,null,null,0,null,null,0,0,null,null,true,true,true,true,4,false]
[null,null,null,null,null,0,null,null,0,0,null,null,null,null,null,null,null,true]
[null,"4.4 Preparation of materials",null,null,null,{"$f":"SUM(F86:F95)","v":0},null,null,{"$f":"SUM(I86:I95)","v":0},{"$f":"SUM(J86:J95)","v":0},null,null,null,null,null,null,null,true]
[null,null,null,null,null,{"$f":"ROUND(D86*E86,2)","v":0},null,null,{"$f":"ROUND(G86*H86,2)","v":0},{"$f":"F86+I86","v":0},null,null,{"$f":"ISBLANK(B86)","v":true},{"$f":"ISBLANK(C86)","v":true},true,true,{"$f":"M86+N86+O86+P86","v":4},{"$f":"IF(Q86=0,TRUE,FALSE)","v":false}]
[null,null,null,null,null,{"$f":"ROUND(D87*E87,2)","v":0},null,null,0,{"$f":"F87+I87","v":0},null,null,{"$f":"ISBLANK(B87)","v":true},true,true,true,{"$f":"M87+N87+O87+P87","v":4},{"$f":"IF(Q87=0,TRUE,FALSE)","v":false}]
[null,null,null,null,null,0,null,null,0,0,null,null,true,true,true,true,4,false]
[null,null,null,null,null,0,null,null,0,0,null,null,true,true,true,true,4,false]
[null,null,null,null,null,0,null,null,0,0,null,null,true,true,true,true,4,false]
[null,null,null,null,null,0,null,null,0,0,null,null,true,true,true,true,4,false]
[null,null,null,null,null,0,null,null,0,0,null,null,true,true,true,true,4,false]
[null,null,null,null,null,0,null,null,0,0,null,null,true,true,true,true,4,false]
[null,null,null,null,null,0,null,null,0,0,null,null,true,true,true,true,4,false]
[null,null,null,null,null,0,null,null,0,0,null,null,null,null,null,null,null,true]
[null,"4.5 Consumables",null,null,null,{"$f":"SUM(F97:F106)","v":0},null,null,{"$f":"SUM(I97:I106)","v":0},{"$f":"SUM(J97:J106)","v":0},null,null,null,null,null,null,null,true]
[null,null,null,null,null,{"$f":"ROUND(D97*E97,2)","v":0},null,null,{"$f":"ROUND(G97*H97,2)","v":0},{"$f":"F97+I97","v":0},null,null,{"$f":"ISBLANK(B97)","v":true},{"$f":"ISBLANK(C97)","v":true},true,true,{"$f":"M97+N97+O97+P97","v":4},{"$f":"IF(Q97=0,TRUE,FALSE)","v":false}]
[null,null,null,null,null,{"$f":"ROUND(D98*E98,2)","v":0},null,null,0,{"$f":"F98+I98","v":0},null,null,{"$f":"ISBLANK(B98)","v":true},true,true,true,{"$f":"M98+N98+O98+P98","v":4},{"$f":"IF(Q98=0,TRUE,FALSE)","v":false}]
[null,null,null,null,null,0,null,null,0,0,null,null,true,true,true,true,4,false]
[null,null,null,null,null,0,null,null,0,0,null,null,true,true,true,true,4,false]
[null,null,null,null,null,0,null,null,0,0,null,null,true,true,true,true,4,false]
[null,null,null,null,null,0,null,null,0,0,null,null,true,true,true,true,4,false]
[null,null,null,null,null,0,null,null,0,0,null,null,true,true,true,true,4,false]
[null,null,null,null,null,0,null,null,0,0,null,null,true,true,true,true,4,false]
[null,null,null,null,null,0,null,null,0,0,null,null,true,true,true,true,4,false]
[null,null,null,null,null,0,null,null,0,0,null,null,null,null,null,null,null,true]
[null,"4.6 Rent of vehicle for event",null,null,null,{"$f":"SUM(F108:F117)","v":0},null,null,{"$f":"SUM(I108:I117)","v":0},{"$f":"SUM(J108:J117)","v":0},null,null,null,null,null,null,null,true]
[null,null,null,null,null,{"$f":"ROUND(D108*E108,2)","v":0},null,null,{"$f":"ROUND(G108*H108,2)","v":0},{"$f":"F108+I108","v":0},null,null,{"$f":"ISBLANK(B108)","v":true},{"$f":"ISBLANK(C108)","v":true},true,true,{"$f":"M108+N108+O108+P108","v":4},{"$f":"IF(Q108=0,TRUE,FALSE)","v":false}]
[null,null,null,null,null,{"$f":"ROUND(D109*E109,2)","v":0},null,null,0,{"$f":"F109+I109","v":0},null,null,{"$f":"ISBLANK(B109)","v":true},true,true,true,{"$f":"M109+N109+O109+P109","v":4},{"$f":"IF(Q109=0,TRUE,FALSE)","v":false}]
[null,null,null,null,null,0,null,null,0,0,null,null,true,true,true,true,4,false]
[null,null,null,null,null,0,null,null,0,0,null,null,true,true,true,true,4,false]
[null,null,null,null,null,0,null,null,0,0,null,null,true,true,true,true,4,false]
[null,null,null,null,null,0,null,null,0,0,null,null,true,true,true,true,4,false]
[null,null,null,null,null,0,null,null,0,0,null,null,true,true,true,true,4,false]
[null,null,null,null,null,0,null,null,0,0,null,null,true,true,true,true,4,false]
[null,null,null,null,null,0,null,null,0,0,null,null,true,true,true,true,4,false]
[null,null,null,null,null,0,null,null,0,0,null,null,null,null,null,null,null,true]
[null,"4.7 Accommodations for participants in the events ",null,null,null,{"$f":"SUM(F119:F128)","v":0},null,null,{"$f":"SUM(I119:I128)","v":0},{"$f":"SUM(J119:J128)","v":0},null,null,null,null,null,null,null,true]
[null,null,null,null,null,{"$f":"ROUND(D119*E119,2)","v":0},null,null,{"$f":"ROUND(G119*H119,2)","v":0},{"$f":"F119+I119","v":0},null,null,{"$f":"ISBLANK(B119)","v":true},{"$f":"ISBLANK(C119)","v":true},true,true,{"$f":"M119+N119+O119+P119","v":4},{"$f":"IF(Q119=0,TRUE,FALSE)","v":false}]
[null,null,null,null,null,{"$f":"ROUND(D120*E120,2)","v":0},null,null,0,{"$f":"F120+I120","v":0},null,null,{"$f":"ISBLANK(B120)","v":true},true,true,true,{"$f":"M120+N120+O120+P120","v":4},{"$f":"IF(Q120=0,TRUE,FALSE)","v":false}]
[null,null,null,null,null,0,null,null,0,0,null,null,true,true,true,true,4,false]
[null,null,null,null,null,0,null,null,0,0,null,null,true,true,true,true,4,false]
[null,null,null,null,null,0,null,null,0,0,null,null,true,true,true,true,4,false]
[null,null,null,null,null,0,null,null,0,0,null,null,true,true,true,true,4,false]
[null,null,null,null,null,0,null,null,0,0,null,null,true,true,true,true,4,false]
[null,null,null,null,null,0,null,null,0,0,null,null,true,true,true,true,4,false]
[null,null,null,null,null,0,null,null,0,0,null,null,true,true,true,true,4,false]
[null,null,null,null,null,0,null,null,0,0,null,null,null,null,null,null,null,true]
[null,"4.8 Purchase of advertising materials",null,null,null,{"$f":"SUM(F130:F139)","v":0},null,null,{"$f":"SUM(I130:I139)","v":0},{"$f":"SUM(J130:J139)","v":0},null,null,null,null,null,null,null,true]
[null,null,null,null,null,{"$f":"ROUND(D130*E130,2)","v":0},null,null,{"$f":"ROUND(G130*H130,2)","v":0},{"$f":"F130+I130","v":0},null,null,{"$f":"ISBLANK(B130)","v":true},{"$f":"ISBLANK(C130)","v":true},true,true,{"$f":"M130+N130+O130+P130","v":4},{"$f":"IF(Q130=0,TRUE,FALSE)","v":false}]
[null,null,null,null,null,{"$f":"ROUND(D131*E131,2)","v":0},null,null,0,{"$f":"F131+I131","v":0},null,null,{"$f":"ISBLANK(B131)","v":true},true,true,true,{"$f":"M131+N131+O131+P131","v":4},{"$f":"IF(Q131=0,TRUE,FALSE)","v":false}]
[null,null,null,null,null,0,null,null,0,0,null,null,true,true,true,true,4,false]
[null,null,null,null,null,0,null,null,0,0,null,null,true,true,true,true,4,false]
[null,null,null,null,null,0,null,null,0,0,null,null,true,true,true,true,4,false]
[null,null,null,null,null,0,null,null,0,0,null,null,true,true,true,true,4,false]
[null,null,null,null,null,0,null,null,0,0,null,null,true,true,true,true,4,false]
[null,null,null,null,null,0,null,null,0,0,null,null,true,true,true,true,4,false]
[null,null,null,null,null,0,null,null,0,0,null,null,true,true,true,true,4,false]
[null,null,null,null,null,0,null,null,0,0,null,null,null,null,null,null,null,true]
[null,"4.9 Elaboration, design etc.",null,null,null,{"$f":"SUM(F141:F150)","v":0},null,null,{"$f":"SUM(I141:I150)","v":0},{"$f":"SUM(J141:J150)","v":0},null,null,null,null,null,null,null,true]
[null,null,null,null,null,{"$f":"ROUND(D141*E141,2)","v":0},null,null,{"$f":"ROUND(G141*H141,2)","v":0},{"$f":"F141+I141","v":0},null,null,{"$f":"ISBLANK(B141)","v":true},{"$f":"ISBLANK(C141)","v":true},true,true,{"$f":"M141+N141+O141+P141","v":4},{"$f":"IF(Q141=0,TRUE,FALSE)","v":false}]
[null,null,null,null,null,{"$f":"ROUND(D142*E142,2)","v":0},null,null,0,{"$f":"F142+I142","v":0},null,null,{"$f":"ISBLANK(B142)","v":true},true,true,true,{"$f":"M142+N142+O142+P142","v":4},{"$f":"IF(Q142=0,TRUE,FALSE)","v":false}]
[null,null,null,null,null,0,null,null,0,0,null,null,true,true,true,true,4,false]
[null,null,null,null,null,0,null,null,0,0,null,null,true,true,true,true,4,false]
[null,null,null,null,null,0,null,null,0,0,null,null,true,true,true,true,4,false]
[null,null,null,null,null,0,null,null,0,0,null,null,true,true,true,true,4,false]
[null,null,null,null,null,0,null,null,0,0,null,null,true,true,true,true,4,false]
[null,null,null,null,null,0,null,null,0,0,null,null,true,true,true,true,4,false]
[null,null,null,null,null,0,null,null,0,0,null,null,true,true,true,true,4,false]
[null,null,null,null,null,0,null,null,0,0,null,null,null,null,null,null,null,true]
[null,"4.10 Publications in mass-media",null,null,null,{"$f":"SUM(F152:F161)","v":0},null,null,{"$f":"SUM(I152:I161)","v":0},{"$f":"SUM(J152:J161)","v":0},null,null,null,null,null,null,null,true]
[null,null,null,null,null,{"$f":"ROUND(D152*E152,2)","v":0},null,null,{"$f":"ROUND(G152*H152,2)","v":0},{"$f":"F152+I152","v":0},null,null,{"$f":"ISBLANK(B152)","v":true},{"$f":"ISBLANK(C152)","v":true},true,true,{"$f":"M152+N152+O152+P152","v":4},{"$f":"IF(Q152=0,TRUE,FALSE)","v":false}]
[null,null,null,null,null,{"$f":"ROUND(D153*E153,2)","v":0},null,null,0,{"$f":"F153+I153","v":0},null,null,{"$f":"ISBLANK(B153)","v":true},true,true,true,{"$f":"M153+N153+O153+P153","v":4},{"$f":"IF(Q153=0,TRUE,FALSE)","v":false}]
[null,null,null,null,null,0,null,null,0,0,null,null,true,true,true,true,4,false]
[null,null,null,null,null,0,null,null,0,0,null,null,true,true,true,true,4,false]
[null,null,null,null,null,0,null,null,0,0,null,null,true,true,true,true,4,false]
[null,null,null,null,null,0,null,null,0,0,null,null,true,true,true,true,4,false]
[null,null,null,null,null,0,null,null,0,0,null,null,true,true,true,true,4,false]
[null,null,null,null,null,0,null,null,0,0,null,null,true,true,true,true,4,false]
[null,null,null,null,null,0,null,null,0,0,null,null,true,true,true,true,4,false]
[null,null,null,null,null,0,null,null,0,0,null,null,null,null,null,null,null,true]
[null,"4.11 Consultancy, studies,designs etc.",null,null,null,{"$f":"SUM(F163:F172)","v":0},null,null,{"$f":"SUM(I163:I172)","v":0},{"$f":"SUM(J163:J172)","v":0},null,null,null,null,null,null,null,true]
[null,null,null,null,null,{"$f":"ROUND(D163*E163,2)","v":0},null,null,{"$f":"ROUND(G163*H163,2)","v":0},{"$f":"F163+I163","v":0},null,null,{"$f":"ISBLANK(B163)","v":true},{"$f":"ISBLANK(C163)","v":true},true,true,{"$f":"M163+N163+O163+P163","v":4},{"$f":"IF(Q163=0,TRUE,FALSE)","v":false}]
[null,null,null,null,null,{"$f":"ROUND(D164*E164,2)","v":0},null,null,0,{"$f":"F164+I164","v":0},null,null,{"$f":"ISBLANK(B164)","v":true},true,true,true,{"$f":"M164+N164+O164+P164","v":4},{"$f":"IF(Q164=0,TRUE,FALSE)","v":false}]
[null,null,null,null,null,0,null,null,0,0,null,null,true,true,true,true,4,false]
[null,null,null,null,null,0,null,null,0,0,null,null,true,true,true,true,4,false]
[null,null,null,null,null,0,null,null,0,0,null,null,true,true,true,true,4,false]
[null,null,null,null,null,0,null,null,0,0,null,null,true,true,true,true,4,false]
[null,null,null,null,null,0,null,null,0,0,null,null,true,true,true,true,4,false]
[null,null,null,null,null,0,null,null,0,0,null,null,true,true,true,true,4,false]
[null,null,null,null,null,0,null,null,0,0,null,null,true,true,true,true,4,false]
[null,null,null,null,null,0,null,null,0,0,null,null,null,null,null,null,null,true]
[null,"4.12 Authorizations, certificates",null,null,null,{"$f":"SUM(F174:F183)","v":0},null,null,{"$f":"SUM(I174:I183)","v":0},{"$f":"SUM(J174:J183)","v":0},null,null,null,null,null,null,null,true]
[null,null,null,null,null,{"$f":"ROUND(D174*E174,2)","v":0},null,null,{"$f":"ROUND(G174*H174,2)","v":0},{"$f":"F174+I174","v":0},null,null,{"$f":"ISBLANK(B174)","v":true},{"$f":"ISBLANK(C174)","v":true},true,true,{"$f":"M174+N174+O174+P174","v":4},{"$f":"IF(Q174=0,TRUE,FALSE)","v":false}]
[null,null,null,null,null,{"$f":"ROUND(D175*E175,2)","v":0},null,null,0,{"$f":"F175+I175","v":0},null,null,{"$f":"ISBLANK(B175)","v":true},true,true,true,{"$f":"M175+N175+O175+P175","v":4},{"$f":"IF(Q175=0,TRUE,FALSE)","v":false}]
[null,null,null,null,null,0,null,null,0,0,null,null,true,true,true,true,4,false]
[null,null,null,null,null,0,null,null,0,0,null,null,true,true,true,true,4,false]
[null,null,null,null,null,0,null,null,0,0,null,null,true,true,true,true,4,false]
[null,null,null,null,null,0,null,null,0,0,null,null,true,true,true,true,4,false]
[null,null,null,null,null,0,null,null,0,0,null,null,true,true,true,true,4,false]
[null,null,null,null,null,0,null,null,0,0,null,null,true,true,true,true,4,false]
[null,null,null,null,null,0,null,null,0,0,null,null,true,true,true,true,4,false]
[null,null,null,null,null,0,null,null,0,0,null,null,null,null,null,null,null,true]
[null,"4.13 Interpreters, lecturers, trainers",null,null,null,{"$f":"SUM(F185:F194)","v":0},null,null,{"$f":"SUM(I185:I194)","v":0},{"$f":"SUM(J185:J194)","v":0},null,null,null,null,null,null,null,true]
[null,null,null,null,null,{"$f":"ROUND(D185*E185,2)","v":0},null,null,{"$f":"ROUND(G185*H185,2)","v":0},{"$f":"F185+I185","v":0},null,null,{"$f":"ISBLANK(B185)","v":true},{"$f":"ISBLANK(C185)","v":true},true,true,{"$f":"M185+N185+O185+P185","v":4},{"$f":"IF(Q185=0,TRUE,FALSE)","v":false}]
[null,null,null,null,null,{"$f":"ROUND(D186*E186,2)","v":0},null,null,0,{"$f":"F186+I186","v":0},null,null,{"$f":"ISBLANK(B186)","v":true},true,true,true,{"$f":"M186+N186+O186+P186","v":4},{"$f":"IF(Q186=0,TRUE,FALSE)","v":false}]
[null,null,null,null,null,0,null,null,0,0,null,null,true,true,true,true,4,false]
[null,null,null,null,null,0,null,null,0,0,null,null,true,true,true,true,4,false]
[null,null,null,null,null,0,null,null,0,0,null,null,true,true,true,true,4,false]
[null,null,null,null,null,0,null,null,0,0,null,null,true,true,true,true,4,false]
[null,null,null,null,null,0,null,null,0,0,null,null,true,true,true,true,4,false]
[null,null,null,null,null,0,null,null,0,0,null,null,true,true,true,true,4,false]
[null,null,null,null,null,0,null,null,0,0,null,null,true,true,true,true,4,false]
[null,null,null,null,null,0,null,null,0,0,null,null,null,null,null,null,null,true]
[null,"4.14 Others",null,null,null,{"$f":"SUM(F196:F205)","v":0},null,null,{"$f":"SUM(I196:I205)","v":0},{"$f":"SUM(J196:J205)","v":0},null,null,null,null,null,null,null,true]
[null,null,null,null,null,{"$f":"ROUND(D196*E196,2)","v":0},null,null,{"$f":"ROUND(G196*H196,2)","v":0},{"$f":"F196+I196","v":0},null,null,{"$f":"ISBLANK(B196)","v":true},{"$f":"ISBLANK(C196)","v":true},true,true,{"$f":"M196+N196+O196+P196","v":4},{"$f":"IF(Q196=0,TRUE,FALSE)","v":false}]
[null,null,null,null,null,{"$f":"ROUND(D197*E197,2)","v":0},null,null,0,{"$f":"F197+I197","v":0},null,null,{"$f":"ISBLANK(B197)","v":true},true,true,true,{"$f":"M197+N197+O197+P197","v":4},{"$f":"IF(Q197=0,TRUE,FALSE)","v":false}]
[null,null,null,null,null,0,null,null,0,0,null,null,true,true,true,true,4,false]
[null,null,null,null,null,0,null,null,0,0,null,null,true,true,true,true,4,false]
[null,null,null,null,null,0,null,null,0,0,null,null,true,true,true,true,4,false]
[null,null,null,null,null,0,null,null,0,0,null,null,true,true,true,true,4,false]
[null,null,null,null,null,0,null,null,0,0,null,null,true,true,true,true,4,false]
[null,null,null,null,null,0,null,null,0,0,null,null,true,true,true,true,4,false]
[null,null,null,null,null,0,null,null,0,0,null,null,true,true,true,true,4,false]
[null,null,null,null,null,0,null,null,0,0,null,null,null,null,null,null,null,true]
[null,"TOTAL",null,null,null,{"$f":"F195+F184+F173+F162+F151+F140+F129+F118+F107+F96+F85+F74+F63+F52","v":0},null,null,{"$f":"I195+I184+I173+I162+I151+I140+I129+I118+I107+I96+I85+I74+I63+I52","v":0},{"$f":"J195+J184+J173+J162+J151+J140+J129+J118+J107+J96+J85+J74+J63+J52","v":0},null,null,null,null,null,null,null,true]
[null,null,null,null,null,null,null,null,null,null,null,null,null,null,null,null,null,true]
[null,"BL5 - EQUIPMENT AND WORKS","Unit","Expenditures in the eligible area",null,null,"N/A",null,null,"TOTAL",null,null,null,null,null,null,null,true]
[null,null,null,"Units","Unit rate","TOTAL","Units","Unit rate","TOTAL",null,null,null,null,null,null,null,null,true]
[null,"5.1 Small scale construction",null,null,null,{"$f":"SUM(F211:F220)","v":0},null,null,{"$f":"SUM(I211:I220)","v":0},{"$f":"SUM(J211:J220)","v":0},null,null,null,null,null,null,null,true]
[null,null,null,null,null,{"$f":"ROUND(D211*E211,2)","v":0},null,null,{"$f":"ROUND(G211*H211,2)","v":0},{"$f":"F211+I211","v":0},null,null,{"$f":"ISBLANK(B211)","v":true},{"$f":"ISBLANK(C211)","v":true},true,true,{"$f":"M211+N211+O211+P211","v":4},{"$f":"IF(Q211=0,TRUE,FALSE)","v":false}]
[null,null,null,null,null,{"$f":"ROUND(D212*E212,2)","v":0},null,null,0,{"$f":"F212+I212","v":0},null,null,{"$f":"ISBLANK(B212)","v":true},true,true,true,{"$f":"M212+N212+O212+P212","v":4},{"$f":"IF(Q212=0,TRUE,FALSE)","v":false}]
[null,null,null,null,null,0,null,null,0,0,null,null,true,true,true,true,4,false]
[null,null,null,null,null,0,null,null,0,0,null,null,true,true,true,true,4,false]
[null,null,null,null,null,0,null,null,0,0,null,null,true,true,true,true,4,false]
[null,null,null,null,null,0,null,null,0,0,null,null,true,true,true,true,4,false]
[null,null,null,null,null,0,null,null,0,0,null,null,true,true,true,true,4,false]
[null,null,null,null,null,0,null,null,0,0,null,null,true,true,true,true,4,false]
[null,null,null,null,null,0,null,null,0,0,null,null,true,true,true,true,4,false]
[null,null,null,null,null,0,null,null,0,0,null,null,null,null,null,null,null,true]
[null,"5.2 Supply",null,null,null,{"$f":"SUM(F222:F231)","v":0},null,null,{"$f":"SUM(I222:I231)","v":0},{"$f":"SUM(J222:J231)","v":0},null,null,null,null,null,null,null,true]
[null,null,null,null,null,{"$f":"ROUND(D222*E222,2)","v":0},null,null,{"$f":"ROUND(G222*H222,2)","v":0},{"$f":"F222+I222","v":0},null,null,{"$f":"ISBLANK(B222)","v":true},{"$f":"ISBLANK(C222)","v":true},true,true,{"$f":"M222+N222+O222+P222","v":4},{"$f":"IF(Q222=0,TRUE,FALSE)","v":false}]
[null,null,null,null,null,{"$f":"ROUND(D223*E223,2)","v":0},null,null,0,{"$f":"F223+I223","v":0},null,null,{"$f":"ISBLANK(B223)","v":true},true,true,true,{"$f":"M223+N223+O223+P223","v":4},{"$f":"IF(Q223=0,TRUE,FALSE)","v":false}]
[null,null,null,null,null,0,null,null,0,0,null,null,true,true,true,true,4,false]
[null,null,null,null,null,0,null,null,0,0,null,null,true,true,true,true,4,false]
[null,null,null,null,null,0,null,null,0,0,null,null,true,true,true,true,4,false]
[null,null,null,null,null,0,null,null,0,0,null,null,true,true,true,true,4,false]
[null,null,null,null,null,0,null,null,0,0,null,null,true,true,true,true,4,false]
[null,null,null,null,null,0,null,null,0,0,null,null,true,true,true,true,4,false]
[null,null,null,null,null,0,null,null,0,0,null,null,true,true,true,true,4,false]
[null,null,null,null,null,0,null,null,0,0,null,null,null,null,null,null,null,true]
[null,"TOTAL",null,null,null,{"$f":"F221+F210","v":0},null,null,{"$f":"I221+I210","v":0},{"$f":"J221+J210","v":0},null,null,null,null,null,null,null,true]
[null,null,null,null,null,null,null,null,null,null,null,null,null,null,null,null,null,true]
[null,"BL6 - PROJECT PREPARATION","Unit","Expenditures in the eligible area",null,null,"N/A",null,null,"TOTAL",null,null,null,null,null,null,null,true]
[null,null,null,"Units","Unit rate","TOTAL","Units","Unit rate","TOTAL",null,null,null,null,null,null,null,null,true]
[null,null,null,null,null,{"$f":"ROUND(D236*E236,2)","v":0},null,null,{"$f":"ROUND(G236*H236,2)","v":0},{"$f":"F236+I236","v":0},null,null,{"$f":"ISBLANK(B236)","v":true},{"$f":"ISBLANK(C236)","v":true},true,true,{"$f":"M236+N236+O236+P236","v":4},{"$f":"IF(Q236=0,TRUE,FALSE)","v":false}]
[null,null,null,null,null,{"$f":"ROUND(D237*E237,2)","v":0},null,null,{"$f":"ROUND(G237*H237,2)","v":0},{"$f":"F237+I237","v":0},null,null,{"$f":"ISBLANK(B237)","v":true},true,true,true,{"$f":"M237+N237+O237+P237","v":4},{"$f":"IF(Q237=0,TRUE,FALSE)","v":false}]
[null,null,null,null,null,0,null,null,0,0,null,null,true,true,true,true,4,false]
[null,null,null,null,null,0,null,null,0,0,null,null,true,true,true,true,4,false]
[null,null,null,null,null,0,null,null,0,0,null,null,true,true,true,true,4,false]
[null,null,null,null,null,0,null,null,0,0,null,null,true,true,true,true,4,false]
[null,null,null,null,null,0,null,null,0,0,null,null,true,true,true,true,4,false]
[null,null,null,null,null,0,null,null,0,0,null,null,true,true,true,true,4,false]
[null,null,null,null,null,0,null,null,0,0,null,null,true,true,true,true,4,false]
[null,null,null,null,null,0,null,null,0,0,null,null,null,null,null,null,null,true]
[null,"TOTAL",null,null,null,{"$f":"SUM(F236:F245)","v":0},null,null,{"$f":"SUM(I236:I245)","v":0},{"$f":"SUM(J236:J245)","v":0},null,null,null,null,null,null,null,true]
[null,null,null,null,null,null,null,null,null,null,null,null,null,null,null,null,null,true]
[null,"Total direct project costs (BL3+BL4+BL5)",null,null,null,{"$f":"F48+F206+F232","v":0},null,null,{"$f":"I48+I206+I232","v":0},{"$f":"F248+I248","v":0},null,null,null,null,null,null,null,true]
[null,"TOTAL PROJECT COSTS",null,null,null,{"$f":"F248+F246+I5+I10","v":0},{"$f":"I246+I248","v":0},null,null,{"$f":"F249+G249","v":0},null,null,null,null,null,null,null,true]
[null,null,null,null,null,null,"Expenditures outside are above 20 %!"]

{"sheet":"T2-B(PP3)","index":12,"n_rows":250,"n_cols":18,"rows_kept":250,"cut":false,"hidden":true,"merged":[[5,1,5,7],[5,8,5,9],[7,1,8,5],[7,6,7,7],[7,8,8,9],[8,6,8,7],[2,1,3,5],[2,6,2,7],[2,8,3,9],[3,6,3,7],[4,1,4,5],[4,6,4,7],[4,8,4,9],[9,8,9,9],[10,1,10,7],[10,8,10,9],[12,1,13,1],[12,2,13,2],[12,3,12,5],[12,6,12,8],[12,9,13,9],[9,1,9,5],[9,6,9,7],[49,1,50,1],[49,2,50,2],[49,3,49,5],[49,6,49,8],[49,9,50,9],[205,1,205,4],[205,6,205,7],[207,1,208,1],[207,2,208,2],[207,3,207,5],[207,6,207,8],[207,9,208,9],[231,1,231,4],[231,6,231,7],[233,1,234,1],[233,2,234,2],[233,3,233,5],[233,6,233,8],[233,9,234,9],[245,1,245,4],[245,6,245,7],[247,1,247,4],[248,1,248,4],[248,6,248,8]]}
[null,"TABLE 2 - DETAILED BREAKDOWN OF BUDGET LINES  - PP3",null,null,null,null,null,null,null,null,null,null,null,null,null,null,null,true]
[null,null,null,null,null,null,null,null,null,null,null,null,null,null,null,null,null,true]
[null,"BL1 - STAFF COSTS",null,null,null,null,"Flat rate",null,"TOTAL",null,null,null,null,null,null,null,null,true]
[null,null,null,null,null,null,"%",null,null,null,null,null,{"$f":"CONCATENATE('Project identification'!C15,\" project\")","v":"0 project"},null,null,null,10,true]
[null,{"$f":"M4","v":"0 project"},null,null,null,null,10,null,{"$f":"G5*J248/100","v":0},null,null,null,null,null,{"$f":"IF(M7=\"Soft\",15,10)","v":10},null,15,true]
[null,"TOTAL",null,null,null,null,null,null,0,null,null,null,null,null,null,null,null,true]
[null,null,null,null,null,null,null,null,null,null,null,null,{"$f":"'Project identification'!C15","v":0},null,null,null,null,true]
[null,"BL2 - OFFICE AND ADMINISTRATIVE COSTS",null,null,null,null,"Flat rate",null,"TOTAL",null,null,null,null,null,null,null,null,true]
[null,null,null,null,null,null,"%",null,null,null,null,null,null,null,null,null,2,true]
[null,{"$f":"M4","v":"0 project"},null,null,null,null,null,null,{"$f":"G10*I5/100","v":0},null,null,null,null,null,{"$f":"IF(M7=\"Soft\",5,2)","v":2},null,5,true]
[null,"TOTAL",null,null,null,null,null,null,0,null,null,null,null,null,null,null,null,true]
[null,null,null,null,null,null,null,null,null,null,null,null,null,null,null,null,null,true]
[null,"BL3 - TRAVEL AND ACCOMMODATION","Unit","Expenditures in the eligible area",null,null,"Expenditures outside of the eligible area",null,null,"TOTAL",null,null,null,null,null,null,null,true]
[null,null,null,"Units","Unit rate","TOTAL","Units","Unit rate","TOTAL",null,null,null,null,null,null,null,null,true]
[null,"3.1 Travel costs",null,null,null,{"$f":"SUM(F16:F25)","v":0},null,null,{"$f":"SUM(I16:I25)","v":0},{"$f":"SUM(J16:J25)","v":0},null,null,null,null,null,null,null,true]
[null,null,null,null,null,{"$f":"ROUND(D16*E16,2)","v":0},null,null,{"$f":"ROUND(G16*H16,2)","v":0},{"$f":"F16+I16","v":0},null,null,{"$f":"ISBLANK(B16)","v":true},{"$f":"ISBLANK(C16)","v":true},true,true,{"$f":"M16+N16+O16+P16","v":4},{"$f":"IF(Q16=0,TRUE,FALSE)","v":false}]
[null,null,null,null,null,{"$f":"ROUND(D17*E17,2)","v":0},null,null,0,{"$f":"F17+I17","v":0},null,null,{"$f":"ISBLANK(B17)","v":true},true,true,true,{"$f":"M17+N17+O17+P17","v":4},{"$f":"IF(Q17=0,TRUE,FALSE)","v":false}]
[null,null,null,null,null,0,null,null,0,0,null,null,true,true,true,true,4,false]
[null,null,null,null,null,0,null,null,0,0,null,null,true,true,true,true,4,false]
[null,null,null,null,null,0,null,null,0,0,null,null,true,true,true,true,4,false]
[null,null,null,null,null,0,null,null,0,0,null,null,true,true,true,true,4,false]
[null,null,null,null,null,0,null,null,0,0,null,null,true,true,true,true,4,false]
[null,null,null,null,null,0,null,null,0,0,null,null,true,true,true,true,4,false]
[null,null,null,null,null,0,null,null,0,0,null,null,true,true,true,true,4,false]
[null,null,null,null,null,0,null,null,0,0,null,null,null,null,null,null,null,true]
[null,"3.2 Daily allowances",null,null,null,{"$f":"SUM(F27:F36)","v":0},null,null,{"$f":"SUM(I27:I36)","v":0},{"$f":"SUM(J27:J36)","v":0},null,null,null,null,null,null,null,true]
[null,null,null,null,null,{"$f":"ROUND(D27*E27,2)","v":0},null,null,{"$f":"ROUND(G27*H27,2)","v":0},{"$f":"F27+I27","v":0},null,null,{"$f":"ISBLANK(B27)","v":true},{"$f":"ISBLANK(C27)","v":true},true,true,{"$f":"M27+N27+O27+P27","v":4},{"$f":"IF(Q27=0,TRUE,FALSE)","v":false}]
[null,null,null,null,null,{"$f":"ROUND(D28*E28,2)","v":0},null,null,0,{"$f":"F28+I28","v":0},null,null,{"$f":"ISBLANK(B28)","v":true},true,true,true,{"$f":"M28+N28+O28+P28","v":4},{"$f":"IF(Q28=0,TRUE,FALSE)","v":false}]
[null,null,null,null,null,0,null,null,0,0,null,null,true,true,true,true,4,false]
[null,null,null,null,null,0,null,null,0,0,null,null,true,true,true,true,4,false]
[null,null,null,null,null,0,null,null,0,0,null,null,true,true,true,true,4,false]
[null,null,null,null,null,0,null,null,0,0,null,null,true,true,true,true,4,false]
[null,null,null,null,null,0,null,null,0,0,null,null,true,true,true,true,4,false]
[null,null,null,null,null,0,null,null,0,0,null,null,true,true,true,true,4,false]
[null,null,null,null,null,0,null,null,0,0,null,null,true,true,true,true,4,false]
[null,null,null,null,null,0,null,null,0,0,null,null,null,null,null,null,null,true]
[null,"3.3 Accommodation costs",null,null,null,{"$f":"SUM(F38:F47)","v":0},null,null,{"$f":"SUM(I38:I47)","v":0},{"$f":"SUM(J38:J47)","v":0},null,null,null,null,null,null,null,true]
[null,null,null,null,null,{"$f":"ROUND(D38*E38,2)","v":0},null,null,{"$f":"ROUND(G38*H38,2)","v":0},{"$f":"F38+I38","v":0},null,null,{"$f":"ISBLANK(B38)","v":true},{"$f":"ISBLANK(C38)","v":true},true,true,{"$f":"M38+N38+O38+P38","v":4},{"$f":"IF(Q38=0,TRUE,FALSE)","v":false}]
[null,null,null,null,null,{"$f":"ROUND(D39*E39,2)","v":0},null,null,0,{"$f":"F39+I39","v":0},null,null,{"$f":"ISBLANK(B39)","v":true},true,true,true,{"$f":"M39+N39+O39+P39","v":4},{"$f":"IF(Q39=0,TRUE,FALSE)","v":false}]
[null,null,null,null,null,0,null,null,0,0,null,null,true,true,true,true,4,false]
[null,null,null,null,null,0,null,null,0,0,null,null,true,true,true,true,4,false]
[null,null,null,null,null,0,null,null,0,0,null,null,true,true,true,true,4,false]
[null,null,null,null,null,0,null,null,0,0,null,null,true,true,true,true,4,false]
[null,null,null,null,null,0,null,null,0,0,null,null,true,true,true,true,4,false]
[null,null,null,null,null,0,null,null,0,0,null,null,true,true,true,true,4,false]
[null,null,null,null,null,0,null,null,0,0,null,null,true,true,true,true,4,false]
[null,null,null,null,null,0,null,null,0,0,null,null,null,null,null,null,null,true]
[null,"TOTAL",null,null,null,{"$f":"F37+F26+F15","v":0},null,null,{"$f":"I37+I26+I15","v":0},{"$f":"J37+J26+J15","v":0},null,null,null,null,null,null,null,true]
[null,null,null,null,null,null,null,null,null,null,null,null,null,null,null,null,null,true]
[null,"BL4 - EXTERNAL EXPERTISE AND SERVICES COSTS","Unit","Expenditures in the eligible area",null,null,"Expenditures outside of the eligible area",null,null,"TOTAL",null,null,null,null,null,null,null,true]
[null,null,null,"Units","Unit rate","TOTAL","Units","Unit rate","TOTAL",null,null,null,null,null,null,null,null,true]
[null,"4.1 Rent of hall",null,null,null,{"$f":"SUM(F53:F62)","v":0},null,null,{"$f":"SUM(I53:I62)","v":0},{"$f":"SUM(J53:J62)","v":0},null,null,null,null,null,null,null,true]
[null,null,null,null,null,{"$f":"ROUND(D53*E53,2)","v":0},null,null,{"$f":"ROUND(G53*H53,2)","v":0},{"$f":"F53+I53","v":0},null,null,{"$f":"ISBLANK(B53)","v":true},{"$f":"ISBLANK(C53)","v":true},true,true,{"$f":"M53+N53+O53+P53","v":4},{"$f":"IF(Q53=0,TRUE,FALSE)","v":false}]
[null,null,null,null,null,{"$f":"ROUND(D54*E54,2)","v":0},null,null,0,{"$f":"F54+I54","v":0},null,null,{"$f":"ISBLANK(B54)","v":true},true,true,true,{"$f":"M54+N54+O54+P54","v":4},{"$f":"IF(Q54=0,TRUE,FALSE)","v":false}]
[null,null,null,null,null,0,null,null,0,0,null,null,true,true,true,true,4,false]
[null,null,null,null,null,0,null,null,0,0,null,null,true,true,true,true,4,false]
[null,null,null,null,null,0,null,null,0,0,null,null,true,true,true,true,4,false]
[null,null,null,null,null,0,null,null,0,0,null,null,true,true,true,true,4,false]
[null,null,null,null,null,0,null,null,0,0,null,null,true,true,true,true,4,false]
[null,null,null,null,null,0,null,null,0,0,null,null,true,true,true,true,4,false]
[null,null,null,null,null,0,null,null,0,0,null,null,true,true,true,true,4,false]
[null,null,null,null,null,0,null,null,0,0,null,null,null,null,null,null,null,true]
[null,"4.2 Rent of equipment",null,null,null,{"$f":"SUM(F64:F73)","v":0},null,null,{"$f":"SUM(I64:I73)","v":0},{"$f":"SUM(J64:J73)","v":0},null,null,null,null,null,null,null,true]
[null,null,null,null,null,{"$f":"ROUND(D64*E64,2)","v":0},null,null,{"$f":"ROUND(G64*H64,2)","v":0},{"$f":"F64+I64","v":0},null,null,{"$f":"ISBLANK(B64)","v":true},{"$f":"ISBLANK(C64)","v":true},true,true,{"$f":"M64+N64+O64+P64","v":4},{"$f":"IF(Q64=0,TRUE,FALSE)","v":false}]
[null,null,null,null,null,{"$f":"ROUND(D65*E65,2)","v":0},null,null,0,{"$f":"F65+I65","v":0},null,null,{"$f":"ISBLANK(B65)","v":true},true,true,true,{"$f":"M65+N65+O65+P65","v":4},{"$f":"IF(Q65=0,TRUE,FALSE)","v":false}]
[null,null,null,null,null,0,null,null,0,0,null,null,true,true,true,true,4,false]
[null,null,null,null,null,0,null,null,0,0,null,null,true,true,true,true,4,false]
[null,null,null,null,null,0,null,null,0,0,null,null,true,true,true,true,4,false]
[null,null,null,null,null,0,null,null,0,0,null,null,true,true,true,true,4,false]
[null,null,null,null,null,0,null,null,0,0,null,null,true,true,true,true,4,false]
[null,null,null,null,null,0,null,null,0,0,null,null,true,true,true,true,4,false]
[null,null,null,null,null,0,null,null,0,0,null,null,true,true,true,true,4,false]
[null,null,null,null,null,0,null,null,0,0,null,null,null,null,null,null,null,true]
[null,"4.3 Coffee breaks …..",null,null,null,{"$f":"SUM(F75:F84)","v":0},null,null,{"$f":"SUM(I75:I84)","v":0},{"$f":"SUM(J75:J84)","v":0},null,null,null,null,null,null,null,true]
[null,null,null,null,null,{"$f":"ROUND(D75*E75,2)","v":0},null,null,{"$f":"ROUND(G75*H75,2)","v":0},{"$f":"F75+I75","v":0},null,null,{"$f":"ISBLANK(B75)","v":true},{"$f":"ISBLANK(C75)","v":true},true,true,{"$f":"M75+N75+O75+P75","v":4},{"$f":"IF(Q75=0,TRUE,FALSE)","v":false}]
[null,null,null,null,null,{"$f":"ROUND(D76*E76,2)","v":0},null,null,0,{"$f":"F76+I76","v":0},null,null,{"$f":"ISBLANK(B76)","v":true},true,true,true,{"$f":"M76+N76+O76+P76","v":4},{"$f":"IF(Q76=0,TRUE,FALSE)","v":false}]
[null,null,null,null,null,0,null,null,0,0,null,null,true,true,true,true,4,false]
[null,null,null,null,null,0,null,null,0,0,null,null,true,true,true,true,4,false]
[null,null,null,null,null,0,null,null,0,0,null,null,true,true,true,true,4,false]
[null,null,null,null,null,0,null,null,0,0,null,null,true,true,true,true,4,false]
[null,null,null,null,null,0,null,null,0,0,null,null,true,true,true,true,4,false]
[null,null,null,null,null,0,null,null,0,0,null,null,true,true,true,true,4,false]
[null,null,null,null,null,0,null,null,0,0,null,null,true,true,true,true,4,false]
[null,null,null,null,null,0,null,null,0,0,null,null,null,null,null,null,null,true]
[null,"4.4 Preparation of materials",null,null,null,{"$f":"SUM(F86:F95)","v":0},null,null,{"$f":"SUM(I86:I95)","v":0},{"$f":"SUM(J86:J95)","v":0},null,null,null,null,null,null,null,true]
[null,null,null,null,null,{"$f":"ROUND(D86*E86,2)","v":0},null,null,{"$f":"ROUND(G86*H86,2)","v":0},{"$f":"F86+I86","v":0},null,null,{"$f":"ISBLANK(B86)","v":true},{"$f":"ISBLANK(C86)","v":true},true,true,{"$f":"M86+N86+O86+P86","v":4},{"$f":"IF(Q86=0,TRUE,FALSE)","v":false}]
[null,null,null,null,null,{"$f":"ROUND(D87*E87,2)","v":0},null,null,0,{"$f":"F87+I87","v":0},null,null,{"$f":"ISBLANK(B87)","v":true},true,true,true,{"$f":"M87+N87+O87+P87","v":4},{"$f":"IF(Q87=0,TRUE,FALSE)","v":false}]
[null,null,null,null,null,0,null,null,0,0,null,null,true,true,true,true,4,false]
[null,null,null,null,null,0,null,null,0,0,null,null,true,true,true,true,4,false]
[null,null,null,null,null,0,null,null,0,0,null,null,true,true,true,true,4,false]
[null,null,null,null,null,0,null,null,0,0,null,null,true,true,true,true,4,false]
[null,null,null,null,null,0,null,null,0,0,null,null,true,true,true,true,4,false]
[null,null,null,null,null,0,null,null,0,0,null,null,true,true,true,true,4,false]
[null,null,null,null,null,0,null,null,0,0,null,null,true,true,true,true,4,false]
[null,null,null,null,null,0,null,null,0,0,null,null,null,null,null,null,null,true]
[null,"4.5 Consumables",null,null,null,{"$f":"SUM(F97:F106)","v":0},null,null,{"$f":"SUM(I97:I106)","v":0},{"$f":"SUM(J97:J106)","v":0},null,null,null,null,null,null,null,true]
[null,null,null,null,null,{"$f":"ROUND(D97*E97,2)","v":0},null,null,{"$f":"ROUND(G97*H97,2)","v":0},{"$f":"F97+I97","v":0},null,null,{"$f":"ISBLANK(B97)","v":true},{"$f":"ISBLANK(C97)","v":true},true,true,{"$f":"M97+N97+O97+P97","v":4},{"$f":"IF(Q97=0,TRUE,FALSE)","v":false}]
[null,null,null,null,null,{"$f":"ROUND(D98*E98,2)","v":0},null,null,0,{"$f":"F98+I98","v":0},null,null,{"$f":"ISBLANK(B98)","v":true},true,true,true,{"$f":"M98+N98+O98+P98","v":4},{"$f":"IF(Q98=0,TRUE,FALSE)","v":false}]
[null,null,null,null,null,0,null,null,0,0,null,null,true,true,true,true,4,false]
[null,null,null,null,null,0,null,null,0,0,null,null,true,true,true,true,4,false]
[null,null,null,null,null,0,null,null,0,0,null,null,true,true,true,true,4,false]
[null,null,null,null,null,0,null,null,0,0,null,null,true,true,true,true,4,false]
[null,null,null,null,null,0,null,null,0,0,null,null,true,true,true,true,4,false]
[null,null,null,null,null,0,null,null,0,0,null,null,true,true,true,true,4,false]
[null,null,null,null,null,0,null,null,0,0,null,null,true,true,true,true,4,false]
[null,null,null,null,null,0,null,null,0,0,null,null,null,null,null,null,null,true]
[null,"4.6 Rent of vehicle for event",null,null,null,{"$f":"SUM(F108:F117)","v":0},null,null,{"$f":"SUM(I108:I117)","v":0},{"$f":"SUM(J108:J117)","v":0},null,null,null,null,null,null,null,true]
[null,null,null,null,null,{"$f":"ROUND(D108*E108,2)","v":0},null,null,{"$f":"ROUND(G108*H108,2)","v":0},{"$f":"F108+I108","v":0},null,null,{"$f":"ISBLANK(B108)","v":true},{"$f":"ISBLANK(C108)","v":true},true,true,{"$f":"M108+N108+O108+P108","v":4},{"$f":"IF(Q108=0,TRUE,FALSE)","v":false}]
[null,null,null,null,null,{"$f":"ROUND(D109*E109,2)","v":0},null,null,0,{"$f":"F109+I109","v":0},null,null,{"$f":"ISBLANK(B109)","v":true},true,true,true,{"$f":"M109+N109+O109+P109","v":4},{"$f":"IF(Q109=0,TRUE,FALSE)","v":false}]
[null,null,null,null,null,0,null,null,0,0,null,null,true,true,true,true,4,false]
[null,null,null,null,null,0,null,null,0,0,null,null,true,true,true,true,4,false]
[null,null,null,null,null,0,null,null,0,0,null,null,true,true,true,true,4,false]
[null,null,null,null,null,0,null,null,0,0,null,null,true,true,true,true,4,false]
[null,null,null,null,null,0,null,null,0,0,null,null,true,true,true,true,4,false]
[null,null,null,null,null,0,null,null,0,0,null,null,true,true,true,true,4,false]
[null,null,null,null,null,0,null,null,0,0,null,null,true,true,true,true,4,false]
[null,null,null,null,null,0,null,null,0,0,null,null,null,null,null,null,null,true]
[null,"4.7 Accommodations for participants in the events ",null,null,null,{"$f":"SUM(F119:F128)","v":0},null,null,{"$f":"SUM(I119:I128)","v":0},{"$f":"SUM(J119:J128)","v":0},null,null,null,null,null,null,null,true]
[null,null,null,null,null,{"$f":"ROUND(D119*E119,2)","v":0},null,null,{"$f":"ROUND(G119*H119,2)","v":0},{"$f":"F119+I119","v":0},null,null,{"$f":"ISBLANK(B119)","v":true},{"$f":"ISBLANK(C119)","v":true},true,true,{"$f":"M119+N119+O119+P119","v":4},{"$f":"IF(Q119=0,TRUE,FALSE)","v":false}]
[null,null,null,null,null,{"$f":"ROUND(D120*E120,2)","v":0},null,null,0,{"$f":"F120+I120","v":0},null,null,{"$f":"ISBLANK(B120)","v":true},true,true,true,{"$f":"M120+N120+O120+P120","v":4},{"$f":"IF(Q120=0,TRUE,FALSE)","v":false}]
[null,null,null,null,null,0,null,null,0,0,null,null,true,true,true,true,4,false]
[null,null,null,null,null,0,null,null,0,0,null,null,true,true,true,true,4,false]
[null,null,null,null,null,0,null,null,0,0,null,null,true,true,true,true,4,false]
[null,null,null,null,null,0,null,null,0,0,null,null,true,true,true,true,4,false]
[null,null,null,null,null,0,null,null,0,0,null,null,true,true,true,true,4,false]
[null,null,null,null,null,0,null,null,0,0,null,null,true,true,true,true,4,false]
[null,null,null,null,null,0,null,null,0,0,null,null,true,true,true,true,4,false]
[null,null,null,null,null,0,null,null,0,0,null,null,null,null,null,null,null,true]
[null,"4.8 Purchase of advertising materials",null,null,null,{"$f":"SUM(F130:F139)","v":0},null,null,{"$f":"SUM(I130:I139)","v":0},{"$f":"SUM(J130:J139)","v":0},null,null,null,null,null,null,null,true]
[null,null,null,null,null,{"$f":"ROUND(D130*E130,2)","v":0},null,null,{"$f":"ROUND(G130*H130,2)","v":0},{"$f":"F130+I130","v":0},null,null,{"$f":"ISBLANK(B130)","v":true},{"$f":"ISBLANK(C130)","v":true},true,true,{"$f":"M130+N130+O130+P130","v":4},{"$f":"IF(Q130=0,TRUE,FALSE)","v":false}]
[null,null,null,null,null,{"$f":"ROUND(D131*E131,2)","v":0},null,null,0,{"$f":"F131+I131","v":0},null,null,{"$f":"ISBLANK(B131)","v":true},true,true,true,{"$f":"M131+N131+O131+P131","v":4},{"$f":"IF(Q131=0,TRUE,FALSE)","v":false}]
[null,null,null,null,null,0,null,null,0,0,null,null,true,true,true,true,4,false]
[null,null,null,null,null,0,null,null,0,0,null,null,true,true,true,true,4,false]
[null,null,null,null,null,0,null,null,0,0,null,null,true,true,true,true,4,false]
[null,null,null,null,null,0,null,null,0,0,null,null,true,true,true,true,4,false]
[null,null,null,null,null,0,null,null,0,0,null,null,true,true,true,true,4,false]
[null,null,null,null,null,0,null,null,0,0,null,null,true,true,true,true,4,false]
[null,null,null,null,null,0,null,null,0,0,null,null,true,true,true,true,4,false]
[null,null,null,null,null,0,null,null,0,0,null,null,null,null,null,null,null,true]
[null,"4.9 Elaboration, design etc.",null,null,null,{"$f":"SUM(F141:F150)","v":0},null,null,{"$f":"SUM(I141:I150)","v":0},{"$f":"SUM(J141:J150)","v":0},null,null,null,null,null,null,null,true]
[null,null,null,null,null,{"$f":"ROUND(D141*E141,2)","v":0},null,null,{"$f":"ROUND(G141*H141,2)","v":0},{"$f":"F141+I141","v":0},null,null,{"$f":"ISBLANK(B141)","v":true},{"$f":"ISBLANK(C141)","v":true},true,true,{"$f":"M141+N141+O141+P141","v":4},{"$f":"IF(Q141=0,TRUE,FALSE)","v":false}]
[null,null,null,null,null,{"$f":"ROUND(D142*E142,2)","v":0},null,null,0,{"$f":"F142+I142","v":0},null,null,{"$f":"ISBLANK(B142)","v":true},true,true,true,{"$f":"M142+N142+O142+P142","v":4},{"$f":"IF(Q142=0,TRUE,FALSE)","v":false}]
[null,null,null,null,null,0,null,null,0,0,null,null,true,true,true,true,4,false]
[null,null,null,null,null,0,null,null,0,0,null,null,true,true,true,true,4,false]
[null,null,null,null,null,0,null,null,0,0,null,null,true,true,true,true,4,false]
[null,null,null,null,null,0,null,null,0,0,null,null,true,true,true,true,4,false]
[null,null,null,null,null,0,null,null,0,0,null,null,true,true,true,true,4,false]
[null,null,null,null,null,0,null,null,0,0,null,null,true,true,true,true,4,false]
[null,null,null,null,null,0,null,null,0,0,null,null,true,true,true,true,4,false]
[null,null,null,null,null,0,null,null,0,0,null,null,null,null,null,null,null,true]
[null,"4.10 Publications in mass-media",null,null,null,{"$f":"SUM(F152:F161)","v":0},null,null,{"$f":"SUM(I152:I161)","v":0},{"$f":"SUM(J152:J161)","v":0},null,null,null,null,null,null,null,true]
[null,null,null,null,null,{"$f":"ROUND(D152*E152,2)","v":0},null,null,{"$f":"ROUND(G152*H152,2)","v":0},{"$f":"F152+I152","v":0},null,null,{"$f":"ISBLANK(B152)","v":true},{"$f":"ISBLANK(C152)","v":true},true,true,{"$f":"M152+N152+O152+P152","v":4},{"$f":"IF(Q152=0,TRUE,FALSE)","v":false}]
[null,null,null,null,null,{"$f":"ROUND(D153*E153,2)","v":0},null,null,0,{"$f":"F153+I153","v":0},null,null,{"$f":"ISBLANK(B153)","v":true},true,true,true,{"$f":"M153+N153+O153+P153","v":4},{"$f":"IF(Q153=0,TRUE,FALSE)","v":false}]
[null,null,null,null,null,0,null,null,0,0,null,null,true,true,true,true,4,false]
[null,null,null,null,null,0,null,null,0,0,null,null,true,true,true,true,4,false]
[null,null,null,null,null,0,null,null,0,0,null,null,true,true,true,true,4,false]
[null,null,null,null,null,0,null,null,0,0,null,null,true,true,true,true,4,false]
[null,null,null,null,null,0,null,null,0,0,null,null,true,true,true,true,4,false]
[null,null,null,null,null,0,null,null,0,0,null,null,true,true,true,true,4,false]
[null,null,null,null,null,0,null,null,0,0,null,null,true,true,true,true,4,false]
[null,null,null,null,null,0,null,null,0,0,null,null,null,null,null,null,null,true]
[null,"4.11 Consultancy, studies,designs etc.",null,null,null,{"$f":"SUM(F163:F172)","v":0},null,null,{"$f":"SUM(I163:I172)","v":0},{"$f":"SUM(J163:J172)","v":0},null,null,null,null,null,null,null,true]
[null,null,null,null,null,{"$f":"ROUND(D163*E163,2)","v":0},null,null,{"$f":"ROUND(G163*H163,2)","v":0},{"$f":"F163+I163","v":0},null,null,{"$f":"ISBLANK(B163)","v":true},{"$f":"ISBLANK(C163)","v":true},true,true,{"$f":"M163+N163+O163+P163","v":4},{"$f":"IF(Q163=0,TRUE,FALSE)","v":false}]
[null,null,null,null,null,{"$f":"ROUND(D164*E164,2)","v":0},null,null,0,{"$f":"F164+I164","v":0},null,null,{"$f":"ISBLANK(B164)","v":true},true,true,true,{"$f":"M164+N164+O164+P164","v":4},{"$f":"IF(Q164=0,TRUE,FALSE)","v":false}]
[null,null,null,null,null,0,null,null,0,0,null,null,true,true,true,true,4,false]
[null,null,null,null,null,0,null,null,0,0,null,null,true,true,true,true,4,false]
[null,null,null,null,null,0,null,null,0,0,null,null,true,true,true,true,4,false]
[null,null,null,null,null,0,null,null,0,0,null,null,true,true,true,true,4,false]
[null,null,null,null,null,0,null,null,0,0,null,null,true,true,true,true,4,false]
[null,null,null,null,null,0,null,null,0,0,null,null,true,true,true,true,4,false]
[null,null,null,null,null,0,null,null,0,0,null,null,true,true,true,true,4,false]
[null,null,null,null,null,0,null,null,0,0,null,null,null,null,null,null,null,true]
[null,"4.12 Authorizations, certificates",null,null,null,{"$f":"SUM(F174:F183)","v":0},null,null,{"$f":"SUM(I174:I183)","v":0},{"$f":"SUM(J174:J183)","v":0},null,null,null,null,null,null,null,true]
[null,null,null,null,null,{"$f":"ROUND(D174*E174,2)","v":0},null,null,{"$f":"ROUND(G174*H174,2)","v":0},{"$f":"F174+I174","v":0},null,null,{"$f":"ISBLANK(B174)","v":true},{"$f":"ISBLANK(C174)","v":true},true,true,{"$f":"M174+N174+O174+P174","v":4},{"$f":"IF(Q174=0,TRUE,FALSE)","v":false}]
[null,null,null,null,null,{"$f":"ROUND(D175*E175,2)","v":0},null,null,0,{"$f":"F175+I175","v":0},null,null,{"$f":"ISBLANK(B175)","v":true},true,true,true,{"$f":"M175+N175+O175+P175","v":4},{"$f":"IF(Q175=0,TRUE,FALSE)","v":false}]
[null,null,null,null,null,0,null,null,0,0,null,null,true,true,true,true,4,false]
[null,null,null,null,null,0,null,null,0,0,null,null,true,true,true,true,4,false]
[null,null,null,null,null,0,null,null,0,0,null,null,true,true,true,true,4,false]
[null,null,null,null,null,0,null,null,0,0,null,null,true,true,true,true,4,false]
[null,null,null,null,null,0,null,null,0,0,null,null,true,true,true,true,4,false]
[null,null,null,null,null,0,null,null,0,0,null,null,true,true,true,true,4,false]
[null,null,null,null,null,0,null,null,0,0,null,null,true,true,true,true,4,false]
[null,null,null,null,null,0,null,null,0,0,null,null,null,null,null,null,null,true]
[null,"4.13 Interpreters, lecturers, trainers",null,null,null,{"$f":"SUM(F185:F194)","v":0},null,null,{"$f":"SUM(I185:I194)","v":0},{"$f":"SUM(J185:J194)","v":0},null,null,null,null,null,null,null,true]
[null,null,null,null,null,{"$f":"ROUND(D185*E185,2)","v":0},null,null,{"$f":"ROUND(G185*H185,2)","v":0},{"$f":"F185+I185","v":0},null,null,{"$f":"ISBLANK(B185)","v":true},{"$f":"ISBLANK(C185)","v":true},true,true,{"$f":"M185+N185+O185+P185","v":4},{"$f":"IF(Q185=0,TRUE,FALSE)","v":false}]
[null,null,null,null,null,{"$f":"ROUND(D186*E186,2)","v":0},null,null,0,{"$f":"F186+I186","v":0},null,null,{"$f":"ISBLANK(B186)","v":true},true,true,true,{"$f":"M186+N186+O186+P186","v":4},{"$f":"IF(Q186=0,TRUE,FALSE)","v":false}]
[null,null,null,null,null,0,null,null,0,0,null,null,true,true,true,true,4,false]
[null,null,null,null,null,0,null,null,0,0,null,null,true,true,true,true,4,false]
[null,null,null,null,null,0,null,null,0,0,null,null,true,true,true,true,4,false]
[null,null,null,null,null,0,null,null,0,0,null,null,true,true,true,true,4,false]
[null,null,null,null,null,0,null,null,0,0,null,null,true,true,true,true,4,false]
[null,null,null,null,null,0,null,null,0,0,null,null,true,true,true,true,4,false]
[null,null,null,null,null,0,null,null,0,0,null,null,true,true,true,true,4,false]
[null,null,null,null,null,0,null,null,0,0,null,null,null,null,null,null,null,true]
[null,"4.14 Others",null,null,null,{"$f":"SUM(F196:F205)","v":0},null,null,{"$f":"SUM(I196:I205)","v":0},{"$f":"SUM(J196:J205)","v":0},null,null,null,null,null,null,null,true]
[null,null,null,null,null,{"$f":"ROUND(D196*E196,2)","v":0},null,null,{"$f":"ROUND(G196*H196,2)","v":0},{"$f":"F196+I196","v":0},null,null,{"$f":"ISBLANK(B196)","v":true},{"$f":"ISBLANK(C196)","v":true},true,true,{"$f":"M196+N196+O196+P196","v":4},{"$f":"IF(Q196=0,TRUE,FALSE)","v":false}]
[null,null,null,null,null,{"$f":"ROUND(D197*E197,2)","v":0},null,null,0,{"$f":"F197+I197","v":0},null,null,{"$f":"ISBLANK(B197)","v":true},true,true,true,{"$f":"M197+N197+O197+P197","v":4},{"$f":"IF(Q197=0,TRUE,FALSE)","v":false}]
[null,null,null,null,null,0,null,null,0,0,null,null,true,true,true,true,4,false]
[null,null,null,null,null,0,null,null,0,0,null,null,true,true,true,true,4,false]
[null,null,null,null,null,0,null,null,0,0,null,null,true,true,true,true,4,false]
[null,null,null,null,null,0,null,null,0,0,null,null,true,true,true,true,4,false]
[null,null,null,null,null,0,null,null,0,0,null,null,true,true,true,true,4,false]
[null,null,null,null,null,0,null,null,0,0,null,null,true,true,true,true,4,false]
[null,null,null,null,null,0,null,null,0,0,null,null,true,true,true,true,4,false]
[null,null,null,null,null,0,null,null,0,0,null,null,null,null,null,null,null,true]
[null,"TOTAL",null,null,null,{"$f":"F195+F184+F173+F162+F151+F140+F129+F118+F107+F96+F85+F74+F63+F52","v":0},null,null,{"$f":"I195+I184+I173+I162+I151+I140+I129+I118+I107+I96+I85+I74+I63+I52","v":0},{"$f":"J195+J184+J173+J162+J151+J140+J129+J118+J107+J96+J85+J74+J63+J52","v":0},null,null,null,null,null,null,null,true]
[null,null,null,null,null,null,null,null,null,null,null,null,null,null,null,null,null,true]
[null,"BL5 - EQUIPMENT AND WORKS","Unit","Expenditures in the eligible area",null,null,"N/A",null,null,"TOTAL",null,null,null,null,null,null,null,true]
[null,null,null,"Units","Unit rate","TOTAL","Units","Unit rate","TOTAL",null,null,null,null,null,null,null,null,true]
[null,"5.1 Small scale construction",null,null,null,{"$f":"SUM(F211:F220)","v":0},null,null,{"$f":"SUM(I211:I220)","v":0},{"$f":"SUM(J211:J220)","v":0},null,null,null,null,null,null,null,true]
[null,null,null,null,null,{"$f":"ROUND(D211*E211,2)","v":0},null,null,{"$f":"ROUND(G211*H211,2)","v":0},{"$f":"F211+I211","v":0},null,null,{"$f":"ISBLANK(B211)","v":true},{"$f":"ISBLANK(C211)","v":true},true,true,{"$f":"M211+N211+O211+P211","v":4},{"$f":"IF(Q211=0,TRUE,FALSE)","v":false}]
[null,null,null,null,null,{"$f":"ROUND(D212*E212,2)","v":0},null,null,0,{"$f":"F212+I212","v":0},null,null,{"$f":"ISBLANK(B212)","v":true},true,true,true,{"$f":"M212+N212+O212+P212","v":4},{"$f":"IF(Q212=0,TRUE,FALSE)","v":false}]
[null,null,null,null,null,0,null,null,0,0,null,null,true,true,true,true,4,false]
[null,null,null,null,null,0,null,null,0,0,null,null,true,true,true,true,4,false]
[null,null,null,null,null,0,null,null,0,0,null,null,true,true,true,true,4,false]
[null,null,null,null,null,0,null,null,0,0,null,null,true,true,true,true,4,false]
[null,null,null,null,null,0,null,null,0,0,null,null,true,true,true,true,4,false]
[null,null,null,null,null,0,null,null,0,0,null,null,true,true,true,true,4,false]
[null,null,null,null,null,0,null,null,0,0,null,null,true,true,true,true,4,false]
[null,null,null,null,null,0,null,null,0,0,null,null,null,null,null,null,null,true]
[null,"5.2 Supply",null,null,null,{"$f":"SUM(F222:F231)","v":0},null,null,{"$f":"SUM(I222:I231)","v":0},{"$f":"SUM(J222:J231)","v":0},null,null,null,null,null,null,null,true]
[null,null,null,null,null,{"$f":"ROUND(D222*E222,2)","v":0},null,null,{"$f":"ROUND(G222*H222,2)","v":0},{"$f":"F222+I222","v":0},null,null,{"$f":"ISBLANK(B222)","v":true},{"$f":"ISBLANK(C222)","v":true},true,true,{"$f":"M222+N222+O222+P222","v":4},{"$f":"IF(Q222=0,TRUE,FALSE)","v":false}]
[null,null,null,null,null,{"$f":"ROUND(D223*E223,2)","v":0},null,null,0,{"$f":"F223+I223","v":0},null,null,{"$f":"ISBLANK(B223)","v":true},true,true,true,{"$f":"M223+N223+O223+P223","v":4},{"$f":"IF(Q223=0,TRUE,FALSE)","v":false}]
[null,null,null,null,null,0,null,null,0,0,null,null,true,true,true,true,4,false]
[null,null,null,null,null,0,null,null,0,0,null,null,true,true,true,true,4,false]
[null,null,null,null,null,0,null,null,0,0,null,null,true,true,true,true,4,false]
[null,null,null,null,null,0,null,null,0,0,null,null,true,true,true,true,4,false]
[null,null,null,null,null,0,null,null,0,0,null,null,true,true,true,true,4,false]
[null,null,null,null,null,0,null,null,0,0,null,null,true,true,true,true,4,false]
[null,null,null,null,null,0,null,null,0,0,null,null,true,true,true,true,4,false]
[null,null,null,null,null,0,null,null,0,0,null,null,null,null,null,null,null,true]
[null,"TOTAL",null,null,null,{"$f":"F221+F210","v":0},null,null,{"$f":"I221+I210","v":0},{"$f":"J221+J210","v":0},null,null,null,null,null,null,null,true]
[null,null,null,null,null,null,null,null,null,null,null,null,null,null,null,null,null,true]
[null,"BL6 - PROJECT PREPARATION","Unit","Expenditures in the eligible area",null,null,"N/A",null,null,"TOTAL",null,null,null,null,null,null,null,true]
[null,null,null,"Units","Unit rate","TOTAL","Units","Unit rate","TOTAL",null,null,null,null,null,null,null,null,true]
[null,null,null,null,null,{"$f":"ROUND(D236*E236,2)","v":0},null,null,{"$f":"ROUND(G236*H236,2)","v":0},{"$f":"F236+I236","v":0},null,null,{"$f":"ISBLANK(B236)","v":true},{"$f":"ISBLANK(C236)","v":true},true,true,{"$f":"M236+N236+O236+P236","v":4},{"$f":"IF(Q236=0,TRUE,FALSE)","v":false}]
[null,null,null,null,null,{"$f":"ROUND(D237*E237,2)","v":0},null,null,{"$f":"ROUND(G237*H237,2)","v":0},{"$f":"F237+I237","v":0},null,null,{"$f":"ISBLANK(B237)","v":true},true,true,true,{"$f":"M237+N237+O237+P237","v":4},{"$f":"IF(Q237=0,TRUE,FALSE)","v":false}]
[null,null,null,null,null,0,null,null,0,0,null,null,true,true,true,true,4,false]
[null,null,null,null,null,0,null,null,0,0,null,null,true,true,true,true,4,false]
[null,null,null,null,null,0,null,null,0,0,null,null,true,true,true,true,4,false]
[null,null,null,null,null,0,null,null,0,0,null,null,true,true,true,true,4,false]
[null,null,null,null,null,0,null,null,0,0,null,null,true,true,true,true,4,false]
[null,null,null,null,null,0,null,null,0,0,null,null,true,true,true,true,4,false]
[null,null,null,null,null,0,null,null,0,0,null,null,true,true,true,true,4,false]
[null,null,null,null,null,0,null,null,0,0,null,null,null,null,null,null,null,true]
[null,"TOTAL",null,null,null,{"$f":"SUM(F236:F245)","v":0},null,null,{"$f":"SUM(I236:I245)","v":0},{"$f":"SUM(J236:J245)","v":0},null,null,null,null,null,null,null,true]
[null,null,null,null,null,null,null,null,null,null,null,null,null,null,null,null,null,true]
[null,"Total direct project costs (BL3+BL4+BL5)",null,null,null,{"$f":"F48+F206+F232","v":0},null,null,{"$f":"I48+I206+I232","v":0},{"$f":"F248+I248","v":0},null,null,null,null,null,null,null,true]
[null,"TOTAL PROJECT COSTS",null,null,null,{"$f":"F248+F246+I5+I10","v":0},{"$f":"I246+I248","v":0},null,null,{"$f":"F249+G249","v":0},null,null,null,null,null,null,null,true]
[null,null,null,null,null,null,"Expenditures outside are above 20 %!"]

{"sheet":"T2-B(PP4)","index":13,"n_rows":250,"n_cols":18,"rows_kept":250,"cut":false,"hidden":true,"merged":[[5,1,5,7],[5,8,5,9],[7,1,8,5],[7,6,7,7],[7,8,8,9],[8,6,8,7],[2,1,3,5],[2,6,2,7],[2,8,3,9],[3,6,3,7],[4,1,4,5],[4,6,4,7],[4,8,4,9],[9,8,9,9],[10,1,10,7],[10,8,10,9],[12,1,13,1],[12,2,13,2],[12,3,12,5],[12,6,12,8],[12,9,13,9],[9,1,9,5],[9,6,9,7],[49,1,50,1],[49,2,50,2],[49,3,49,5],[49,6,49,8],[49,9,50,9],[205,1,205,4],[205,6,205,7],[207,1,208,1],[207,2,208,2],[207,3,207,5],[207,6,207,8],[207,9,208,9],[231,1,231,4],[231,6,231,7],[233,1,234,1],[233,2,234,2],[233,3,233,5],[233,6,233,8],[233,9,234,9],[245,1,245,4],[245,6,245,7],[247,1,247,4],[248,1,248,4],[248,6,248,8]]}
[null,"TABLE 2 - DETAILED BREAKDOWN OF BUDGET LINES - PP4",null,null,null,null,null,null,null,null,null,null,null,null,null,null,null,true]
[null,null,null,null,null,null,null,null,null,null,null,null,null,null,null,null,null,true]
[null,"BL1 - STAFF COSTS",null,null,null,null,"Flat rate",null,"TOTAL",null,null,null,null,null,null,null,null,true]
[null,null,null,null,null,null,"%",null,null,null,null,null,{"$f":"CONCATENATE('Project identification'!C15,\" project\")","v":"0 project"},null,null,null,10,true]
[null,{"$f":"M4","v":"0 project"},null,null,null,null,null,null,{"$f":"G5*J248/100","v":0},null,null,null,null,null,{"$f":"IF(M7=\"Soft\",15,10)","v":10},null,15,true]
[null,"TOTAL",null,null,null,null,null,null,0,null,null,null,null,null,null,null,null,true]
[null,null,null,null,null,null,null,null,null,null,null,null,{"$f":"'Project identification'!C15","v":0},null,null,null,null,true]
[null,"BL2 - OFFICE AND ADMINISTRATIVE COSTS",null,null,null,null,"Flat rate",null,"TOTAL",null,null,null,null,null,null,null,null,true]
[null,null,null,null,null,null,"%",null,null,null,null,null,null,null,null,null,2,true]
[null,{"$f":"M4","v":"0 project"},null,null,null,null,null,null,{"$f":"G10*I5/100","v":0},null,null,null,null,null,{"$f":"IF(M7=\"Soft\",5,2)","v":2},null,5,true]
[null,"TOTAL",null,null,null,null,null,null,0,null,null,null,null,null,null,null,null,true]
[null,null,null,null,null,null,null,null,null,null,null,null,null,null,null,null,null,true]
[null,"BL3 - TRAVEL AND ACCOMMODATION","Unit","Expenditures in the eligible area",null,null,"Expenditures outside of the eligible area",null,null,"TOTAL",null,null,null,null,null,null,null,true]
[null,null,null,"Units","Unit rate","TOTAL","Units","Unit rate","TOTAL",null,null,null,null,null,null,null,null,true]
[null,"3.1 Travel costs",null,null,null,{"$f":"SUM(F16:F25)","v":0},null,null,{"$f":"SUM(I16:I25)","v":0},{"$f":"SUM(J16:J25)","v":0},null,null,null,null,null,null,null,true]
[null,null,null,null,null,{"$f":"ROUND(D16*E16,2)","v":0},null,null,{"$f":"ROUND(G16*H16,2)","v":0},{"$f":"F16+I16","v":0},null,null,{"$f":"ISBLANK(B16)","v":true},{"$f":"ISBLANK(C16)","v":true},true,true,{"$f":"M16+N16+O16+P16","v":4},{"$f":"IF(Q16=0,TRUE,FALSE)","v":false}]
[null,null,null,null,null,{"$f":"ROUND(D17*E17,2)","v":0},null,null,0,{"$f":"F17+I17","v":0},null,null,{"$f":"ISBLANK(B17)","v":true},true,true,true,{"$f":"M17+N17+O17+P17","v":4},{"$f":"IF(Q17=0,TRUE,FALSE)","v":false}]
[null,null,null,null,null,0,null,null,0,0,null,null,true,true,true,true,4,false]
[null,null,null,null,null,0,null,null,0,0,null,null,true,true,true,true,4,false]
[null,null,null,null,null,0,null,null,0,0,null,null,true,true,true,true,4,false]
[null,null,null,null,null,0,null,null,0,0,null,null,true,true,true,true,4,false]
[null,null,null,null,null,0,null,null,0,0,null,null,true,true,true,true,4,false]
[null,null,null,null,null,0,null,null,0,0,null,null,true,true,true,true,4,false]
[null,null,null,null,null,0,null,null,0,0,null,null,true,true,true,true,4,false]
[null,null,null,null,null,0,null,null,0,0,null,null,null,null,null,null,null,true]
[null,"3.2 Daily allowances",null,null,null,{"$f":"SUM(F27:F36)","v":0},null,null,{"$f":"SUM(I27:I36)","v":0},{"$f":"SUM(J27:J36)","v":0},null,null,null,null,null,null,null,true]
[null,null,null,null,null,{"$f":"ROUND(D27*E27,2)","v":0},null,null,{"$f":"ROUND(G27*H27,2)","v":0},{"$f":"F27+I27","v":0},null,null,{"$f":"ISBLANK(B27)","v":true},{"$f":"ISBLANK(C27)","v":true},true,true,{"$f":"M27+N27+O27+P27","v":4},{"$f":"IF(Q27=0,TRUE,FALSE)","v":false}]
[null,null,null,null,null,{"$f":"ROUND(D28*E28,2)","v":0},null,null,0,{"$f":"F28+I28","v":0},null,null,{"$f":"ISBLANK(B28)","v":true},true,true,true,{"$f":"M28+N28+O28+P28","v":4},{"$f":"IF(Q28=0,TRUE,FALSE)","v":false}]
[null,null,null,null,null,0,null,null,0,0,null,null,true,true,true,true,4,false]
[null,null,null,null,null,0,null,null,0,0,null,null,true,true,true,true,4,false]
[null,null,null,null,null,0,null,null,0,0,null,null,true,true,true,true,4,false]
[null,null,null,null,null,0,null,null,0,0,null,null,true,true,true,true,4,false]
[null,null,null,null,null,0,null,null,0,0,null,null,true,true,true,true,4,false]
[null,null,null,null,null,0,null,null,0,0,null,null,true,true,true,true,4,false]
[null,null,null,null,null,0,null,null,0,0,null,null,true,true,true,true,4,false]
[null,null,null,null,null,0,null,null,0,0,null,null,null,null,null,null,null,true]
[null,"3.3 Accommodation costs",null,null,null,{"$f":"SUM(F38:F47)","v":0},null,null,{"$f":"SUM(I38:I47)","v":0},{"$f":"SUM(J38:J47)","v":0},null,null,null,null,null,null,null,true]
[null,null,null,null,null,{"$f":"ROUND(D38*E38,2)","v":0},null,null,{"$f":"ROUND(G38*H38,2)","v":0},{"$f":"F38+I38","v":0},null,null,{"$f":"ISBLANK(B38)","v":true},{"$f":"ISBLANK(C38)","v":true},true,true,{"$f":"M38+N38+O38+P38","v":4},{"$f":"IF(Q38=0,TRUE,FALSE)","v":false}]
[null,null,null,null,null,{"$f":"ROUND(D39*E39,2)","v":0},null,null,0,{"$f":"F39+I39","v":0},null,null,{"$f":"ISBLANK(B39)","v":true},true,true,true,{"$f":"M39+N39+O39+P39","v":4},{"$f":"IF(Q39=0,TRUE,FALSE)","v":false}]
[null,null,null,null,null,0,null,null,0,0,null,null,true,true,true,true,4,false]
[null,null,null,null,null,0,null,null,0,0,null,null,true,true,true,true,4,false]
[null,null,null,null,null,0,null,null,0,0,null,null,true,true,true,true,4,false]
[null,null,null,null,null,0,null,null,0,0,null,null,true,true,true,true,4,false]
[null,null,null,null,null,0,null,null,0,0,null,null,true,true,true,true,4,false]
[null,null,null,null,null,0,null,null,0,0,null,null,true,true,true,true,4,false]
[null,null,null,null,null,0,null,null,0,0,null,null,true,true,true,true,4,false]
[null,null,null,null,null,0,null,null,0,0,null,null,null,null,null,null,null,true]
[null,"TOTAL",null,null,null,{"$f":"F37+F26+F15","v":0},null,null,{"$f":"I37+I26+I15","v":0},{"$f":"J37+J26+J15","v":0},null,null,null,null,null,null,null,true]
[null,null,null,null,null,null,null,null,null,null,null,null,null,null,null,null,null,true]
[null,"BL4 - EXTERNAL EXPERTISE AND SERVICES COSTS","Unit","Expenditures in the eligible area",null,null,"Expenditures outside of the eligible area",null,null,"TOTAL",null,null,null,null,null,null,null,true]
[null,null,null,"Units","Unit rate","TOTAL","Units","Unit rate","TOTAL",null,null,null,null,null,null,null,null,true]
[null,"4.1 Rent of hall",null,null,null,{"$f":"SUM(F53:F62)","v":0},null,null,{"$f":"SUM(I53:I62)","v":0},{"$f":"SUM(J53:J62)","v":0},null,null,null,null,null,null,null,true]
[null,null,null,null,null,{"$f":"ROUND(D53*E53,2)","v":0},null,null,{"$f":"ROUND(G53*H53,2)","v":0},{"$f":"F53+I53","v":0},null,null,{"$f":"ISBLANK(B53)","v":true},{"$f":"ISBLANK(C53)","v":true},true,true,{"$f":"M53+N53+O53+P53","v":4},{"$f":"IF(Q53=0,TRUE,FALSE)","v":false}]
[null,null,null,null,null,{"$f":"ROUND(D54*E54,2)","v":0},null,null,0,{"$f":"F54+I54","v":0},null,null,{"$f":"ISBLANK(B54)","v":true},true,true,true,{"$f":"M54+N54+O54+P54","v":4},{"$f":"IF(Q54=0,TRUE,FALSE)","v":false}]
[null,null,null,null,null,0,null,null,0,0,null,null,true,true,true,true,4,false]
[null,null,null,null,null,0,null,null,0,0,null,null,true,true,true,true,4,false]
[null,null,null,null,null,0,null,null,0,0,null,null,true,true,true,true,4,false]
[null,null,null,null,null,0,null,null,0,0,null,null,true,true,true,true,4,false]
[null,null,null,null,null,0,null,null,0,0,null,null,true,true,true,true,4,false]
[null,null,null,null,null,0,null,null,0,0,null,null,true,true,true,true,4,false]
[null,null,null,null,null,0,null,null,0,0,null,null,true,true,true,true,4,false]
[null,null,null,null,null,0,null,null,0,0,null,null,null,null,null,null,null,true]
[null,"4.2 Rent of equipment",null,null,null,{"$f":"SUM(F64:F73)","v":0},null,null,{"$f":"SUM(I64:I73)","v":0},{"$f":"SUM(J64:J73)","v":0},null,null,null,null,null,null,null,true]
[null,null,null,null,null,{"$f":"ROUND(D64*E64,2)","v":0},null,null,{"$f":"ROUND(G64*H64,2)","v":0},{"$f":"F64+I64","v":0},null,null,{"$f":"ISBLANK(B64)","v":true},{"$f":"ISBLANK(C64)","v":true},true,true,{"$f":"M64+N64+O64+P64","v":4},{"$f":"IF(Q64=0,TRUE,FALSE)","v":false}]
[null,null,null,null,null,{"$f":"ROUND(D65*E65,2)","v":0},null,null,0,{"$f":"F65+I65","v":0},null,null,{"$f":"ISBLANK(B65)","v":true},true,true,true,{"$f":"M65+N65+O65+P65","v":4},{"$f":"IF(Q65=0,TRUE,FALSE)","v":false}]
[null,null,null,null,null,0,null,null,0,0,null,null,true,true,true,true,4,false]
[null,null,null,null,null,0,null,null,0,0,null,null,true,true,true,true,4,false]
[null,null,null,null,null,0,null,null,0,0,null,null,true,true,true,true,4,false]
[null,null,null,null,null,0,null,null,0,0,null,null,true,true,true,true,4,false]
[null,null,null,null,null,0,null,null,0,0,null,null,true,true,true,true,4,false]
[null,null,null,null,null,0,null,null,0,0,null,null,true,true,true,true,4,false]
[null,null,null,null,null,0,null,null,0,0,null,null,true,true,true,true,4,false]
[null,null,null,null,null,0,null,null,0,0,null,null,null,null,null,null,null,true]
[null,"4.3 Coffee breaks …..",null,null,null,{"$f":"SUM(F75:F84)","v":0},null,null,{"$f":"SUM(I75:I84)","v":0},{"$f":"SUM(J75:J84)","v":0},null,null,null,null,null,null,null,true]
[null,null,null,null,null,{"$f":"ROUND(D75*E75,2)","v":0},null,null,{"$f":"ROUND(G75*H75,2)","v":0},{"$f":"F75+I75","v":0},null,null,{"$f":"ISBLANK(B75)","v":true},{"$f":"ISBLANK(C75)","v":true},true,true,{"$f":"M75+N75+O75+P75","v":4},{"$f":"IF(Q75=0,TRUE,FALSE)","v":false}]
[null,null,null,null,null,{"$f":"ROUND(D76*E76,2)","v":0},null,null,0,{"$f":"F76+I76","v":0},null,null,{"$f":"ISBLANK(B76)","v":true},true,true,true,{"$f":"M76+N76+O76+P76","v":4},{"$f":"IF(Q76=0,TRUE,FALSE)","v":false}]
[null,null,null,null,null,0,null,null,0,0,null,null,true,true,true,true,4,false]
[null,null,null,null,null,0,null,null,0,0,null,null,true,true,true,true,4,false]
[null,null,null,null,null,0,null,null,0,0,null,null,true,true,true,true,4,false]
[null,null,null,null,null,0,null,null,0,0,null,null,true,true,true,true,4,false]
[null,null,null,null,null,0,null,null,0,0,null,null,true,true,true,true,4,false]
[null,null,null,null,null,0,null,null,0,0,null,null,true,true,true,true,4,false]
[null,null,null,null,null,0,null,null,0,0,null,null,true,true,true,true,4,false]
[null,null,null,null,null,0,null,null,0,0,null,null,null,null,null,null,null,true]
[null,"4.4 Preparation of materials",null,null,null,{"$f":"SUM(F86:F95)","v":0},null,null,{"$f":"SUM(I86:I95)","v":0},{"$f":"SUM(J86:J95)","v":0},null,null,null,null,null,null,null,true]
[null,null,null,null,null,{"$f":"ROUND(D86*E86,2)","v":0},null,null,{"$f":"ROUND(G86*H86,2)","v":0},{"$f":"F86+I86","v":0},null,null,{"$f":"ISBLANK(B86)","v":true},{"$f":"ISBLANK(C86)","v":true},true,true,{"$f":"M86+N86+O86+P86","v":4},{"$f":"IF(Q86=0,TRUE,FALSE)","v":false}]
[null,null,null,null,null,{"$f":"ROUND(D87*E87,2)","v":0},null,null,0,{"$f":"F87+I87","v":0},null,null,{"$f":"ISBLANK(B87)","v":true},true,true,true,{"$f":"M87+N87+O87+P87","v":4},{"$f":"IF(Q87=0,TRUE,FALSE)","v":false}]
[null,null,null,null,null,0,null,null,0,0,null,null,true,true,true,true,4,false]
[null,null,null,null,null,0,null,null,0,0,null,null,true,true,true,true,4,false]
[null,null,null,null,null,0,null,null,0,0,null,null,true,true,true,true,4,false]
[null,null,null,null,null,0,null,null,0,0,null,null,true,true,true,true,4,false]
[null,null,null,null,null,0,null,null,0,0,null,null,true,true,true,true,4,false]
[null,null,null,null,null,0,null,null,0,0,null,null,true,true,true,true,4,false]
[null,null,null,null,null,0,null,null,0,0,null,null,true,true,true,true,4,false]
[null,null,null,null,null,0,null,null,0,0,null,null,null,null,null,null,null,true]
[null,"4.5 Consumables",null,null,null,{"$f":"SUM(F97:F106)","v":0},null,null,{"$f":"SUM(I97:I106)","v":0},{"$f":"SUM(J97:J106)","v":0},null,null,null,null,null,null,null,true]
[null,null,null,null,null,{"$f":"ROUND(D97*E97,2)","v":0},null,null,{"$f":"ROUND(G97*H97,2)","v":0},{"$f":"F97+I97","v":0},null,null,{"$f":"ISBLANK(B97)","v":true},{"$f":"ISBLANK(C97)","v":true},true,true,{"$f":"M97+N97+O97+P97","v":4},{"$f":"IF(Q97=0,TRUE,FALSE)","v":false}]
[null,null,null,null,null,{"$f":"ROUND(D98*E98,2)","v":0},null,null,0,{"$f":"F98+I98","v":0},null,null,{"$f":"ISBLANK(B98)","v":true},true,true,true,{"$f":"M98+N98+O98+P98","v":4},{"$f":"IF(Q98=0,TRUE,FALSE)","v":false}]
[null,null,null,null,null,0,null,null,0,0,null,null,true,true,true,true,4,false]
[null,null,null,null,null,0,null,null,0,0,null,null,true,true,true,true,4,false]
[null,null,null,null,null,0,null,null,0,0,null,null,true,true,true,true,4,false]
[null,null,null,null,null,0,null,null,0,0,null,null,true,true,true,true,4,false]
[null,null,null,null,null,0,null,null,0,0,null,null,true,true,true,true,4,false]
[null,null,null,null,null,0,null,null,0,0,null,null,true,true,true,true,4,false]
[null,null,null,null,null,0,null,null,0,0,null,null,true,true,true,true,4,false]
[null,null,null,null,null,0,null,null,0,0,null,null,null,null,null,null,null,true]
[null,"4.6 Rent of vehicle for event",null,null,null,{"$f":"SUM(F108:F117)","v":0},null,null,{"$f":"SUM(I108:I117)","v":0},{"$f":"SUM(J108:J117)","v":0},null,null,null,null,null,null,null,true]
[null,null,null,null,null,{"$f":"ROUND(D108*E108,2)","v":0},null,null,{"$f":"ROUND(G108*H108,2)","v":0},{"$f":"F108+I108","v":0},null,null,{"$f":"ISBLANK(B108)","v":true},{"$f":"ISBLANK(C108)","v":true},true,true,{"$f":"M108+N108+O108+P108","v":4},{"$f":"IF(Q108=0,TRUE,FALSE)","v":false}]
[null,null,null,null,null,{"$f":"ROUND(D109*E109,2)","v":0},null,null,0,{"$f":"F109+I109","v":0},null,null,{"$f":"ISBLANK(B109)","v":true},true,true,true,{"$f":"M109+N109+O109+P109","v":4},{"$f":"IF(Q109=0,TRUE,FALSE)","v":false}]
[null,null,null,null,null,0,null,null,0,0,null,null,true,true,true,true,4,false]
[null,null,null,null,null,0,null,null,0,0,null,null,true,true,true,true,4,false]
[null,null,null,null,null,0,null,null,0,0,null,null,true,true,true,true,4,false]
[null,null,null,null,null,0,null,null,0,0,null,null,true,true,true,true,4,false]
[null,null,null,null,null,0,null,null,0,0,null,null,true,true,true,true,4,false]
[null,null,null,null,null,0,null,null,0,0,null,null,true,true,true,true,4,false]
[null,null,null,null,null,0,null,null,0,0,null,null,true,true,true,true,4,false]
[null,null,null,null,null,0,null,null,0,0,null,null,null,null,null,null,null,true]
[null,"4.7 Accommodations for participants in the events ",null,null,null,{"$f":"SUM(F119:F128)","v":0},null,null,{"$f":"SUM(I119:I128)","v":0},{"$f":"SUM(J119:J128)","v":0},null,null,null,null,null,null,null,true]
[null,null,null,null,null,{"$f":"ROUND(D119*E119,2)","v":0},null,null,{"$f":"ROUND(G119*H119,2)","v":0},{"$f":"F119+I119","v":0},null,null,{"$f":"ISBLANK(B119)","v":true},{"$f":"ISBLANK(C119)","v":true},true,true,{"$f":"M119+N119+O119+P119","v":4},{"$f":"IF(Q119=0,TRUE,FALSE)","v":false}]
[null,null,null,null,null,{"$f":"ROUND(D120*E120,2)","v":0},null,null,0,{"$f":"F120+I120","v":0},null,null,{"$f":"ISBLANK(B120)","v":true},true,true,true,{"$f":"M120+N120+O120+P120","v":4},{"$f":"IF(Q120=0,TRUE,FALSE)","v":false}]
[null,null,null,null,null,0,null,null,0,0,null,null,true,true,true,true,4,false]
[null,null,null,null,null,0,null,null,0,0,null,null,true,true,true,true,4,false]
[null,null,null,null,null,0,null,null,0,0,null,null,true,true,true,true,4,false]
[null,null,null,null,null,0,null,null,0,0,null,null,true,true,true,true,4,false]
[null,null,null,null,null,0,null,null,0,0,null,null,true,true,true,true,4,false]
[null,null,null,null,null,0,null,null,0,0,null,null,true,true,true,true,4,false]
[null,null,null,null,null,0,null,null,0,0,null,null,true,true,true,true,4,false]
[null,null,null,null,null,0,null,null,0,0,null,null,null,null,null,null,null,true]
[null,"4.8 Purchase of advertising materials",null,null,null,{"$f":"SUM(F130:F139)","v":0},null,null,{"$f":"SUM(I130:I139)","v":0},{"$f":"SUM(J130:J139)","v":0},null,null,null,null,null,null,null,true]
[null,null,null,null,null,{"$f":"ROUND(D130*E130,2)","v":0},null,null,{"$f":"ROUND(G130*H130,2)","v":0},{"$f":"F130+I130","v":0},null,null,{"$f":"ISBLANK(B130)","v":true},{"$f":"ISBLANK(C130)","v":true},true,true,{"$f":"M130+N130+O130+P130","v":4},{"$f":"IF(Q130=0,TRUE,FALSE)","v":false}]
[null,null,null,null,null,{"$f":"ROUND(D131*E131,2)","v":0},null,null,0,{"$f":"F131+I131","v":0},null,null,{"$f":"ISBLANK(B131)","v":true},true,true,true,{"$f":"M131+N131+O131+P131","v":4},{"$f":"IF(Q131=0,TRUE,FALSE)","v":false}]
[null,null,null,null,null,0,null,null,0,0,null,null,true,true,true,true,4,false]
[null,null,null,null,null,0,null,null,0,0,null,null,true,true,true,true,4,false]
[null,null,null,null,null,0,null,null,0,0,null,null,true,true,true,true,4,false]
[null,null,null,null,null,0,null,null,0,0,null,null,true,true,true,true,4,false]
[null,null,null,null,null,0,null,null,0,0,null,null,true,true,true,true,4,false]
[null,null,null,null,null,0,null,null,0,0,null,null,true,true,true,true,4,false]
[null,null,null,null,null,0,null,null,0,0,null,null,true,true,true,true,4,false]
[null,null,null,null,null,0,null,null,0,0,null,null,null,null,null,null,null,true]
[null,"4.9 Elaboration, design etc.",null,null,null,{"$f":"SUM(F141:F150)","v":0},null,null,{"$f":"SUM(I141:I150)","v":0},{"$f":"SUM(J141:J150)","v":0},null,null,null,null,null,null,null,true]
[null,null,null,null,null,{"$f":"ROUND(D141*E141,2)","v":0},null,null,{"$f":"ROUND(G141*H141,2)","v":0},{"$f":"F141+I141","v":0},null,null,{"$f":"ISBLANK(B141)","v":true},{"$f":"ISBLANK(C141)","v":true},true,true,{"$f":"M141+N141+O141+P141","v":4},{"$f":"IF(Q141=0,TRUE,FALSE)","v":false}]
[null,null,null,null,null,{"$f":"ROUND(D142*E142,2)","v":0},null,null,0,{"$f":"F142+I142","v":0},null,null,{"$f":"ISBLANK(B142)","v":true},true,true,true,{"$f":"M142+N142+O142+P142","v":4},{"$f":"IF(Q142=0,TRUE,FALSE)","v":false}]
[null,null,null,null,null,0,null,null,0,0,null,null,true,true,true,true,4,false]
[null,null,null,null,null,0,null,null,0,0,null,null,true,true,true,true,4,false]
[null,null,null,null,null,0,null,null,0,0,null,null,true,true,true,true,4,false]
[null,null,null,null,null,0,null,null,0,0,null,null,true,true,true,true,4,false]
[null,null,null,null,null,0,null,null,0,0,null,null,true,true,true,true,4,false]
[null,null,null,null,null,0,null,null,0,0,null,null,true,true,true,true,4,false]
[null,null,null,null,null,0,null,null,0,0,null,null,true,true,true,true,4,false]
[null,null,null,null,null,0,null,null,0,0,null,null,null,null,null,null,null,true]
[null,"4.10 Publications in mass-media",null,null,null,{"$f":"SUM(F152:F161)","v":0},null,null,{"$f":"SUM(I152:I161)","v":0},{"$f":"SUM(J152:J161)","v":0},null,null,null,null,null,null,null,true]
[null,null,null,null,null,{"$f":"ROUND(D152*E152,2)","v":0},null,null,{"$f":"ROUND(G152*H152,2)","v":0},{"$f":"F152+I152","v":0},null,null,{"$f":"ISBLANK(B152)","v":true},{"$f":"ISBLANK(C152)","v":true},true,true,{"$f":"M152+N152+O152+P152","v":4},{"$f":"IF(Q152=0,TRUE,FALSE)","v":false}]
[null,null,null,null,null,{"$f":"ROUND(D153*E153,2)","v":0},null,null,0,{"$f":"F153+I153","v":0},null,null,{"$f":"ISBLANK(B153)","v":true},true,true,true,{"$f":"M153+N153+O153+P153","v":4},{"$f":"IF(Q153=0,TRUE,FALSE)","v":false}]
[null,null,null,null,null,0,null,null,0,0,null,null,true,true,true,true,4,false]
[null,null,null,null,null,0,null,null,0,0,null,null,true,true,true,true,4,false]
[null,null,null,null,null,0,null,null,0,0,null,null,true,true,true,true,4,false]
[null,null,null,null,null,0,null,null,0,0,null,null,true,true,true,true,4,false]
[null,null,null,null,null,0,null,null,0,0,null,null,true,true,true,true,4,false]
[null,null,null,null,null,0,null,null,0,0,null,null,true,true,true,true,4,false]
[null,null,null,null,null,0,null,null,0,0,null,null,true,true,true,true,4,false]
[null,null,null,null,null,0,null,null,0,0,null,null,null,null,null,null,null,true]
[null,"4.11 Consultancy, studies,designs etc.",null,null,null,{"$f":"SUM(F163:F172)","v":0},null,null,{"$f":"SUM(I163:I172)","v":0},{"$f":"SUM(J163:J172)","v":0},null,null,null,null,null,null,null,true]
[null,null,null,null,null,{"$f":"ROUND(D163*E163,2)","v":0},null,null,{"$f":"ROUND(G163*H163,2)","v":0},{"$f":"F163+I163","v":0},null,null,{"$f":"ISBLANK(B163)","v":true},{"$f":"ISBLANK(C163)","v":true},true,true,{"$f":"M163+N163+O163+P163","v":4},{"$f":"IF(Q163=0,TRUE,FALSE)","v":false}]
[null,null,null,null,null,{"$f":"ROUND(D164*E164,2)","v":0},null,null,0,{"$f":"F164+I164","v":0},null,null,{"$f":"ISBLANK(B164)","v":true},true,true,true,{"$f":"M164+N164+O164+P164","v":4},{"$f":"IF(Q164=0,TRUE,FALSE)","v":false}]
[null,null,null,null,null,0,null,null,0,0,null,null,true,true,true,true,4,false]
[null,null,null,null,null,0,null,null,0,0,null,null,true,true,true,true,4,false]
[null,null,null,null,null,0,null,null,0,0,null,null,true,true,true,true,4,false]
[null,null,null,null,null,0,null,null,0,0,null,null,true,true,true,true,4,false]
[null,null,null,null,null,0,null,null,0,0,null,null,true,true,true,true,4,false]
[null,null,null,null,null,0,null,null,0,0,null,null,true,true,true,true,4,false]
[null,null,null,null,null,0,null,null,0,0,null,null,true,true,true,true,4,false]
[null,null,null,null,null,0,null,null,0,0,null,null,null,null,null,null,null,true]
[null,"4.12 Authorizations, certificates",null,null,null,{"$f":"SUM(F174:F183)","v":0},null,null,{"$f":"SUM(I174:I183)","v":0},{"$f":"SUM(J174:J183)","v":0},null,null,null,null,null,null,null,true]
[null,null,null,null,null,{"$f":"ROUND(D174*E174,2)","v":0},null,null,{"$f":"ROUND(G174*H174,2)","v":0},{"$f":"F174+I174","v":0},null,null,{"$f":"ISBLANK(B174)","v":true},{"$f":"ISBLANK(C174)","v":true},true,true,{"$f":"M174+N174+O174+P174","v":4},{"$f":"IF(Q174=0,TRUE,FALSE)","v":false}]
[null,null,null,null,null,{"$f":"ROUND(D175*E175,2)","v":0},null,null,0,{"$f":"F175+I175","v":0},null,null,{"$f":"ISBLANK(B175)","v":true},true,true,true,{"$f":"M175+N175+O175+P175","v":4},{"$f":"IF(Q175=0,TRUE,FALSE)","v":false}]
[null,null,null,null,null,0,null,null,0,0,null,null,true,true,true,true,4,false]
[null,null,null,null,null,0,null,null,0,0,null,null,true,true,true,true,4,false]
[null,null,null,null,null,0,null,null,0,0,null,null,true,true,true,true,4,false]
[null,null,null,null,null,0,null,null,0,0,null,null,true,true,true,true,4,false]
[null,null,null,null,null,0,null,null,0,0,null,null,true,true,true,true,4,false]
[null,null,null,null,null,0,null,null,0,0,null,null,true,true,true,true,4,false]
[null,null,null,null,null,0,null,null,0,0,null,null,true,true,true,true,4,false]
[null,null,null,null,null,0,null,null,0,0,null,null,null,null,null,null,null,true]
[null,"4.13 Interpreters, lecturers, trainers",null,null,null,{"$f":"SUM(F185:F194)","v":0},null,null,{"$f":"SUM(I185:I194)","v":0},{"$f":"SUM(J185:J194)","v":0},null,null,null,null,null,null,null,true]
[null,null,null,null,null,{"$f":"ROUND(D185*E185,2)","v":0},null,null,{"$f":"ROUND(G185*H185,2)","v":0},{"$f":"F185+I185","v":0},null,null,{"$f":"ISBLANK(B185)","v":true},{"$f":"ISBLANK(C185)","v":true},true,true,{"$f":"M185+N185+O185+P185","v":4},{"$f":"IF(Q185=0,TRUE,FALSE)","v":false}]
[null,null,null,null,null,{"$f":"ROUND(D186*E186,2)","v":0},null,null,0,{"$f":"F186+I186","v":0},null,null,{"$f":"ISBLANK(B186)","v":true},true,true,true,{"$f":"M186+N186+O186+P186","v":4},{"$f":"IF(Q186=0,TRUE,FALSE)","v":false}]
[null,null,null,null,null,0,null,null,0,0,null,null,true,true,true,true,4,false]
[null,null,null,null,null,0,null,null,0,0,null,null,true,true,true,true,4,false]
[null,null,null,null,null,0,null,null,0,0,null,null,true,true,true,true,4,false]
[null,null,null,null,null,0,null,null,0,0,null,null,true,true,true,true,4,false]
[null,null,null,null,null,0,null,null,0,0,null,null,true,true,true,true,4,false]
[null,null,null,null,null,0,null,null,0,0,null,null,true,true,true,true,4,false]
[null,null,null,null,null,0,null,null,0,0,null,null,true,true,true,true,4,false]
[null,null,null,null,null,0,null,null,0,0,null,null,null,null,null,null,null,true]
[null,"4.14 Others",null,null,null,{"$f":"SUM(F196:F205)","v":0},null,null,{"$f":"SUM(I196:I205)","v":0},{"$f":"SUM(J196:J205)","v":0},null,null,null,null,null,null,null,true]
[null,null,null,null,null,{"$f":"ROUND(D196*E196,2)","v":0},null,null,{"$f":"ROUND(G196*H196,2)","v":0},{"$f":"F196+I196","v":0},null,null,{"$f":"ISBLANK(B196)","v":true},{"$f":"ISBLANK(C196)","v":true},true,true,{"$f":"M196+N196+O196+P196","v":4},{"$f":"IF(Q196=0,TRUE,FALSE)","v":false}]
[null,null,null,null,null,{"$f":"ROUND(D197*E197,2)","v":0},null,null,0,{"$f":"F197+I197","v":0},null,null,{"$f":"ISBLANK(B197)","v":true},true,true,true,{"$f":"M197+N197+O197+P197","v":4},{"$f":"IF(Q197=0,TRUE,FALSE)","v":false}]
[null,null,null,null,null,0,null,null,0,0,null,null,true,true,true,true,4,false]
[null,null,null,null,null,0,null,null,0,0,null,null,true,true,true,true,4,false]
[null,null,null,null,null,0,null,null,0,0,null,null,true,true,true,true,4,false]
[null,null,null,null,null,0,null,null,0,0,null,null,true,true,true,true,4,false]
[null,null,null,null,null,0,null,null,0,0,null,null,true,true,true,true,4,false]
[null,null,null,null,null,0,null,null,0,0,null,null,true,true,true,true,4,false]
[null,null,null,null,null,0,null,null,0,0,null,null,true,true,true,true,4,false]
[null,null,null,null,null,0,null,null,0,0,null,null,null,null,null,null,null,true]
[null,"TOTAL",null,null,null,{"$f":"F195+F184+F173+F162+F151+F140+F129+F118+F107+F96+F85+F74+F63+F52","v":0},null,null,{"$f":"I195+I184+I173+I162+I151+I140+I129+I118+I107+I96+I85+I74+I63+I52","v":0},{"$f":"J195+J184+J173+J162+J151+J140+J129+J118+J107+J96+J85+J74+J63+J52","v":0},null,null,null,null,null,null,null,true]
[null,null,null,null,null,null,null,null,null,null,null,null,null,null,null,null,null,true]
[null,"BL5 - EQUIPMENT AND WORKS","Unit","Expenditures in the eligible area",null,null,"N/A",null,null,"TOTAL",null,null,null,null,null,null,null,true]
[null,null,null,"Units","Unit rate","TOTAL","Units","Unit rate","TOTAL",null,null,null,null,null,null,null,null,true]
[null,"5.1 Small scale construction",null,null,null,{"$f":"SUM(F211:F220)","v":0},null,null,{"$f":"SUM(I211:I220)","v":0},{"$f":"SUM(J211:J220)","v":0},null,null,null,null,null,null,null,true]
[null,null,null,null,null,{"$f":"ROUND(D211*E211,2)","v":0},null,null,{"$f":"ROUND(G211*H211,2)","v":0},{"$f":"F211+I211","v":0},null,null,{"$f":"ISBLANK(B211)","v":true},{"$f":"ISBLANK(C211)","v":true},true,true,{"$f":"M211+N211+O211+P211","v":4},{"$f":"IF(Q211=0,TRUE,FALSE)","v":false}]
[null,null,null,null,null,{"$f":"ROUND(D212*E212,2)","v":0},null,null,0,{"$f":"F212+I212","v":0},null,null,{"$f":"ISBLANK(B212)","v":true},true,true,true,{"$f":"M212+N212+O212+P212","v":4},{"$f":"IF(Q212=0,TRUE,FALSE)","v":false}]
[null,null,null,null,null,0,null,null,0,0,null,null,true,true,true,true,4,false]
[null,null,null,null,null,0,null,null,0,0,null,null,true,true,true,true,4,false]
[null,null,null,null,null,0,null,null,0,0,null,null,true,true,true,true,4,false]
[null,null,null,null,null,0,null,null,0,0,null,null,true,true,true,true,4,false]
[null,null,null,null,null,0,null,null,0,0,null,null,true,true,true,true,4,false]
[null,null,null,null,null,0,null,null,0,0,null,null,true,true,true,true,4,false]
[null,null,null,null,null,0,null,null,0,0,null,null,true,true,true,true,4,false]
[null,null,null,null,null,0,null,null,0,0,null,null,null,null,null,null,null,true]
[null,"5.2 Supply",null,null,null,{"$f":"SUM(F222:F231)","v":0},null,null,{"$f":"SUM(I222:I231)","v":0},{"$f":"SUM(J222:J231)","v":0},null,null,null,null,null,null,null,true]
[null,null,null,null,null,{"$f":"ROUND(D222*E222,2)","v":0},null,null,{"$f":"ROUND(G222*H222,2)","v":0},{"$f":"F222+I222","v":0},null,null,{"$f":"ISBLANK(B222)","v":true},{"$f":"ISBLANK(C222)","v":true},true,true,{"$f":"M222+N222+O222+P222","v":4},{"$f":"IF(Q222=0,TRUE,FALSE)","v":false}]
[null,null,null,null,null,{"$f":"ROUND(D223*E223,2)","v":0},null,null,0,{"$f":"F223+I223","v":0},null,null,{"$f":"ISBLANK(B223)","v":true},true,true,true,{"$f":"M223+N223+O223+P223","v":4},{"$f":"IF(Q223=0,TRUE,FALSE)","v":false}]
[null,null,null,null,null,0,null,null,0,0,null,null,true,true,true,true,4,false]
[null,null,null,null,null,0,null,null,0,0,null,null,true,true,true,true,4,false]
[null,null,null,null,null,0,null,null,0,0,null,null,true,true,true,true,4,false]
[null,null,null,null,null,0,null,null,0,0,null,null,true,true,true,true,4,false]
[null,null,null,null,null,0,null,null,0,0,null,null,true,true,true,true,4,false]
[null,null,null,null,null,0,null,null,0,0,null,null,true,true,true,true,4,false]
[null,null,null,null,null,0,null,null,0,0,null,null,true,true,true,true,4,false]
[null,null,null,null,null,0,null,null,0,0,null,null,null,null,null,null,null,true]
[null,"TOTAL",null,null,null,{"$f":"F221+F210","v":0},null,null,{"$f":"I221+I210","v":0},{"$f":"J221+J210","v":0},null,null,null,null,null,null,null,true]
[null,null,null,null,null,null,null,null,null,null,null,null,null,null,null,null,null,true]
[null,"BL6 - PROJECT PREPARATION","Unit","Expenditures in the eligible area",null,null,"N/A",null,null,"TOTAL",null,null,null,null,null,null,null,true]
[null,null,null,"Units","Unit rate","TOTAL","Units","Unit rate","TOTAL",null,null,null,null,null,null,null,null,true]
[null,null,null,null,null,{"$f":"ROUND(D236*E236,2)","v":0},null,null,{"$f":"ROUND(G236*H236,2)","v":0},{"$f":"F236+I236","v":0},null,null,{"$f":"ISBLANK(B236)","v":true},{"$f":"ISBLANK(C236)","v":true},true,true,{"$f":"M236+N236+O236+P236","v":4},{"$f":"IF(Q236=0,TRUE,FALSE)","v":false}]
[null,null,null,null,null,{"$f":"ROUND(D237*E237,2)","v":0},null,null,{"$f":"ROUND(G237*H237,2)","v":0},{"$f":"F237+I237","v":0},null,null,{"$f":"ISBLANK(B237)","v":true},true,true,true,{"$f":"M237+N237+O237+P237","v":4},{"$f":"IF(Q237=0,TRUE,FALSE)","v":false}]
[null,null,null,null,null,0,null,null,0,0,null,null,true,true,true,true,4,false]
[null,null,null,null,null,0,null,null,0,0,null,null,true,true,true,true,4,false]
[null,null,null,null,null,0,null,null,0,0,null,null,true,true,true,true,4,false]
[null,null,null,null,null,0,null,null,0,0,null,null,true,true,true,true,4,false]
[null,null,null,null,null,0,null,null,0,0,null,null,true,true,true,true,4,false]
[null,null,null,null,null,0,null,null,0,0,null,null,true,true,true,true,4,false]
[null,null,null,null,null,0,null,null,0,0,null,null,true,true,true,true,4,false]
[null,null,null,null,null,0,null,null,0,0,null,null,null,null,null,null,null,true]
[null,"TOTAL",null,null,null,{"$f":"SUM(F236:F245)","v":0},null,null,{"$f":"SUM(I236:I245)","v":0},{"$f":"SUM(J236:J245)","v":0},null,null,null,null,null,null,null,true]
[null,null,null,null,null,null,null,null,null,null,null,null,null,null,null,null,null,true]
[null,"Total direct project costs (BL3+BL4+BL5)",null,null,null,{"$f":"F48+F206+F232","v":0},null,null,{"$f":"I48+I206+I232","v":0},{"$f":"F248+I248","v":0},null,null,null,null,null,null,null,true]
[null,"TOTAL PROJECT COSTS",null,null,null,{"$f":"F248+F246+I5+I10","v":0},{"$f":"I246+I248","v":0},null,null,{"$f":"F249+G249","v":0},null,null,null,null,null,null,null,true]
[null,null,null,null,null,null,"Expenditures outside are above 20 %!"]

{"sheet":"T2-B(PP5)","index":14,"n_rows":250,"n_cols":18,"rows_kept":250,"cut":false,"hidden":true,"merged":[[5,1,5,7],[5,8,5,9],[7,1,8,5],[7,6,7,7],[7,8,8,9],[8,6,8,7],[2,1,3,5],[2,6,2,7],[2,8,3,9],[3,6,3,7],[4,1,4,5],[4,6,4,7],[4,8,4,9],[9,8,9,9],[10,1,10,7],[10,8,10,9],[12,1,13,1],[12,2,13,2],[12,3,12,5],[12,6,12,8],[12,9,13,9],[9,1,9,5],[9,6,9,7],[49,1,50,1],[49,2,50,2],[49,3,49,5],[49,6,49,8],[49,9,50,9],[205,1,205,4],[205,6,205,7],[207,1,208,1],[207,2,208,2],[207,3,207,5],[207,6,207,8],[207,9,208,9],[231,1,231,4],[231,6,231,7],[233,1,234,1],[233,2,234,2],[233,3,233,5],[233,6,233,8],[233,9,234,9],[245,1,245,4],[245,6,245,7],[247,1,247,4],[248,1,248,4],[248,6,248,8]]}
[null,"TABLE 2 - DETAILED BREAKDOWN OF BUDGET LINES  - PP5",null,null,null,null,null,null,null,null,null,null,null,null,null,null,null,true]
[null,null,null,null,null,null,null,null,null,null,null,null,null,null,null,null,null,true]
[null,"BL1 - STAFF COSTS",null,null,null,null,"Flat rate",null,"TOTAL",null,null,null,null,null,null,null,null,true]
[null,null,null,null,null,null,"%",null,null,null,null,null,{"$f":"CONCATENATE('Project identification'!C15,\" project\")","v":"0 project"},null,null,null,10,true]
[null,{"$f":"M4","v":"0 project"},null,null,null,null,null,null,{"$f":"G5*J248/100","v":0},null,null,null,null,null,{"$f":"IF(M7=\"Soft\",15,10)","v":10},null,15,true]
[null,"TOTAL",null,null,null,null,null,null,0,null,null,null,null,null,null,null,null,true]
[null,null,null,null,null,null,null,null,null,null,null,null,{"$f":"'Project identification'!C15","v":0},null,null,null,null,true]
[null,"BL2 - OFFICE AND ADMINISTRATIVE COSTS",null,null,null,null,"Flat rate",null,"TOTAL",null,null,null,null,null,null,null,null,true]
[null,null,null,null,null,null,"%",null,null,null,null,null,null,null,null,null,2,true]
[null,{"$f":"M4","v":"0 project"},null,null,null,null,null,null,{"$f":"G10*I5/100","v":0},null,null,null,null,null,{"$f":"IF(M7=\"Soft\",5,2)","v":2},null,5,true]
[null,"TOTAL",null,null,null,null,null,null,0,null,null,null,null,null,null,null,null,true]
[null,null,null,null,null,null,null,null,null,null,null,null,null,null,null,null,null,true]
[null,"BL3 - TRAVEL AND ACCOMMODATION","Unit","Expenditures in the eligible area",null,null,"Expenditures outside of the eligible area",null,null,"TOTAL",null,null,null,null,null,null,null,true]
[null,null,null,"Units","Unit rate","TOTAL","Units","Unit rate","TOTAL",null,null,null,null,null,null,null,null,true]
[null,"3.1 Travel costs",null,null,null,{"$f":"SUM(F16:F25)","v":0},null,null,{"$f":"SUM(I16:I25)","v":0},{"$f":"SUM(J16:J25)","v":0},null,null,null,null,null,null,null,true]
[null,null,null,null,null,{"$f":"ROUND(D16*E16,2)","v":0},null,null,{"$f":"ROUND(G16*H16,2)","v":0},{"$f":"F16+I16","v":0},null,null,{"$f":"ISBLANK(B16)","v":true},{"$f":"ISBLANK(C16)","v":true},true,true,{"$f":"M16+N16+O16+P16","v":4},{"$f":"IF(Q16=0,TRUE,FALSE)","v":false}]
[null,null,null,null,null,{"$f":"ROUND(D17*E17,2)","v":0},null,null,0,{"$f":"F17+I17","v":0},null,null,{"$f":"ISBLANK(B17)","v":true},true,true,true,{"$f":"M17+N17+O17+P17","v":4},{"$f":"IF(Q17=0,TRUE,FALSE)","v":false}]
[null,null,null,null,null,0,null,null,0,0,null,null,true,true,true,true,4,false]
[null,null,null,null,null,0,null,null,0,0,null,null,true,true,true,true,4,false]
[null,null,null,null,null,0,null,null,0,0,null,null,true,true,true,true,4,false]
[null,null,null,null,null,0,null,null,0,0,null,null,true,true,true,true,4,false]
[null,null,null,null,null,0,null,null,0,0,null,null,true,true,true,true,4,false]
[null,null,null,null,null,0,null,null,0,0,null,null,true,true,true,true,4,false]
[null,null,null,null,null,0,null,null,0,0,null,null,true,true,true,true,4,false]
[null,null,null,null,null,0,null,null,0,0,null,null,null,null,null,null,null,true]
[null,"3.2 Daily allowances",null,null,null,{"$f":"SUM(F27:F36)","v":0},null,null,{"$f":"SUM(I27:I36)","v":0},{"$f":"SUM(J27:J36)","v":0},null,null,null,null,null,null,null,true]
[null,null,null,null,null,{"$f":"ROUND(D27*E27,2)","v":0},null,null,{"$f":"ROUND(G27*H27,2)","v":0},{"$f":"F27+I27","v":0},null,null,{"$f":"ISBLANK(B27)","v":true},{"$f":"ISBLANK(C27)","v":true},true,true,{"$f":"M27+N27+O27+P27","v":4},{"$f":"IF(Q27=0,TRUE,FALSE)","v":false}]
[null,null,null,null,null,{"$f":"ROUND(D28*E28,2)","v":0},null,null,0,{"$f":"F28+I28","v":0},null,null,{"$f":"ISBLANK(B28)","v":true},true,true,true,{"$f":"M28+N28+O28+P28","v":4},{"$f":"IF(Q28=0,TRUE,FALSE)","v":false}]
[null,null,null,null,null,0,null,null,0,0,null,null,true,true,true,true,4,false]
[null,null,null,null,null,0,null,null,0,0,null,null,true,true,true,true,4,false]
[null,null,null,null,null,0,null,null,0,0,null,null,true,true,true,true,4,false]
[null,null,null,null,null,0,null,null,0,0,null,null,true,true,true,true,4,false]
[null,null,null,null,null,0,null,null,0,0,null,null,true,true,true,true,4,false]
[null,null,null,null,null,0,null,null,0,0,null,null,true,true,true,true,4,false]
[null,null,null,null,null,0,null,null,0,0,null,null,true,true,true,true,4,false]
[null,null,null,null,null,0,null,null,0,0,null,null,null,null,null,null,null,true]
[null,"3.3 Accommodation costs",null,null,null,{"$f":"SUM(F38:F47)","v":0},null,null,{"$f":"SUM(I38:I47)","v":0},{"$f":"SUM(J38:J47)","v":0},null,null,null,null,null,null,null,true]
[null,null,null,null,null,{"$f":"ROUND(D38*E38,2)","v":0},null,null,{"$f":"ROUND(G38*H38,2)","v":0},{"$f":"F38+I38","v":0},null,null,{"$f":"ISBLANK(B38)","v":true},{"$f":"ISBLANK(C38)","v":true},true,true,{"$f":"M38+N38+O38+P38","v":4},{"$f":"IF(Q38=0,TRUE,FALSE)","v":false}]
[null,null,null,null,null,{"$f":"ROUND(D39*E39,2)","v":0},null,null,0,{"$f":"F39+I39","v":0},null,null,{"$f":"ISBLANK(B39)","v":true},true,true,true,{"$f":"M39+N39+O39+P39","v":4},{"$f":"IF(Q39=0,TRUE,FALSE)","v":false}]
[null,null,null,null,null,0,null,null,0,0,null,null,true,true,true,true,4,false]
[null,null,null,null,null,0,null,null,0,0,null,null,true,true,true,true,4,false]
[null,null,null,null,null,0,null,null,0,0,null,null,true,true,true,true,4,false]
[null,null,null,null,null,0,null,null,0,0,null,null,true,true,true,true,4,false]
[null,null,null,null,null,0,null,null,0,0,null,null,true,true,true,true,4,false]
[null,null,null,null,null,0,null,null,0,0,null,null,true,true,true,true,4,false]
[null,null,null,null,null,0,null,null,0,0,null,null,true,true,true,true,4,false]
[null,null,null,null,null,0,null,null,0,0,null,null,null,null,null,null,null,true]
[null,"TOTAL",null,null,null,{"$f":"F37+F26+F15","v":0},null,null,{"$f":"I37+I26+I15","v":0},{"$f":"J37+J26+J15","v":0},null,null,null,null,null,null,null,true]
[null,null,null,null,null,null,null,null,null,null,null,null,null,null,null,null,null,true]
[null,"BL4 - EXTERNAL EXPERTISE AND SERVICES COSTS","Unit","Expenditures in the eligible area",null,null,"Expenditures outside of the eligible area",null,null,"TOTAL",null,null,null,null,null,null,null,true]
[null,null,null,"Units","Unit rate","TOTAL","Units","Unit rate","TOTAL",null,null,null,null,null,null,null,null,true]
[null,"4.1 Rent of hall",null,null,null,{"$f":"SUM(F53:F62)","v":0},null,null,{"$f":"SUM(I53:I62)","v":0},{"$f":"SUM(J53:J62)","v":0},null,null,null,null,null,null,null,true]
[null,null,null,null,null,{"$f":"ROUND(D53*E53,2)","v":0},null,null,{"$f":"ROUND(G53*H53,2)","v":0},{"$f":"F53+I53","v":0},null,null,{"$f":"ISBLANK(B53)","v":true},{"$f":"ISBLANK(C53)","v":true},true,true,{"$f":"M53+N53+O53+P53","v":4},{"$f":"IF(Q53=0,TRUE,FALSE)","v":false}]
[null,null,null,null,null,{"$f":"ROUND(D54*E54,2)","v":0},null,null,0,{"$f":"F54+I54","v":0},null,null,{"$f":"ISBLANK(B54)","v":true},true,true,true,{"$f":"M54+N54+O54+P54","v":4},{"$f":"IF(Q54=0,TRUE,FALSE)","v":false}]
[null,null,null,null,null,0,null,null,0,0,null,null,true,true,true,true,4,false]
[null,null,null,null,null,0,null,null,0,0,null,null,true,true,true,true,4,false]
[null,null,null,null,null,0,null,null,0,0,null,null,true,true,true,true,4,false]
[null,null,null,null,null,0,null,null,0,0,null,null,true,true,true,true,4,false]
[null,null,null,null,null,0,null,null,0,0,null,null,true,true,true,true,4,false]
[null,null,null,null,null,0,null,null,0,0,null,null,true,true,true,true,4,false]
[null,null,null,null,null,0,null,null,0,0,null,null,true,true,true,true,4,false]
[null,null,null,null,null,0,null,null,0,0,null,null,null,null,null,null,null,true]
[null,"4.2 Rent of equipment",null,null,null,{"$f":"SUM(F64:F73)","v":0},null,null,{"$f":"SUM(I64:I73)","v":0},{"$f":"SUM(J64:J73)","v":0},null,null,null,null,null,null,null,true]
[null,null,null,null,null,{"$f":"ROUND(D64*E64,2)","v":0},null,null,{"$f":"ROUND(G64*H64,2)","v":0},{"$f":"F64+I64","v":0},null,null,{"$f":"ISBLANK(B64)","v":true},{"$f":"ISBLANK(C64)","v":true},true,true,{"$f":"M64+N64+O64+P64","v":4},{"$f":"IF(Q64=0,TRUE,FALSE)","v":false}]
[null,null,null,null,null,{"$f":"ROUND(D65*E65,2)","v":0},null,null,0,{"$f":"F65+I65","v":0},null,null,{"$f":"ISBLANK(B65)","v":true},true,true,true,{"$f":"M65+N65+O65+P65","v":4},{"$f":"IF(Q65=0,TRUE,FALSE)","v":false}]
[null,null,null,null,null,0,null,null,0,0,null,null,true,true,true,true,4,false]
[null,null,null,null,null,0,null,null,0,0,null,null,true,true,true,true,4,false]
[null,null,null,null,null,0,null,null,0,0,null,null,true,true,true,true,4,false]
[null,null,null,null,null,0,null,null,0,0,null,null,true,true,true,true,4,false]
[null,null,null,null,null,0,null,null,0,0,null,null,true,true,true,true,4,false]
[null,null,null,null,null,0,null,null,0,0,null,null,true,true,true,true,4,false]
[null,null,null,null,null,0,null,null,0,0,null,null,true,true,true,true,4,false]
[null,null,null,null,null,0,null,null,0,0,null,null,null,null,null,null,null,true]
[null,"4.3 Coffee breaks …..",null,null,null,{"$f":"SUM(F75:F84)","v":0},null,null,{"$f":"SUM(I75:I84)","v":0},{"$f":"SUM(J75:J84)","v":0},null,null,null,null,null,null,null,true]
[null,null,null,null,null,{"$f":"ROUND(D75*E75,2)","v":0},null,null,{"$f":"ROUND(G75*H75,2)","v":0},{"$f":"F75+I75","v":0},null,null,{"$f":"ISBLANK(B75)","v":true},{"$f":"ISBLANK(C75)","v":true},true,true,{"$f":"M75+N75+O75+P75","v":4},{"$f":"IF(Q75=0,TRUE,FALSE)","v":false}]
[null,null,null,null,null,{"$f":"ROUND(D76*E76,2)","v":0},null,null,0,{"$f":"F76+I76","v":0},null,null,{"$f":"ISBLANK(B76)","v":true},true,true,true,{"$f":"M76+N76+O76+P76","v":4},{"$f":"IF(Q76=0,TRUE,FALSE)","v":false}]
[null,null,null,null,null,0,null,null,0,0,null,null,true,true,true,true,4,false]
[null,null,null,null,null,0,null,null,0,0,null,null,true,true,true,true,4,false]
[null,null,null,null,null,0,null,null,0,0,null,null,true,true,true,true,4,false]
[null,null,null,null,null,0,null,null,0,0,null,null,true,true,true,true,4,false]
[null,null,null,null,null,0,null,null,0,0,null,null,true,true,true,true,4,false]
[null,null,null,null,null,0,null,null,0,0,null,null,true,true,true,true,4,false]
[null,null,null,null,null,0,null,null,0,0,null,null,true,true,true,true,4,false]
[null,null,null,null,null,0,null,null,0,0,null,null,null,null,null,null,null,true]
[null,"4.4 Preparation of materials",null,null,null,{"$f":"SUM(F86:F95)","v":0},null,null,{"$f":"SUM(I86:I95)","v":0},{"$f":"SUM(J86:J95)","v":0},null,null,null,null,null,null,null,true]
[null,null,null,null,null,{"$f":"ROUND(D86*E86,2)","v":0},null,null,{"$f":"ROUND(G86*H86,2)","v":0},{"$f":"F86+I86","v":0},null,null,{"$f":"ISBLANK(B86)","v":true},{"$f":"ISBLANK(C86)","v":true},true,true,{"$f":"M86+N86+O86+P86","v":4},{"$f":"IF(Q86=0,TRUE,FALSE)","v":false}]
[null,null,null,null,null,{"$f":"ROUND(D87*E87,2)","v":0},null,null,0,{"$f":"F87+I87","v":0},null,null,{"$f":"ISBLANK(B87)","v":true},true,true,true,{"$f":"M87+N87+O87+P87","v":4},{"$f":"IF(Q87=0,TRUE,FALSE)","v":false}]
[null,null,null,null,null,0,null,null,0,0,null,null,true,true,true,true,4,false]
[null,null,null,null,null,0,null,null,0,0,null,null,true,true,true,true,4,false]
[null,null,null,null,null,0,null,null,0,0,null,null,true,true,true,true,4,false]
[null,null,null,null,null,0,null,null,0,0,null,null,true,true,true,true,4,false]
[null,null,null,null,null,0,null,null,0,0,null,null,true,true,true,true,4,false]
[null,null,null,null,null,0,null,null,0,0,null,null,true,true,true,true,4,false]
[null,null,null,null,null,0,null,null,0,0,null,null,true,true,true,true,4,false]
[null,null,null,null,null,0,null,null,0,0,null,null,null,null,null,null,null,true]
[null,"4.5 Consumables",null,null,null,{"$f":"SUM(F97:F106)","v":0},null,null,{"$f":"SUM(I97:I106)","v":0},{"$f":"SUM(J97:J106)","v":0},null,null,null,null,null,null,null,true]
[null,null,null,null,null,{"$f":"ROUND(D97*E97,2)","v":0},null,null,{"$f":"ROUND(G97*H97,2)","v":0},{"$f":"F97+I97","v":0},null,null,{"$f":"ISBLANK(B97)","v":true},{"$f":"ISBLANK(C97)","v":true},true,true,{"$f":"M97+N97+O97+P97","v":4},{"$f":"IF(Q97=0,TRUE,FALSE)","v":false}]
[null,null,null,null,null,{"$f":"ROUND(D98*E98,2)","v":0},null,null,0,{"$f":"F98+I98","v":0},null,null,{"$f":"ISBLANK(B98)","v":true},true,true,true,{"$f":"M98+N98+O98+P98","v":4},{"$f":"IF(Q98=0,TRUE,FALSE)","v":false}]
[null,null,null,null,null,0,null,null,0,0,null,null,true,true,true,true,4,false]
[null,null,null,null,null,0,null,null,0,0,null,null,true,true,true,true,4,false]
[null,null,null,null,null,0,null,null,0,0,null,null,true,true,true,true,4,false]
[null,null,null,null,null,0,null,null,0,0,null,null,true,true,true,true,4,false]
[null,null,null,null,null,0,null,null,0,0,null,null,true,true,true,true,4,false]
[null,null,null,null,null,0,null,null,0,0,null,null,true,true,true,true,4,false]
[null,null,null,null,null,0,null,null,0,0,null,null,true,true,true,true,4,false]
[null,null,null,null,null,0,null,null,0,0,null,null,null,null,null,null,null,true]
[null,"4.6 Rent of vehicle for event",null,null,null,{"$f":"SUM(F108:F117)","v":0},null,null,{"$f":"SUM(I108:I117)","v":0},{"$f":"SUM(J108:J117)","v":0},null,null,null,null,null,null,null,true]
[null,null,null,null,null,{"$f":"ROUND(D108*E108,2)","v":0},null,null,{"$f":"ROUND(G108*H108,2)","v":0},{"$f":"F108+I108","v":0},null,null,{"$f":"ISBLANK(B108)","v":true},{"$f":"ISBLANK(C108)","v":true},true,true,{"$f":"M108+N108+O108+P108","v":4},{"$f":"IF(Q108=0,TRUE,FALSE)","v":false}]
[null,null,null,null,null,{"$f":"ROUND(D109*E109,2)","v":0},null,null,0,{"$f":"F109+I109","v":0},null,null,{"$f":"ISBLANK(B109)","v":true},true,true,true,{"$f":"M109+N109+O109+P109","v":4},{"$f":"IF(Q109=0,TRUE,FALSE)","v":false}]
[null,null,null,null,null,0,null,null,0,0,null,null,true,true,true,true,4,false]
[null,null,null,null,null,0,null,null,0,0,null,null,true,true,true,true,4,false]
[null,null,null,null,null,0,null,null,0,0,null,null,true,true,true,true,4,false]
[null,null,null,null,null,0,null,null,0,0,null,null,true,true,true,true,4,false]
[null,null,null,null,null,0,null,null,0,0,null,null,true,true,true,true,4,false]
[null,null,null,null,null,0,null,null,0,0,null,null,true,true,true,true,4,false]
[null,null,null,null,null,0,null,null,0,0,null,null,true,true,true,true,4,false]
[null,null,null,null,null,0,null,null,0,0,null,null,null,null,null,null,null,true]
[null,"4.7 Accommodations for participants in the events ",null,null,null,{"$f":"SUM(F119:F128)","v":0},null,null,{"$f":"SUM(I119:I128)","v":0},{"$f":"SUM(J119:J128)","v":0},null,null,null,null,null,null,null,true]
[null,null,null,null,null,{"$f":"ROUND(D119*E119,2)","v":0},null,null,{"$f":"ROUND(G119*H119,2)","v":0},{"$f":"F119+I119","v":0},null,null,{"$f":"ISBLANK(B119)","v":true},{"$f":"ISBLANK(C119)","v":true},true,true,{"$f":"M119+N119+O119+P119","v":4},{"$f":"IF(Q119=0,TRUE,FALSE)","v":false}]
[null,null,null,null,null,{"$f":"ROUND(D120*E120,2)","v":0},null,null,0,{"$f":"F120+I120","v":0},null,null,{"$f":"ISBLANK(B120)","v":true},true,true,true,{"$f":"M120+N120+O120+P120","v":4},{"$f":"IF(Q120=0,TRUE,FALSE)","v":false}]
[null,null,null,null,null,0,null,null,0,0,null,null,true,true,true,true,4,false]
[null,null,null,null,null,0,null,null,0,0,null,null,true,true,true,true,4,false]
[null,null,null,null,null,0,null,null,0,0,null,null,true,true,true,true,4,false]
[null,null,null,null,null,0,null,null,0,0,null,null,true,true,true,true,4,false]
[null,null,null,null,null,0,null,null,0,0,null,null,true,true,true,true,4,false]
[null,null,null,null,null,0,null,null,0,0,null,null,true,true,true,true,4,false]
[null,null,null,null,null,0,null,null,0,0,null,null,true,true,true,true,4,false]
[null,null,null,null,null,0,null,null,0,0,null,null,null,null,null,null,null,true]
[null,"4.8 Purchase of advertising materials",null,null,null,{"$f":"SUM(F130:F139)","v":0},null,null,{"$f":"SUM(I130:I139)","v":0},{"$f":"SUM(J130:J139)","v":0},null,null,null,null,null,null,null,true]
[null,null,null,null,null,{"$f":"ROUND(D130*E130,2)","v":0},null,null,{"$f":"ROUND(G130*H130,2)","v":0},{"$f":"F130+I130","v":0},null,null,{"$f":"ISBLANK(B130)","v":true},{"$f":"ISBLANK(C130)","v":true},true,true,{"$f":"M130+N130+O130+P130","v":4},{"$f":"IF(Q130=0,TRUE,FALSE)","v":false}]
[null,null,null,null,null,{"$f":"ROUND(D131*E131,2)","v":0},null,null,0,{"$f":"F131+I131","v":0},null,null,{"$f":"ISBLANK(B131)","v":true},true,true,true,{"$f":"M131+N131+O131+P131","v":4},{"$f":"IF(Q131=0,TRUE,FALSE)","v":false}]
[null,null,null,null,null,0,null,null,0,0,null,null,true,true,true,true,4,false]
[null,null,null,null,null,0,null,null,0,0,null,null,true,true,true,true,4,false]
[null,null,null,null,null,0,null,null,0,0,null,null,true,true,true,true,4,false]
[null,null,null,null,null,0,null,null,0,0,null,null,true,true,true,true,4,false]
[null,null,null,null,null,0,null,null,0,0,null,null,true,true,true,true,4,false]
[null,null,null,null,null,0,null,null,0,0,null,null,true,true,true,true,4,false]
[null,null,null,null,null,0,null,null,0,0,null,null,true,true,true,true,4,false]
[null,null,null,null,null,0,null,null,0,0,null,null,null,null,null,null,null,true]
[null,"4.9 Elaboration, design etc.",null,null,null,{"$f":"SUM(F141:F150)","v":0},null,null,{"$f":"SUM(I141:I150)","v":0},{"$f":"SUM(J141:J150)","v":0},null,null,null,null,null,null,null,true]
[null,null,null,null,null,{"$f":"ROUND(D141*E141,2)","v":0},null,null,{"$f":"ROUND(G141*H141,2)","v":0},{"$f":"F141+I141","v":0},null,null,{"$f":"ISBLANK(B141)","v":true},{"$f":"ISBLANK(C141)","v":true},true,true,{"$f":"M141+N141+O141+P141","v":4},{"$f":"IF(Q141=0,TRUE,FALSE)","v":false}]
[null,null,null,null,null,{"$f":"ROUND(D142*E142,2)","v":0},null,null,0,{"$f":"F142+I142","v":0},null,null,{"$f":"ISBLANK(B142)","v":true},true,true,true,{"$f":"M142+N142+O142+P142","v":4},{"$f":"IF(Q142=0,TRUE,FALSE)","v":false}]
[null,null,null,null,null,0,null,null,0,0,null,null,true,true,true,true,4,false]
[null,null,null,null,null,0,null,null,0,0,null,null,true,true,true,true,4,false]
[null,null,null,null,null,0,null,null,0,0,null,null,true,true,true,true,4,false]
[null,null,null,null,null,0,null,null,0,0,null,null,true,true,true,true,4,false]
[null,null,null,null,null,0,null,null,0,0,null,null,true,true,true,true,4,false]
[null,null,null,null,null,0,null,null,0,0,null,null,true,true,true,true,4,false]
[null,null,null,null,null,0,null,null,0,0,null,null,true,true,true,true,4,false]
[null,null,null,null,null,0,null,null,0,0,null,null,null,null,null,null,null,true]
[null,"4.10 Publications in mass-media",null,null,null,{"$f":"SUM(F152:F161)","v":0},null,null,{"$f":"SUM(I152:I161)","v":0},{"$f":"SUM(J152:J161)","v":0},null,null,null,null,null,null,null,true]
[null,null,null,null,null,{"$f":"ROUND(D152*E152,2)","v":0},null,null,{"$f":"ROUND(G152*H152,2)","v":0},{"$f":"F152+I152","v":0},null,null,{"$f":"ISBLANK(B152)","v":true},{"$f":"ISBLANK(C152)","v":true},true,true,{"$f":"M152+N152+O152+P152","v":4},{"$f":"IF(Q152=0,TRUE,FALSE)","v":false}]
[null,null,null,null,null,{"$f":"ROUND(D153*E153,2)","v":0},null,null,0,{"$f":"F153+I153","v":0},null,null,{"$f":"ISBLANK(B153)","v":true},true,true,true,{"$f":"M153+N153+O153+P153","v":4},{"$f":"IF(Q153=0,TRUE,FALSE)","v":false}]
[null,null,null,null,null,0,null,null,0,0,null,null,true,true,true,true,4,false]
[null,null,null,null,null,0,null,null,0,0,null,null,true,true,true,true,4,false]
[null,null,null,null,null,0,null,null,0,0,null,null,true,true,true,true,4,false]
[null,null,null,null,null,0,null,null,0,0,null,null,true,true,true,true,4,false]
[null,null,null,null,null,0,null,null,0,0,null,null,true,true,true,true,4,false]
[null,null,null,null,null,0,null,null,0,0,null,null,true,true,true,true,4,false]
[null,null,null,null,null,0,null,null,0,0,null,null,true,true,true,true,4,false]
[null,null,null,null,null,0,null,null,0,0,null,null,null,null,null,null,null,true]
[null,"4.11 Consultancy, studies,designs etc.",null,null,null,{"$f":"SUM(F163:F172)","v":0},null,null,{"$f":"SUM(I163:I172)","v":0},{"$f":"SUM(J163:J172)","v":0},null,null,null,null,null,null,null,true]
[null,null,null,null,null,{"$f":"ROUND(D163*E163,2)","v":0},null,null,{"$f":"ROUND(G163*H163,2)","v":0},{"$f":"F163+I163","v":0},null,null,{"$f":"ISBLANK(B163)","v":true},{"$f":"ISBLANK(C163)","v":true},true,true,{"$f":"M163+N163+O163+P163","v":4},{"$f":"IF(Q163=0,TRUE,FALSE)","v":false}]
[null,null,null,null,null,{"$f":"ROUND(D164*E164,2)","v":0},null,null,0,{"$f":"F164+I164","v":0},null,null,{"$f":"ISBLANK(B164)","v":true},true,true,true,{"$f":"M164+N164+O164+P164","v":4},{"$f":"IF(Q164=0,TRUE,FALSE)","v":false}]
[null,null,null,null,null,0,null,null,0,0,null,null,true,true,true,true,4,false]
[null,null,null,null,null,0,null,null,0,0,null,null,true,true,true,true,4,false]
[null,null,null,null,null,0,null,null,0,0,null,null,true,true,true,true,4,false]
[null,null,null,null,null,0,null,null,0,0,null,null,true,true,true,true,4,false]
[null,null,null,null,null,0,null,null,0,0,null,null,true,true,true,true,4,false]
[null,null,null,null,null,0,null,null,0,0,null,null,true,true,true,true,4,false]
[null,null,null,null,null,0,null,null,0,0,null,null,true,true,true,true,4,false]
[null,null,null,null,null,0,null,null,0,0,null,null,null,null,null,null,null,true]
[null,"4.12 Authorizations, certificates",null,null,null,{"$f":"SUM(F174:F183)","v":0},null,null,{"$f":"SUM(I174:I183)","v":0},{"$f":"SUM(J174:J183)","v":0},null,null,null,null,null,null,null,true]
[null,null,null,null,null,{"$f":"ROUND(D174*E174,2)","v":0},null,null,{"$f":"ROUND(G174*H174,2)","v":0},{"$f":"F174+I174","v":0},null,null,{"$f":"ISBLANK(B174)","v":true},{"$f":"ISBLANK(C174)","v":true},true,true,{"$f":"M174+N174+O174+P174","v":4},{"$f":"IF(Q174=0,TRUE,FALSE)","v":false}]
[null,null,null,null,null,{"$f":"ROUND(D175*E175,2)","v":0},null,null,0,{"$f":"F175+I175","v":0},null,null,{"$f":"ISBLANK(B175)","v":true},true,true,true,{"$f":"M175+N175+O175+P175","v":4},{"$f":"IF(Q175=0,TRUE,FALSE)","v":false}]
[null,null,null,null,null,0,null,null,0,0,null,null,true,true,true,true,4,false]
[null,null,null,null,null,0,null,null,0,0,null,null,true,true,true,true,4,false]
[null,null,null,null,null,0,null,null,0,0,null,null,true,true,true,true,4,false]
[null,null,null,null,null,0,null,null,0,0,null,null,true,true,true,true,4,false]
[null,null,null,null,null,0,null,null,0,0,null,null,true,true,true,true,4,false]
[null,null,null,null,null,0,null,null,0,0,null,null,true,true,true,true,4,false]
[null,null,null,null,null,0,null,null,0,0,null,null,true,true,true,true,4,false]
[null,null,null,null,null,0,null,null,0,0,null,null,null,null,null,null,null,true]
[null,"4.13 Interpreters, lecturers, trainers",null,null,null,{"$f":"SUM(F185:F194)","v":0},null,null,{"$f":"SUM(I185:I194)","v":0},{"$f":"SUM(J185:J194)","v":0},null,null,null,null,null,null,null,true]
[null,null,null,null,null,{"$f":"ROUND(D185*E185,2)","v":0},null,null,{"$f":"ROUND(G185*H185,2)","v":0},{"$f":"F185+I185","v":0},null,null,{"$f":"ISBLANK(B185)","v":true},{"$f":"ISBLANK(C185)","v":true},true,true,{"$f":"M185+N185+O185+P185","v":4},{"$f":"IF(Q185=0,TRUE,FALSE)","v":false}]
[null,null,null,null,null,{"$f":"ROUND(D186*E186,2)","v":0},null,null,0,{"$f":"F186+I186","v":0},null,null,{"$f":"ISBLANK(B186)","v":true},true,true,true,{"$f":"M186+N186+O186+P186","v":4},{"$f":"IF(Q186=0,TRUE,FALSE)","v":false}]
[null,null,null,null,null,0,null,null,0,0,null,null,true,true,true,true,4,false]
[null,null,null,null,null,0,null,null,0,0,null,null,true,true,true,true,4,false]
[null,null,null,null,null,0,null,null,0,0,null,null,true,true,true,true,4,false]
[null,null,null,null,null,0,null,null,0,0,null,null,true,true,true,true,4,false]
[null,null,null,null,null,0,null,null,0,0,null,null,true,true,true,true,4,false]
[null,null,null,null,null,0,null,null,0,0,null,null,true,true,true,true,4,false]
[null,null,null,null,null,0,null,null,0,0,null,null,true,true,true,true,4,false]
[null,null,null,null,null,0,null,null,0,0,null,null,null,null,null,null,null,true]
[null,"4.14 Others",null,null,null,{"$f":"SUM(F196:F205)","v":0},null,null,{"$f":"SUM(I196:I205)","v":0},{"$f":"SUM(J196:J205)","v":0},null,null,null,null,null,null,null,true]
[null,null,null,null,null,{"$f":"ROUND(D196*E196,2)","v":0},null,null,{"$f":"ROUND(G196*H196,2)","v":0},{"$f":"F196+I196","v":0},null,null,{"$f":"ISBLANK(B196)","v":true},{"$f":"ISBLANK(C196)","v":true},true,true,{"$f":"M196+N196+O196+P196","v":4},{"$f":"IF(Q196=0,TRUE,FALSE)","v":false}]
[null,null,null,null,null,{"$f":"ROUND(D197*E197,2)","v":0},null,null,0,{"$f":"F197+I197","v":0},null,null,{"$f":"ISBLANK(B197)","v":true},true,true,true,{"$f":"M197+N197+O197+P197","v":4},{"$f":"IF(Q197=0,TRUE,FALSE)","v":false}]
[null,null,null,null,null,0,null,null,0,0,null,null,true,true,true,true,4,false]
[null,null,null,null,null,0,null,null,0,0,null,null,true,true,true,true,4,false]
[null,null,null,null,null,0,null,null,0,0,null,null,true,true,true,true,4,false]
[null,null,null,null,null,0,null,null,0,0,null,null,true,true,true,true,4,false]
[null,null,null,null,null,0,null,null,0,0,null,null,true,true,true,true,4,false]
[null,null,null,null,null,0,null,null,0,0,null,null,true,true,true,true,4,false]
[null,null,null,null,null,0,null,null,0,0,null,null,true,true,true,true,4,false]
[null,null,null,null,null,0,null,null,0,0,null,null,null,null,null,null,null,true]
[null,"TOTAL",null,null,null,{"$f":"F195+F184+F173+F162+F151+F140+F129+F118+F107+F96+F85+F74+F63+F52","v":0},null,null,{"$f":"I195+I184+I173+I162+I151+I140+I129+I118+I107+I96+I85+I74+I63+I52","v":0},{"$f":"J195+J184+J173+J162+J151+J140+J129+J118+J107+J96+J85+J74+J63+J52","v":0},null,null,null,null,null,null,null,true]
[null,null,null,null,null,null,null,null,null,null,null,null,null,null,null,null,null,true]
[null,"BL5 - EQUIPMENT AND WORKS","Unit","Expenditures in the eligible area",null,null,"N/A",null,null,"TOTAL",null,null,null,null,null,null,null,true]
[null,null,null,"Units","Unit rate","TOTAL","Units","Unit rate","TOTAL",null,null,null,null,null,null,null,null,true]
[null,"5.1 Small scale construction",null,null,null,{"$f":"SUM(F211:F220)","v":0},null,null,{"$f":"SUM(I211:I220)","v":0},{"$f":"SUM(J211:J220)","v":0},null,null,null,null,null,null,null,true]
[null,null,null,null,null,{"$f":"ROUND(D211*E211,2)","v":0},null,null,{"$f":"ROUND(G211*H211,2)","v":0},{"$f":"F211+I211","v":0},null,null,{"$f":"ISBLANK(B211)","v":true},{"$f":"ISBLANK(C211)","v":true},true,true,{"$f":"M211+N211+O211+P211","v":4},{"$f":"IF(Q211=0,TRUE,FALSE)","v":false}]
[null,null,null,null,null,{"$f":"ROUND(D212*E212,2)","v":0},null,null,0,{"$f":"F212+I212","v":0},null,null,{"$f":"ISBLANK(B212)","v":true},true,true,true,{"$f":"M212+N212+O212+P212","v":4},{"$f":"IF(Q212=0,TRUE,FALSE)","v":false}]
[null,null,null,null,null,0,null,null,0,0,null,null,true,true,true,true,4,false]
[null,null,null,null,null,0,null,null,0,0,null,null,true,true,true,true,4,false]
[null,null,null,null,null,0,null,null,0,0,null,null,true,true,true,true,4,false]
[null,null,null,null,null,0,null,null,0,0,null,null,true,true,true,true,4,false]
[null,null,null,null,null,0,null,null,0,0,null,null,true,true,true,true,4,false]
[null,null,null,null,null,0,null,null,0,0,null,null,true,true,true,true,4,false]
[null,null,null,null,null,0,null,null,0,0,null,null,true,true,true,true,4,false]
[null,null,null,null,null,0,null,null,0,0,null,null,null,null,null,null,null,true]
[null,"5.2 Supply",null,null,null,{"$f":"SUM(F222:F231)","v":0},null,null,{"$f":"SUM(I222:I231)","v":0},{"$f":"SUM(J222:J231)","v":0},null,null,null,null,null,null,null,true]
[null,null,null,null,null,{"$f":"ROUND(D222*E222,2)","v":0},null,null,{"$f":"ROUND(G222*H222,2)","v":0},{"$f":"F222+I222","v":0},null,null,{"$f":"ISBLANK(B222)","v":true},{"$f":"ISBLANK(C222)","v":true},true,true,{"$f":"M222+N222+O222+P222","v":4},{"$f":"IF(Q222=0,TRUE,FALSE)","v":false}]
[null,null,null,null,null,{"$f":"ROUND(D223*E223,2)","v":0},null,null,0,{"$f":"F223+I223","v":0},null,null,{"$f":"ISBLANK(B223)","v":true},true,true,true,{"$f":"M223+N223+O223+P223","v":4},{"$f":"IF(Q223=0,TRUE,FALSE)","v":false}]
[null,null,null,null,null,0,null,null,0,0,null,null,true,true,true,true,4,false]
[null,null,null,null,null,0,null,null,0,0,null,null,true,true,true,true,4,false]
[null,null,null,null,null,0,null,null,0,0,null,null,true,true,true,true,4,false]
[null,null,null,null,null,0,null,null,0,0,null,null,true,true,true,true,4,false]
[null,null,null,null,null,0,null,null,0,0,null,null,true,true,true,true,4,false]
[null,null,null,null,null,0,null,null,0,0,null,null,true,true,true,true,4,false]
[null,null,null,null,null,0,null,null,0,0,null,null,true,true,true,true,4,false]
[null,null,null,null,null,0,null,null,0,0,null,null,null,null,null,null,null,true]
[null,"TOTAL",null,null,null,{"$f":"F221+F210","v":0},null,null,{"$f":"I221+I210","v":0},{"$f":"J221+J210","v":0},null,null,null,null,null,null,null,true]
[null,null,null,null,null,null,null,null,null,null,null,null,null,null,null,null,null,true]
[null,"BL6 - PROJECT PREPARATION","Unit","Expenditures in the eligible area",null,null,"N/A",null,null,"TOTAL",null,null,null,null,null,null,null,true]
[null,null,null,"Units","Unit rate","TOTAL","Units","Unit rate","TOTAL",null,null,null,null,null,null,null,null,true]
[null,null,null,null,null,{"$f":"ROUND(D236*E236,2)","v":0},null,null,{"$f":"ROUND(G236*H236,2)","v":0},{"$f":"F236+I236","v":0},null,null,{"$f":"ISBLANK(B236)","v":true},{"$f":"ISBLANK(C236)","v":true},true,true,{"$f":"M236+N236+O236+P236","v":4},{"$f":"IF(Q236=0,TRUE,FALSE)","v":false}]
[null,null,null,null,null,{"$f":"ROUND(D237*E237,2)","v":0},null,null,{"$f":"ROUND(G237*H237,2)","v":0},{"$f":"F237+I237","v":0},null,null,{"$f":"ISBLANK(B237)","v":true},true,true,true,{"$f":"M237+N237+O237+P237","v":4},{"$f":"IF(Q237=0,TRUE,FALSE)","v":false}]
[null,null,null,null,null,0,null,null,0,0,null,null,true,true,true,true,4,false]
[null,null,null,null,null,0,null,null,0,0,null,null,true,true,true,true,4,false]
[null,null,null,null,null,0,null,null,0,0,null,null,true,true,true,true,4,false]
[null,null,null,null,null,0,null,null,0,0,null,null,true,true,true,true,4,false]
[null,null,null,null,null,0,null,null,0,0,null,null,true,true,true,true,4,false]
[null,null,null,null,null,0,null,null,0,0,null,null,true,true,true,true,4,false]
[null,null,null,null,null,0,null,null,0,0,null,null,true,true,true,true,4,false]
[null,null,null,null,null,0,null,null,0,0,null,null,null,null,null,null,null,true]
[null,"TOTAL",null,null,null,{"$f":"SUM(F236:F245)","v":0},null,null,{"$f":"SUM(I236:I245)","v":0},{"$f":"SUM(J236:J245)","v":0},null,null,null,null,null,null,null,true]
[null,null,null,null,null,null,null,null,null,null,null,null,null,null,null,null,null,true]
[null,"Total direct project costs (BL3+BL4+BL5)",null,null,null,{"$f":"F48+F206+F232","v":0},null,null,{"$f":"I48+I206+I232","v":0},{"$f":"F248+I248","v":0},null,null,null,null,null,null,null,true]
[null,"TOTAL PROJECT COSTS",null,null,null,{"$f":"F248+F246+I5+I10","v":0},{"$f":"I246+I248","v":0},null,null,{"$f":"F249+G249","v":0},null,null,null,null,null,null,null,true]
[null,null,null,null,null,null,"Expenditures outside are above 20 %!"]

{"sheet":"Table 2-total","index":15,"n_rows":43,"n_cols":5,"rows_kept":43,"cut":false,"hidden":false,"merged":[[2,0,3,2],[5,0,6,2]]}
["TABLE 2 - DETAILED BREAKDOWN OF BUDGET LINES - TOTAL"]
[]
["BL1 - STAFF COSTS",null,null,"TOTAL","%"]
[null,null,null,{"$f":"'T2-B(PP1)'!I5+'T2-B(PP2)'!I5+'T2-B(PP3)'!I5+'T2-B(PP4)'!I5+'T2-B(PP5)'!I5","v":0},{"$f":"D4/D43*100","v":{"$error":"#DIV/0!"}}]
[]
["BL2 - OFFICE AND ADMINISTRATIVE COSTS",null,null,"TOTAL","%"]
[null,null,null,{"$f":"'T2-B(PP1)'!I10+'T2-B(PP2)'!I10+'T2-B(PP3)'!I10+'T2-B(PP4)'!I10+'T2-B(PP5)'!I10","v":0},{"$f":"D7/D43*100","v":{"$error":"#DIV/0!"}}]
[]
["BL3 - TRAVEL AND ACCOMMODATION","Eligible area","Outside eligible area","TOTAL","%"]
["Travel costs",{"$f":"'T2-B(PP1)'!F15+'T2-B(PP2)'!F15+'T2-B(PP3)'!F15+'T2-B(PP4)'!F15+'T2-B(PP5)'!F15","v":0},{"$f":"'T2-B(PP1)'!I15+'T2-B(PP2)'!I15+'T2-B(PP3)'!I15+'T2-B(PP4)'!I15+'T2-B(PP5)'!I15","v":0},{"$f":"SUM(B10:C10)","v":0},{"$f":"D10/$D$43","v":{"$error":"#DIV/0!"}}]
["Daily allowances",{"$f":"'T2-B(PP1)'!F26+'T2-B(PP2)'!F26+'T2-B(PP3)'!F26+'T2-B(PP4)'!F26+'T2-B(PP5)'!F26","v":0},{"$f":"'T2-B(PP1)'!I26+'T2-B(PP2)'!I26+'T2-B(PP3)'!I26+'T2-B(PP4)'!I26+'T2-B(PP5)'!I26","v":0},{"$f":"SUM(B11:C11)","v":0},{"$f":"D11/$D$43","v":{"$error":"#DIV/0!"}}]
["Accommodation costs",{"$f":"'T2-B(PP1)'!F37+'T2-B(PP2)'!F37+'T2-B(PP3)'!F37+'T2-B(PP4)'!F37+'T2-B(PP5)'!F37","v":0},{"$f":"'T2-B(PP1)'!I37+'T2-B(PP2)'!I37+'T2-B(PP3)'!I37+'T2-B(PP4)'!I37+'T2-B(PP5)'!I37","v":0},0,{"$f":"D12/$D$43","v":{"$error":"#DIV/0!"}}]
["TOTAL",{"$f":"SUM(B10:B12)","v":0},{"$f":"SUM(C10:C12)","v":0},0,{"$f":"D13/$D$43*100","v":{"$error":"#DIV/0!"}}]
[]
["BL4 - EXTERNAL EXPERTISE AND SERVICES COSTS","Eligible area","Outside eligible area","TOTAL","%"]
["Rent of hall",{"$f":"'T2-B(PP1)'!F52+'T2-B(PP2)'!F52+'T2-B(PP3)'!F52+'T2-B(PP4)'!F52+'T2-B(PP5)'!F52","v":0},{"$f":"'T2-B(PP1)'!I52+'T2-B(PP2)'!I52+'T2-B(PP3)'!I52+'T2-B(PP4)'!I52+'T2-B(PP5)'!I52","v":0},{"$f":"SUM(B16:C16)","v":0},{"$f":"D16/$D$43","v":{"$error":"#DIV/0!"}}]
["Rent of equipment",{"$f":"'T2-B(PP1)'!F63+'T2-B(PP2)'!F63+'T2-B(PP3)'!F63+'T2-B(PP4)'!F63+'T2-B(PP5)'!F63","v":0},{"$f":"'T2-B(PP1)'!I63+'T2-B(PP2)'!I63+'T2-B(PP3)'!I63+'T2-B(PP4)'!I63+'T2-B(PP5)'!I63","v":0},{"$f":"SUM(B17:C17)","v":0},{"$error":"#DIV/0!"}]
["Coffee breaks …..",{"$f":"'T2-B(PP1)'!F74+'T2-B(PP2)'!F74+'T2-B(PP3)'!F74+'T2-B(PP4)'!F74+'T2-B(PP5)'!F74","v":0},{"$f":"'T2-B(PP1)'!I74+'T2-B(PP2)'!I74+'T2-B(PP3)'!I74+'T2-B(PP4)'!I74+'T2-B(PP5)'!I74","v":0},0,{"$error":"#DIV/0!"}]
["Preparation of materials",{"$f":"'T2-B(PP1)'!F85+'T2-B(PP2)'!F85+'T2-B(PP3)'!F85+'T2-B(PP4)'!F85+'T2-B(PP5)'!F85","v":0},{"$f":"'T2-B(PP1)'!I85+'T2-B(PP2)'!I85+'T2-B(PP3)'!I85+'T2-B(PP4)'!I85+'T2-B(PP5)'!I85","v":0},0,{"$error":"#DIV/0!"}]
["Consumables",{"$f":"'T2-B(PP1)'!F96+'T2-B(PP2)'!F96+'T2-B(PP3)'!F96+'T2-B(PP4)'!F96+'T2-B(PP5)'!F96","v":0},{"$f":"'T2-B(PP1)'!I96+'T2-B(PP2)'!I96+'T2-B(PP3)'!I96+'T2-B(PP4)'!I96+'T2-B(PP5)'!I96","v":0},0,{"$error":"#DIV/0!"}]
["Rent of vehicle for event",{"$f":"'T2-B(PP1)'!F107+'T2-B(PP2)'!F107+'T2-B(PP3)'!F107+'T2-B(PP4)'!F107+'T2-B(PP5)'!F107","v":0},{"$f":"'T2-B(PP1)'!I107+'T2-B(PP2)'!I107+'T2-B(PP3)'!I107+'T2-B(PP4)'!I107+'T2-B(PP5)'!I107","v":0},0,{"$error":"#DIV/0!"}]
["Accommodations for participants in the events ",{"$f":"'T2-B(PP1)'!F118+'T2-B(PP2)'!F118+'T2-B(PP3)'!F118+'T2-B(PP4)'!F118+'T2-B(PP5)'!F118","v":0},{"$f":"'T2-B(PP1)'!I118+'T2-B(PP2)'!I118+'T2-B(PP3)'!I118+'T2-B(PP4)'!I118+'T2-B(PP5)'!I118","v":0},0,{"$error":"#DIV/0!"}]
["Purchase of advertising materials",{"$f":"'T2-B(PP1)'!F129+'T2-B(PP2)'!F129+'T2-B(PP3)'!F129+'T2-B(PP4)'!F129+'T2-B(PP5)'!F129","v":0},{"$f":"'T2-B(PP1)'!I129+'T2-B(PP2)'!I129+'T2-B(PP3)'!I129+'T2-B(PP4)'!I129+'T2-B(PP5)'!I129","v":0},0,{"$error":"#DIV/0!"}]
["Elaboration, design etc.",{"$f":"'T2-B(PP1)'!F140+'T2-B(PP2)'!F140+'T2-B(PP3)'!F140+'T2-B(PP4)'!F140+'T2-B(PP5)'!F430","v":0},{"$f":"'T2-B(PP1)'!I140+'T2-B(PP2)'!I140+'T2-B(PP3)'!I140+'T2-B(PP4)'!I140+'T2-B(PP5)'!I140","v":0},0,{"$error":"#DIV/0!"}]
["Publications in mass-media",{"$f":"'T2-B(PP1)'!F151+'T2-B(PP2)'!F151+'T2-B(PP3)'!F151+'T2-B(PP4)'!F151+'T2-B(PP5)'!F151","v":0},{"$f":"'T2-B(PP1)'!I151+'T2-B(PP2)'!I151+'T2-B(PP3)'!I151+'T2-B(PP4)'!I151+'T2-B(PP5)'!I151","v":0},0,{"$error":"#DIV/0!"}]
["Consultancy,studies,designs etc.",{"$f":"'T2-B(PP1)'!F162+'T2-B(PP2)'!F162+'T2-B(PP3)'!F162+'T2-B(PP4)'!F162+'T2-B(PP5)'!F162","v":0},{"$f":"'T2-B(PP1)'!I162+'T2-B(PP2)'!I162+'T2-B(PP3)'!I162+'T2-B(PP4)'!I162+'T2-B(PP5)'!I162","v":0},0,{"$error":"#DIV/0!"}]
["Authorizations, certificates",{"$f":"'T2-B(PP1)'!F173+'T2-B(PP2)'!F173+'T2-B(PP3)'!F173+'T2-B(PP4)'!F173+'T2-B(PP5)'!F173","v":0},{"$f":"'T2-B(PP1)'!I173+'T2-B(PP2)'!I173+'T2-B(PP3)'!I173+'T2-B(PP4)'!I173+'T2-B(PP5)'!I173","v":0},0,{"$error":"#DIV/0!"}]
["Interpreters, lecturers, trainers",{"$f":"'T2-B(PP1)'!F184+'T2-B(PP2)'!F184+'T2-B(PP3)'!F184+'T2-B(PP4)'!F184+'T2-B(PP5)'!F184","v":0},{"$f":"'T2-B(PP1)'!I184+'T2-B(PP2)'!I184+'T2-B(PP3)'!I184+'T2-B(PP4)'!I184+'T2-B(PP5)'!I184","v":0},0,{"$error":"#DIV/0!"}]
["Others",{"$f":"'T2-B(PP1)'!F195+'T2-B(PP2)'!F195+'T2-B(PP3)'!F195+'T2-B(PP4)'!F195+'T2-B(PP5)'!F195","v":0},{"$f":"'T2-B(PP1)'!I195+'T2-B(PP2)'!I195+'T2-B(PP3)'!I195+'T2-B(PP4)'!I195+'T2-B(PP5)'!I195","v":0},{"$f":"SUM(B29:C29)","v":0},{"$f":"D29/$D$43","v":{"$error":"#DIV/0!"}}]
["TOTAL",{"$f":"SUM(B16:B29)","v":0},{"$f":"SUM(C16:C29)","v":0},{"$f":"SUM(D16:D29)","v":0},{"$f":"D30/$D$43*100","v":{"$error":"#DIV/0!"}}]
[]
["BL5 -EQUIPMENT AND WORKS","Eligible area","Outside eligible area","TOTAL","%"]
["Small scale construction",{"$f":"'T2-B(PP1)'!F210+'T2-B(PP2)'!F210+'T2-B(PP3)'!F210+'T2-B(PP4)'!F210+'T2-B(PP5)'!F210","v":0},{"$f":"'T2-B(PP1)'!I210+'T2-B(PP2)'!I210+'T2-B(PP3)'!I210+'T2-B(PP4)'!I210+'T2-B(PP5)'!I210","v":0},{"$f":"SUM(B33:C33)","v":0},{"$f":"D33/$D$43","v":{"$error":"#DIV/0!"}}]
["Supply",{"$f":"'T2-B(PP1)'!F221+'T2-B(PP2)'!F221+'T2-B(PP3)'!F221+'T2-B(PP4)'!F221+'T2-B(PP5)'!F221","v":0},{"$f":"'T2-B(PP1)'!I221+'T2-B(PP2)'!I221+'T2-B(PP3)'!I221+'T2-B(PP4)'!I221+'T2-B(PP5)'!I221","v":0},0,{"$f":"D34/$D$43","v":{"$error":"#DIV/0!"}}]
["TOTAL",{"$f":"SUM(B33:B34)","v":0},{"$f":"SUM(C33:C34)","v":0},{"$f":"SUM(D33:D34)","v":0},{"$f":"D35/$D$43","v":{"$error":"#DIV/0!"}}]
[]
["BL6 -PROJECT PREPARATION","Eligible area","Outside eligible area","TOTAL","%"]
["Project preparation",{"$f":"'T2-B(PP1)'!F246+'T2-B(PP2)'!F246+'T2-B(PP3)'!F246+'T2-B(PP4)'!F246+'T2-B(PP5)'!F246","v":0},null,{"$f":"SUM(B38:C38)","v":0},{"$f":"D38/$D$43","v":{"$error":"#DIV/0!"}}]
["TOTAL",{"$f":"SUM(B38:B38)","v":0},{"$f":"SUM(C38:C38)","v":0},{"$f":"SUM(D38:D38)","v":0},{"$f":"D39/$D$43","v":{"$error":"#DIV/0!"}}]
[]
["Total direct project costs (BL3+BL4+BL5)",{"$f":"B35+B30+B13","v":0},{"$f":"C35+C30+C13","v":0},{"$f":"D35+D30+D13","v":0},{"$f":"D41/$D$43","v":{"$error":"#DIV/0!"}}]
[]
["TOTAL PROJECT COSTS",{"$f":"B41+B39+D7+D4","v":0},{"$f":"C41+C39","v":0},{"$f":"SUM(B43:C43)","v":0}]

{"sheet":"Table 3-summary","index":16,"n_rows":19,"n_cols":14,"rows_kept":19,"cut":false,"hidden":false,"merged":[[13,1,13,5],[2,9,2,10],[10,0,10,1],[12,1,12,5],[2,0,3,0],[2,1,3,1],[2,2,3,2],[2,4,3,4],[2,5,3,5],[2,3,3,3]]}
["TABLE 3 - SUMMARY BREAKDOWN OF BUDGET LINES PER YEARS"]
[]
["No","BUDGET LINE","Expenditures in the eligible area","Expenditures outside of the eligible area","TOTAL"," % of total project costs",null,null,0,"Limits"]
[null,null,null,null,null,null,null,null,"Line","Lower","Upper"]
["BL 1","Staff costs",{"$f":"'Table 2-total'!D4","v":0},"NA",{"$f":"C5","v":0},{"$f":"E5/E11","v":{"$error":"#DIV/0!"}},null,null,"Administrative costs",0,0.15,{"$error":"#REF!"},{"$error":"#REF!"},{"$error":"#REF!"}]
["BL 2 ","Ofiice and administrative costs",{"$f":"'Table 2-total'!D7","v":0},"NA",{"$f":"C6","v":0},{"$f":"E6/E11","v":{"$error":"#DIV/0!"}},null,null,"Travel & Accomodation",0,0.1,{"$error":"#REF!"},{"$error":"#REF!"},{"$error":"#REF!"}]
["BL 3 ","Travel and accomodation",{"$f":"'Table 2-total'!B13","v":0},{"$f":"'Table 2-total'!C13","v":0},{"$f":"C7+D7","v":0},{"$f":"E7/E11","v":{"$error":"#DIV/0!"}}]
["BL 4 ","External expertise and services",{"$f":"'Table 2-total'!B30","v":0},{"$f":"'Table 2-total'!C30","v":0},{"$f":"C8+D8","v":0},{"$f":"E8/E11","v":{"$error":"#DIV/0!"}},null,null,{"$f":"Cover!C31","v":0},null,{"$f":"IF(I8=\"Soft\",F9>0.5,F9<0.7)","v":{"$error":"#DIV/0!"}},{"$f":"IF(I8=\"Soft\",\"BL5 exceed 50 % of the total budget!\",\"BL5 is not 70 % of the total budget!\")","v":"BL5 is not 70 % of the total budget!"}]
["BL 5 ","Equipment and works",{"$f":"'Table 2-total'!B35","v":0},"NA",{"$f":"C9","v":0},{"$f":"E9/E11","v":{"$error":"#DIV/0!"}}]
["BL 6","Project preparation",{"$f":"'Table 2-total'!B38","v":0},"NA",{"$f":"C10","v":0},{"$f":"E10/E11","v":{"$error":"#DIV/0!"}}]
["TOTAL ",null,{"$f":"SUM(C5:C10)","v":0},{"$f":"SUM(D7:D9)","v":0},{"$f":"SUM(E5:E10)","v":0}]
[null,null,null,null,null,null,null,null,"Define Errors",null,{"$f":"C10/E11>0.3","v":{"$error":"#DIV/0!"}}]
[null,{"$f":"(IF(K12,\"Project preparation exceed the limit of 3 %!\",\"\"))","v":{"$error":"#DIV/0!"}},null,null,null,null,null,null,{"$error":"#REF!"}]
[null,{"$f":"(IF(K8,L8,\"\"))","v":{"$error":"#DIV/0!"}}]
[null,null,null,null,null,null,null,null,true]
[]
[]
[null,null,null,null,null,null,null,null,"Project Preparation",0,0.03,{"$error":"#REF!"},{"$error":"#REF!"}]
[null,null,null,null,null,null,null,null,"Other specific costs",0,0.02,{"$error":"#REF!"},{"$error":"#REF!"}]

{"sheet":"Table 4 PP`BL","index":17,"n_rows":11,"n_cols":8,"rows_kept":11,"cut":false,"hidden":false,"merged":[[9,0,9,1],[10,0,10,1]]}
["TABLE 4 - SUMMARY BREAKDOWN OF BUDGET LINES PER PROJECT PARTNERS"]
[]
["No","BUDGET LINE","PP1 LP","PP2","PP3","PP4","PP5","Total"]
["BL 1","Staff costs",{"$f":"'T2-B(PP1)'!I5","v":0},{"$f":"'T2-B(PP2)'!I5","v":0},{"$f":"'T2-B(PP3)'!I5","v":0},{"$f":"'T2-B(PP4)'!I5","v":0},{"$f":"'T2-B(PP5)'!I5","v":0},{"$f":"SUM(C4:G4)","v":0}]
["BL 2 ","Ofiice and administrative costs",{"$f":"'T2-B(PP1)'!I10","v":0},{"$f":"'T2-B(PP2)'!I10","v":0},{"$f":"'T2-B(PP3)'!I10","v":0},{"$f":"'T2-B(PP4)'!I10","v":0},{"$f":"'T2-B(PP5)'!I10","v":0},{"$f":"SUM(C5:G5)","v":0}]
["BL 3 ","Travel and accomodation",{"$f":"'T2-B(PP1)'!J48","v":0},{"$f":"'T2-B(PP2)'!J48","v":0},{"$f":"'T2-B(PP3)'!J48","v":0},{"$f":"'T2-B(PP4)'!J48","v":0},{"$f":"'T2-B(PP5)'!J48","v":0},0]
["BL 4 ","External expertise and services",{"$f":"'T2-B(PP1)'!J206","v":0},{"$f":"'T2-B(PP2)'!J206","v":0},{"$f":"'T2-B(PP3)'!J206","v":0},{"$f":"'T2-B(PP4)'!J206","v":0},{"$f":"'T2-B(PP5)'!J206","v":0},0]
["BL 5 ","Equipment and works",{"$f":"'T2-B(PP1)'!J232","v":0},{"$f":"'T2-B(PP2)'!J232","v":0},{"$f":"'T2-B(PP3)'!J232","v":0},{"$f":"'T2-B(PP4)'!J232","v":0},{"$f":"'T2-B(PP5)'!J232","v":0},0]
["BL 6 ","Project preparation",{"$f":"'T2-B(PP1)'!J246","v":0},{"$f":"'T2-B(PP2)'!J246","v":0},{"$f":"'T2-B(PP3)'!J246","v":0},{"$f":"'T2-B(PP4)'!J246","v":0},{"$f":"'T2-B(PP5)'!J246","v":0},0]
["TOTAL ",null,{"$f":"SUM(C4:C9)","v":0},{"$f":"SUM(D4:D9)","v":0},0,0,0,0]
["% from TOTAL ",null,{"$f":"C10/$H$10*100","v":{"$error":"#DIV/0!"}},{"$f":"D10/$H$10*100","v":{"$error":"#DIV/0!"}},{"$error":"#DIV/0!"},{"$error":"#DIV/0!"},{"$error":"#DIV/0!"}]

{"sheet":"Table 5-Sources","index":18,"n_rows":24,"n_cols":19,"rows_kept":24,"cut":false,"hidden":false,"merged":[]}
["TABLE 5 - PROJECT SOURCES / PARTNERS' CONTRIBUTION"]
[null,null,null,null,null,null,null,null,null,null,null,null,null,null,{"$f":"CONCATENATE(P3,P2)","v":"00"},{"$f":"LEFT(O3,1)","v":"0"}]
["Project partners","PP1 LP","PP2","PP3","PP4","PP5","Total",null,null,null,null,null,null,null,{"$f":"O4","v":0},{"$f":"LEFT(P4,3)","v":"0"}]
["Country (code)",{"$f":"'T1-PPs'!D6","v":"MK"},{"$f":"'T1-PPs'!D7","v":"BG"},{"$f":"'T1-PPs'!D8","v":"MK"},{"$f":"'T1-PPs'!D9","v":"MK"},{"$f":"'T1-PPs'!D10","v":"MK"},null,null,null,null,null,null,{"$f":"VLOOKUP(O2,O5:S14,2)","v":{"$error":"#N/A"}},null,{"$f":"Cover!C31","v":0},{"$f":"Cover!C29","v":0}]
["Total partner's contribution             (including EU + national co-financing)",{"$f":"'Table 4 PP`BL'!C10","v":0},{"$f":"'Table 4 PP`BL'!D10","v":0},{"$f":"'Table 4 PP`BL'!E10","v":0},{"$f":"'Table 4 PP`BL'!F10","v":0},{"$f":"'Table 4 PP`BL'!G10","v":0},{"$f":"SUM(B5:F5)","v":0},null,null,{"$f":"(G5>M4)+(G5<M5)","v":{"$error":"#N/A"}},null,null,{"$f":"VLOOKUP(O2,O5:S14,3)","v":{"$error":"#N/A"}},null,"Type","min","max","dmin","dmax"]
["National co-financing",{"$f":"B7+B8","v":0},{"$f":"C7+C8","v":0},0,0,0,{"$f":"SUM(B6:F6)","v":0},null,null,null,null,null,{"$f":"VLOOKUP(O2,O5:S14,4)","v":{"$error":"#N/A"}},null,"1.1I",250000,600000,12,24]
[" Thereof state co-financing",{"$f":"ROUNDUP((B5-B8)*0.15,2)","v":0},{"$f":"ROUNDUP((C5-C8)*0.15,2)","v":0},0,0,0,{"$f":"SUM(B7:F7)","v":0},null,null,null,null,null,{"$f":"VLOOKUP(O2,O5:S14,5)","v":{"$error":"#N/A"}},null,"1.1S",50000,120000,8,15]
[" Thereof own co-financing",null,null,null,null,null,{"$f":"SUM(B8:F8)","v":0},null,null,null,null,null,null,null,"1.2I",250000,400000,12,24]
[" Thereof others co-fin.",0,0,0,0,0,0,null,null,null,null,null,null,null,"1.2S",50000,120000,8,15]
["EU co-financing rate",{"$f":"B11/B5","v":{"$error":"#DIV/0!"}},{"$f":"C11/C5","v":{"$error":"#DIV/0!"}},{"$f":"D11/D5","v":{"$error":"#DIV/0!"}},{"$f":"E11/E5","v":{"$error":"#DIV/0!"}},{"$f":"F11/F5","v":{"$error":"#DIV/0!"}},null,null,null,{"$f":"CONCATENATE(\"Project value outside the limits of:\",M4,\" to \",M5,\" Euro\")","v":{"$error":"#N/A"}},null,null,null,null,"2.1I",250000,500000,12,24]
["EU subsidy",{"$f":"B5-B6","v":0},{"$f":"C5-C6","v":0},0,0,0,{"$f":"SUM(B11:F11)","v":0},null,null,null,null,null,null,null,"2.2S",50000,120000,8,15]
[null,{"$f":"CONCATENATE(\"Project value outside the limits from \",M4,\" to \",M5,\" Euro\")","v":{"$error":"#N/A"}},null,null,null,null,null,null,null,null,null,null,null,null,"2.3S",50000,120000,8,15]
[{"$error":"#REF!"},null,null,null,null,null,null,null,null,null,null,null,null,null,"3.1S",50000,120000,8,15]
[]
[]
[]
[]
[]
[]
[]
[]
[]
[]
[null,null," "]

{"sheet":"Statements","index":19,"n_rows":180,"n_cols":7,"rows_kept":180,"cut":false,"hidden":false,"merged":[[48,0,48,8],[63,0,63,1],[10,0,10,8],[5,0,5,8],[26,0,26,1],[42,0,42,8],[25,0,25,1],[20,0,20,8],[24,0,24,4],[22,0,22,4],[47,0,47,8],[57,0,57,8],[59,0,59,4],[61,0,61,4],[62,0,62,1],[11,0,11,8],[135,0,135,4],[85,0,85,8],[122,0,122,8],[94,0,94,8],[96,0,96,4],[98,0,98,4],[99,0,99,1],[100,0,100,1],[116,0,116,8],[79,0,79,8],[84,0,84,8],[121,0,121,8],[131,0,131,8],[133,0,133,4],[136,0,136,1],[137,0,137,1],[153,0,153,8],[158,0,158,8],[168,0,168,8],[170,0,170,4],[159,0,159,8],[172,0,172,4],[173,0,173,1],[174,0,174,1]]}
[]
[]
["                      PARTNERSHIP AND CO-FINANCING STATEMENT"]
[]
[]
[{"$f":"IF(Cover!C22=\"\",\"\",Cover!C22)","v":""}]
["(Project Title)"]
[]
[]
["In the case of approval of the above mentioned project, applying for assistance from the INTERREG IPA "]
["CBC Programme  we hereby declare that "]
[{"$f":"Cover!C36","v":0}]
["(Name of Organization)"]
[]
["listed as PP 1 / LP in Table 1 of the Application form - Part 3,"]
["has examined and agreed on his tasks and activities described in the Application form - Part 2,"]
["undertakes to comply with the principles of good partnership practice and to provide"]
["EUR",{"$f":"'Table 5-Sources'!B8","v":0},"as own contribution and/or other sources to the IPA II CBC project budget."]
[]
["We furthermore confirm that any project expenditure related to the above mentioned project"]
["will not be funded by any other EU programme."]
[]
[]
["(Name of the legal representative of the Project Partner)"]
[]
["(Position)"]
[]
["(Date)"]
[]
[]
[null,null,null,null,null,null,"(Signature)"]
[null,null,null,null,null,null,"(Official Stamp of Project Partner)"]
[]
[]
[]
[]
[]
[]
[]
["                      PARTNERSHIP AND CO-FINANCING STATEMENT"]
[]
[]
[{"$f":"IF(Cover!C22=\"\",\"\",Cover!C22)","v":""}]
["(Project Title)"]
[]
[]
["In the case of approval of the above mentioned project, applying for assistance from the INTERREG IPA "]
["CBC Programme  we hereby declare that "]
[{"$f":"'PP2'!C7","v":0}]
["(Name of Organization)"]
[]
["listed as PP 2 in Table 1 of the Application form - Part 3,"]
["has examined and agreed on his tasks and activities described in the Application form - Part 2,"]
["undertakes to comply with the principles of good partnership practice and to provide"]
["EUR",{"$f":"'Table 5-Sources'!C8","v":0},"as own contribution and/or other sources to the IPA CBC project budget."]
[]
["We furthermore confirm that any project expenditure related to the above mentioned project"]
["will not be funded by any other EU programme."]
[]
[]
["(Name of the legal representative of the Project Partner)"]
[]
["(Position)"]
[]
["(Date)"]
[]
[]
[null,null,null,null,null,null,"(Signature)"]
[null,null,null,null,null,null,"(Official Stamp of Project Partner)"]
[]
[]
[]
[]
[]
[]
[]
["                      PARTNERSHIP AND CO-FINANCING STATEMENT"]
[]
[]
[{"$f":"IF(Cover!C22=\"\",\"\",Cover!C22)","v":""}]
["(Project Title)"]
[]
[]
["In the case of approval of the above mentioned project, applying for assistance from the INTERREG IPA "]
["CBC Programme  we hereby declare that "]
[{"$f":"'PP3'!C7","v":0}]
["(Name of Organization)"]
[]
["listed as PP 3 in Table 1 of the Application form - Part 3,"]
["has examined and agreed on his tasks and activities described in the Application form - Part 2,"]
["undertakes to comply with the principles of good partnership practice and to provide"]
["EUR",{"$f":"'Table 5-Sources'!D8","v":0},"as own contribution and/or other sources to the IPA CBC project budget."]
[]
["We furthermore confirm that any project expenditure related to the above mentioned project"]
["will not be funded by any other EU programme."]
[]
[]
["(Name of the legal representative of the Project Partner)"]
[]
["(Position)"]
[]
["(Date)"]
[]
[]
[null,null,null,null,null,null,"(Signature)"]
[null,null,null,null,null,null,"(Official Stamp of Project Partner)"]
[]
[]
[]
[]
[]
[]
[]
["                      PARTNERSHIP AND CO-FINANCING STATEMENT"]
[]
[]
[{"$f":"IF(Cover!C22=\"\",\"\",Cover!C22)","v":""}]
["(Project Title)"]
[]
[]
["In the case of approval of the above mentioned project, applying for assistance from the INTERREG IPA "]
["CBC Programme  we hereby declare that "]
[{"$f":"'PP4'!C7","v":0}]
["(Name of Organization)"]
[]
["listed as PP 4 in Table 1 of the Application form - Part 3,"]
["has examined and agreed on his tasks and activities described in the Application form - Part 2,"]
["undertakes to comply with the principles of good partnership practice and to provide"]
["EUR",{"$f":"'Table 5-Sources'!E8","v":0},"as own contribution and/or other sources to the IPA CBC project budget."]
[]
["We furthermore confirm that any project expenditure related to the above mentioned project"]
["will not be funded by any other EU programme."]
[]
[]
["(Name of the legal representative of the Project Partner)"]
[]
["(Position)"]
[]
["(Date)"]
[]
[]
[null,null,null,null,null,null,"(Signature)"]
[null,null,null,null,null,null,"(Official Stamp of Project Partner)"]
[]
[]
[]
[]
[]
[]
[]
["                      PARTNERSHIP AND CO-FINANCING STATEMENT"]
[]
[]
[{"$f":"IF(Cover!C22=\"\",\"\",Cover!C22)","v":""}]
["(Project Title)"]
[]
[]
["In the case of approval of the above mentioned project, applying for assistance from the INTERREG IPA "]
["CBC Programme  we hereby declare that "]
[{"$f":"'PP5'!C7","v":0}]
["(Name of Organization)"]
[]
["listed as PP 5 in Table 1 of the Application form - Part 3,"]
["has examined and agreed on his tasks and activities described in the Application form - Part 2,"]
["undertakes to comply with the principles of good partnership practice and to provide"]
["EUR",{"$f":"'Table 5-Sources'!F8","v":0},"as own contribution and/or other sources to the IPA CBC project budget."]
[]
["We furthermore confirm that any project expenditure related to the above mentioned project"]
["will not be funded by any other EU programme."]
[]
[]
["(Name of the legal representative of the Project Partner)"]
[]
["(Position)"]
[]
["(Date)"]
[]
[]
[null,null,null,null,null,null,"(Signature)"]
[null,null,null,null,null,null,"(Official Stamp of Project Partner)"]

{"sheet":"Declarations","index":20,"n_rows":217,"n_cols":2,"rows_kept":217,"cut":false,"hidden":false,"merged":[[210,0,210,3],[211,0,211,3],[204,0,204,3],[205,0,205,3],[206,0,206,3],[207,0,207,3],[208,0,208,3],[209,0,209,3],[198,0,198,3],[199,0,199,3],[200,0,200,3],[201,0,201,3],[202,0,202,3],[203,0,203,3],[191,0,191,3],[193,0,193,3],[194,0,194,3],[195,0,195,3],[196,0,196,3],[197,0,197,3],[184,0,184,3],[186,0,186,3],[187,1,187,3],[188,1,188,3],[189,1,189,3],[190,0,190,1],[166,0,166,3],[167,0,167,3],[168,0,168,3],[180,0,180,3],[181,0,181,3],[183,0,183,3],[160,0,160,3],[161,0,161,3],[162,0,162,3],[163,0,163,3],[164,0,164,3],[165,0,165,3],[154,0,154,3],[155,0,155,3],[156,0,156,3],[157,0,157,3],[158,0,158,3],[159,0,159,3],[147,0,147,1],[148,0,148,3],[150,0,150,3],[151,0,151,3],[152,0,152,3],[153,0,153,3],[140,0,140,3],[141,0,141,3],[143,0,143,3],[144,1,144,3],[145,1,145,3],[146,1,146,3],[121,0,121,3],[122,0,122,3],[123,0,123,3],[124,0,124,3],[137,0,137,3],[138,0,138,3],[115,0,115,3],[116,0,116,3],[117,0,117,3],[118,0,118,3],[119,0,119,3],[120,0,120,3],[109,0,109,3],[110,0,110,3],[111,0,111,3],[112,0,112,3],[113,0,113,3],[114,0,114,3],[102,1,102,3],[103,0,103,1],[104,0,104,3],[106,0,106,3],[107,0,107,3],[108,0,108,3],[94,0,94,3],[96,0,96,3],[97,0,97,3],[99,0,99,3],[100,1,100,3],[101,1,101,3],[75,0,75,3],[76,0,76,3],[77,0,77,3],[78,0,78,3],[79,0,79,3],[93,0,93,3],[69,0,69,3],[70,0,70,3],[71,0,71,3],[72,0,72,3],[73,0,73,3],[74,0,74,3],[63,0,63,3],[64,0,64,3],[65,0,65,3],[66,0,66,3],[67,0,67,3],[68,0,68,3],[56,1,56,3],[57,1,57,3],[58,0,58,1],[59,0,59,3],[61,0,61,3],[62,0,62,3],[48,0,48,3],[49,0,49,3],[51,0,51,3],[52,0,52,3],[54,0,54,3],[55,1,55,3],[29,0,29,3],[30,0,30,3],[31,0,31,3],[32,0,32,3],[33,0,33,3],[34,0,34,3],[23,0,23,3],[24,0,24,3],[25,0,25,3],[26,0,26,3],[27,0,27,3],[28,0,28,3],[17,0,17,3],[18,0,18,3],[19,0,19,3],[20,0,20,3],[21,0,21,3],[22,0,22,3],[10,1,10,3],[11,1,11,3],[12,1,12,3],[13,0,13,1],[14,0,14,3],[16,0,16,3],[3,0,3,3],[4,0,4,3],[6,0,6,3],[7,0,7,3],[9,0,9,3]]}
[]
[]
[]
["DECLARATION OF "]
["ELIGIBILITY AND COMMITMENT "]
[]
["I, the undersigned      "]
[{"$f":"IF('PP1(LP)'!C23=\"\",\"\",'PP1(LP)'!C23)","v":""}]
["In my capacity of an official legal representative of       "]
[{"$f":"IF('PP1(LP)'!C7=\"\",\"\",'PP1(LP)'!C7)","v":""}]
["With its official address at:      ",{"$f":"IF('PP1(LP)'!C19=\"\",\"\",'PP1(LP)'!C19)","v":""}]
["National registration code:       ",{"$f":"IF('PP1(LP)'!C70=\"\",\"\",'PP1(LP)'!C70)","v":""}]
["VAT №/ equivalent :      ",{"$f":"IF('PP1(LP)'!C72=\"\",\"\",'PP1(LP)'!C72)","v":""}]
["acting as  partner 1 in the project  "]
[{"$f":"IF(Cover!C22=\"\",\"\",Cover!C22)","v":""}]
[", I declare that:"]
["1)      the body/institution I represent is eligible in accordance with the criteria set out under sections 2.1.1 and 2.1.2 of the Applicant’s Guide;"]
["2)      the operation has not been physically completed or fully or partially implemented before the application for funding under the programme is submitted by the beneficiary to the managing authority, irrespective of whether all related payments have been made by the beneficiary (except project preparation)."]
["3)      the body/institution I represent is not bankrupt or wound up, has not its affairs administered by the courts, has not entered into an arrangement with creditors, has not suspended business activities, is not the subject of proceedings concerning those matters, and is not in any analogous situation arising from a similar procedure provided for in national legislation or EU regulations;"]
["4)      its legal representatives have not been convicted of an offence concerning professional conduct by a judgment which has the force of res judicata (i.e., against which no appeal is possible);"]
["5)      the body/institution  I represent  or its legal representatives are not responsible of  serious professional misconduct proven by any means;"]
["6)      the body/institution I represent has fulfilled all obligations relating to the payment of debts to the consolidated state budget;"]
["7)      its legal representatives has not been the subject of a judgment which has the force of res judicata for fraud, corruption, involvement in a criminal organisation or any other illegal activity detrimental to the Communities or national  financial interests;"]
["8)      neither the body/institution I represent, nor its legal representatives have been declared to be in serious breach of contract for failure to comply with their contractual obligations in connection with a procurement procedure or other grant award procedure financed by the Community or national budget;"]
["9)      the body/institution I represent has not benefited of the financing support from public funds for the same project proposal, and do not apply for other funding programmes with this project unless it does not obtain financial support under this programme;"]
["10)  the body/institution I represent has not benefited of financing support from public funds in the past 5 years before the deadline for submitting the applications under this call for proposals;"]
["11)  the body/institution I represent has not receiving state aid for the same action, that is described within the current application submitted under call for proposals for Bulgaria – the former Yugoslav Republic of Macedonia IPA Cross Border Programme 2014-2020. Assistance provided under this Programme is in accordance with the National and Community legislation on state aid;"]
["12)  the body/institution I represent has not generating revenue from the same action, that is described within the current application submitted under call for proposals for Bulgaria – the former Yugoslav Republic of Macedonia IPA Cross Border Programme 2014-2020;"]
["13)   neither the body/institution I represent, nor its legal representatives are guilty of misrepresentation in supplying the information required by the Managing Authority /Joint Secretariat as a condition of participation in the call for proposals;"]
["14)   neither I or any of the body/institution I represent, nor its legal representatives are subject to a conflict of interests; the conflict of interests represents any circumstances that may affect the evaluation or implementation process, in an objective and impartial manner. Such circumstances may result from economic interests, political or national preferences or family connections. "]
["15)  neither I or any of the body/institution I represent, nor its legal representatives have attempted or will attempt to obtain confidential information or influence the evaluation bodies during the evaluation process of current or previous calls for proposals."]
["16)  the body/institution I represent will provide its own contribution to the eligible expenditure and ensure the temporary availability of funds until they are reimbursed by the programme"]
["17)   the body/institution I represent will cover all non-eligible expenditures corresponding to its activities incurred during project implementation."]
["I, also, hereby declare, that I shall immediately inform the Managing authority within Ministry of Regional Development and Public Works, Republic of Bulgaria and/or National Authority within Ministry of Local Self-Government, the former Yugoslav Republic of Macedonia, of any multiple applications and multiple grants relating to the same action or to the same work programme."]
["I am fully aware of the fact I am legally liable for making false declarations."]
[]
["     .      "]
["(Place, Date/month/ year)"]
["……………………………………."]
["(Signature and stamp)"]
[]
[]
[]
[]
[]
[]
[]
[]
["DECLARATION OF "]
["ELIGIBILITY AND COMMITMENT "]
[]
["I, the undersigned      "]
[{"$f":"IF('PP2'!$C$23=\"\",\"\",'PP2'!$C$23)","v":""}]
["In my capacity of an official legal representative of       "]
[{"$f":"IF('PP2'!$C$7=\"\",\"\",'PP2'!$C$7)","v":""}]
["With its official address at:      ",{"$f":"IF('PP2'!$C$19=\"\",\"\",'PP2'!$C$19)","v":""}]
["National registration code:       ",{"$f":"IF('PP2'!$C$70=\"\",\"\",'PP2'!$C$70)","v":""}]
["VAT №/ equivalent :      ",{"$f":"IF('PP2'!$C$72=\"\",\"\",'PP2'!$C$72)","v":""}]
["acting as  partner 2 in the project  "]
[{"$f":"IF(Cover!$C$22=\"\",\"\",Cover!$C$22)","v":""}]
[", I declare that:"]
["1)      the body/institution I represent is eligible in accordance with the criteria set out under sections 2.1.1 and 2.1.2 of the Applicant’s Guide;"]
["2)      the operation has not been physically completed or fully or partially implemented before the application for funding under the programme is submitted by the beneficiary to the managing authority, irrespective of whether all related payments have been made by the beneficiary (except project preparation)."]
["3)      the body/institution I represent is not bankrupt or wound up, has not its affairs administered by the courts, has not entered into an arrangement with creditors, has not suspended business activities, is not the subject of proceedings concerning those matters, and is not in any analogous situation arising from a similar procedure provided for in national legislation or EU regulations;"]
["4)      its legal representatives have not been convicted of an offence concerning professional conduct by a judgment which has the force of res judicata (i.e., against which no appeal is possible);"]
["5)      the body/institution  I represent  or its legal representatives are not responsible of  serious professional misconduct proven by any means;"]
["6)      the body/institution I represent has fulfilled all obligations relating to the payment of debts to the consolidated state budget;"]
["7)      its legal representatives has not been the subject of a judgment which has the force of res judicata for fraud, corruption, involvement in a criminal organisation or any other illegal activity detrimental to the Communities or national  financial interests;"]
["8)      neither the body/institution I represent, nor its legal representatives have been declared to be in serious breach of contract for failure to comply with their contractual obligations in connection with a procurement procedure or other grant award procedure financed by the Community or national budget;"]
["9)      the body/institution I represent has not benefited of the financing support from public funds for the same project proposal, and do not apply for other funding programmes with this project unless it does not obtain financial support under this programme;"]
["10)  the body/institution I represent has not benefited of financing support from public funds in the past 5 years before the deadline for submitting the applications under this call for proposals;"]
["11)  the body/institution I represent has not receiving state aid for the same action, that is described within the current application submitted under call for proposals for Bulgaria – the former Yugoslav Republic of Macedonia IPA Cross Border Programme 2014-2020. Assistance provided under this Programme is in accordance with the National and Community legislation on state aid;"]
["12)  the body/institution I represent has not generating revenue from the same action, that is described within the current application submitted under call for proposals for Bulgaria – the former Yugoslav Republic of Macedonia IPA Cross Border Programme 2014-2020;"]
["13)   neither the body/institution I represent, nor its legal representatives are guilty of misrepresentation in supplying the information required by the Managing Authority /Joint Secretariat as a condition of participation in the call for proposals;"]
["14)   neither I or any of the body/institution I represent, nor its legal representatives are subject to a conflict of interests; the conflict of interests represents any circumstances that may affect the evaluation or implementation process, in an objective and impartial manner. Such circumstances may result from economic interests, political or national preferences or family connections. "]
["15)  neither I or any of the body/institution I represent, nor its legal representatives have attempted or will attempt to obtain confidential information or influence the evaluation bodies during the evaluation process of current or previous calls for proposals."]
["16)  the body/institution I represent will provide its own contribution to the eligible expenditure and ensure the temporary availability of funds until they are reimbursed by the programme"]
["17)   the body/institution I represent will cover all non-eligible expenditures corresponding to its activities incurred during project implementation."]
["I, also, hereby declare, that I shall immediately inform the Managing authority within Ministry of Regional Development and Public Works, Republic of Bulgaria and/or National Authority within Ministry of Local Self-Government, the former Yugoslav Republic of Macedonia, of any multiple applications and multiple grants relating to the same action or to the same work programme."]
["I am fully aware of the fact I am legally liable for making false declarations."]
[]
["     .      "]
["(Place, Date/month/ year)"]
["……………………………………."]
["(Signature and stamp)"]
[]
[]
[]
[]
[]
[]
[]
[]
["DECLARATION OF "]
["ELIGIBILITY AND COMMITMENT "]
[]
["I, the undersigned      "]
[{"$f":"IF('PP3'!$C$23=\"\",\"\",'PP3'!$C$23)","v":""}]
["In my capacity of an official legal representative of       "]
[{"$f":"IF('PP3'!$C$7=\"\",\"\",'PP3'!$C$7)","v":""}]
["With its official address at:      ",{"$f":"IF('PP3'!$C$19=\"\",\"\",'PP3'!$C$19)","v":""}]
["National registration code:       ",{"$f":"IF('PP3'!$C$70=\"\",\"\",'PP3'!$C$70)","v":""}]
["VAT №/ equivalent :      ",{"$f":"IF('PP3'!$C$72=\"\",\"\",'PP3'!$C$72)","v":""}]
["acting as  partner 3 in the project  "]
[{"$f":"IF(Cover!$C$22=\"\",\"\",Cover!$C$22)","v":""}]
[", I declare that:"]
["1)      the body/institution I represent is eligible in accordance with the criteria set out under sections 2.1.1 and 2.1.2 of the Applicant’s Guide;"]
["2)      the operation has not been physically completed or fully or partially implemented before the application for funding under the programme is submitted by the beneficiary to the managing authority, irrespective of whether all related payments have been made by the beneficiary (except project preparation)."]
["3)      the body/institution I represent is not bankrupt or wound up, has not its affairs administered by the courts, has not entered into an arrangement with creditors, has not suspended business activities, is not the subject of proceedings concerning those matters, and is not in any analogous situation arising from a similar procedure provided for in national legislation or EU regulations;"]
["4)      its legal representatives have not been convicted of an offence concerning professional conduct by a judgment which has the force of res judicata (i.e., against which no appeal is possible);"]
["5)      the body/institution  I represent  or its legal representatives are not responsible of  serious professional misconduct proven by any means;"]
["6)      the body/institution I represent has fulfilled all obligations relating to the payment of debts to the consolidated state budget;"]
["7)      its legal representatives has not been the subject of a judgment which has the force of res judicata for fraud, corruption, involvement in a criminal organisation or any other illegal activity detrimental to the Communities or national  financial interests;"]
["8)      neither the body/institution I represent, nor its legal representatives have been declared to be in serious breach of contract for failure to comply with their contractual obligations in connection with a procurement procedure or other grant award procedure financed by the Community or national budget;"]
["9)      the body/institution I represent has not benefited of the financing support from public funds for the same project proposal, and do not apply for other funding programmes with this project unless it does not obtain financial support under this programme;"]
["10)  the body/institution I represent has not benefited of financing support from public funds in the past 5 years before the deadline for submitting the applications under this call for proposals;"]
["11)  the body/institution I represent has not receiving state aid for the same action, that is described within the current application submitted under call for proposals for Bulgaria – the former Yugoslav Republic of Macedonia IPA Cross Border Programme 2014-2020. Assistance provided under this Programme is in accordance with the National and Community legislation on state aid;"]
["12)  the body/institution I represent has not generating revenue from the same action, that is described within the current application submitted under call for proposals for Bulgaria – the former Yugoslav Republic of Macedonia IPA Cross Border Programme 2014-2020;"]
["13)   neither the body/institution I represent, nor its legal representatives are guilty of misrepresentation in supplying the information required by the Managing Authority /Joint Secretariat as a condition of participation in the call for proposals;"]
["14)   neither I or any of the body/institution I represent, nor its legal representatives are subject to a conflict of interests; the conflict of interests represents any circumstances that may affect the evaluation or implementation process, in an objective and impartial manner. Such circumstances may result from economic interests, political or national preferences or family connections. "]
["15)  neither I or any of the body/institution I represent, nor its legal representatives have attempted or will attempt to obtain confidential information or influence the evaluation bodies during the evaluation process of current or previous calls for proposals."]
["16)  the body/institution I represent will provide its own contribution to the eligible expenditure and ensure the temporary availability of funds until they are reimbursed by the programme"]
["17)   the body/institution I represent will cover all non-eligible expenditures corresponding to its activities incurred during project implementation."]
["I, also, hereby declare, that I shall immediately inform the Managing authority within Ministry of Regional Development and Public Works, Republic of Bulgaria and/or National Authority within Ministry of Local Self-Government, the former Yugoslav Republic of Macedonia, of any multiple applications and multiple grants relating to the same action or to the same work programme."]
["I am fully aware of the fact I am legally liable for making false declarations."]
[]
["     .      "]
["(Place, Date/month/ year)"]
["……………………………………."]
["(Signature and stamp)"]
[]
[]
[]
[]
[]
[]
[]
["DECLARATION OF "]
["ELIGIBILITY AND COMMITMENT "]
[]
["I, the undersigned      "]
[{"$f":"IF('PP4'!$C$23=\"\",\"\",'PP4'!$C$23)","v":""}]
["In my capacity of an official legal representative of       "]
[{"$f":"IF('PP4'!$C$7=\"\",\"\",'PP4'!$C$7)","v":""}]
["With its official address at:      ",{"$f":"IF('PP4'!$C$19=\"\",\"\",'PP4'!$C$19)","v":""}]
["National registration code:       ",{"$f":"IF('PP4'!$C$70=\"\",\"\",'PP4'!$C$70)","v":""}]
["VAT №/ equivalent :      ",{"$f":"IF('PP3'!$C$72=\"\",\"\",'PP3'!$C$72)","v":""}]
["acting as  partner 4 in the project  "]
[{"$f":"IF(Cover!$C$22=\"\",\"\",Cover!$C$22)","v":""}]
[", I declare that:"]
["1)      the body/institution I represent is eligible in accordance with the criteria set out under sections 2.1.1 and 2.1.2 of the Applicant’s Guide;"]
["2)      the operation has not been physically completed or fully or partially implemented before the application for funding under the programme is submitted by the beneficiary to the managing authority, irrespective of whether all related payments have been made by the beneficiary (except project preparation)."]
["3)      the body/institution I represent is not bankrupt or wound up, has not its affairs administered by the courts, has not entered into an arrangement with creditors, has not suspended business activities, is not the subject of proceedings concerning those matters, and is not in any analogous situation arising from a similar procedure provided for in national legislation or EU regulations;"]
["4)      its legal representatives have not been convicted of an offence concerning professional conduct by a judgment which has the force of res judicata (i.e., against which no appeal is possible);"]
["5)      the body/institution  I represent  or its legal representatives are not responsible of  serious professional misconduct proven by any means;"]
["6)      the body/institution I represent has fulfilled all obligations relating to the payment of debts to the consolidated state budget;"]
["7)      its legal representatives has not been the subject of a judgment which has the force of res judicata for fraud, corruption, involvement in a criminal organisation or any other illegal activity detrimental to the Communities or national  financial interests;"]
["8)      neither the body/institution I represent, nor its legal representatives have been declared to be in serious breach of contract for failure to comply with their contractual obligations in connection with a procurement procedure or other grant award procedure financed by the Community or national budget;"]
["9)      the body/institution I represent has not benefited of the financing support from public funds for the same project proposal, and do not apply for other funding programmes with this project unless it does not obtain financial support under this programme;"]
["10)  the body/institution I represent has not benefited of financing support from public funds in the past 5 years before the deadline for submitting the applications under this call for proposals;"]
["11)  the body/institution I represent has not receiving state aid for the same action, that is described within the current application submitted under call for proposals for Bulgaria – the former Yugoslav Republic of Macedonia IPA Cross Border Programme 2014-2020. Assistance provided under this Programme is in accordance with the National and Community legislation on state aid;"]
["12)  the body/institution I represent has not generating revenue from the same action, that is described within the current application submitted under call for proposals for Bulgaria – the former Yugoslav Republic of Macedonia IPA Cross Border Programme 2014-2020;"]
["13)   neither the body/institution I represent, nor its legal representatives are guilty of misrepresentation in supplying the information required by the Managing Authority /Joint Secretariat as a condition of participation in the call for proposals;"]
["14)   neither I or any of the body/institution I represent, nor its legal representatives are subject to a conflict of interests; the conflict of interests represents any circumstances that may affect the evaluation or implementation process, in an objective and impartial manner. Such circumstances may result from economic interests, political or national preferences or family connections. "]
["15)  neither I or any of the body/institution I represent, nor its legal representatives have attempted or will attempt to obtain confidential information or influence the evaluation bodies during the evaluation process of current or previous calls for proposals."]
["16)  the body/institution I represent will provide its own contribution to the eligible expenditure and ensure the temporary availability of funds until they are reimbursed by the programme"]
["17)   the body/institution I represent will cover all non-eligible expenditures corresponding to its activities incurred during project implementation."]
["I, also, hereby declare, that I shall immediately inform the Managing authority within Ministry of Regional Development and Public Works, Republic of Bulgaria and/or National Authority within Ministry of Local Self-Government, the former Yugoslav Republic of Macedonia, of any multiple applications and multiple grants relating to the same action or to the same work programme."]
["I am fully aware of the fact I am legally liable for making false declarations."]
[]
["     .      "]
["(Place, Date/month/ year)"]
["……………………………………."]
["(Signature and stamp)"]
[]
[]
[]
[]
[]
[]
["DECLARATION OF "]
["ELIGIBILITY AND COMMITMENT "]
[]
["I, the undersigned      "]
[{"$f":"IF('PP5'!$C$23=\"\",\"\",'PP5'!$C$23)","v":""}]
["In my capacity of an official legal representative of       "]
[{"$f":"IF('PP5'!$C$7=\"\",\"\",'PP5'!$C$7)","v":""}]
["With its official address at:      ",{"$f":"IF('PP5'!$C$19=\"\",\"\",'PP5'!$C$19)","v":""}]
["National registration code:       ",{"$f":"IF('PP5'!$C$70=\"\",\"\",'PP5'!$C$70)","v":""}]
["VAT №/ equivalent :      ",{"$f":"IF('PP5'!$C$72=\"\",\"\",'PP5'!$C$72)","v":""}]
["acting as  partner 5 in the project  "]
[{"$f":"IF(Cover!$C$22=\"\",\"\",Cover!$C$22)","v":""}]
[", I declare that:"]
["1)      the body/institution I represent is eligible in accordance with the criteria set out under sections 2.1.1 and 2.1.2 of the Applicant’s Guide;"]
["2)      the operation has not been physically completed or fully or partially implemented before the application for funding under the programme is submitted by the beneficiary to the managing authority, irrespective of whether all related payments have been made by the beneficiary (except project preparation)."]
["3)      the body/institution I represent is not bankrupt or wound up, has not its affairs administered by the courts, has not entered into an arrangement with creditors, has not suspended business activities, is not the subject of proceedings concerning those matters, and is not in any analogous situation arising from a similar procedure provided for in national legislation or EU regulations;"]
["4)      its legal representatives have not been convicted of an offence concerning professional conduct by a judgment which has the force of res judicata (i.e., against which no appeal is possible);"]
["5)      the body/institution  I represent  or its legal representatives are not responsible of  serious professional misconduct proven by any means;"]
["6)      the body/institution I represent has fulfilled all obligations relating to the payment of debts to the consolidated state budget;"]
["7)      its legal representatives has not been the subject of a judgment which has the force of res judicata for fraud, corruption, involvement in a criminal organisation or any other illegal activity detrimental to the Communities or national  financial interests;"]
["8)      neither the body/institution I represent, nor its legal representatives have been declared to be in serious breach of contract for failure to comply with their contractual obligations in connection with a procurement procedure or other grant award procedure financed by the Community or national budget;"]
["9)      the body/institution I represent has not benefited of the financing support from public funds for the same project proposal, and do not apply for other funding programmes with this project unless it does not obtain financial support under this programme;"]
["10)  the body/institution I represent has not benefited of financing support from public funds in the past 5 years before the deadline for submitting the applications under this call for proposals;"]
["11)  the body/institution I represent has not receiving state aid for the same action, that is described within the current application submitted under call for proposals for Bulgaria – the former Yugoslav Republic of Macedonia IPA Cross Border Programme 2014-2020. Assistance provided under this Programme is in accordance with the National and Community legislation on state aid;"]
["12)  the body/institution I represent has not generating revenue from the same action, that is described within the current application submitted under call for proposals for Bulgaria – the former Yugoslav Republic of Macedonia IPA Cross Border Programme 2014-2020;"]
["13)   neither the body/institution I represent, nor its legal representatives are guilty of misrepresentation in supplying the information required by the Managing Authority /Joint Secretariat as a condition of participation in the call for proposals;"]
["14)   neither I or any of the body/institution I represent, nor its legal representatives are subject to a conflict of interests; the conflict of interests represents any circumstances that may affect the evaluation or implementation process, in an objective and impartial manner. Such circumstances may result from economic interests, political or national preferences or family connections. "]
["15)  neither I or any of the body/institution I represent, nor its legal representatives have attempted or will attempt to obtain confidential information or influence the evaluation bodies during the evaluation process of current or previous calls for proposals."]
["16)  the body/institution I represent will provide its own contribution to the eligible expenditure and ensure the temporary availability of funds until they are reimbursed by the programme"]
["17)   the body/institution I represent will cover all non-eligible expenditures corresponding to its activities incurred during project implementation."]
["I, also, hereby declare, that I shall immediately inform the Managing authority within Ministry of Regional Development and Public Works, Republic of Bulgaria and/or National Authority within Ministry of Local Self-Government, the former Yugoslav Republic of Macedonia, of any multiple applications and multiple grants relating to the same action or to the same work programme."]
["I am fully aware of the fact I am legally liable for making false declarations."]
[]
["     .      "]
["(Place, Date/month/ year)"]
["……………………………………."]
["(Signature and stamp)"]

{"sheet":"Summary","index":21,"n_rows":56,"n_cols":1,"rows_kept":56,"cut":false,"hidden":false,"merged":[[47,1,48,1],[50,1,51,1],[52,1,53,1],[54,1,55,1],[26,0,27,0],[39,1,40,1],[41,1,42,1],[43,0,44,0],[43,1,44,1],[45,0,46,0],[45,1,46,1],[22,0,23,0],[22,1,23,1],[33,1,34,1],[9,1,10,1],[11,1,12,1],[13,1,15,1],[19,1,20,1],[24,0,25,0],[24,1,25,1],[26,1,27,1],[29,1,30,1],[31,1,32,1]]}
["Project summary"]
[]
["Project title"]
["Lead Partner (name/country)"]
["Partners "]
["Priority axis"]
["Specific objective"]
["Duration (in months)"]
["Total budget (in €)"]
["Project Activities"]
["(Provide a brief description of the major activities that will be done under the project   - what, where and how for each major activity)"]
["Project Results"]
["(describe results/benefits to be achieved  by  this project)"]
["Target Groups"]
["(describe main target groups that will benefit from project results and outputs)"]
[]
[]
["РЕЗЮМЕ НА ПРОЕКТА"]
["Заглавие на проекта"]
["Водещ партньор "]
["(име и държава)"]
["Проектни партньори (име и държава)"]
["Приоритетна ос"]
[]
["Специфична цел"]
[]
["Продължителност "]
[]
["Общ бюджет  (в евро)"]
["Дейности по проекта "]
["(Моля, опишете на кратко основните дейности, които ще бъдат извършени в рамките на проекта - какво, къде и как за всяка основна дейност)"]
["Резултати по проекта"]
["(Моля,опишете резултатите/ползите, които ще бъдат постигнати чрез проекта)"]
["Целеви групи "]
["(Моля, опишете основните целеви групи, които ще се възползват от резултатите по проекта)"]
[]
[]
["РЕЗИМЕ НА ПРОЕКТОТ"]
["Наслов на проектот"]
["Водечки партнер"]
["(име и држава)"]
["Проектни партнери "]
["(име и држава)"]
["Приоритетна оска"]
[]
["Специфична цел"]
[]
["Времетраење "]
["(во месеци)"]
["Вкупен буџет  (во евра)"]
["Дејности по проектот "]
["(Ве молиме опишете ги на кратко основните дејности кои ќе бидат извршени во рамки на проектот – што, каде и како за секоја основна дејност)"]
["Резултати од проектот"]
["(Ве молиме опишете ги резултатите/бенефитите кои ке бидат постигнати преку проектот)"]
["Целни групи "]
["(Ве молиме опишете ги основните целни групи кои ќе имаат корист од резултатите од проектот)"]

{"sheet":"Named_ranges","index":22,"n_rows":10287,"n_cols":3,"rows_kept":10287,"cut":false,"hidden":true,"merged":[]}
["_1.1_Environmental_protection_and_sustainable_use_of_the_common_natural_resources_of_the_CBC_area",{"$f":"Cover!$T$25:$T$26","v":{"$error":"#VALUE!"}},"#Cover!$T$25:$T$26"]
["_xlfn.IFERROR",{"$f":"#NAME?","v":{"$error":"#NAME?"}},"##NAME?"]
["action_plan_actv_1",{"$f":"'Project identification'!$B$299","v":""},"#'Project identification'!$B$299"]
["action_plan_actv_1_1",{"$f":"'Project identification'!$C$299","v":0},"#'Project identification'!$C$299"]
["action_plan_actv_1_2",{"$f":"'Project identification'!$D$299","v":0},"#'Project identification'!$D$299"]
["action_plan_actv_1_3",{"$f":"'Project identification'!$E$299","v":0},"#'Project identification'!$E$299"]
["action_plan_actv_1_4",{"$f":"'Project identification'!$G$299","v":0},"#'Project identification'!$G$299"]
["action_plan_actv_1_5",{"$f":"'Project identification'!$H$299","v":0},"#'Project identification'!$H$299"]
["action_plan_actv_1_6",{"$f":"'Project identification'!$F$299","v":0},"#'Project identification'!$F$299"]
["action_plan_actv_1_7",{"$f":"'Project identification'!$I$299","v":0},"#'Project identification'!$I$299"]
["action_plan_actv_1_8",{"$f":"'Project identification'!$J$299","v":0},"#'Project identification'!$J$299"]
["action_plan_actv_10",{"$f":"'Project identification'!$B$308","v":""},"#'Project identification'!$B$308"]
["action_plan_actv_10_1",{"$f":"'Project identification'!$C$308","v":0},"#'Project identification'!$C$308"]
["action_plan_actv_10_2",{"$f":"'Project identification'!$D$308","v":0},"#'Project identification'!$D$308"]
["action_plan_actv_10_3",{"$f":"'Project identification'!$E$308","v":0},"#'Project identification'!$E$308"]
["action_plan_actv_10_4",{"$f":"'Project identification'!$G$308","v":0},"#'Project identification'!$G$308"]
["action_plan_actv_10_5",{"$f":"'Project identification'!$H$308","v":0},"#'Project identification'!$H$308"]
["action_plan_actv_10_6",{"$f":"'Project identification'!$F$308","v":0},"#'Project identification'!$F$308"]
["action_plan_actv_10_7",{"$f":"'Project identification'!$I$308","v":0},"#'Project identification'!$I$308"]
["action_plan_actv_10_8",{"$f":"'Project identification'!$J$308","v":0},"#'Project identification'!$J$308"]
["action_plan_actv_11",{"$f":"'Project identification'!$B$309","v":""},"#'Project identification'!$B$309"]
["action_plan_actv_11_1",{"$f":"'Project identification'!$C$309","v":0},"#'Project identification'!$C$309"]
["action_plan_actv_11_2",{"$f":"'Project identification'!$D$309","v":0},"#'Project identification'!$D$309"]
["action_plan_actv_11_3",{"$f":"'Project identification'!$E$309","v":0},"#'Project identification'!$E$309"]
["action_plan_actv_11_4",{"$f":"'Project identification'!$G$309","v":0},"#'Project identification'!$G$309"]
["action_plan_actv_11_5",{"$f":"'Project identification'!$H$309","v":0},"#'Project identification'!$H$309"]
["action_plan_actv_11_6",{"$f":"'Project identification'!$F$309","v":0},"#'Project identification'!$F$309"]
["action_plan_actv_11_7",{"$f":"'Project identification'!$I$309","v":0},"#'Project identification'!$I$309"]
["action_plan_actv_11_8",{"$f":"'Project identification'!$J$309","v":0},"#'Project identification'!$J$309"]
["action_plan_actv_12",{"$f":"'Project identification'!$B$310","v":""},"#'Project identification'!$B$310"]
["action_plan_actv_12_1",{"$f":"'Project identification'!$C$310","v":0},"#'Project identification'!$C$310"]
["action_plan_actv_12_2",{"$f":"'Project identification'!$D$310","v":0},"#'Project identification'!$D$310"]
["action_plan_actv_12_3",{"$f":"'Project identification'!$E$310","v":0},"#'Project identification'!$E$310"]
["action_plan_actv_12_4",{"$f":"'Project identification'!$G$310","v":0},"#'Project identification'!$G$310"]
["action_plan_actv_12_5",{"$f":"'Project identification'!$H$310","v":0},"#'Project identification'!$H$310"]
["action_plan_actv_12_6",{"$f":"'Project identification'!$F$310","v":0},"#'Project identification'!$F$310"]
["action_plan_actv_12_7",{"$f":"'Project identification'!$I$310","v":0},"#'Project identification'!$I$310"]
["action_plan_actv_12_8",{"$f":"'Project identification'!$J$310","v":0},"#'Project identification'!$J$310"]
["action_plan_actv_13",{"$f":"'Project identification'!$B$311","v":""},"#'Project identification'!$B$311"]
["action_plan_actv_13_1",{"$f":"'Project identification'!$C$311","v":0},"#'Project identification'!$C$311"]
["action_plan_actv_13_2",{"$f":"'Project identification'!$D$311","v":0},"#'Project identification'!$D$311"]
["action_plan_actv_13_3",{"$f":"'Project identification'!$E$311","v":0},"#'Project identification'!$E$311"]
["action_plan_actv_13_4",{"$f":"'Project identification'!$G$311","v":0},"#'Project identification'!$G$311"]
["action_plan_actv_13_5",{"$f":"'Project identification'!$H$311","v":0},"#'Project identification'!$H$311"]
["action_plan_actv_13_6",{"$f":"'Project identification'!$F$311","v":0},"#'Project identification'!$F$311"]
["action_plan_actv_13_7",{"$f":"'Project identification'!$I$311","v":0},"#'Project identification'!$I$311"]
["action_plan_actv_13_8",{"$f":"'Project identification'!$J$311","v":0},"#'Project identification'!$J$311"]
["action_plan_actv_14",{"$f":"'Project identification'!$B$312","v":""},"#'Project identification'!$B$312"]
["action_plan_actv_14_1",{"$f":"'Project identification'!$C$312","v":0},"#'Project identification'!$C$312"]
["action_plan_actv_14_2",{"$f":"'Project identification'!$D$312","v":0},"#'Project identification'!$D$312"]
["action_plan_actv_14_3",{"$f":"'Project identification'!$E$312","v":0},"#'Project identification'!$E$312"]
["action_plan_actv_14_4",{"$f":"'Project identification'!$G$312","v":0},"#'Project identification'!$G$312"]
["action_plan_actv_14_5",{"$f":"'Project identification'!$H$312","v":0},"#'Project identification'!$H$312"]
["action_plan_actv_14_6",{"$f":"'Project identification'!$F$312","v":0},"#'Project identification'!$F$312"]
["action_plan_actv_14_7",{"$f":"'Project identification'!$I$312","v":0},"#'Project identification'!$I$312"]
["action_plan_actv_14_8",{"$f":"'Project identification'!$J$312","v":0},"#'Project identification'!$J$312"]
["action_plan_actv_15",{"$f":"'Project identification'!$B$313","v":""},"#'Project identification'!$B$313"]
["action_plan_actv_15_1",{"$f":"'Project identification'!$C$313","v":0},"#'Project identification'!$C$313"]
["action_plan_actv_15_2",{"$f":"'Project identification'!$D$313","v":0},"#'Project identification'!$D$313"]
["action_plan_actv_15_3",{"$f":"'Project identification'!$E$313","v":0},"#'Project identification'!$E$313"]
["action_plan_actv_15_4",{"$f":"'Project identification'!$G$313","v":0},"#'Project identification'!$G$313"]
["action_plan_actv_15_5",{"$f":"'Project identification'!$H$313","v":0},"#'Project identification'!$H$313"]
["action_plan_actv_15_6",{"$f":"'Project identification'!$F$313","v":0},"#'Project identification'!$F$313"]
["action_plan_actv_15_7",{"$f":"'Project identification'!$I$313","v":0},"#'Project identification'!$I$313"]
["action_plan_actv_15_8",{"$f":"'Project identification'!$J$313","v":0},"#'Project identification'!$J$313"]
["action_plan_actv_2",{"$f":"'Project identification'!$B$300","v":""},"#'Project identification'!$B$300"]
["action_plan_actv_2_1",{"$f":"'Project identification'!$C$300","v":0},"#'Project identification'!$C$300"]
["action_plan_actv_2_2",{"$f":"'Project identification'!$D$300","v":0},"#'Project identification'!$D$300"]
["action_plan_actv_2_3",{"$f":"'Project identification'!$E$300","v":0},"#'Project identification'!$E$300"]
["action_plan_actv_2_4",{"$f":"'Project identification'!$G$300","v":0},"#'Project identification'!$G$300"]
["action_plan_actv_2_5",{"$f":"'Project identification'!$H$300","v":0},"#'Project identification'!$H$300"]
["action_plan_actv_2_6",{"$f":"'Project identification'!$F$300","v":0},"#'Project identification'!$F$300"]
["action_plan_actv_2_7",{"$f":"'Project identification'!$I$300","v":0},"#'Project identification'!$I$300"]
["action_plan_actv_2_8",{"$f":"'Project identification'!$J$300","v":0},"#'Project identification'!$J$300"]
["action_plan_actv_3",{"$f":"'Project identification'!$B$301","v":""},"#'Project identification'!$B$301"]
["action_plan_actv_3_1",{"$f":"'Project identification'!$C$301","v":0},"#'Project identification'!$C$301"]
["action_plan_actv_3_2",{"$f":"'Project identification'!$D$301","v":0},"#'Project identification'!$D$301"]
["action_plan_actv_3_3",{"$f":"'Project identification'!$E$301","v":0},"#'Project identification'!$E$301"]
["action_plan_actv_3_4",{"$f":"'Project identification'!$G$301","v":0},"#'Project identification'!$G$301"]
["action_plan_actv_3_5",{"$f":"'Project identification'!$H$301","v":0},"#'Project identification'!$H$301"]
["action_plan_actv_3_6",{"$f":"'Project identification'!$F$301","v":0},"#'Project identification'!$F$301"]
["action_plan_actv_3_7",{"$f":"'Project identification'!$I$301","v":0},"#'Project identification'!$I$301"]
["action_plan_actv_3_8",{"$f":"'Project identification'!$J$301","v":0},"#'Project identification'!$J$301"]
["action_plan_actv_4",{"$f":"'Project identification'!$B$302","v":""},"#'Project identification'!$B$302"]
["action_plan_actv_4_1",{"$f":"'Project identification'!$C$302","v":0},"#'Project identification'!$C$302"]
["action_plan_actv_4_2",{"$f":"'Project identification'!$D$302","v":0},"#'Project identification'!$D$302"]
["action_plan_actv_4_3",{"$f":"'Project identification'!$E$302","v":0},"#'Project identification'!$E$302"]
["action_plan_actv_4_4",{"$f":"'Project identification'!$G$302","v":0},"#'Project identification'!$G$302"]
["action_plan_actv_4_5",{"$f":"'Project identification'!$H$302","v":0},"#'Project identification'!$H$302"]
["action_plan_actv_4_6",{"$f":"'Project identification'!$F$302","v":0},"#'Project identification'!$F$302"]
["action_plan_actv_4_7",{"$f":"'Project identification'!$I$302","v":0},"#'Project identification'!$I$302"]
["action_plan_actv_4_8",{"$f":"'Project identification'!$J$302","v":0},"#'Project identification'!$J$302"]
["action_plan_actv_5",{"$f":"'Project identification'!$B$303","v":""},"#'Project identification'!$B$303"]
["action_plan_actv_5_1",{"$f":"'Project identification'!$C$303","v":0},"#'Project identification'!$C$303"]
["action_plan_actv_5_2",{"$f":"'Project identification'!$D$303","v":0},"#'Project identification'!$D$303"]
["action_plan_actv_5_3",{"$f":"'Project identification'!$E$303","v":0},"#'Project identification'!$E$303"]
["action_plan_actv_5_4",{"$f":"'Project identification'!$G$303","v":0},"#'Project identification'!$G$303"]
["action_plan_actv_5_5",{"$f":"'Project identification'!$H$303","v":0},"#'Project identification'!$H$303"]
["action_plan_actv_5_6",{"$f":"'Project identification'!$F$303","v":0},"#'Project identification'!$F$303"]
["action_plan_actv_5_7",{"$f":"'Project identification'!$I$303","v":0},"#'Project identification'!$I$303"]
["action_plan_actv_5_8",{"$f":"'Project identification'!$J$303","v":0},"#'Project identification'!$J$303"]
["action_plan_actv_6",{"$f":"'Project identification'!$B$304","v":""},"#'Project identification'!$B$304"]
["action_plan_actv_6_1",{"$f":"'Project identification'!$C$304","v":0},"#'Project identification'!$C$304"]
["action_plan_actv_6_2",{"$f":"'Project identification'!$D$304","v":0},"#'Project identification'!$D$304"]
["action_plan_actv_6_3",{"$f":"'Project identification'!$E$304","v":0},"#'Project identification'!$E$304"]
["action_plan_actv_6_4",{"$f":"'Project identification'!$G$304","v":0},"#'Project identification'!$G$304"]
["action_plan_actv_6_5",{"$f":"'Project identification'!$H$304","v":0},"#'Project identification'!$H$304"]
["action_plan_actv_6_6",{"$f":"'Project identification'!$F$304","v":0},"#'Project identification'!$F$304"]
["action_plan_actv_6_7",{"$f":"'Project identification'!$I$304","v":0},"#'Project identification'!$I$304"]
["action_plan_actv_6_8",{"$f":"'Project identification'!$J$304","v":0},"#'Project identification'!$J$304"]
["action_plan_actv_7",{"$f":"'Project identification'!$B$305","v":""},"#'Project identification'!$B$305"]
["action_plan_actv_7_1",{"$f":"'Project identification'!$C$305","v":0},"#'Project identification'!$C$305"]
["action_plan_actv_7_2",{"$f":"'Project identification'!$D$305","v":0},"#'Project identification'!$D$305"]
["action_plan_actv_7_3",{"$f":"'Project identification'!$E$305","v":0},"#'Project identification'!$E$305"]
["action_plan_actv_7_4",{"$f":"'Project identification'!$G$305","v":0},"#'Project identification'!$G$305"]
["action_plan_actv_7_5",{"$f":"'Project identification'!$H$305","v":0},"#'Project identification'!$H$305"]
["action_plan_actv_7_6",{"$f":"'Project identification'!$F$305","v":0},"#'Project identification'!$F$305"]
["action_plan_actv_7_7",{"$f":"'Project identification'!$I$305","v":0},"#'Project identification'!$I$305"]
["action_plan_actv_7_8",{"$f":"'Project identification'!$J$305","v":0},"#'Project identification'!$J$305"]
["action_plan_actv_8",{"$f":"'Project identification'!$B$306","v":""},"#'Project identification'!$B$306"]
["action_plan_actv_8_1",{"$f":"'Project identification'!$C$306","v":0},"#'Project identification'!$C$306"]
["action_plan_actv_8_2",{"$f":"'Project identification'!$D$306","v":0},"#'Project identification'!$D$306"]
["action_plan_actv_8_3",{"$f":"'Project identification'!$E$306","v":0},"#'Project identification'!$E$306"]
["action_plan_actv_8_4",{"$f":"'Project identification'!$G$306","v":0},"#'Project identification'!$G$306"]
["action_plan_actv_8_5",{"$f":"'Project identification'!$H$306","v":0},"#'Project identification'!$H$306"]
["action_plan_actv_8_6",{"$f":"'Project identification'!$F$306","v":0},"#'Project identification'!$F$306"]
["action_plan_actv_8_7",{"$f":"'Project identification'!$I$306","v":0},"#'Project identification'!$I$306"]
["action_plan_actv_8_8",{"$f":"'Project identification'!$J$306","v":0},"#'Project identification'!$J$306"]
["action_plan_actv_9",{"$f":"'Project identification'!$B$307","v":""},"#'Project identification'!$B$307"]
["action_plan_actv_9_1",{"$f":"'Project identification'!$C$307","v":0},"#'Project identification'!$C$307"]
["action_plan_actv_9_2",{"$f":"'Project identification'!$D$307","v":0},"#'Project identification'!$D$307"]
["action_plan_actv_9_3",{"$f":"'Project identification'!$E$307","v":0},"#'Project identification'!$E$307"]
["action_plan_actv_9_4",{"$f":"'Project identification'!$G$307","v":0},"#'Project identification'!$G$307"]
["action_plan_actv_9_5",{"$f":"'Project identification'!$H$307","v":0},"#'Project identification'!$H$307"]
["action_plan_actv_9_6",{"$f":"'Project identification'!$F$307","v":0},"#'Project identification'!$F$307"]
["action_plan_actv_9_7",{"$f":"'Project identification'!$I$307","v":0},"#'Project identification'!$I$307"]
["action_plan_actv_9_8",{"$f":"'Project identification'!$J$307","v":0},"#'Project identification'!$J$307"]
["Ben",{"$f":"'PP1(LP)'!$K$85:$M$115","v":{"$error":"#VALUE!"}},"#'PP1(LP)'!$K$85:$M$115"]
["Beneficiaries",{"$f":"'PP1(LP)'!$K$85:$M$115","v":{"$error":"#VALUE!"}},"#'PP1(LP)'!$K$85:$M$115"]
["Cover!Both",{"$f":"Cover!$P$31:$P$34","v":{"$error":"#VALUE!"}},"#Cover!$P$31:$P$34"]
["Both",{"$f":"'Project identification'!$P$19:$P$20","v":{"$error":"#VALUE!"}},"#'Project identification'!$P$19:$P$20"]
["Bulgaria",{"$f":"'PP1(LP)'!$L$18:$L$20","v":{"$error":"#VALUE!"}},"#'PP1(LP)'!$L$18:$L$20"]
["COMPETITIENESS1",{"$f":"'Project identification'!$P$94:$P$98","v":{"$error":"#VALUE!"}},"#'Project identification'!$P$94:$P$98"]
["Cover!COMPETITIVENESS",{"$f":"Cover!$T$30","v":"3.1 Improving the competitiveness of regional businesses"},"#Cover!$T$30"]
["Cover!Competitiveness1",{"$f":"Cover!$P$46:$P$54","v":{"$error":"#VALUE!"}},"#Cover!$P$46:$P$54"]
["duration_project",{"$f":"'Project identification'!$C$17","v":0},"#'Project identification'!$C$17"]
["ENVIROMENT",{"$f":"'Project identification'!$Q$2:$Q$3","v":{"$error":"#VALUE!"}},"#'Project identification'!$Q$2:$Q$3"]
["Cover!Environment",{"$f":"Cover!$T$25:$T$26","v":{"$error":"#VALUE!"}},"#Cover!$T$25:$T$26"]
["ENVIRONMENT",{"$f":"'Project identification'!$Q$2:$Q$3","v":{"$error":"#VALUE!"}},"#'Project identification'!$Q$2:$Q$3"]
["Cover!Environment1",{"$f":"Cover!$N$46:$N$47","v":{"$error":"#VALUE!"}},"#Cover!$N$46:$N$47"]
["ENVIRONMENT1",{"$f":"'Project identification'!$P$83:$P$86","v":{"$error":"#VALUE!"}},"#'Project identification'!$P$83:$P$86"]
["invention_fild",{"$f":"Cover!$C$33","v":0},"#Cover!$C$33"]
["Cover!Investment",{"$f":"Cover!$O$31","v":"Investment"},"#Cover!$O$31"]
["Investment",{"$f":"'Project identification'!$O$19","v":"Investment"},"#'Project identification'!$O$19"]
["is_pp3",{"$f":"Check!$D$20","v":0},"#Check!$D$20"]
["is_pp4",{"$f":"Check!$D$28","v":0},"#Check!$D$28"]
["is_pp5",{"$f":"Check!$D$36","v":0},"#Check!$D$36"]
["L1.1",{"$f":"'Project identification'!$N$328:$N$333","v":{"$error":"#VALUE!"}},"#'Project identification'!$N$328:$N$333"]
["L1.2",{"$f":"'Project identification'!$O$328:$O$335","v":{"$error":"#VALUE!"}},"#'Project identification'!$O$328:$O$335"]
["L2.1",{"$f":"'Project identification'!$P$328:$P$332","v":{"$error":"#VALUE!"}},"#'Project identification'!$P$328:$P$332"]
["L2.2",{"$f":"'Project identification'!$Q$328:$Q$331","v":{"$error":"#VALUE!"}},"#'Project identification'!$Q$328:$Q$331"]
["L2.3",{"$f":"'Project identification'!$R$328:$R$331","v":{"$error":"#VALUE!"}},"#'Project identification'!$R$328:$R$331"]
["L3.1",{"$f":"'Project identification'!$S$328:$S$333","v":{"$error":"#VALUE!"}},"#'Project identification'!$S$328:$S$333"]
["Macedonia",{"$f":"'PP1(LP)'!$O$18:$O$21","v":{"$error":"#VALUE!"}},"#'PP1(LP)'!$O$18:$O$21"]
["Organizations",{"$f":"'PP1(LP)'!$L$133:$L$148","v":{"$error":"#VALUE!"}},"#'PP1(LP)'!$L$133:$L$148"]
["pi_act_1_descrp",{"$f":"'Project identification'!$B$93","v":0},"#'Project identification'!$B$93"]
["pi_act_1_is_out_area",{"$f":"'Project identification'!$J$91","v":0},"#'Project identification'!$J$91"]
["pi_act_1_location",{"$f":"'Project identification'!$C$91","v":0},"#'Project identification'!$C$91"]
["pi_act_1_metod",{"$f":"'Project identification'!$B$97","v":0},"#'Project identification'!$B$97"]
["pi_act_1_output",{"$f":"'Project identification'!$B$99","v":0},"#'Project identification'!$B$99"]
["pi_act_1_report",{"$f":"'Project identification'!$B$95","v":0},"#'Project identification'!$B$95"]
["pi_act_1_title",{"$f":"'Project identification'!$C$90","v":0},"#'Project identification'!$C$90"]
["pi_act_10_descrp",{"$f":"'Project identification'!$B$211","v":0},"#'Project identification'!$B$211"]
["pi_act_10_is_out_area",{"$f":"'Project identification'!$J$209","v":0},"#'Project identification'!$J$209"]
["pi_act_10_location",{"$f":"'Project identification'!$C$209","v":0},"#'Project identification'!$C$209"]
["pi_act_10_metod",{"$f":"'Project identification'!$B$215","v":0},"#'Project identification'!$B$215"]
["pi_act_10_output",{"$f":"'Project identification'!$B$217","v":0},"#'Project identification'!$B$217"]
["pi_act_10_report",{"$f":"'Project identification'!$B$213","v":0},"#'Project identification'!$B$213"]
["pi_act_10_title",{"$f":"'Project identification'!$C$208","v":0},"#'Project identification'!$C$208"]
["pi_act_11_descrp",{"$f":"'Project identification'!$B$224","v":0},"#'Project identification'!$B$224"]
["pi_act_11_is_out_area",{"$f":"'Project identification'!$J$222","v":0},"#'Project identification'!$J$222"]
["pi_act_11_location",{"$f":"'Project identification'!$C$222","v":0},"#'Project identification'!$C$222"]
["pi_act_11_metod",{"$f":"'Project identification'!$B$228","v":0},"#'Project identification'!$B$228"]
["pi_act_11_output",{"$f":"'Project identification'!$B$230","v":0},"#'Project identification'!$B$230"]
["pi_act_11_report",{"$f":"'Project identification'!$B$226","v":0},"#'Project identification'!$B$226"]
["pi_act_11_title",{"$f":"'Project identification'!$C$221","v":0},"#'Project identification'!$C$221"]
["pi_act_12_descrp",{"$f":"'Project identification'!$B$237","v":0},"#'Project identification'!$B$237"]
["pi_act_12_is_out_area",{"$f":"'Project identification'!$J$235","v":0},"#'Project identification'!$J$235"]
["pi_act_12_location",{"$f":"'Project identification'!$C$235","v":0},"#'Project identification'!$C$235"]
["pi_act_12_metod",{"$f":"'Project identification'!$B$241","v":0},"#'Project identification'!$B$241"]
["pi_act_12_output",{"$f":"'Project identification'!$B$243","v":0},"#'Project identification'!$B$243"]
["pi_act_12_report",{"$f":"'Project identification'!$B$239","v":0},"#'Project identification'!$B$239"]
["pi_act_12_title",{"$f":"'Project identification'!$C$234","v":0},"#'Project identification'!$C$234"]
["pi_act_13_descrp",{"$f":"'Project identification'!$B$250","v":0},"#'Project identification'!$B$250"]
["pi_act_13_is_out_area",{"$f":"'Project identification'!$J$248","v":0},"#'Project identification'!$J$248"]
["pi_act_13_location",{"$f":"'Project identification'!$C$248","v":0},"#'Project identification'!$C$248"]
["pi_act_13_metod",{"$f":"'Project identification'!$B$254","v":0},"#'Project identification'!$B$254"]
["pi_act_13_output",{"$f":"'Project identification'!$B$256","v":0},"#'Project identification'!$B$256"]
["pi_act_13_report",{"$f":"'Project identification'!$B$252","v":0},"#'Project identification'!$B$252"]
["pi_act_13_title",{"$f":"'Project identification'!$C$247","v":0},"#'Project identification'!$C$247"]
["pi_act_14_descrp",{"$f":"'Project identification'!$B$263","v":0},"#'Project identification'!$B$263"]
["pi_act_14_is_out_area",{"$f":"'Project identification'!$J$261","v":0},"#'Project identification'!$J$261"]
["pi_act_14_location",{"$f":"'Project identification'!$C$261","v":0},"#'Project identification'!$C$261"]
["pi_act_14_metod",{"$f":"'Project identification'!$B$267","v":0},"#'Project identification'!$B$267"]
["pi_act_14_output",{"$f":"'Project identification'!$B$269","v":0},"#'Project identification'!$B$269"]
["pi_act_14_report",{"$f":"'Project identification'!$B$265","v":0},"#'Project identification'!$B$265"]
["pi_act_14_title",{"$f":"'Project identification'!$C$260","v":0},"#'Project identification'!$C$260"]
["pi_act_15_descrp",{"$f":"'Project identification'!$B$276","v":0},"#'Project identification'!$B$276"]
["pi_act_15_is_out_area",{"$f":"'Project identification'!$J$274","v":0},"#'Project identification'!$J$274"]
["pi_act_15_location",{"$f":"'Project identification'!$C$274","v":0},"#'Project identification'!$C$274"]
["pi_act_15_metod",{"$f":"'Project identification'!$B$280","v":0},"#'Project identification'!$B$280"]
["pi_act_15_output",{"$f":"'Project identification'!$B$282","v":0},"#'Project identification'!$B$282"]
["pi_act_15_report",{"$f":"'Project identification'!$B$278","v":0},"#'Project identification'!$B$278"]
["pi_act_15_title",{"$f":"'Project identification'!$C$273","v":0},"#'Project identification'!$C$273"]
["pi_act_2_descrp",{"$f":"'Project identification'!$B$107","v":0},"#'Project identification'!$B$107"]
["pi_act_2_is_out_area",{"$f":"'Project identification'!$J$105","v":0},"#'Project identification'!$J$105"]
["pi_act_2_location",{"$f":"'Project identification'!$C$105","v":0},"#'Project identification'!$C$105"]
["pi_act_2_metod",{"$f":"'Project identification'!$B$111","v":0},"#'Project identification'!$B$111"]
["pi_act_2_output",{"$f":"'Project identification'!$B$113","v":0},"#'Project identification'!$B$113"]
["pi_act_2_report",{"$f":"'Project identification'!$B$109","v":0},"#'Project identification'!$B$109"]
["pi_act_2_title",{"$f":"'Project identification'!$C$104","v":0},"#'Project identification'!$C$104"]
["pi_act_3_descrp",{"$f":"'Project identification'!$B$120","v":0},"#'Project identification'!$B$120"]
["pi_act_3_is_out_area",{"$f":"'Project identification'!$J$118","v":0},"#'Project identification'!$J$118"]
["pi_act_3_location",{"$f":"'Project identification'!$C$118","v":0},"#'Project identification'!$C$118"]
["pi_act_3_metod",{"$f":"'Project identification'!$B$124","v":0},"#'Project identification'!$B$124"]
["pi_act_3_output",{"$f":"'Project identification'!$B$126","v":0},"#'Project identification'!$B$126"]
["pi_act_3_report",{"$f":"'Project identification'!$B$122","v":0},"#'Project identification'!$B$122"]
["pi_act_3_title",{"$f":"'Project identification'!$C$117","v":0},"#'Project identification'!$C$117"]
["pi_act_4_descrp",{"$f":"'Project identification'!$B$133","v":0},"#'Project identification'!$B$133"]
["pi_act_4_is_out_area",{"$f":"'Project identification'!$J$131","v":0},"#'Project identification'!$J$131"]
["pi_act_4_location",{"$f":"'Project identification'!$C$131","v":0},"#'Project identification'!$C$131"]
["pi_act_4_metod",{"$f":"'Project identification'!$B$137","v":0},"#'Project identification'!$B$137"]
["pi_act_4_output",{"$f":"'Project identification'!$B$139","v":0},"#'Project identification'!$B$139"]
["pi_act_4_report",{"$f":"'Project identification'!$B$135","v":0},"#'Project identification'!$B$135"]
["pi_act_4_title",{"$f":"'Project identification'!$C$130","v":0},"#'Project identification'!$C$130"]
["pi_act_5_descrp",{"$f":"'Project identification'!$B$146","v":0},"#'Project identification'!$B$146"]
["pi_act_5_is_out_area",{"$f":"'Project identification'!$J$144","v":0},"#'Project identification'!$J$144"]
["pi_act_5_location",{"$f":"'Project identification'!$C$144","v":0},"#'Project identification'!$C$144"]
["pi_act_5_metod",{"$f":"'Project identification'!$B$150","v":0},"#'Project identification'!$B$150"]
["pi_act_5_output",{"$f":"'Project identification'!$B$152","v":0},"#'Project identification'!$B$152"]
["pi_act_5_report",{"$f":"'Project identification'!$B$148","v":0},"#'Project identification'!$B$148"]
["pi_act_5_title",{"$f":"'Project identification'!$C$143","v":0},"#'Project identification'!$C$143"]
["pi_act_6_descrp",{"$f":"'Project identification'!$B$159","v":0},"#'Project identification'!$B$159"]
["pi_act_6_is_out_area",{"$f":"'Project identification'!$J$157","v":0},"#'Project identification'!$J$157"]
["pi_act_6_location",{"$f":"'Project identification'!$C$157","v":0},"#'Project identification'!$C$157"]
["pi_act_6_metod",{"$f":"'Project identification'!$B$163","v":0},"#'Project identification'!$B$163"]
["pi_act_6_output",{"$f":"'Project identification'!$B$165","v":0},"#'Project identification'!$B$165"]
["pi_act_6_report",{"$f":"'Project identification'!$B$161","v":0},"#'Project identification'!$B$161"]
["pi_act_6_title",{"$f":"'Project identification'!$C$156","v":0},"#'Project identification'!$C$156"]
["pi_act_7_descrp",{"$f":"'Project identification'!$B$172","v":0},"#'Project identification'!$B$172"]
["pi_act_7_is_out_area",{"$f":"'Project identification'!$J$170","v":0},"#'Project identification'!$J$170"]
["pi_act_7_location",{"$f":"'Project identification'!$C$170","v":0},"#'Project identification'!$C$170"]
["pi_act_7_metod",{"$f":"'Project identification'!$B$176","v":0},"#'Project identification'!$B$176"]
["pi_act_7_output",{"$f":"'Project identification'!$B$178","v":0},"#'Project identification'!$B$178"]
["pi_act_7_report",{"$f":"'Project identification'!$B$174","v":0},"#'Project identification'!$B$174"]
["pi_act_7_title",{"$f":"'Project identification'!$C$169","v":0},"#'Project identification'!$C$169"]
["pi_act_8_descrp",{"$f":"'Project identification'!$B$185","v":0},"#'Project identification'!$B$185"]
["pi_act_8_is_out_area",{"$f":"'Project identification'!$J$183","v":0},"#'Project identification'!$J$183"]
["pi_act_8_location",{"$f":"'Project identification'!$C$183","v":0},"#'Project identification'!$C$183"]
["pi_act_8_metod",{"$f":"'Project identification'!$B$189","v":0},"#'Project identification'!$B$189"]
["pi_act_8_output",{"$f":"'Project identification'!$B$191","v":0},"#'Project identification'!$B$191"]
["pi_act_8_report",{"$f":"'Project identification'!$B$187","v":0},"#'Project identification'!$B$187"]
["pi_act_8_title",{"$f":"'Project identification'!$C$182","v":0},"#'Project identification'!$C$182"]
["pi_act_9_descrp",{"$f":"'Project identification'!$B$198","v":0},"#'Project identification'!$B$198"]
["pi_act_9_is_out_area",{"$f":"'Project identification'!$J$196","v":0},"#'Project identification'!$J$196"]
["pi_act_9_location",{"$f":"'Project identification'!$C$196","v":0},"#'Project identification'!$C$196"]
["pi_act_9_metod",{"$f":"'Project identification'!$B$202","v":0},"#'Project identification'!$B$202"]
["pi_act_9_output",{"$f":"'Project identification'!$B$204","v":0},"#'Project identification'!$B$204"]
["pi_act_9_report",{"$f":"'Project identification'!$B$200","v":0},"#'Project identification'!$B$200"]
["pi_act_9_title",{"$f":"'Project identification'!$C$195","v":0},"#'Project identification'!$C$195"]
["pi_comm_str",{"$f":"'Project identification'!$B$288","v":0},"#'Project identification'!$B$288"]
["pi_comm_tool1",{"$f":"'Project identification'!$B$293","v":0},"#'Project identification'!$B$293"]
["pi_comm_tool1_num",{"$f":"'Project identification'!$I$293","v":0},"#'Project identification'!$I$293"]
["pi_comm_tool1_rp",{"$f":"'Project identification'!$D$293","v":0},"#'Project identification'!$D$293"]
["pi_comm_tool1_target",{"$f":"'Project identification'!$F$293","v":0},"#'Project identification'!$F$293"]
["pi_comm_tool2",{"$f":"'Project identification'!$B$294","v":0},"#'Project identification'!$B$294"]
["pi_comm_tool2_num",{"$f":"'Project identification'!$I$294","v":0},"#'Project identification'!$I$294"]
["pi_comm_tool2_rp",{"$f":"'Project identification'!$D$294","v":0},"#'Project identification'!$D$294"]
["pi_comm_tool2_target",{"$f":"'Project identification'!$F$294","v":0},"#'Project identification'!$F$294"]
["pi_comm_tool3",{"$f":"'Project identification'!$B$295","v":0},"#'Project identification'!$B$295"]
["pi_comm_tool3_num",{"$f":"'Project identification'!$I$295","v":0},"#'Project identification'!$I$295"]
["pi_comm_tool3_rp",{"$f":"'Project identification'!$D$295","v":0},"#'Project identification'!$D$295"]
["pi_comm_tool3_target",{"$f":"'Project identification'!$F$295","v":0},"#'Project identification'!$F$295"]
["pi_coop_crit1_check",{"$f":"'Project identification'!$C$24","v":0},"#'Project identification'!$C$24"]
["pi_coop_crit1_descr",{"$f":"'Project identification'!$B$25","v":0},"#'Project identification'!$B$25"]
["pi_coop_crit2_check",{"$f":"'Project identification'!$C$26","v":0},"#'Project identification'!$C$26"]
["pi_coop_crit2_descr",{"$f":"'Project identification'!$B$27","v":0},"#'Project identification'!$B$27"]
["pi_coop_crit3_check",{"$f":"'Project identification'!$C$28","v":0},"#'Project identification'!$C$28"]
["pi_coop_crit3_descr",{"$f":"'Project identification'!$B$29","v":0},"#'Project identification'!$B$29"]
["pi_coop_crit4_check",{"$f":"'Project identification'!$C$30","v":0},"#'Project identification'!$C$30"]
["pi_coop_crit4_descr",{"$f":"'Project identification'!$B$31","v":0},"#'Project identification'!$B$31"]
["pi_cross_border_impact",{"$f":"'Project identification'!$B$35","v":0},"#'Project identification'!$B$35"]
["pi_efect",{"$f":"'Project identification'!$B$340","v":0},"#'Project identification'!$B$340"]
["pi_hrz_1",{"$f":"'Project identification'!$D$363","v":0},"#'Project identification'!$D$363"]
["pi_hrz_2",{"$f":"'Project identification'!$D$364","v":0},"#'Project identification'!$D$364"]
["pi_hrz_3",{"$f":"'Project identification'!$D$365","v":0},"#'Project identification'!$D$365"]
["pi_management",{"$f":"'Project identification'!$B$321","v":0},"#'Project identification'!$B$321"]
["pi_monit_justf1",{"$f":"'Project identification'!$E$329","v":0},"#'Project identification'!$E$329"]
["pi_monit_justf2",{"$f":"'Project identification'!$E$330","v":0},"#'Project identification'!$E$330"]
["pi_monit_justf3",{"$f":"'Project identification'!$E$331","v":0},"#'Project identification'!$E$331"]
["pi_monit_justf4",{"$f":"'Project identification'!$E$332","v":0},"#'Project identification'!$E$332"]
["pi_monit_justf5",{"$f":"'Project identification'!$E$333","v":0},"#'Project identification'!$E$333"]
["pi_monit_justf6",{"$f":"'Project identification'!$E$334","v":0},"#'Project identification'!$E$334"]
["pi_monit_quant1",{"$f":"'Project identification'!$C$329","v":0},"#'Project identification'!$C$329"]
["pi_monit_quant2",{"$f":"'Project identification'!$C$330","v":0},"#'Project identification'!$C$330"]
["pi_monit_quant3",{"$f":"'Project identification'!$C$331","v":0},"#'Project identification'!$C$331"]
["pi_monit_quant4",{"$f":"'Project identification'!$C$332","v":0},"#'Project identification'!$C$332"]
["pi_monit_quant5",{"$f":"'Project identification'!$C$333","v":0},"#'Project identification'!$C$333"]
["pi_monit_quant6",{"$f":"'Project identification'!$C$334","v":0},"#'Project identification'!$C$334"]
["pi_other_prj",{"$f":"'Project identification'!$B$358","v":0},"#'Project identification'!$B$358"]
["pi_other_str",{"$f":"'Project identification'!$B$353","v":0},"#'Project identification'!$B$353"]
["pi_out_indicator1",{"$f":"'Project identification'!$B$329","v":0},"#'Project identification'!$B$329"]
["pi_out_indicator2",{"$f":"'Project identification'!$B$330","v":0},"#'Project identification'!$B$330"]
["pi_out_indicator3",{"$f":"'Project identification'!$B$331","v":0},"#'Project identification'!$B$331"]
["pi_out_indicator4",{"$f":"'Project identification'!$B$332","v":0},"#'Project identification'!$B$332"]
["pi_out_indicator5",{"$f":"'Project identification'!$B$333","v":0},"#'Project identification'!$B$333"]
["pi_out_indicator6",{"$f":"'Project identification'!$B$334","v":0},"#'Project identification'!$B$334"]
["pi_pd_back1",{"$f":"'Project identification'!$B$66","v":0},"#'Project identification'!$B$66"]
["pi_pd_const",{"$f":"'Project identification'!$B$74","v":0},"#'Project identification'!$B$74"]
["pi_pd_const_so",{"$f":"'Project identification'!$B$70","v":0},"#'Project identification'!$B$70"]
["pi_pd_des_benef",{"$f":"'Project identification'!$C$82","v":0},"#'Project identification'!$C$82"]
["pi_pd_des_fin_benef",{"$f":"'Project identification'!$C$83","v":0},"#'Project identification'!$C$83"]
["pi_pd_des_target",{"$f":"'Project identification'!$C$81","v":0},"#'Project identification'!$C$81"]
["pi_pd_num_benef",{"$f":"'Project identification'!$I$82","v":0},"#'Project identification'!$I$82"]
["pi_pd_num_fin_benef",{"$f":"'Project identification'!$I$83","v":0},"#'Project identification'!$I$83"]
["pi_pd_num_target",{"$f":"'Project identification'!$I$81","v":0},"#'Project identification'!$I$81"]
["pi_sustainability",{"$f":"'Project identification'!$B$345","v":0},"#'Project identification'!$B$345"]
["pp1_2012_fulltime_staff",{"$f":"'PP1(LP)'!$D$79","v":0},"#'PP1(LP)'!$D$79"]
["pp1_2012_offices",{"$f":"'PP1(LP)'!$F$79","v":0},"#'PP1(LP)'!$F$79"]
["pp1_2012_parttime_staff",{"$f":"'PP1(LP)'!$E$79","v":0},"#'PP1(LP)'!$E$79"]
["pp1_2012_turnover",{"$f":"'PP1(LP)'!$C$79","v":0},"#'PP1(LP)'!$C$79"]
["pp1_2013_fulltime_staff",{"$f":"'PP1(LP)'!$D$78","v":0},"#'PP1(LP)'!$D$78"]
["pp1_2013_offices",{"$f":"'PP1(LP)'!$F$78","v":0},"#'PP1(LP)'!$F$78"]
["pp1_2013_parttime_staff",{"$f":"'PP1(LP)'!$E$78","v":0},"#'PP1(LP)'!$E$78"]
["pp1_2013_turnover",{"$f":"'PP1(LP)'!$C$78","v":0},"#'PP1(LP)'!$C$78"]
["pp1_2014_fulltime_staff",{"$f":"'PP1(LP)'!$D$77","v":0},"#'PP1(LP)'!$D$77"]
["pp1_2014_offices",{"$f":"'PP1(LP)'!$F$77","v":0},"#'PP1(LP)'!$F$77"]
["pp1_2014_parttime_staff",{"$f":"'PP1(LP)'!$E$77","v":0},"#'PP1(LP)'!$E$77"]
["pp1_2014_turnover",{"$f":"'PP1(LP)'!$C$77","v":0},"#'PP1(LP)'!$C$77"]
["pp1_address",{"$f":"'PP1(LP)'!$C$19","v":0},"#'PP1(LP)'!$C$19"]
["pp1_bl1_1_name",{"$f":"'T2-B(PP1)'!$B$5","v":"0 project"},"#'T2-B(PP1)'!$B$5"]
["pp1_bl1_1_perc",{"$f":"'T2-B(PP1)'!$G$5","v":0},"#'T2-B(PP1)'!$G$5"]
["pp1_bl1_1_total",{"$f":"'T2-B(PP1)'!$I$5","v":0},"#'T2-B(PP1)'!$I$5"]
["pp1_bl1_total",{"$f":"'T2-B(PP1)'!$I$6","v":0},"#'T2-B(PP1)'!$I$6"]
["pp1_bl2_1_name",{"$f":"'T2-B(PP1)'!$B$10","v":"0 project"},"#'T2-B(PP1)'!$B$10"]
["pp1_bl2_1_perc",{"$f":"'T2-B(PP1)'!$G$10","v":0},"#'T2-B(PP1)'!$G$10"]
["pp1_bl2_1_total",{"$f":"'T2-B(PP1)'!$I$10","v":0},"#'T2-B(PP1)'!$I$10"]
["pp1_bl2_total",{"$f":"'T2-B(PP1)'!$I$11","v":0},"#'T2-B(PP1)'!$I$11"]
["pp1_bl3_1_1_name",{"$f":"'T2-B(PP1)'!$B$16","v":0},"#'T2-B(PP1)'!$B$16"]
["pp1_bl3_1_1_rate_in",{"$f":"'T2-B(PP1)'!$E$16","v":0},"#'T2-B(PP1)'!$E$16"]
["pp1_bl3_1_1_rate_out",{"$f":"'T2-B(PP1)'!$H$16","v":0},"#'T2-B(PP1)'!$H$16"]
["pp1_bl3_1_1_total",{"$f":"'T2-B(PP1)'!$J$16","v":0},"#'T2-B(PP1)'!$J$16"]
["pp1_bl3_1_1_total_in",{"$f":"'T2-B(PP1)'!$F$16","v":0},"#'T2-B(PP1)'!$F$16"]
["pp1_bl3_1_1_total_out",{"$f":"'T2-B(PP1)'!$I$16","v":0},"#'T2-B(PP1)'!$I$16"]
["pp1_bl3_1_1_unit",{"$f":"'T2-B(PP1)'!$C$16","v":0},"#'T2-B(PP1)'!$C$16"]
["pp1_bl3_1_1_unit_in",{"$f":"'T2-B(PP1)'!$D$16","v":0},"#'T2-B(PP1)'!$D$16"]
["pp1_bl3_1_1_units_out",{"$f":"'T2-B(PP1)'!$G$16","v":0},"#'T2-B(PP1)'!$G$16"]
["pp1_bl3_1_10_name",{"$f":"'T2-B(PP1)'!$B$25","v":0},"#'T2-B(PP1)'!$B$25"]
["pp1_bl3_1_10_rate_in",{"$f":"'T2-B(PP1)'!$E$25","v":0},"#'T2-B(PP1)'!$E$25"]
["pp1_bl3_1_10_rate_out",{"$f":"'T2-B(PP1)'!$H$25","v":0},"#'T2-B(PP1)'!$H$25"]
["pp1_bl3_1_10_total",{"$f":"'T2-B(PP1)'!$J$25","v":0},"#'T2-B(PP1)'!$J$25"]
["pp1_bl3_1_10_total_in",{"$f":"'T2-B(PP1)'!$F$25","v":0},"#'T2-B(PP1)'!$F$25"]
["pp1_bl3_1_10_total_out",{"$f":"'T2-B(PP1)'!$I$25","v":0},"#'T2-B(PP1)'!$I$25"]
["pp1_bl3_1_10_unit",{"$f":"'T2-B(PP1)'!$C$25","v":0},"#'T2-B(PP1)'!$C$25"]
["pp1_bl3_1_10_unit_in",{"$f":"'T2-B(PP1)'!$D$25","v":0},"#'T2-B(PP1)'!$D$25"]
["pp1_bl3_1_10_units_out",{"$f":"'T2-B(PP1)'!$G$25","v":0},"#'T2-B(PP1)'!$G$25"]
["pp1_bl3_1_2_name",{"$f":"'T2-B(PP1)'!$B$17","v":0},"#'T2-B(PP1)'!$B$17"]
["pp1_bl3_1_2_rate_in",{"$f":"'T2-B(PP1)'!$E$17","v":0},"#'T2-B(PP1)'!$E$17"]
["pp1_bl3_1_2_rate_out",{"$f":"'T2-B(PP1)'!$H$17","v":0},"#'T2-B(PP1)'!$H$17"]
["pp1_bl3_1_2_total",{"$f":"'T2-B(PP1)'!$J$17","v":0},"#'T2-B(PP1)'!$J$17"]
["pp1_bl3_1_2_total_in",{"$f":"'T2-B(PP1)'!$F$17","v":0},"#'T2-B(PP1)'!$F$17"]
["pp1_bl3_1_2_total_out",{"$f":"'T2-B(PP1)'!$I$17","v":0},"#'T2-B(PP1)'!$I$17"]
["pp1_bl3_1_2_unit",{"$f":"'T2-B(PP1)'!$C$17","v":0},"#'T2-B(PP1)'!$C$17"]
["pp1_bl3_1_2_unit_in",{"$f":"'T2-B(PP1)'!$D$17","v":0},"#'T2-B(PP1)'!$D$17"]
["pp1_bl3_1_2_units_out",{"$f":"'T2-B(PP1)'!$G$17","v":0},"#'T2-B(PP1)'!$G$17"]
["pp1_bl3_1_3_name",{"$f":"'T2-B(PP1)'!$B$18","v":0},"#'T2-B(PP1)'!$B$18"]
["pp1_bl3_1_3_rate_in",{"$f":"'T2-B(PP1)'!$E$18","v":0},"#'T2-B(PP1)'!$E$18"]
["pp1_bl3_1_3_rate_out",{"$f":"'T2-B(PP1)'!$H$18","v":0},"#'T2-B(PP1)'!$H$18"]
["pp1_bl3_1_3_total",{"$f":"'T2-B(PP1)'!$J$18","v":0},"#'T2-B(PP1)'!$J$18"]
["pp1_bl3_1_3_total_in",{"$f":"'T2-B(PP1)'!$F$18","v":0},"#'T2-B(PP1)'!$F$18"]
["pp1_bl3_1_3_total_out",{"$f":"'T2-B(PP1)'!$I$18","v":0},"#'T2-B(PP1)'!$I$18"]
["pp1_bl3_1_3_unit",{"$f":"'T2-B(PP1)'!$C$18","v":0},"#'T2-B(PP1)'!$C$18"]
["pp1_bl3_1_3_unit_in",{"$f":"'T2-B(PP1)'!$D$18","v":0},"#'T2-B(PP1)'!$D$18"]
["pp1_bl3_1_3_units_out",{"$f":"'T2-B(PP1)'!$G$18","v":0},"#'T2-B(PP1)'!$G$18"]
["pp1_bl3_1_4_name",{"$f":"'T2-B(PP1)'!$B$19","v":0},"#'T2-B(PP1)'!$B$19"]
["pp1_bl3_1_4_rate_in",{"$f":"'T2-B(PP1)'!$E$19","v":0},"#'T2-B(PP1)'!$E$19"]
["pp1_bl3_1_4_rate_out",{"$f":"'T2-B(PP1)'!$H$19","v":0},"#'T2-B(PP1)'!$H$19"]
["pp1_bl3_1_4_total",{"$f":"'T2-B(PP1)'!$J$19","v":0},"#'T2-B(PP1)'!$J$19"]
["pp1_bl3_1_4_total_in",{"$f":"'T2-B(PP1)'!$F$19","v":0},"#'T2-B(PP1)'!$F$19"]
["pp1_bl3_1_4_total_out",{"$f":"'T2-B(PP1)'!$I$19","v":0},"#'T2-B(PP1)'!$I$19"]
["pp1_bl3_1_4_unit",{"$f":"'T2-B(PP1)'!$C$19","v":0},"#'T2-B(PP1)'!$C$19"]
["pp1_bl3_1_4_unit_in",{"$f":"'T2-B(PP1)'!$D$19","v":0},"#'T2-B(PP1)'!$D$19"]
["pp1_bl3_1_4_units_out",{"$f":"'T2-B(PP1)'!$G$19","v":0},"#'T2-B(PP1)'!$G$19"]
["pp1_bl3_1_5_name",{"$f":"'T2-B(PP1)'!$B$20","v":0},"#'T2-B(PP1)'!$B$20"]
["pp1_bl3_1_5_rate_in",{"$f":"'T2-B(PP1)'!$E$20","v":0},"#'T2-B(PP1)'!$E$20"]
["pp1_bl3_1_5_rate_out",{"$f":"'T2-B(PP1)'!$H$20","v":0},"#'T2-B(PP1)'!$H$20"]
["pp1_bl3_1_5_total",{"$f":"'T2-B(PP1)'!$J$20","v":0},"#'T2-B(PP1)'!$J$20"]
["pp1_bl3_1_5_total_in",{"$f":"'T2-B(PP1)'!$F$20","v":0},"#'T2-B(PP1)'!$F$20"]
["pp1_bl3_1_5_total_out",{"$f":"'T2-B(PP1)'!$I$20","v":0},"#'T2-B(PP1)'!$I$20"]
["pp1_bl3_1_5_unit",{"$f":"'T2-B(PP1)'!$C$20","v":0},"#'T2-B(PP1)'!$C$20"]
["pp1_bl3_1_5_unit_in",{"$f":"'T2-B(PP1)'!$D$20","v":0},"#'T2-B(PP1)'!$D$20"]
["pp1_bl3_1_5_units_out",{"$f":"'T2-B(PP1)'!$G$20","v":0},"#'T2-B(PP1)'!$G$20"]
["pp1_bl3_1_6_name",{"$f":"'T2-B(PP1)'!$B$21","v":0},"#'T2-B(PP1)'!$B$21"]
["pp1_bl3_1_6_rate_in",{"$f":"'T2-B(PP1)'!$E$21","v":0},"#'T2-B(PP1)'!$E$21"]
["pp1_bl3_1_6_rate_out",{"$f":"'T2-B(PP1)'!$H$21","v":0},"#'T2-B(PP1)'!$H$21"]
["pp1_bl3_1_6_total",{"$f":"'T2-B(PP1)'!$J$21","v":0},"#'T2-B(PP1)'!$J$21"]
["pp1_bl3_1_6_total_in",{"$f":"'T2-B(PP1)'!$F$21","v":0},"#'T2-B(PP1)'!$F$21"]
["pp1_bl3_1_6_total_out",{"$f":"'T2-B(PP1)'!$I$21","v":0},"#'T2-B(PP1)'!$I$21"]
["pp1_bl3_1_6_unit",{"$f":"'T2-B(PP1)'!$C$21","v":0},"#'T2-B(PP1)'!$C$21"]
["pp1_bl3_1_6_unit_in",{"$f":"'T2-B(PP1)'!$D$21","v":0},"#'T2-B(PP1)'!$D$21"]
["pp1_bl3_1_6_units_out",{"$f":"'T2-B(PP1)'!$G$21","v":0},"#'T2-B(PP1)'!$G$21"]
["pp1_bl3_1_7_name",{"$f":"'T2-B(PP1)'!$B$22","v":0},"#'T2-B(PP1)'!$B$22"]
["pp1_bl3_1_7_rate_in",{"$f":"'T2-B(PP1)'!$E$22","v":0},"#'T2-B(PP1)'!$E$22"]
["pp1_bl3_1_7_rate_out",{"$f":"'T2-B(PP1)'!$H$22","v":0},"#'T2-B(PP1)'!$H$22"]
["pp1_bl3_1_7_total",{"$f":"'T2-B(PP1)'!$J$22","v":0},"#'T2-B(PP1)'!$J$22"]
["pp1_bl3_1_7_total_in",{"$f":"'T2-B(PP1)'!$F$22","v":0},"#'T2-B(PP1)'!$F$22"]
["pp1_bl3_1_7_total_out",{"$f":"'T2-B(PP1)'!$I$22","v":0},"#'T2-B(PP1)'!$I$22"]
["pp1_bl3_1_7_unit",{"$f":"'T2-B(PP1)'!$C$22","v":0},"#'T2-B(PP1)'!$C$22"]
["pp1_bl3_1_7_unit_in",{"$f":"'T2-B(PP1)'!$D$22","v":0},"#'T2-B(PP1)'!$D$22"]
["pp1_bl3_1_7_units_out",{"$f":"'T2-B(PP1)'!$G$22","v":0},"#'T2-B(PP1)'!$G$22"]
["pp1_bl3_1_8_name",{"$f":"'T2-B(PP1)'!$B$23","v":0},"#'T2-B(PP1)'!$B$23"]
["pp1_bl3_1_8_rate_in",{"$f":"'T2-B(PP1)'!$E$23","v":0},"#'T2-B(PP1)'!$E$23"]
["pp1_bl3_1_8_rate_out",{"$f":"'T2-B(PP1)'!$H$23","v":0},"#'T2-B(PP1)'!$H$23"]
["pp1_bl3_1_8_total",{"$f":"'T2-B(PP1)'!$J$23","v":0},"#'T2-B(PP1)'!$J$23"]
["pp1_bl3_1_8_total_in",{"$f":"'T2-B(PP1)'!$F$23","v":0},"#'T2-B(PP1)'!$F$23"]
["pp1_bl3_1_8_total_out",{"$f":"'T2-B(PP1)'!$I$23","v":0},"#'T2-B(PP1)'!$I$23"]
["pp1_bl3_1_8_unit",{"$f":"'T2-B(PP1)'!$C$23","v":0},"#'T2-B(PP1)'!$C$23"]
["pp1_bl3_1_8_unit_in",{"$f":"'T2-B(PP1)'!$D$23","v":0},"#'T2-B(PP1)'!$D$23"]
["pp1_bl3_1_8_units_out",{"$f":"'T2-B(PP1)'!$G$23","v":0},"#'T2-B(PP1)'!$G$23"]
["pp1_bl3_1_9_name",{"$f":"'T2-B(PP1)'!$B$24","v":0},"#'T2-B(PP1)'!$B$24"]
["pp1_bl3_1_9_rate_in",{"$f":"'T2-B(PP1)'!$E$24","v":0},"#'T2-B(PP1)'!$E$24"]
["pp1_bl3_1_9_rate_out",{"$f":"'T2-B(PP1)'!$H$24","v":0},"#'T2-B(PP1)'!$H$24"]
["pp1_bl3_1_9_total",{"$f":"'T2-B(PP1)'!$J$24","v":0},"#'T2-B(PP1)'!$J$24"]
["pp1_bl3_1_9_total_in",{"$f":"'T2-B(PP1)'!$F$24","v":0},"#'T2-B(PP1)'!$F$24"]
["pp1_bl3_1_9_total_out",{"$f":"'T2-B(PP1)'!$I$24","v":0},"#'T2-B(PP1)'!$I$24"]
["pp1_bl3_1_9_unit",{"$f":"'T2-B(PP1)'!$C$24","v":0},"#'T2-B(PP1)'!$C$24"]
["pp1_bl3_1_9_unit_in",{"$f":"'T2-B(PP1)'!$D$24","v":0},"#'T2-B(PP1)'!$D$24"]
["pp1_bl3_1_9_units_out",{"$f":"'T2-B(PP1)'!$G$24","v":0},"#'T2-B(PP1)'!$G$24"]
["pp1_bl3_1_total",{"$f":"'T2-B(PP1)'!$J$15","v":0},"#'T2-B(PP1)'!$J$15"]
["pp1_bl3_1_total_in",{"$f":"'T2-B(PP1)'!$F$15","v":0},"#'T2-B(PP1)'!$F$15"]
["pp1_bl3_1_total_out",{"$f":"'T2-B(PP1)'!$I$15","v":0},"#'T2-B(PP1)'!$I$15"]
["pp1_bl3_2_1_name",{"$f":"'T2-B(PP1)'!$B$27","v":0},"#'T2-B(PP1)'!$B$27"]
["pp1_bl3_2_1_rate_in",{"$f":"'T2-B(PP1)'!$E$27","v":0},"#'T2-B(PP1)'!$E$27"]
["pp1_bl3_2_1_rate_out",{"$f":"'T2-B(PP1)'!$H$27","v":0},"#'T2-B(PP1)'!$H$27"]
["pp1_bl3_2_1_total",{"$f":"'T2-B(PP1)'!$J$27","v":0},"#'T2-B(PP1)'!$J$27"]
["pp1_bl3_2_1_total_in",{"$f":"'T2-B(PP1)'!$F$27","v":0},"#'T2-B(PP1)'!$F$27"]
["pp1_bl3_2_1_total_out",{"$f":"'T2-B(PP1)'!$I$27","v":0},"#'T2-B(PP1)'!$I$27"]
["pp1_bl3_2_1_unit",{"$f":"'T2-B(PP1)'!$C$27","v":0},"#'T2-B(PP1)'!$C$27"]
["pp1_bl3_2_1_unit_in",{"$f":"'T2-B(PP1)'!$D$27","v":0},"#'T2-B(PP1)'!$D$27"]
["pp1_bl3_2_1_units_out",{"$f":"'T2-B(PP1)'!$G$27","v":0},"#'T2-B(PP1)'!$G$27"]
["pp1_bl3_2_10_name",{"$f":"'T2-B(PP1)'!$B$36","v":0},"#'T2-B(PP1)'!$B$36"]
["pp1_bl3_2_10_rate_in",{"$f":"'T2-B(PP1)'!$E$36","v":0},"#'T2-B(PP1)'!$E$36"]
["pp1_bl3_2_10_rate_out",{"$f":"'T2-B(PP1)'!$H$36","v":0},"#'T2-B(PP1)'!$H$36"]
["pp1_bl3_2_10_total",{"$f":"'T2-B(PP1)'!$J$36","v":0},"#'T2-B(PP1)'!$J$36"]
["pp1_bl3_2_10_total_in",{"$f":"'T2-B(PP1)'!$F$36","v":0},"#'T2-B(PP1)'!$F$36"]
["pp1_bl3_2_10_total_out",{"$f":"'T2-B(PP1)'!$I$36","v":0},"#'T2-B(PP1)'!$I$36"]
["pp1_bl3_2_10_unit",{"$f":"'T2-B(PP1)'!$C$36","v":0},"#'T2-B(PP1)'!$C$36"]
["pp1_bl3_2_10_unit_in",{"$f":"'T2-B(PP1)'!$D$36","v":0},"#'T2-B(PP1)'!$D$36"]
["pp1_bl3_2_10_units_out",{"$f":"'T2-B(PP1)'!$G$36","v":0},"#'T2-B(PP1)'!$G$36"]
["pp1_bl3_2_2_name",{"$f":"'T2-B(PP1)'!$B$28","v":0},"#'T2-B(PP1)'!$B$28"]
["pp1_bl3_2_2_rate_in",{"$f":"'T2-B(PP1)'!$E$28","v":0},"#'T2-B(PP1)'!$E$28"]
["pp1_bl3_2_2_rate_out",{"$f":"'T2-B(PP1)'!$H$28","v":0},"#'T2-B(PP1)'!$H$28"]
["pp1_bl3_2_2_total",{"$f":"'T2-B(PP1)'!$J$28","v":0},"#'T2-B(PP1)'!$J$28"]
["pp1_bl3_2_2_total_in",{"$f":"'T2-B(PP1)'!$F$28","v":0},"#'T2-B(PP1)'!$F$28"]
["pp1_bl3_2_2_total_out",{"$f":"'T2-B(PP1)'!$I$28","v":0},"#'T2-B(PP1)'!$I$28"]
["pp1_bl3_2_2_unit",{"$f":"'T2-B(PP1)'!$C$28","v":0},"#'T2-B(PP1)'!$C$28"]
["pp1_bl3_2_2_unit_in",{"$f":"'T2-B(PP1)'!$D$28","v":0},"#'T2-B(PP1)'!$D$28"]
["pp1_bl3_2_2_units_out",{"$f":"'T2-B(PP1)'!$G$28","v":0},"#'T2-B(PP1)'!$G$28"]
["pp1_bl3_2_3_name",{"$f":"'T2-B(PP1)'!$B$29","v":0},"#'T2-B(PP1)'!$B$29"]
["pp1_bl3_2_3_rate_in",{"$f":"'T2-B(PP1)'!$E$29","v":0},"#'T2-B(PP1)'!$E$29"]
["pp1_bl3_2_3_rate_out",{"$f":"'T2-B(PP1)'!$H$29","v":0},"#'T2-B(PP1)'!$H$29"]
["pp1_bl3_2_3_total",{"$f":"'T2-B(PP1)'!$J$29","v":0},"#'T2-B(PP1)'!$J$29"]
["pp1_bl3_2_3_total_in",{"$f":"'T2-B(PP1)'!$F$29","v":0},"#'T2-B(PP1)'!$F$29"]
["pp1_bl3_2_3_total_out",{"$f":"'T2-B(PP1)'!$I$29","v":0},"#'T2-B(PP1)'!$I$29"]
["pp1_bl3_2_3_unit",{"$f":"'T2-B(PP1)'!$C$29","v":0},"#'T2-B(PP1)'!$C$29"]
["pp1_bl3_2_3_unit_in",{"$f":"'T2-B(PP1)'!$D$29","v":0},"#'T2-B(PP1)'!$D$29"]
["pp1_bl3_2_3_units_out",{"$f":"'T2-B(PP1)'!$G$29","v":0},"#'T2-B(PP1)'!$G$29"]
["pp1_bl3_2_4_name",{"$f":"'T2-B(PP1)'!$B$30","v":0},"#'T2-B(PP1)'!$B$30"]
["pp1_bl3_2_4_rate_in",{"$f":"'T2-B(PP1)'!$E$30","v":0},"#'T2-B(PP1)'!$E$30"]
["pp1_bl3_2_4_rate_out",{"$f":"'T2-B(PP1)'!$H$30","v":0},"#'T2-B(PP1)'!$H$30"]
["pp1_bl3_2_4_total",{"$f":"'T2-B(PP1)'!$J$30","v":0},"#'T2-B(PP1)'!$J$30"]
["pp1_bl3_2_4_total_in",{"$f":"'T2-B(PP1)'!$F$30","v":0},"#'T2-B(PP1)'!$F$30"]
["pp1_bl3_2_4_total_out",{"$f":"'T2-B(PP1)'!$I$30","v":0},"#'T2-B(PP1)'!$I$30"]
["pp1_bl3_2_4_unit",{"$f":"'T2-B(PP1)'!$C$30","v":0},"#'T2-B(PP1)'!$C$30"]
["pp1_bl3_2_4_unit_in",{"$f":"'T2-B(PP1)'!$D$30","v":0},"#'T2-B(PP1)'!$D$30"]
["pp1_bl3_2_4_units_out",{"$f":"'T2-B(PP1)'!$G$30","v":0},"#'T2-B(PP1)'!$G$30"]
["pp1_bl3_2_5_name",{"$f":"'T2-B(PP1)'!$B$31","v":0},"#'T2-B(PP1)'!$B$31"]
["pp1_bl3_2_5_rate_in",{"$f":"'T2-B(PP1)'!$E$31","v":0},"#'T2-B(PP1)'!$E$31"]
["pp1_bl3_2_5_rate_out",{"$f":"'T2-B(PP1)'!$H$31","v":0},"#'T2-B(PP1)'!$H$31"]
["pp1_bl3_2_5_total",{"$f":"'T2-B(PP1)'!$J$31","v":0},"#'T2-B(PP1)'!$J$31"]
["pp1_bl3_2_5_total_in",{"$f":"'T2-B(PP1)'!$F$31","v":0},"#'T2-B(PP1)'!$F$31"]
["pp1_bl3_2_5_total_out",{"$f":"'T2-B(PP1)'!$I$31","v":0},"#'T2-B(PP1)'!$I$31"]
["pp1_bl3_2_5_unit",{"$f":"'T2-B(PP1)'!$C$31","v":0},"#'T2-B(PP1)'!$C$31"]
["pp1_bl3_2_5_unit_in",{"$f":"'T2-B(PP1)'!$D$31","v":0},"#'T2-B(PP1)'!$D$31"]
["pp1_bl3_2_5_units_out",{"$f":"'T2-B(PP1)'!$G$31","v":0},"#'T2-B(PP1)'!$G$31"]
["pp1_bl3_2_6_name",{"$f":"'T2-B(PP1)'!$B$32","v":0},"#'T2-B(PP1)'!$B$32"]
["pp1_bl3_2_6_rate_in",{"$f":"'T2-B(PP1)'!$E$32","v":0},"#'T2-B(PP1)'!$E$32"]
["pp1_bl3_2_6_rate_out",{"$f":"'T2-B(PP1)'!$H$32","v":0},"#'T2-B(PP1)'!$H$32"]
["pp1_bl3_2_6_total",{"$f":"'T2-B(PP1)'!$J$32","v":0},"#'T2-B(PP1)'!$J$32"]
["pp1_bl3_2_6_total_in",{"$f":"'T2-B(PP1)'!$F$32","v":0},"#'T2-B(PP1)'!$F$32"]
["pp1_bl3_2_6_total_out",{"$f":"'T2-B(PP1)'!$I$32","v":0},"#'T2-B(PP1)'!$I$32"]
["pp1_bl3_2_6_unit",{"$f":"'T2-B(PP1)'!$C$32","v":0},"#'T2-B(PP1)'!$C$32"]
["pp1_bl3_2_6_unit_in",{"$f":"'T2-B(PP1)'!$D$32","v":0},"#'T2-B(PP1)'!$D$32"]
["pp1_bl3_2_6_units_out",{"$f":"'T2-B(PP1)'!$G$32","v":0},"#'T2-B(PP1)'!$G$32"]
["pp1_bl3_2_7_name",{"$f":"'T2-B(PP1)'!$B$33","v":0},"#'T2-B(PP1)'!$B$33"]
["pp1_bl3_2_7_rate_in",{"$f":"'T2-B(PP1)'!$E$33","v":0},"#'T2-B(PP1)'!$E$33"]
["pp1_bl3_2_7_rate_out",{"$f":"'T2-B(PP1)'!$H$33","v":0},"#'T2-B(PP1)'!$H$33"]
["pp1_bl3_2_7_total",{"$f":"'T2-B(PP1)'!$J$33","v":0},"#'T2-B(PP1)'!$J$33"]
["pp1_bl3_2_7_total_in",{"$f":"'T2-B(PP1)'!$F$33","v":0},"#'T2-B(PP1)'!$F$33"]
["pp1_bl3_2_7_total_out",{"$f":"'T2-B(PP1)'!$I$33","v":0},"#'T2-B(PP1)'!$I$33"]
["pp1_bl3_2_7_unit",{"$f":"'T2-B(PP1)'!$C$33","v":0},"#'T2-B(PP1)'!$C$33"]
["pp1_bl3_2_7_unit_in",{"$f":"'T2-B(PP1)'!$D$33","v":0},"#'T2-B(PP1)'!$D$33"]
["pp1_bl3_2_7_units_out",{"$f":"'T2-B(PP1)'!$G$33","v":0},"#'T2-B(PP1)'!$G$33"]
["pp1_bl3_2_8_name",{"$f":"'T2-B(PP1)'!$B$34","v":0},"#'T2-B(PP1)'!$B$34"]
["pp1_bl3_2_8_rate_in",{"$f":"'T2-B(PP1)'!$E$34","v":0},"#'T2-B(PP1)'!$E$34"]
["pp1_bl3_2_8_rate_out",{"$f":"'T2-B(PP1)'!$H$34","v":0},"#'T2-B(PP1)'!$H$34"]
["pp1_bl3_2_8_total",{"$f":"'T2-B(PP1)'!$J$34","v":0},"#'T2-B(PP1)'!$J$34"]
["pp1_bl3_2_8_total_in",{"$f":"'T2-B(PP1)'!$F$34","v":0},"#'T2-B(PP1)'!$F$34"]
["pp1_bl3_2_8_total_out",{"$f":"'T2-B(PP1)'!$I$34","v":0},"#'T2-B(PP1)'!$I$34"]
["pp1_bl3_2_8_unit",{"$f":"'T2-B(PP1)'!$C$34","v":0},"#'T2-B(PP1)'!$C$34"]
["pp1_bl3_2_8_unit_in",{"$f":"'T2-B(PP1)'!$D$34","v":0},"#'T2-B(PP1)'!$D$34"]
["pp1_bl3_2_8_units_out",{"$f":"'T2-B(PP1)'!$G$34","v":0},"#'T2-B(PP1)'!$G$34"]
["pp1_bl3_2_9_name",{"$f":"'T2-B(PP1)'!$B$35","v":0},"#'T2-B(PP1)'!$B$35"]
["pp1_bl3_2_9_rate_in",{"$f":"'T2-B(PP1)'!$E$35","v":0},"#'T2-B(PP1)'!$E$35"]
["pp1_bl3_2_9_rate_out",{"$f":"'T2-B(PP1)'!$H$35","v":0},"#'T2-B(PP1)'!$H$35"]
["pp1_bl3_2_9_total",{"$f":"'T2-B(PP1)'!$J$35","v":0},"#'T2-B(PP1)'!$J$35"]
["pp1_bl3_2_9_total_in",{"$f":"'T2-B(PP1)'!$F$35","v":0},"#'T2-B(PP1)'!$F$35"]
["pp1_bl3_2_9_total_out",{"$f":"'T2-B(PP1)'!$I$35","v":0},"#'T2-B(PP1)'!$I$35"]
["pp1_bl3_2_9_unit",{"$f":"'T2-B(PP1)'!$C$35","v":0},"#'T2-B(PP1)'!$C$35"]
["pp1_bl3_2_9_unit_in",{"$f":"'T2-B(PP1)'!$D$35","v":0},"#'T2-B(PP1)'!$D$35"]
["pp1_bl3_2_9_units_out",{"$f":"'T2-B(PP1)'!$G$35","v":0},"#'T2-B(PP1)'!$G$35"]
["pp1_bl3_2_total",{"$f":"'T2-B(PP1)'!$J$26","v":0},"#'T2-B(PP1)'!$J$26"]
["pp1_bl3_2_total_in",{"$f":"'T2-B(PP1)'!$F$26","v":0},"#'T2-B(PP1)'!$F$26"]
["pp1_bl3_2_total_out",{"$f":"'T2-B(PP1)'!$I$26","v":0},"#'T2-B(PP1)'!$I$26"]
["pp1_bl3_3_1_name",{"$f":"'T2-B(PP1)'!$B$38","v":0},"#'T2-B(PP1)'!$B$38"]
["pp1_bl3_3_1_rate_in",{"$f":"'T2-B(PP1)'!$E$38","v":0},"#'T2-B(PP1)'!$E$38"]
["pp1_bl3_3_1_rate_out",{"$f":"'T2-B(PP1)'!$H$38","v":0},"#'T2-B(PP1)'!$H$38"]
["pp1_bl3_3_1_total",{"$f":"'T2-B(PP1)'!$J$38","v":0},"#'T2-B(PP1)'!$J$38"]
["pp1_bl3_3_1_total_in",{"$f":"'T2-B(PP1)'!$F$38","v":0},"#'T2-B(PP1)'!$F$38"]
["pp1_bl3_3_1_total_out",{"$f":"'T2-B(PP1)'!$I$38","v":0},"#'T2-B(PP1)'!$I$38"]
["pp1_bl3_3_1_unit",{"$f":"'T2-B(PP1)'!$C$38","v":0},"#'T2-B(PP1)'!$C$38"]
["pp1_bl3_3_1_unit_in",{"$f":"'T2-B(PP1)'!$D$38","v":0},"#'T2-B(PP1)'!$D$38"]
["pp1_bl3_3_1_units_out",{"$f":"'T2-B(PP1)'!$G$38","v":0},"#'T2-B(PP1)'!$G$38"]
["pp1_bl3_3_10_name",{"$f":"'T2-B(PP1)'!$B$47","v":0},"#'T2-B(PP1)'!$B$47"]
["pp1_bl3_3_10_rate_in",{"$f":"'T2-B(PP1)'!$E$47","v":0},"#'T2-B(PP1)'!$E$47"]
["pp1_bl3_3_10_rate_out",{"$f":"'T2-B(PP1)'!$H$47","v":0},"#'T2-B(PP1)'!$H$47"]
["pp1_bl3_3_10_total",{"$f":"'T2-B(PP1)'!$J$47","v":0},"#'T2-B(PP1)'!$J$47"]
["pp1_bl3_3_10_total_in",{"$f":"'T2-B(PP1)'!$F$47","v":0},"#'T2-B(PP1)'!$F$47"]
["pp1_bl3_3_10_total_out",{"$f":"'T2-B(PP1)'!$I$47","v":0},"#'T2-B(PP1)'!$I$47"]
["pp1_bl3_3_10_unit",{"$f":"'T2-B(PP1)'!$C$47","v":0},"#'T2-B(PP1)'!$C$47"]
["pp1_bl3_3_10_unit_in",{"$f":"'T2-B(PP1)'!$D$47","v":0},"#'T2-B(PP1)'!$D$47"]
["pp1_bl3_3_10_units_out",{"$f":"'T2-B(PP1)'!$G$47","v":0},"#'T2-B(PP1)'!$G$47"]
["pp1_bl3_3_2_name",{"$f":"'T2-B(PP1)'!$B$39","v":0},"#'T2-B(PP1)'!$B$39"]
["pp1_bl3_3_2_rate_in",{"$f":"'T2-B(PP1)'!$E$39","v":0},"#'T2-B(PP1)'!$E$39"]
["pp1_bl3_3_2_rate_out",{"$f":"'T2-B(PP1)'!$H$39","v":0},"#'T2-B(PP1)'!$H$39"]
["pp1_bl3_3_2_total",{"$f":"'T2-B(PP1)'!$J$39","v":0},"#'T2-B(PP1)'!$J$39"]
["pp1_bl3_3_2_total_in",{"$f":"'T2-B(PP1)'!$F$39","v":0},"#'T2-B(PP1)'!$F$39"]
["pp1_bl3_3_2_total_out",{"$f":"'T2-B(PP1)'!$I$39","v":0},"#'T2-B(PP1)'!$I$39"]
["pp1_bl3_3_2_unit",{"$f":"'T2-B(PP1)'!$C$39","v":0},"#'T2-B(PP1)'!$C$39"]
["pp1_bl3_3_2_unit_in",{"$f":"'T2-B(PP1)'!$D$39","v":0},"#'T2-B(PP1)'!$D$39"]
["pp1_bl3_3_2_units_out",{"$f":"'T2-B(PP1)'!$G$39","v":0},"#'T2-B(PP1)'!$G$39"]
["pp1_bl3_3_3_name",{"$f":"'T2-B(PP1)'!$B$40","v":0},"#'T2-B(PP1)'!$B$40"]
["pp1_bl3_3_3_rate_in",{"$f":"'T2-B(PP1)'!$E$40","v":0},"#'T2-B(PP1)'!$E$40"]
["pp1_bl3_3_3_rate_out",{"$f":"'T2-B(PP1)'!$H$40","v":0},"#'T2-B(PP1)'!$H$40"]
["pp1_bl3_3_3_total",{"$f":"'T2-B(PP1)'!$J$40","v":0},"#'T2-B(PP1)'!$J$40"]
["pp1_bl3_3_3_total_in",{"$f":"'T2-B(PP1)'!$F$40","v":0},"#'T2-B(PP1)'!$F$40"]
["pp1_bl3_3_3_total_out",{"$f":"'T2-B(PP1)'!$I$40","v":0},"#'T2-B(PP1)'!$I$40"]
["pp1_bl3_3_3_unit",{"$f":"'T2-B(PP1)'!$C$40","v":0},"#'T2-B(PP1)'!$C$40"]
["pp1_bl3_3_3_unit_in",{"$f":"'T2-B(PP1)'!$D$40","v":0},"#'T2-B(PP1)'!$D$40"]
["pp1_bl3_3_3_units_out",{"$f":"'T2-B(PP1)'!$G$40","v":0},"#'T2-B(PP1)'!$G$40"]
["pp1_bl3_3_4_name",{"$f":"'T2-B(PP1)'!$B$41","v":0},"#'T2-B(PP1)'!$B$41"]
["pp1_bl3_3_4_rate_in",{"$f":"'T2-B(PP1)'!$E$41","v":0},"#'T2-B(PP1)'!$E$41"]
["pp1_bl3_3_4_rate_out",{"$f":"'T2-B(PP1)'!$H$41","v":0},"#'T2-B(PP1)'!$H$41"]
["pp1_bl3_3_4_total",{"$f":"'T2-B(PP1)'!$J$41","v":0},"#'T2-B(PP1)'!$J$41"]
["pp1_bl3_3_4_total_in",{"$f":"'T2-B(PP1)'!$F$41","v":0},"#'T2-B(PP1)'!$F$41"]
["pp1_bl3_3_4_total_out",{"$f":"'T2-B(PP1)'!$I$41","v":0},"#'T2-B(PP1)'!$I$41"]
["pp1_bl3_3_4_unit",{"$f":"'T2-B(PP1)'!$C$41","v":0},"#'T2-B(PP1)'!$C$41"]
["pp1_bl3_3_4_unit_in",{"$f":"'T2-B(PP1)'!$D$41","v":0},"#'T2-B(PP1)'!$D$41"]
["pp1_bl3_3_4_units_out",{"$f":"'T2-B(PP1)'!$G$41","v":0},"#'T2-B(PP1)'!$G$41"]
["pp1_bl3_3_5_name",{"$f":"'T2-B(PP1)'!$B$42","v":0},"#'T2-B(PP1)'!$B$42"]
["pp1_bl3_3_5_rate_in",{"$f":"'T2-B(PP1)'!$E$42","v":0},"#'T2-B(PP1)'!$E$42"]
["pp1_bl3_3_5_rate_out",{"$f":"'T2-B(PP1)'!$H$42","v":0},"#'T2-B(PP1)'!$H$42"]
["pp1_bl3_3_5_total",{"$f":"'T2-B(PP1)'!$J$42","v":0},"#'T2-B(PP1)'!$J$42"]
["pp1_bl3_3_5_total_in",{"$f":"'T2-B(PP1)'!$F$42","v":0},"#'T2-B(PP1)'!$F$42"]
["pp1_bl3_3_5_total_out",{"$f":"'T2-B(PP1)'!$I$42","v":0},"#'T2-B(PP1)'!$I$42"]
["pp1_bl3_3_5_unit",{"$f":"'T2-B(PP1)'!$C$42","v":0},"#'T2-B(PP1)'!$C$42"]
["pp1_bl3_3_5_unit_in",{"$f":"'T2-B(PP1)'!$D$42","v":0},"#'T2-B(PP1)'!$D$42"]
["pp1_bl3_3_5_units_out",{"$f":"'T2-B(PP1)'!$G$42","v":0},"#'T2-B(PP1)'!$G$42"]
["pp1_bl3_3_6_name",{"$f":"'T2-B(PP1)'!$B$43","v":0},"#'T2-B(PP1)'!$B$43"]
["pp1_bl3_3_6_rate_in",{"$f":"'T2-B(PP1)'!$E$43","v":0},"#'T2-B(PP1)'!$E$43"]
["pp1_bl3_3_6_rate_out",{"$f":"'T2-B(PP1)'!$H$43","v":0},"#'T2-B(PP1)'!$H$43"]
["pp1_bl3_3_6_total",{"$f":"'T2-B(PP1)'!$J$43","v":0},"#'T2-B(PP1)'!$J$43"]
["pp1_bl3_3_6_total_in",{"$f":"'T2-B(PP1)'!$F$43","v":0},"#'T2-B(PP1)'!$F$43"]
["pp1_bl3_3_6_total_out",{"$f":"'T2-B(PP1)'!$I$43","v":0},"#'T2-B(PP1)'!$I$43"]
["pp1_bl3_3_6_unit",{"$f":"'T2-B(PP1)'!$C$43","v":0},"#'T2-B(PP1)'!$C$43"]
["pp1_bl3_3_6_unit_in",{"$f":"'T2-B(PP1)'!$D$43","v":0},"#'T2-B(PP1)'!$D$43"]
["pp1_bl3_3_6_units_out",{"$f":"'T2-B(PP1)'!$G$43","v":0},"#'T2-B(PP1)'!$G$43"]
["pp1_bl3_3_7_name",{"$f":"'T2-B(PP1)'!$B$44","v":0},"#'T2-B(PP1)'!$B$44"]
["pp1_bl3_3_7_rate_in",{"$f":"'T2-B(PP1)'!$E$44","v":0},"#'T2-B(PP1)'!$E$44"]
["pp1_bl3_3_7_rate_out",{"$f":"'T2-B(PP1)'!$H$44","v":0},"#'T2-B(PP1)'!$H$44"]
["pp1_bl3_3_7_total",{"$f":"'T2-B(PP1)'!$J$44","v":0},"#'T2-B(PP1)'!$J$44"]
["pp1_bl3_3_7_total_in",{"$f":"'T2-B(PP1)'!$F$44","v":0},"#'T2-B(PP1)'!$F$44"]
["pp1_bl3_3_7_total_out",{"$f":"'T2-B(PP1)'!$I$44","v":0},"#'T2-B(PP1)'!$I$44"]
["pp1_bl3_3_7_unit",{"$f":"'T2-B(PP1)'!$C$44","v":0},"#'T2-B(PP1)'!$C$44"]
["pp1_bl3_3_7_unit_in",{"$f":"'T2-B(PP1)'!$D$44","v":0},"#'T2-B(PP1)'!$D$44"]
["pp1_bl3_3_7_units_out",{"$f":"'T2-B(PP1)'!$G$44","v":0},"#'T2-B(PP1)'!$G$44"]
["pp1_bl3_3_8_name",{"$f":"'T2-B(PP1)'!$B$45","v":0},"#'T2-B(PP1)'!$B$45"]
["pp1_bl3_3_8_rate_in",{"$f":"'T2-B(PP1)'!$E$45","v":0},"#'T2-B(PP1)'!$E$45"]
["pp1_bl3_3_8_rate_out",{"$f":"'T2-B(PP1)'!$H$45","v":0},"#'T2-B(PP1)'!$H$45"]
["pp1_bl3_3_8_total",{"$f":"'T2-B(PP1)'!$J$45","v":0},"#'T2-B(PP1)'!$J$45"]
["pp1_bl3_3_8_total_in",{"$f":"'T2-B(PP1)'!$F$45","v":0},"#'T2-B(PP1)'!$F$45"]
["pp1_bl3_3_8_total_out",{"$f":"'T2-B(PP1)'!$I$45","v":0},"#'T2-B(PP1)'!$I$45"]
["pp1_bl3_3_8_unit",{"$f":"'T2-B(PP1)'!$C$45","v":0},"#'T2-B(PP1)'!$C$45"]
["pp1_bl3_3_8_unit_in",{"$f":"'T2-B(PP1)'!$D$45","v":0},"#'T2-B(PP1)'!$D$45"]
["pp1_bl3_3_8_units_out",{"$f":"'T2-B(PP1)'!$G$45","v":0},"#'T2-B(PP1)'!$G$45"]
["pp1_bl3_3_9_name",{"$f":"'T2-B(PP1)'!$B$46","v":0},"#'T2-B(PP1)'!$B$46"]
["pp1_bl3_3_9_rate_in",{"$f":"'T2-B(PP1)'!$E$46","v":0},"#'T2-B(PP1)'!$E$46"]
["pp1_bl3_3_9_rate_out",{"$f":"'T2-B(PP1)'!$H$46","v":0},"#'T2-B(PP1)'!$H$46"]
["pp1_bl3_3_9_total",{"$f":"'T2-B(PP1)'!$J$46","v":0},"#'T2-B(PP1)'!$J$46"]
["pp1_bl3_3_9_total_in",{"$f":"'T2-B(PP1)'!$F$46","v":0},"#'T2-B(PP1)'!$F$46"]
["pp1_bl3_3_9_total_out",{"$f":"'T2-B(PP1)'!$I$46","v":0},"#'T2-B(PP1)'!$I$46"]
["pp1_bl3_3_9_unit",{"$f":"'T2-B(PP1)'!$C$46","v":0},"#'T2-B(PP1)'!$C$46"]
["pp1_bl3_3_9_unit_in",{"$f":"'T2-B(PP1)'!$D$46","v":0},"#'T2-B(PP1)'!$D$46"]
["pp1_bl3_3_9_units_out",{"$f":"'T2-B(PP1)'!$G$46","v":0},"#'T2-B(PP1)'!$G$46"]
["pp1_bl3_3_total",{"$f":"'T2-B(PP1)'!$J$37","v":0},"#'T2-B(PP1)'!$J$37"]
["pp1_bl3_3_total_in",{"$f":"'T2-B(PP1)'!$F$37","v":0},"#'T2-B(PP1)'!$F$37"]
["pp1_bl3_3_total_out",{"$f":"'T2-B(PP1)'!$I$37","v":0},"#'T2-B(PP1)'!$I$37"]
["pp1_bl3_total",{"$f":"'T2-B(PP1)'!$J$48","v":0},"#'T2-B(PP1)'!$J$48"]
["pp1_bl3_total_in",{"$f":"'T2-B(PP1)'!$F$48","v":0},"#'T2-B(PP1)'!$F$48"]
["pp1_bl3_total_out",{"$f":"'T2-B(PP1)'!$I$48","v":0},"#'T2-B(PP1)'!$I$48"]
["pp1_bl4_1_1_name",{"$f":"'T2-B(PP1)'!$B$53","v":0},"#'T2-B(PP1)'!$B$53"]
["pp1_bl4_1_1_rate_in",{"$f":"'T2-B(PP1)'!$E$53","v":0},"#'T2-B(PP1)'!$E$53"]
["pp1_bl4_1_1_rate_out",{"$f":"'T2-B(PP1)'!$H$53","v":0},"#'T2-B(PP1)'!$H$53"]
["pp1_bl4_1_1_total",{"$f":"'T2-B(PP1)'!$J$53","v":0},"#'T2-B(PP1)'!$J$53"]
["pp1_bl4_1_1_total_in",{"$f":"'T2-B(PP1)'!$F$53","v":0},"#'T2-B(PP1)'!$F$53"]
["pp1_bl4_1_1_total_out",{"$f":"'T2-B(PP1)'!$I$53","v":0},"#'T2-B(PP1)'!$I$53"]
["pp1_bl4_1_1_unit",{"$f":"'T2-B(PP1)'!$C$53","v":0},"#'T2-B(PP1)'!$C$53"]
["pp1_bl4_1_1_unit_in",{"$f":"'T2-B(PP1)'!$D$53","v":0},"#'T2-B(PP1)'!$D$53"]
["pp1_bl4_1_1_units_out",{"$f":"'T2-B(PP1)'!$G$53","v":0},"#'T2-B(PP1)'!$G$53"]
["pp1_bl4_1_10_name",{"$f":"'T2-B(PP1)'!$B$62","v":0},"#'T2-B(PP1)'!$B$62"]
["pp1_bl4_1_10_rate_in",{"$f":"'T2-B(PP1)'!$E$62","v":0},"#'T2-B(PP1)'!$E$62"]
["pp1_bl4_1_10_rate_out",{"$f":"'T2-B(PP1)'!$H$62","v":0},"#'T2-B(PP1)'!$H$62"]
["pp1_bl4_1_10_total",{"$f":"'T2-B(PP1)'!$J$62","v":0},"#'T2-B(PP1)'!$J$62"]
["pp1_bl4_1_10_total_in",{"$f":"'T2-B(PP1)'!$F$62","v":0},"#'T2-B(PP1)'!$F$62"]
["pp1_bl4_1_10_total_out",{"$f":"'T2-B(PP1)'!$I$62","v":0},"#'T2-B(PP1)'!$I$62"]
["pp1_bl4_1_10_unit",{"$f":"'T2-B(PP1)'!$C$62","v":0},"#'T2-B(PP1)'!$C$62"]
["pp1_bl4_1_10_unit_in",{"$f":"'T2-B(PP1)'!$D$62","v":0},"#'T2-B(PP1)'!$D$62"]
["pp1_bl4_1_10_units_out",{"$f":"'T2-B(PP1)'!$G$62","v":0},"#'T2-B(PP1)'!$G$62"]
["pp1_bl4_1_2_name",{"$f":"'T2-B(PP1)'!$B$54","v":0},"#'T2-B(PP1)'!$B$54"]
["pp1_bl4_1_2_rate_in",{"$f":"'T2-B(PP1)'!$E$54","v":0},"#'T2-B(PP1)'!$E$54"]
["pp1_bl4_1_2_rate_out",{"$f":"'T2-B(PP1)'!$H$54","v":0},"#'T2-B(PP1)'!$H$54"]
["pp1_bl4_1_2_total",{"$f":"'T2-B(PP1)'!$J$54","v":0},"#'T2-B(PP1)'!$J$54"]
["pp1_bl4_1_2_total_in",{"$f":"'T2-B(PP1)'!$F$54","v":0},"#'T2-B(PP1)'!$F$54"]
["pp1_bl4_1_2_total_out",{"$f":"'T2-B(PP1)'!$I$54","v":0},"#'T2-B(PP1)'!$I$54"]
["pp1_bl4_1_2_unit",{"$f":"'T2-B(PP1)'!$C$54","v":0},"#'T2-B(PP1)'!$C$54"]
["pp1_bl4_1_2_unit_in",{"$f":"'T2-B(PP1)'!$D$54","v":0},"#'T2-B(PP1)'!$D$54"]
["pp1_bl4_1_2_units_out",{"$f":"'T2-B(PP1)'!$G$54","v":0},"#'T2-B(PP1)'!$G$54"]
["pp1_bl4_1_3_name",{"$f":"'T2-B(PP1)'!$B$55","v":0},"#'T2-B(PP1)'!$B$55"]
["pp1_bl4_1_3_rate_in",{"$f":"'T2-B(PP1)'!$E$55","v":0},"#'T2-B(PP1)'!$E$55"]
["pp1_bl4_1_3_rate_out",{"$f":"'T2-B(PP1)'!$H$55","v":0},"#'T2-B(PP1)'!$H$55"]
["pp1_bl4_1_3_total",{"$f":"'T2-B(PP1)'!$J$55","v":0},"#'T2-B(PP1)'!$J$55"]
["pp1_bl4_1_3_total_in",{"$f":"'T2-B(PP1)'!$F$55","v":0},"#'T2-B(PP1)'!$F$55"]
["pp1_bl4_1_3_total_out",{"$f":"'T2-B(PP1)'!$I$55","v":0},"#'T2-B(PP1)'!$I$55"]
["pp1_bl4_1_3_unit",{"$f":"'T2-B(PP1)'!$C$55","v":0},"#'T2-B(PP1)'!$C$55"]
["pp1_bl4_1_3_unit_in",{"$f":"'T2-B(PP1)'!$D$55","v":0},"#'T2-B(PP1)'!$D$55"]
["pp1_bl4_1_3_units_out",{"$f":"'T2-B(PP1)'!$G$55","v":0},"#'T2-B(PP1)'!$G$55"]
["pp1_bl4_1_4_name",{"$f":"'T2-B(PP1)'!$B$56","v":0},"#'T2-B(PP1)'!$B$56"]
["pp1_bl4_1_4_rate_in",{"$f":"'T2-B(PP1)'!$E$56","v":0},"#'T2-B(PP1)'!$E$56"]
["pp1_bl4_1_4_rate_out",{"$f":"'T2-B(PP1)'!$H$56","v":0},"#'T2-B(PP1)'!$H$56"]
["pp1_bl4_1_4_total",{"$f":"'T2-B(PP1)'!$J$56","v":0},"#'T2-B(PP1)'!$J$56"]
["pp1_bl4_1_4_total_in",{"$f":"'T2-B(PP1)'!$F$56","v":0},"#'T2-B(PP1)'!$F$56"]
["pp1_bl4_1_4_total_out",{"$f":"'T2-B(PP1)'!$I$56","v":0},"#'T2-B(PP1)'!$I$56"]
["pp1_bl4_1_4_unit",{"$f":"'T2-B(PP1)'!$C$56","v":0},"#'T2-B(PP1)'!$C$56"]
["pp1_bl4_1_4_unit_in",{"$f":"'T2-B(PP1)'!$D$56","v":0},"#'T2-B(PP1)'!$D$56"]
["pp1_bl4_1_4_units_out",{"$f":"'T2-B(PP1)'!$G$56","v":0},"#'T2-B(PP1)'!$G$56"]
["pp1_bl4_1_5_name",{"$f":"'T2-B(PP1)'!$B$57","v":0},"#'T2-B(PP1)'!$B$57"]
["pp1_bl4_1_5_rate_in",{"$f":"'T2-B(PP1)'!$E$57","v":0},"#'T2-B(PP1)'!$E$57"]
["pp1_bl4_1_5_rate_out",{"$f":"'T2-B(PP1)'!$H$57","v":0},"#'T2-B(PP1)'!$H$57"]
["pp1_bl4_1_5_total",{"$f":"'T2-B(PP1)'!$J$57","v":0},"#'T2-B(PP1)'!$J$57"]
["pp1_bl4_1_5_total_in",{"$f":"'T2-B(PP1)'!$F$57","v":0},"#'T2-B(PP1)'!$F$57"]
["pp1_bl4_1_5_total_out",{"$f":"'T2-B(PP1)'!$I$57","v":0},"#'T2-B(PP1)'!$I$57"]
["pp1_bl4_1_5_unit",{"$f":"'T2-B(PP1)'!$C$57","v":0},"#'T2-B(PP1)'!$C$57"]
["pp1_bl4_1_5_unit_in",{"$f":"'T2-B(PP1)'!$D$57","v":0},"#'T2-B(PP1)'!$D$57"]
["pp1_bl4_1_5_units_out",{"$f":"'T2-B(PP1)'!$G$57","v":0},"#'T2-B(PP1)'!$G$57"]
["pp1_bl4_1_6_name",{"$f":"'T2-B(PP1)'!$B$58","v":0},"#'T2-B(PP1)'!$B$58"]
["pp1_bl4_1_6_rate_in",{"$f":"'T2-B(PP1)'!$E$58","v":0},"#'T2-B(PP1)'!$E$58"]
["pp1_bl4_1_6_rate_out",{"$f":"'T2-B(PP1)'!$H$58","v":0},"#'T2-B(PP1)'!$H$58"]
["pp1_bl4_1_6_total",{"$f":"'T2-B(PP1)'!$J$58","v":0},"#'T2-B(PP1)'!$J$58"]
["pp1_bl4_1_6_total_in",{"$f":"'T2-B(PP1)'!$F$58","v":0},"#'T2-B(PP1)'!$F$58"]
["pp1_bl4_1_6_total_out",{"$f":"'T2-B(PP1)'!$I$58","v":0},"#'T2-B(PP1)'!$I$58"]
["pp1_bl4_1_6_unit",{"$f":"'T2-B(PP1)'!$C$58","v":0},"#'T2-B(PP1)'!$C$58"]
["pp1_bl4_1_6_unit_in",{"$f":"'T2-B(PP1)'!$D$58","v":0},"#'T2-B(PP1)'!$D$58"]
["pp1_bl4_1_6_units_out",{"$f":"'T2-B(PP1)'!$G$58","v":0},"#'T2-B(PP1)'!$G$58"]
["pp1_bl4_1_7_name",{"$f":"'T2-B(PP1)'!$B$59","v":0},"#'T2-B(PP1)'!$B$59"]
["pp1_bl4_1_7_rate_in",{"$f":"'T2-B(PP1)'!$E$59","v":0},"#'T2-B(PP1)'!$E$59"]
["pp1_bl4_1_7_rate_out",{"$f":"'T2-B(PP1)'!$H$59","v":0},"#'T2-B(PP1)'!$H$59"]
["pp1_bl4_1_7_total",{"$f":"'T2-B(PP1)'!$J$59","v":0},"#'T2-B(PP1)'!$J$59"]
["pp1_bl4_1_7_total_in",{"$f":"'T2-B(PP1)'!$F$59","v":0},"#'T2-B(PP1)'!$F$59"]
["pp1_bl4_1_7_total_out",{"$f":"'T2-B(PP1)'!$I$59","v":0},"#'T2-B(PP1)'!$I$59"]
["pp1_bl4_1_7_unit",{"$f":"'T2-B(PP1)'!$C$59","v":0},"#'T2-B(PP1)'!$C$59"]
["pp1_bl4_1_7_unit_in",{"$f":"'T2-B(PP1)'!$D$59","v":0},"#'T2-B(PP1)'!$D$59"]
["pp1_bl4_1_7_units_out",{"$f":"'T2-B(PP1)'!$G$59","v":0},"#'T2-B(PP1)'!$G$59"]
["pp1_bl4_1_8_name",{"$f":"'T2-B(PP1)'!$B$60","v":0},"#'T2-B(PP1)'!$B$60"]
["pp1_bl4_1_8_rate_in",{"$f":"'T2-B(PP1)'!$E$60","v":0},"#'T2-B(PP1)'!$E$60"]
["pp1_bl4_1_8_rate_out",{"$f":"'T2-B(PP1)'!$H$60","v":0},"#'T2-B(PP1)'!$H$60"]
["pp1_bl4_1_8_total",{"$f":"'T2-B(PP1)'!$J$60","v":0},"#'T2-B(PP1)'!$J$60"]
["pp1_bl4_1_8_total_in",{"$f":"'T2-B(PP1)'!$F$60","v":0},"#'T2-B(PP1)'!$F$60"]
["pp1_bl4_1_8_total_out",{"$f":"'T2-B(PP1)'!$I$60","v":0},"#'T2-B(PP1)'!$I$60"]
["pp1_bl4_1_8_unit",{"$f":"'T2-B(PP1)'!$C$60","v":0},"#'T2-B(PP1)'!$C$60"]
["pp1_bl4_1_8_unit_in",{"$f":"'T2-B(PP1)'!$D$60","v":0},"#'T2-B(PP1)'!$D$60"]
["pp1_bl4_1_8_units_out",{"$f":"'T2-B(PP1)'!$G$60","v":0},"#'T2-B(PP1)'!$G$60"]
["pp1_bl4_1_9_name",{"$f":"'T2-B(PP1)'!$B$61","v":0},"#'T2-B(PP1)'!$B$61"]
["pp1_bl4_1_9_rate_in",{"$f":"'T2-B(PP1)'!$E$61","v":0},"#'T2-B(PP1)'!$E$61"]
["pp1_bl4_1_9_rate_out",{"$f":"'T2-B(PP1)'!$H$61","v":0},"#'T2-B(PP1)'!$H$61"]
["pp1_bl4_1_9_total",{"$f":"'T2-B(PP1)'!$J$61","v":0},"#'T2-B(PP1)'!$J$61"]
["pp1_bl4_1_9_total_in",{"$f":"'T2-B(PP1)'!$F$61","v":0},"#'T2-B(PP1)'!$F$61"]
["pp1_bl4_1_9_total_out",{"$f":"'T2-B(PP1)'!$I$61","v":0},"#'T2-B(PP1)'!$I$61"]
["pp1_bl4_1_9_unit",{"$f":"'T2-B(PP1)'!$C$61","v":0},"#'T2-B(PP1)'!$C$61"]
["pp1_bl4_1_9_unit_in",{"$f":"'T2-B(PP1)'!$D$61","v":0},"#'T2-B(PP1)'!$D$61"]
["pp1_bl4_1_9_units_out",{"$f":"'T2-B(PP1)'!$G$61","v":0},"#'T2-B(PP1)'!$G$61"]
["pp1_bl4_1_total",{"$f":"'T2-B(PP1)'!$J$52","v":0},"#'T2-B(PP1)'!$J$52"]
["pp1_bl4_1_total_in",{"$f":"'T2-B(PP1)'!$F$52","v":0},"#'T2-B(PP1)'!$F$52"]
["pp1_bl4_1_total_out",{"$f":"'T2-B(PP1)'!$I$52","v":0},"#'T2-B(PP1)'!$I$52"]
["pp1_bl4_10_1_name",{"$f":"'T2-B(PP1)'!$B$152","v":0},"#'T2-B(PP1)'!$B$152"]
["pp1_bl4_10_1_rate_in",{"$f":"'T2-B(PP1)'!$E$152","v":0},"#'T2-B(PP1)'!$E$152"]
["pp1_bl4_10_1_rate_out",{"$f":"'T2-B(PP1)'!$H$152","v":0},"#'T2-B(PP1)'!$H$152"]
["pp1_bl4_10_1_total",{"$f":"'T2-B(PP1)'!$J$152","v":0},"#'T2-B(PP1)'!$J$152"]
["pp1_bl4_10_1_total_in",{"$f":"'T2-B(PP1)'!$F$152","v":0},"#'T2-B(PP1)'!$F$152"]
["pp1_bl4_10_1_total_out",{"$f":"'T2-B(PP1)'!$I$152","v":0},"#'T2-B(PP1)'!$I$152"]
["pp1_bl4_10_1_unit",{"$f":"'T2-B(PP1)'!$C$152","v":0},"#'T2-B(PP1)'!$C$152"]
["pp1_bl4_10_1_unit_in",{"$f":"'T2-B(PP1)'!$D$152","v":0},"#'T2-B(PP1)'!$D$152"]
["pp1_bl4_10_1_units_out",{"$f":"'T2-B(PP1)'!$G$152","v":0},"#'T2-B(PP1)'!$G$152"]
["pp1_bl4_10_10_name",{"$f":"'T2-B(PP1)'!$B$161","v":0},"#'T2-B(PP1)'!$B$161"]
["pp1_bl4_10_10_rate_in",{"$f":"'T2-B(PP1)'!$E$161","v":0},"#'T2-B(PP1)'!$E$161"]
["pp1_bl4_10_10_rate_out",{"$f":"'T2-B(PP1)'!$H$161","v":0},"#'T2-B(PP1)'!$H$161"]
["pp1_bl4_10_10_total",{"$f":"'T2-B(PP1)'!$J$161","v":0},"#'T2-B(PP1)'!$J$161"]
["pp1_bl4_10_10_total_in",{"$f":"'T2-B(PP1)'!$F$161","v":0},"#'T2-B(PP1)'!$F$161"]
["pp1_bl4_10_10_total_out",{"$f":"'T2-B(PP1)'!$I$161","v":0},"#'T2-B(PP1)'!$I$161"]
["pp1_bl4_10_10_unit",{"$f":"'T2-B(PP1)'!$C$161","v":0},"#'T2-B(PP1)'!$C$161"]
["pp1_bl4_10_10_unit_in",{"$f":"'T2-B(PP1)'!$D$161","v":0},"#'T2-B(PP1)'!$D$161"]
["pp1_bl4_10_10_units_out",{"$f":"'T2-B(PP1)'!$G$161","v":0},"#'T2-B(PP1)'!$G$161"]
["pp1_bl4_10_2_name",{"$f":"'T2-B(PP1)'!$B$153","v":0},"#'T2-B(PP1)'!$B$153"]
["pp1_bl4_10_2_rate_in",{"$f":"'T2-B(PP1)'!$E$153","v":0},"#'T2-B(PP1)'!$E$153"]
["pp1_bl4_10_2_rate_out",{"$f":"'T2-B(PP1)'!$H$153","v":0},"#'T2-B(PP1)'!$H$153"]
["pp1_bl4_10_2_total",{"$f":"'T2-B(PP1)'!$J$153","v":0},"#'T2-B(PP1)'!$J$153"]
["pp1_bl4_10_2_total_in",{"$f":"'T2-B(PP1)'!$F$153","v":0},"#'T2-B(PP1)'!$F$153"]
["pp1_bl4_10_2_total_out",{"$f":"'T2-B(PP1)'!$I$153","v":0},"#'T2-B(PP1)'!$I$153"]
["pp1_bl4_10_2_unit",{"$f":"'T2-B(PP1)'!$C$153","v":0},"#'T2-B(PP1)'!$C$153"]
["pp1_bl4_10_2_unit_in",{"$f":"'T2-B(PP1)'!$D$153","v":0},"#'T2-B(PP1)'!$D$153"]
["pp1_bl4_10_2_units_out",{"$f":"'T2-B(PP1)'!$G$153","v":0},"#'T2-B(PP1)'!$G$153"]
["pp1_bl4_10_3_name",{"$f":"'T2-B(PP1)'!$B$154","v":0},"#'T2-B(PP1)'!$B$154"]
["pp1_bl4_10_3_rate_in",{"$f":"'T2-B(PP1)'!$E$154","v":0},"#'T2-B(PP1)'!$E$154"]
["pp1_bl4_10_3_rate_out",{"$f":"'T2-B(PP1)'!$H$154","v":0},"#'T2-B(PP1)'!$H$154"]
["pp1_bl4_10_3_total",{"$f":"'T2-B(PP1)'!$J$154","v":0},"#'T2-B(PP1)'!$J$154"]
["pp1_bl4_10_3_total_in",{"$f":"'T2-B(PP1)'!$F$154","v":0},"#'T2-B(PP1)'!$F$154"]
["pp1_bl4_10_3_total_out",{"$f":"'T2-B(PP1)'!$I$154","v":0},"#'T2-B(PP1)'!$I$154"]
["pp1_bl4_10_3_unit",{"$f":"'T2-B(PP1)'!$C$154","v":0},"#'T2-B(PP1)'!$C$154"]
["pp1_bl4_10_3_unit_in",{"$f":"'T2-B(PP1)'!$D$154","v":0},"#'T2-B(PP1)'!$D$154"]
["pp1_bl4_10_3_units_out",{"$f":"'T2-B(PP1)'!$G$154","v":0},"#'T2-B(PP1)'!$G$154"]
["pp1_bl4_10_4_name",{"$f":"'T2-B(PP1)'!$B$155","v":0},"#'T2-B(PP1)'!$B$155"]
["pp1_bl4_10_4_rate_in",{"$f":"'T2-B(PP1)'!$E$155","v":0},"#'T2-B(PP1)'!$E$155"]
["pp1_bl4_10_4_rate_out",{"$f":"'T2-B(PP1)'!$H$155","v":0},"#'T2-B(PP1)'!$H$155"]
["pp1_bl4_10_4_total",{"$f":"'T2-B(PP1)'!$J$155","v":0},"#'T2-B(PP1)'!$J$155"]
["pp1_bl4_10_4_total_in",{"$f":"'T2-B(PP1)'!$F$155","v":0},"#'T2-B(PP1)'!$F$155"]
["pp1_bl4_10_4_total_out",{"$f":"'T2-B(PP1)'!$I$155","v":0},"#'T2-B(PP1)'!$I$155"]
["pp1_bl4_10_4_unit",{"$f":"'T2-B(PP1)'!$C$155","v":0},"#'T2-B(PP1)'!$C$155"]
["pp1_bl4_10_4_unit_in",{"$f":"'T2-B(PP1)'!$D$155","v":0},"#'T2-B(PP1)'!$D$155"]
["pp1_bl4_10_4_units_out",{"$f":"'T2-B(PP1)'!$G$155","v":0},"#'T2-B(PP1)'!$G$155"]
["pp1_bl4_10_5_name",{"$f":"'T2-B(PP1)'!$B$156","v":0},"#'T2-B(PP1)'!$B$156"]
["pp1_bl4_10_5_rate_in",{"$f":"'T2-B(PP1)'!$E$156","v":0},"#'T2-B(PP1)'!$E$156"]
["pp1_bl4_10_5_rate_out",{"$f":"'T2-B(PP1)'!$H$156","v":0},"#'T2-B(PP1)'!$H$156"]
["pp1_bl4_10_5_total",{"$f":"'T2-B(PP1)'!$J$156","v":0},"#'T2-B(PP1)'!$J$156"]
["pp1_bl4_10_5_total_in",{"$f":"'T2-B(PP1)'!$F$156","v":0},"#'T2-B(PP1)'!$F$156"]
["pp1_bl4_10_5_total_out",{"$f":"'T2-B(PP1)'!$I$156","v":0},"#'T2-B(PP1)'!$I$156"]
["pp1_bl4_10_5_unit",{"$f":"'T2-B(PP1)'!$C$156","v":0},"#'T2-B(PP1)'!$C$156"]
["pp1_bl4_10_5_unit_in",{"$f":"'T2-B(PP1)'!$D$156","v":0},"#'T2-B(PP1)'!$D$156"]
["pp1_bl4_10_5_units_out",{"$f":"'T2-B(PP1)'!$G$156","v":0},"#'T2-B(PP1)'!$G$156"]
["pp1_bl4_10_6_name",{"$f":"'T2-B(PP1)'!$B$157","v":0},"#'T2-B(PP1)'!$B$157"]
["pp1_bl4_10_6_rate_in",{"$f":"'T2-B(PP1)'!$E$157","v":0},"#'T2-B(PP1)'!$E$157"]
["pp1_bl4_10_6_rate_out",{"$f":"'T2-B(PP1)'!$H$157","v":0},"#'T2-B(PP1)'!$H$157"]
["pp1_bl4_10_6_total",{"$f":"'T2-B(PP1)'!$J$157","v":0},"#'T2-B(PP1)'!$J$157"]
["pp1_bl4_10_6_total_in",{"$f":"'T2-B(PP1)'!$F$157","v":0},"#'T2-B(PP1)'!$F$157"]
["pp1_bl4_10_6_total_out",{"$f":"'T2-B(PP1)'!$I$157","v":0},"#'T2-B(PP1)'!$I$157"]
["pp1_bl4_10_6_unit",{"$f":"'T2-B(PP1)'!$C$157","v":0},"#'T2-B(PP1)'!$C$157"]
["pp1_bl4_10_6_unit_in",{"$f":"'T2-B(PP1)'!$D$157","v":0},"#'T2-B(PP1)'!$D$157"]
["pp1_bl4_10_6_units_out",{"$f":"'T2-B(PP1)'!$G$157","v":0},"#'T2-B(PP1)'!$G$157"]
["pp1_bl4_10_7_name",{"$f":"'T2-B(PP1)'!$B$158","v":0},"#'T2-B(PP1)'!$B$158"]
["pp1_bl4_10_7_rate_in",{"$f":"'T2-B(PP1)'!$E$158","v":0},"#'T2-B(PP1)'!$E$158"]
["pp1_bl4_10_7_rate_out",{"$f":"'T2-B(PP1)'!$H$158","v":0},"#'T2-B(PP1)'!$H$158"]
["pp1_bl4_10_7_total",{"$f":"'T2-B(PP1)'!$J$158","v":0},"#'T2-B(PP1)'!$J$158"]
["pp1_bl4_10_7_total_in",{"$f":"'T2-B(PP1)'!$F$158","v":0},"#'T2-B(PP1)'!$F$158"]
["pp1_bl4_10_7_total_out",{"$f":"'T2-B(PP1)'!$I$158","v":0},"#'T2-B(PP1)'!$I$158"]
["pp1_bl4_10_7_unit",{"$f":"'T2-B(PP1)'!$C$158","v":0},"#'T2-B(PP1)'!$C$158"]
["pp1_bl4_10_7_unit_in",{"$f":"'T2-B(PP1)'!$D$158","v":0},"#'T2-B(PP1)'!$D$158"]
["pp1_bl4_10_7_units_out",{"$f":"'T2-B(PP1)'!$G$158","v":0},"#'T2-B(PP1)'!$G$158"]
["pp1_bl4_10_8_name",{"$f":"'T2-B(PP1)'!$B$159","v":0},"#'T2-B(PP1)'!$B$159"]
["pp1_bl4_10_8_rate_in",{"$f":"'T2-B(PP1)'!$E$159","v":0},"#'T2-B(PP1)'!$E$159"]
["pp1_bl4_10_8_rate_out",{"$f":"'T2-B(PP1)'!$H$159","v":0},"#'T2-B(PP1)'!$H$159"]
["pp1_bl4_10_8_total",{"$f":"'T2-B(PP1)'!$J$159","v":0},"#'T2-B(PP1)'!$J$159"]
["pp1_bl4_10_8_total_in",{"$f":"'T2-B(PP1)'!$F$159","v":0},"#'T2-B(PP1)'!$F$159"]
["pp1_bl4_10_8_total_out",{"$f":"'T2-B(PP1)'!$I$159","v":0},"#'T2-B(PP1)'!$I$159"]
["pp1_bl4_10_8_unit",{"$f":"'T2-B(PP1)'!$C$159","v":0},"#'T2-B(PP1)'!$C$159"]
["pp1_bl4_10_8_unit_in",{"$f":"'T2-B(PP1)'!$D$159","v":0},"#'T2-B(PP1)'!$D$159"]
["pp1_bl4_10_8_units_out",{"$f":"'T2-B(PP1)'!$G$159","v":0},"#'T2-B(PP1)'!$G$159"]
["pp1_bl4_10_9_name",{"$f":"'T2-B(PP1)'!$B$160","v":0},"#'T2-B(PP1)'!$B$160"]
["pp1_bl4_10_9_rate_in",{"$f":"'T2-B(PP1)'!$E$160","v":0},"#'T2-B(PP1)'!$E$160"]
["pp1_bl4_10_9_rate_out",{"$f":"'T2-B(PP1)'!$H$160","v":0},"#'T2-B(PP1)'!$H$160"]
["pp1_bl4_10_9_total",{"$f":"'T2-B(PP1)'!$J$160","v":0},"#'T2-B(PP1)'!$J$160"]
["pp1_bl4_10_9_total_in",{"$f":"'T2-B(PP1)'!$F$160","v":0},"#'T2-B(PP1)'!$F$160"]
["pp1_bl4_10_9_total_out",{"$f":"'T2-B(PP1)'!$I$160","v":0},"#'T2-B(PP1)'!$I$160"]
["pp1_bl4_10_9_unit",{"$f":"'T2-B(PP1)'!$C$160","v":0},"#'T2-B(PP1)'!$C$160"]
["pp1_bl4_10_9_unit_in",{"$f":"'T2-B(PP1)'!$D$160","v":0},"#'T2-B(PP1)'!$D$160"]
["pp1_bl4_10_9_units_out",{"$f":"'T2-B(PP1)'!$G$160","v":0},"#'T2-B(PP1)'!$G$160"]
["pp1_bl4_10_total",{"$f":"'T2-B(PP1)'!$J$151","v":0},"#'T2-B(PP1)'!$J$151"]
["pp1_bl4_10_total_in",{"$f":"'T2-B(PP1)'!$F$151","v":0},"#'T2-B(PP1)'!$F$151"]
["pp1_bl4_10_total_out",{"$f":"'T2-B(PP1)'!$I$151","v":0},"#'T2-B(PP1)'!$I$151"]
["pp1_bl4_11_1_name",{"$f":"'T2-B(PP1)'!$B$163","v":0},"#'T2-B(PP1)'!$B$163"]
["pp1_bl4_11_1_rate_in",{"$f":"'T2-B(PP1)'!$E$163","v":0},"#'T2-B(PP1)'!$E$163"]
["pp1_bl4_11_1_rate_out",{"$f":"'T2-B(PP1)'!$H$163","v":0},"#'T2-B(PP1)'!$H$163"]
["pp1_bl4_11_1_total",{"$f":"'T2-B(PP1)'!$J$163","v":0},"#'T2-B(PP1)'!$J$163"]
["pp1_bl4_11_1_total_in",{"$f":"'T2-B(PP1)'!$F$163","v":0},"#'T2-B(PP1)'!$F$163"]
["pp1_bl4_11_1_total_out",{"$f":"'T2-B(PP1)'!$I$163","v":0},"#'T2-B(PP1)'!$I$163"]
["pp1_bl4_11_1_unit",{"$f":"'T2-B(PP1)'!$C$163","v":0},"#'T2-B(PP1)'!$C$163"]
["pp1_bl4_11_1_unit_in",{"$f":"'T2-B(PP1)'!$D$163","v":0},"#'T2-B(PP1)'!$D$163"]
["pp1_bl4_11_1_units_out",{"$f":"'T2-B(PP1)'!$G$163","v":0},"#'T2-B(PP1)'!$G$163"]
["pp1_bl4_11_10_name",{"$f":"'T2-B(PP1)'!$B$172","v":0},"#'T2-B(PP1)'!$B$172"]
["pp1_bl4_11_10_rate_in",{"$f":"'T2-B(PP1)'!$E$172","v":0},"#'T2-B(PP1)'!$E$172"]
["pp1_bl4_11_10_rate_out",{"$f":"'T2-B(PP1)'!$H$172","v":0},"#'T2-B(PP1)'!$H$172"]
["pp1_bl4_11_10_total",{"$f":"'T2-B(PP1)'!$J$172","v":0},"#'T2-B(PP1)'!$J$172"]
["pp1_bl4_11_10_total_in",{"$f":"'T2-B(PP1)'!$F$172","v":0},"#'T2-B(PP1)'!$F$172"]
["pp1_bl4_11_10_total_out",{"$f":"'T2-B(PP1)'!$I$172","v":0},"#'T2-B(PP1)'!$I$172"]
["pp1_bl4_11_10_unit",{"$f":"'T2-B(PP1)'!$C$172","v":0},"#'T2-B(PP1)'!$C$172"]
["pp1_bl4_11_10_unit_in",{"$f":"'T2-B(PP1)'!$D$172","v":0},"#'T2-B(PP1)'!$D$172"]
["pp1_bl4_11_10_units_out",{"$f":"'T2-B(PP1)'!$G$172","v":0},"#'T2-B(PP1)'!$G$172"]
["pp1_bl4_11_2_name",{"$f":"'T2-B(PP1)'!$B$164","v":0},"#'T2-B(PP1)'!$B$164"]
["pp1_bl4_11_2_rate_in",{"$f":"'T2-B(PP1)'!$E$164","v":0},"#'T2-B(PP1)'!$E$164"]
["pp1_bl4_11_2_rate_out",{"$f":"'T2-B(PP1)'!$H$164","v":0},"#'T2-B(PP1)'!$H$164"]
["pp1_bl4_11_2_total",{"$f":"'T2-B(PP1)'!$J$164","v":0},"#'T2-B(PP1)'!$J$164"]
["pp1_bl4_11_2_total_in",{"$f":"'T2-B(PP1)'!$F$164","v":0},"#'T2-B(PP1)'!$F$164"]
["pp1_bl4_11_2_total_out",{"$f":"'T2-B(PP1)'!$I$164","v":0},"#'T2-B(PP1)'!$I$164"]
["pp1_bl4_11_2_unit",{"$f":"'T2-B(PP1)'!$C$164","v":0},"#'T2-B(PP1)'!$C$164"]
["pp1_bl4_11_2_unit_in",{"$f":"'T2-B(PP1)'!$D$164","v":0},"#'T2-B(PP1)'!$D$164"]
["pp1_bl4_11_2_units_out",{"$f":"'T2-B(PP1)'!$G$164","v":0},"#'T2-B(PP1)'!$G$164"]
["pp1_bl4_11_3_name",{"$f":"'T2-B(PP1)'!$B$165","v":0},"#'T2-B(PP1)'!$B$165"]
["pp1_bl4_11_3_rate_in",{"$f":"'T2-B(PP1)'!$E$165","v":0},"#'T2-B(PP1)'!$E$165"]
["pp1_bl4_11_3_rate_out",{"$f":"'T2-B(PP1)'!$H$165","v":0},"#'T2-B(PP1)'!$H$165"]
["pp1_bl4_11_3_total",{"$f":"'T2-B(PP1)'!$J$165","v":0},"#'T2-B(PP1)'!$J$165"]
["pp1_bl4_11_3_total_in",{"$f":"'T2-B(PP1)'!$F$165","v":0},"#'T2-B(PP1)'!$F$165"]
["pp1_bl4_11_3_total_out",{"$f":"'T2-B(PP1)'!$I$165","v":0},"#'T2-B(PP1)'!$I$165"]
["pp1_bl4_11_3_unit",{"$f":"'T2-B(PP1)'!$C$165","v":0},"#'T2-B(PP1)'!$C$165"]
["pp1_bl4_11_3_unit_in",{"$f":"'T2-B(PP1)'!$D$165","v":0},"#'T2-B(PP1)'!$D$165"]
["pp1_bl4_11_3_units_out",{"$f":"'T2-B(PP1)'!$G$165","v":0},"#'T2-B(PP1)'!$G$165"]
["pp1_bl4_11_4_name",{"$f":"'T2-B(PP1)'!$B$166","v":0},"#'T2-B(PP1)'!$B$166"]
["pp1_bl4_11_4_rate_in",{"$f":"'T2-B(PP1)'!$E$166","v":0},"#'T2-B(PP1)'!$E$166"]
["pp1_bl4_11_4_rate_out",{"$f":"'T2-B(PP1)'!$H$166","v":0},"#'T2-B(PP1)'!$H$166"]
["pp1_bl4_11_4_total",{"$f":"'T2-B(PP1)'!$J$166","v":0},"#'T2-B(PP1)'!$J$166"]
["pp1_bl4_11_4_total_in",{"$f":"'T2-B(PP1)'!$F$166","v":0},"#'T2-B(PP1)'!$F$166"]
["pp1_bl4_11_4_total_out",{"$f":"'T2-B(PP1)'!$I$166","v":0},"#'T2-B(PP1)'!$I$166"]
["pp1_bl4_11_4_unit",{"$f":"'T2-B(PP1)'!$C$166","v":0},"#'T2-B(PP1)'!$C$166"]
["pp1_bl4_11_4_unit_in",{"$f":"'T2-B(PP1)'!$D$166","v":0},"#'T2-B(PP1)'!$D$166"]
["pp1_bl4_11_4_units_out",{"$f":"'T2-B(PP1)'!$G$166","v":0},"#'T2-B(PP1)'!$G$166"]
["pp1_bl4_11_5_name",{"$f":"'T2-B(PP1)'!$B$167","v":0},"#'T2-B(PP1)'!$B$167"]
["pp1_bl4_11_5_rate_in",{"$f":"'T2-B(PP1)'!$E$167","v":0},"#'T2-B(PP1)'!$E$167"]
["pp1_bl4_11_5_rate_out",{"$f":"'T2-B(PP1)'!$H$167","v":0},"#'T2-B(PP1)'!$H$167"]
["pp1_bl4_11_5_total",{"$f":"'T2-B(PP1)'!$J$167","v":0},"#'T2-B(PP1)'!$J$167"]
["pp1_bl4_11_5_total_in",{"$f":"'T2-B(PP1)'!$F$167","v":0},"#'T2-B(PP1)'!$F$167"]
["pp1_bl4_11_5_total_out",{"$f":"'T2-B(PP1)'!$I$167","v":0},"#'T2-B(PP1)'!$I$167"]
["pp1_bl4_11_5_unit",{"$f":"'T2-B(PP1)'!$C$167","v":0},"#'T2-B(PP1)'!$C$167"]
["pp1_bl4_11_5_unit_in",{"$f":"'T2-B(PP1)'!$D$167","v":0},"#'T2-B(PP1)'!$D$167"]
["pp1_bl4_11_5_units_out",{"$f":"'T2-B(PP1)'!$G$167","v":0},"#'T2-B(PP1)'!$G$167"]
["pp1_bl4_11_6_name",{"$f":"'T2-B(PP1)'!$B$168","v":0},"#'T2-B(PP1)'!$B$168"]
["pp1_bl4_11_6_rate_in",{"$f":"'T2-B(PP1)'!$E$168","v":0},"#'T2-B(PP1)'!$E$168"]
["pp1_bl4_11_6_rate_out",{"$f":"'T2-B(PP1)'!$H$168","v":0},"#'T2-B(PP1)'!$H$168"]
["pp1_bl4_11_6_total",{"$f":"'T2-B(PP1)'!$J$168","v":0},"#'T2-B(PP1)'!$J$168"]
["pp1_bl4_11_6_total_in",{"$f":"'T2-B(PP1)'!$F$168","v":0},"#'T2-B(PP1)'!$F$168"]
["pp1_bl4_11_6_total_out",{"$f":"'T2-B(PP1)'!$I$168","v":0},"#'T2-B(PP1)'!$I$168"]
["pp1_bl4_11_6_unit",{"$f":"'T2-B(PP1)'!$C$168","v":0},"#'T2-B(PP1)'!$C$168"]
["pp1_bl4_11_6_unit_in",{"$f":"'T2-B(PP1)'!$D$168","v":0},"#'T2-B(PP1)'!$D$168"]
["pp1_bl4_11_6_units_out",{"$f":"'T2-B(PP1)'!$G$168","v":0},"#'T2-B(PP1)'!$G$168"]
["pp1_bl4_11_7_name",{"$f":"'T2-B(PP1)'!$B$169","v":0},"#'T2-B(PP1)'!$B$169"]
["pp1_bl4_11_7_rate_in",{"$f":"'T2-B(PP1)'!$E$169","v":0},"#'T2-B(PP1)'!$E$169"]
["pp1_bl4_11_7_rate_out",{"$f":"'T2-B(PP1)'!$H$169","v":0},"#'T2-B(PP1)'!$H$169"]
["pp1_bl4_11_7_total",{"$f":"'T2-B(PP1)'!$J$169","v":0},"#'T2-B(PP1)'!$J$169"]
["pp1_bl4_11_7_total_in",{"$f":"'T2-B(PP1)'!$F$169","v":0},"#'T2-B(PP1)'!$F$169"]
["pp1_bl4_11_7_total_out",{"$f":"'T2-B(PP1)'!$I$169","v":0},"#'T2-B(PP1)'!$I$169"]
["pp1_bl4_11_7_unit",{"$f":"'T2-B(PP1)'!$C$169","v":0},"#'T2-B(PP1)'!$C$169"]
["pp1_bl4_11_7_unit_in",{"$f":"'T2-B(PP1)'!$D$169","v":0},"#'T2-B(PP1)'!$D$169"]
["pp1_bl4_11_7_units_out",{"$f":"'T2-B(PP1)'!$G$169","v":0},"#'T2-B(PP1)'!$G$169"]
["pp1_bl4_11_8_name",{"$f":"'T2-B(PP1)'!$B$170","v":0},"#'T2-B(PP1)'!$B$170"]
["pp1_bl4_11_8_rate_in",{"$f":"'T2-B(PP1)'!$E$170","v":0},"#'T2-B(PP1)'!$E$170"]
["pp1_bl4_11_8_rate_out",{"$f":"'T2-B(PP1)'!$H$170","v":0},"#'T2-B(PP1)'!$H$170"]
["pp1_bl4_11_8_total",{"$f":"'T2-B(PP1)'!$J$170","v":0},"#'T2-B(PP1)'!$J$170"]
["pp1_bl4_11_8_total_in",{"$f":"'T2-B(PP1)'!$F$170","v":0},"#'T2-B(PP1)'!$F$170"]
["pp1_bl4_11_8_total_out",{"$f":"'T2-B(PP1)'!$I$170","v":0},"#'T2-B(PP1)'!$I$170"]
["pp1_bl4_11_8_unit",{"$f":"'T2-B(PP1)'!$C$170","v":0},"#'T2-B(PP1)'!$C$170"]
["pp1_bl4_11_8_unit_in",{"$f":"'T2-B(PP1)'!$D$170","v":0},"#'T2-B(PP1)'!$D$170"]
["pp1_bl4_11_8_units_out",{"$f":"'T2-B(PP1)'!$G$170","v":0},"#'T2-B(PP1)'!$G$170"]
["pp1_bl4_11_9_name",{"$f":"'T2-B(PP1)'!$B$171","v":0},"#'T2-B(PP1)'!$B$171"]
["pp1_bl4_11_9_rate_in",{"$f":"'T2-B(PP1)'!$E$171","v":0},"#'T2-B(PP1)'!$E$171"]
["pp1_bl4_11_9_rate_out",{"$f":"'T2-B(PP1)'!$H$171","v":0},"#'T2-B(PP1)'!$H$171"]
["pp1_bl4_11_9_total",{"$f":"'T2-B(PP1)'!$J$171","v":0},"#'T2-B(PP1)'!$J$171"]
["pp1_bl4_11_9_total_in",{"$f":"'T2-B(PP1)'!$F$171","v":0},"#'T2-B(PP1)'!$F$171"]
["pp1_bl4_11_9_total_out",{"$f":"'T2-B(PP1)'!$I$171","v":0},"#'T2-B(PP1)'!$I$171"]
["pp1_bl4_11_9_unit",{"$f":"'T2-B(PP1)'!$C$171","v":0},"#'T2-B(PP1)'!$C$171"]
["pp1_bl4_11_9_unit_in",{"$f":"'T2-B(PP1)'!$D$171","v":0},"#'T2-B(PP1)'!$D$171"]
["pp1_bl4_11_9_units_out",{"$f":"'T2-B(PP1)'!$G$171","v":0},"#'T2-B(PP1)'!$G$171"]
["pp1_bl4_11_total",{"$f":"'T2-B(PP1)'!$J$162","v":0},"#'T2-B(PP1)'!$J$162"]
["pp1_bl4_11_total_in",{"$f":"'T2-B(PP1)'!$F$162","v":0},"#'T2-B(PP1)'!$F$162"]
["pp1_bl4_11_total_out",{"$f":"'T2-B(PP1)'!$I$162","v":0},"#'T2-B(PP1)'!$I$162"]
["pp1_bl4_12_1_name",{"$f":"'T2-B(PP1)'!$B$174","v":0},"#'T2-B(PP1)'!$B$174"]
["pp1_bl4_12_1_rate_in",{"$f":"'T2-B(PP1)'!$E$174","v":0},"#'T2-B(PP1)'!$E$174"]
["pp1_bl4_12_1_rate_out",{"$f":"'T2-B(PP1)'!$H$174","v":0},"#'T2-B(PP1)'!$H$174"]
["pp1_bl4_12_1_total",{"$f":"'T2-B(PP1)'!$J$174","v":0},"#'T2-B(PP1)'!$J$174"]
["pp1_bl4_12_1_total_in",{"$f":"'T2-B(PP1)'!$F$174","v":0},"#'T2-B(PP1)'!$F$174"]
["pp1_bl4_12_1_total_out",{"$f":"'T2-B(PP1)'!$I$174","v":0},"#'T2-B(PP1)'!$I$174"]
["pp1_bl4_12_1_unit",{"$f":"'T2-B(PP1)'!$C$174","v":0},"#'T2-B(PP1)'!$C$174"]
["pp1_bl4_12_1_unit_in",{"$f":"'T2-B(PP1)'!$D$174","v":0},"#'T2-B(PP1)'!$D$174"]
["pp1_bl4_12_1_units_out",{"$f":"'T2-B(PP1)'!$G$174","v":0},"#'T2-B(PP1)'!$G$174"]
["pp1_bl4_12_10_name",{"$f":"'T2-B(PP1)'!$B$183","v":0},"#'T2-B(PP1)'!$B$183"]
["pp1_bl4_12_10_rate_in",{"$f":"'T2-B(PP1)'!$E$183","v":0},"#'T2-B(PP1)'!$E$183"]
["pp1_bl4_12_10_rate_out",{"$f":"'T2-B(PP1)'!$H$183","v":0},"#'T2-B(PP1)'!$H$183"]
["pp1_bl4_12_10_total",{"$f":"'T2-B(PP1)'!$J$183","v":0},"#'T2-B(PP1)'!$J$183"]
["pp1_bl4_12_10_total_in",{"$f":"'T2-B(PP1)'!$F$183","v":0},"#'T2-B(PP1)'!$F$183"]
["pp1_bl4_12_10_total_out",{"$f":"'T2-B(PP1)'!$I$183","v":0},"#'T2-B(PP1)'!$I$183"]
["pp1_bl4_12_10_unit",{"$f":"'T2-B(PP1)'!$C$183","v":0},"#'T2-B(PP1)'!$C$183"]
["pp1_bl4_12_10_unit_in",{"$f":"'T2-B(PP1)'!$D$183","v":0},"#'T2-B(PP1)'!$D$183"]
["pp1_bl4_12_10_units_out",{"$f":"'T2-B(PP1)'!$G$183","v":0},"#'T2-B(PP1)'!$G$183"]
["pp1_bl4_12_2_name",{"$f":"'T2-B(PP1)'!$B$175","v":0},"#'T2-B(PP1)'!$B$175"]
["pp1_bl4_12_2_rate_in",{"$f":"'T2-B(PP1)'!$E$175","v":0},"#'T2-B(PP1)'!$E$175"]
["pp1_bl4_12_2_rate_out",{"$f":"'T2-B(PP1)'!$H$175","v":0},"#'T2-B(PP1)'!$H$175"]
["pp1_bl4_12_2_total",{"$f":"'T2-B(PP1)'!$J$175","v":0},"#'T2-B(PP1)'!$J$175"]
["pp1_bl4_12_2_total_in",{"$f":"'T2-B(PP1)'!$F$175","v":0},"#'T2-B(PP1)'!$F$175"]
["pp1_bl4_12_2_total_out",{"$f":"'T2-B(PP1)'!$I$175","v":0},"#'T2-B(PP1)'!$I$175"]
["pp1_bl4_12_2_unit",{"$f":"'T2-B(PP1)'!$C$175","v":0},"#'T2-B(PP1)'!$C$175"]
["pp1_bl4_12_2_unit_in",{"$f":"'T2-B(PP1)'!$D$175","v":0},"#'T2-B(PP1)'!$D$175"]
["pp1_bl4_12_2_units_out",{"$f":"'T2-B(PP1)'!$G$175","v":0},"#'T2-B(PP1)'!$G$175"]
["pp1_bl4_12_3_name",{"$f":"'T2-B(PP1)'!$B$176","v":0},"#'T2-B(PP1)'!$B$176"]
["pp1_bl4_12_3_rate_in",{"$f":"'T2-B(PP1)'!$E$176","v":0},"#'T2-B(PP1)'!$E$176"]
["pp1_bl4_12_3_rate_out",{"$f":"'T2-B(PP1)'!$H$176","v":0},"#'T2-B(PP1)'!$H$176"]
["pp1_bl4_12_3_total",{"$f":"'T2-B(PP1)'!$J$176","v":0},"#'T2-B(PP1)'!$J$176"]
["pp1_bl4_12_3_total_in",{"$f":"'T2-B(PP1)'!$F$176","v":0},"#'T2-B(PP1)'!$F$176"]
["pp1_bl4_12_3_total_out",{"$f":"'T2-B(PP1)'!$I$176","v":0},"#'T2-B(PP1)'!$I$176"]
["pp1_bl4_12_3_unit",{"$f":"'T2-B(PP1)'!$C$176","v":0},"#'T2-B(PP1)'!$C$176"]
["pp1_bl4_12_3_unit_in",{"$f":"'T2-B(PP1)'!$D$176","v":0},"#'T2-B(PP1)'!$D$176"]
["pp1_bl4_12_3_units_out",{"$f":"'T2-B(PP1)'!$G$176","v":0},"#'T2-B(PP1)'!$G$176"]
["pp1_bl4_12_4_name",{"$f":"'T2-B(PP1)'!$B$177","v":0},"#'T2-B(PP1)'!$B$177"]
["pp1_bl4_12_4_rate_in",{"$f":"'T2-B(PP1)'!$E$177","v":0},"#'T2-B(PP1)'!$E$177"]
["pp1_bl4_12_4_rate_out",{"$f":"'T2-B(PP1)'!$H$177","v":0},"#'T2-B(PP1)'!$H$177"]
["pp1_bl4_12_4_total",{"$f":"'T2-B(PP1)'!$J$177","v":0},"#'T2-B(PP1)'!$J$177"]
["pp1_bl4_12_4_total_in",{"$f":"'T2-B(PP1)'!$F$177","v":0},"#'T2-B(PP1)'!$F$177"]
["pp1_bl4_12_4_total_out",{"$f":"'T2-B(PP1)'!$I$177","v":0},"#'T2-B(PP1)'!$I$177"]
["pp1_bl4_12_4_unit",{"$f":"'T2-B(PP1)'!$C$177","v":0},"#'T2-B(PP1)'!$C$177"]
["pp1_bl4_12_4_unit_in",{"$f":"'T2-B(PP1)'!$D$177","v":0},"#'T2-B(PP1)'!$D$177"]
["pp1_bl4_12_4_units_out",{"$f":"'T2-B(PP1)'!$G$177","v":0},"#'T2-B(PP1)'!$G$177"]
["pp1_bl4_12_5_name",{"$f":"'T2-B(PP1)'!$B$178","v":0},"#'T2-B(PP1)'!$B$178"]
["pp1_bl4_12_5_rate_in",{"$f":"'T2-B(PP1)'!$E$178","v":0},"#'T2-B(PP1)'!$E$178"]
["pp1_bl4_12_5_rate_out",{"$f":"'T2-B(PP1)'!$H$178","v":0},"#'T2-B(PP1)'!$H$178"]
["pp1_bl4_12_5_total",{"$f":"'T2-B(PP1)'!$J$178","v":0},"#'T2-B(PP1)'!$J$178"]
["pp1_bl4_12_5_total_in",{"$f":"'T2-B(PP1)'!$F$178","v":0},"#'T2-B(PP1)'!$F$178"]
["pp1_bl4_12_5_total_out",{"$f":"'T2-B(PP1)'!$I$178","v":0},"#'T2-B(PP1)'!$I$178"]
["pp1_bl4_12_5_unit",{"$f":"'T2-B(PP1)'!$C$178","v":0},"#'T2-B(PP1)'!$C$178"]
["pp1_bl4_12_5_unit_in",{"$f":"'T2-B(PP1)'!$D$178","v":0},"#'T2-B(PP1)'!$D$178"]
["pp1_bl4_12_5_units_out",{"$f":"'T2-B(PP1)'!$G$178","v":0},"#'T2-B(PP1)'!$G$178"]
["pp1_bl4_12_6_name",{"$f":"'T2-B(PP1)'!$B$179","v":0},"#'T2-B(PP1)'!$B$179"]
["pp1_bl4_12_6_rate_in",{"$f":"'T2-B(PP1)'!$E$179","v":0},"#'T2-B(PP1)'!$E$179"]
["pp1_bl4_12_6_rate_out",{"$f":"'T2-B(PP1)'!$H$179","v":0},"#'T2-B(PP1)'!$H$179"]
["pp1_bl4_12_6_total",{"$f":"'T2-B(PP1)'!$J$179","v":0},"#'T2-B(PP1)'!$J$179"]
["pp1_bl4_12_6_total_in",{"$f":"'T2-B(PP1)'!$F$179","v":0},"#'T2-B(PP1)'!$F$179"]
["pp1_bl4_12_6_total_out",{"$f":"'T2-B(PP1)'!$I$179","v":0},"#'T2-B(PP1)'!$I$179"]
["pp1_bl4_12_6_unit",{"$f":"'T2-B(PP1)'!$C$179","v":0},"#'T2-B(PP1)'!$C$179"]
["pp1_bl4_12_6_unit_in",{"$f":"'T2-B(PP1)'!$D$179","v":0},"#'T2-B(PP1)'!$D$179"]
["pp1_bl4_12_6_units_out",{"$f":"'T2-B(PP1)'!$G$179","v":0},"#'T2-B(PP1)'!$G$179"]
["pp1_bl4_12_7_name",{"$f":"'T2-B(PP1)'!$B$180","v":0},"#'T2-B(PP1)'!$B$180"]
["pp1_bl4_12_7_rate_in",{"$f":"'T2-B(PP1)'!$E$180","v":0},"#'T2-B(PP1)'!$E$180"]
["pp1_bl4_12_7_rate_out",{"$f":"'T2-B(PP1)'!$H$180","v":0},"#'T2-B(PP1)'!$H$180"]
["pp1_bl4_12_7_total",{"$f":"'T2-B(PP1)'!$J$180","v":0},"#'T2-B(PP1)'!$J$180"]
["pp1_bl4_12_7_total_in",{"$f":"'T2-B(PP1)'!$F$180","v":0},"#'T2-B(PP1)'!$F$180"]
["pp1_bl4_12_7_total_out",{"$f":"'T2-B(PP1)'!$I$180","v":0},"#'T2-B(PP1)'!$I$180"]
["pp1_bl4_12_7_unit",{"$f":"'T2-B(PP1)'!$C$180","v":0},"#'T2-B(PP1)'!$C$180"]
["pp1_bl4_12_7_unit_in",{"$f":"'T2-B(PP1)'!$D$180","v":0},"#'T2-B(PP1)'!$D$180"]
["pp1_bl4_12_7_units_out",{"$f":"'T2-B(PP1)'!$G$180","v":0},"#'T2-B(PP1)'!$G$180"]
["pp1_bl4_12_8_name",{"$f":"'T2-B(PP1)'!$B$181","v":0},"#'T2-B(PP1)'!$B$181"]
["pp1_bl4_12_8_rate_in",{"$f":"'T2-B(PP1)'!$E$181","v":0},"#'T2-B(PP1)'!$E$181"]
["pp1_bl4_12_8_rate_out",{"$f":"'T2-B(PP1)'!$H$181","v":0},"#'T2-B(PP1)'!$H$181"]
["pp1_bl4_12_8_total",{"$f":"'T2-B(PP1)'!$J$181","v":0},"#'T2-B(PP1)'!$J$181"]
["pp1_bl4_12_8_total_in",{"$f":"'T2-B(PP1)'!$F$181","v":0},"#'T2-B(PP1)'!$F$181"]
["pp1_bl4_12_8_total_out",{"$f":"'T2-B(PP1)'!$I$181","v":0},"#'T2-B(PP1)'!$I$181"]
["pp1_bl4_12_8_unit",{"$f":"'T2-B(PP1)'!$C$181","v":0},"#'T2-B(PP1)'!$C$181"]
["pp1_bl4_12_8_unit_in",{"$f":"'T2-B(PP1)'!$D$181","v":0},"#'T2-B(PP1)'!$D$181"]
["pp1_bl4_12_8_units_out",{"$f":"'T2-B(PP1)'!$G$181","v":0},"#'T2-B(PP1)'!$G$181"]
["pp1_bl4_12_9_name",{"$f":"'T2-B(PP1)'!$B$182","v":0},"#'T2-B(PP1)'!$B$182"]
["pp1_bl4_12_9_rate_in",{"$f":"'T2-B(PP1)'!$E$182","v":0},"#'T2-B(PP1)'!$E$182"]
["pp1_bl4_12_9_rate_out",{"$f":"'T2-B(PP1)'!$H$182","v":0},"#'T2-B(PP1)'!$H$182"]
["pp1_bl4_12_9_total",{"$f":"'T2-B(PP1)'!$J$182","v":0},"#'T2-B(PP1)'!$J$182"]
["pp1_bl4_12_9_total_in",{"$f":"'T2-B(PP1)'!$F$182","v":0},"#'T2-B(PP1)'!$F$182"]
["pp1_bl4_12_9_total_out",{"$f":"'T2-B(PP1)'!$I$182","v":0},"#'T2-B(PP1)'!$I$182"]
["pp1_bl4_12_9_unit",{"$f":"'T2-B(PP1)'!$C$182","v":0},"#'T2-B(PP1)'!$C$182"]
["pp1_bl4_12_9_unit_in",{"$f":"'T2-B(PP1)'!$D$182","v":0},"#'T2-B(PP1)'!$D$182"]
["pp1_bl4_12_9_units_out",{"$f":"'T2-B(PP1)'!$G$182","v":0},"#'T2-B(PP1)'!$G$182"]
["pp1_bl4_12_total",{"$f":"'T2-B(PP1)'!$J$173","v":0},"#'T2-B(PP1)'!$J$173"]
["pp1_bl4_12_total_in",{"$f":"'T2-B(PP1)'!$F$173","v":0},"#'T2-B(PP1)'!$F$173"]
["pp1_bl4_12_total_out",{"$f":"'T2-B(PP1)'!$I$173","v":0},"#'T2-B(PP1)'!$I$173"]
["pp1_bl4_13_1_name",{"$f":"'T2-B(PP1)'!$B$185","v":0},"#'T2-B(PP1)'!$B$185"]
["pp1_bl4_13_1_rate_in",{"$f":"'T2-B(PP1)'!$E$185","v":0},"#'T2-B(PP1)'!$E$185"]
["pp1_bl4_13_1_rate_out",{"$f":"'T2-B(PP1)'!$H$185","v":0},"#'T2-B(PP1)'!$H$185"]
["pp1_bl4_13_1_total",{"$f":"'T2-B(PP1)'!$J$185","v":0},"#'T2-B(PP1)'!$J$185"]
["pp1_bl4_13_1_total_in",{"$f":"'T2-B(PP1)'!$F$185","v":0},"#'T2-B(PP1)'!$F$185"]
["pp1_bl4_13_1_total_out",{"$f":"'T2-B(PP1)'!$I$185","v":0},"#'T2-B(PP1)'!$I$185"]
["pp1_bl4_13_1_unit",{"$f":"'T2-B(PP1)'!$C$185","v":0},"#'T2-B(PP1)'!$C$185"]
["pp1_bl4_13_1_unit_in",{"$f":"'T2-B(PP1)'!$D$185","v":0},"#'T2-B(PP1)'!$D$185"]
["pp1_bl4_13_1_units_out",{"$f":"'T2-B(PP1)'!$G$185","v":0},"#'T2-B(PP1)'!$G$185"]
["pp1_bl4_13_10_name",{"$f":"'T2-B(PP1)'!$B$194","v":0},"#'T2-B(PP1)'!$B$194"]
["pp1_bl4_13_10_rate_in",{"$f":"'T2-B(PP1)'!$E$194","v":0},"#'T2-B(PP1)'!$E$194"]
["pp1_bl4_13_10_rate_out",{"$f":"'T2-B(PP1)'!$H$194","v":0},"#'T2-B(PP1)'!$H$194"]
["pp1_bl4_13_10_total",{"$f":"'T2-B(PP1)'!$J$194","v":0},"#'T2-B(PP1)'!$J$194"]
["pp1_bl4_13_10_total_in",{"$f":"'T2-B(PP1)'!$F$194","v":0},"#'T2-B(PP1)'!$F$194"]
["pp1_bl4_13_10_total_out",{"$f":"'T2-B(PP1)'!$I$194","v":0},"#'T2-B(PP1)'!$I$194"]
["pp1_bl4_13_10_unit",{"$f":"'T2-B(PP1)'!$C$194","v":0},"#'T2-B(PP1)'!$C$194"]
["pp1_bl4_13_10_unit_in",{"$f":"'T2-B(PP1)'!$D$194","v":0},"#'T2-B(PP1)'!$D$194"]
["pp1_bl4_13_10_units_out",{"$f":"'T2-B(PP1)'!$G$194","v":0},"#'T2-B(PP1)'!$G$194"]
["pp1_bl4_13_2_name",{"$f":"'T2-B(PP1)'!$B$186","v":0},"#'T2-B(PP1)'!$B$186"]
["pp1_bl4_13_2_rate_in",{"$f":"'T2-B(PP1)'!$E$186","v":0},"#'T2-B(PP1)'!$E$186"]
["pp1_bl4_13_2_rate_out",{"$f":"'T2-B(PP1)'!$H$186","v":0},"#'T2-B(PP1)'!$H$186"]
["pp1_bl4_13_2_total",{"$f":"'T2-B(PP1)'!$J$186","v":0},"#'T2-B(PP1)'!$J$186"]
["pp1_bl4_13_2_total_in",{"$f":"'T2-B(PP1)'!$F$186","v":0},"#'T2-B(PP1)'!$F$186"]
["pp1_bl4_13_2_total_out",{"$f":"'T2-B(PP1)'!$I$186","v":0},"#'T2-B(PP1)'!$I$186"]
["pp1_bl4_13_2_unit",{"$f":"'T2-B(PP1)'!$C$186","v":0},"#'T2-B(PP1)'!$C$186"]
["pp1_bl4_13_2_unit_in",{"$f":"'T2-B(PP1)'!$D$186","v":0},"#'T2-B(PP1)'!$D$186"]
["pp1_bl4_13_2_units_out",{"$f":"'T2-B(PP1)'!$G$186","v":0},"#'T2-B(PP1)'!$G$186"]
["pp1_bl4_13_3_name",{"$f":"'T2-B(PP1)'!$B$187","v":0},"#'T2-B(PP1)'!$B$187"]
["pp1_bl4_13_3_rate_in",{"$f":"'T2-B(PP1)'!$E$187","v":0},"#'T2-B(PP1)'!$E$187"]
["pp1_bl4_13_3_rate_out",{"$f":"'T2-B(PP1)'!$H$187","v":0},"#'T2-B(PP1)'!$H$187"]
["pp1_bl4_13_3_total",{"$f":"'T2-B(PP1)'!$J$187","v":0},"#'T2-B(PP1)'!$J$187"]
["pp1_bl4_13_3_total_in",{"$f":"'T2-B(PP1)'!$F$187","v":0},"#'T2-B(PP1)'!$F$187"]
["pp1_bl4_13_3_total_out",{"$f":"'T2-B(PP1)'!$I$187","v":0},"#'T2-B(PP1)'!$I$187"]
["pp1_bl4_13_3_unit",{"$f":"'T2-B(PP1)'!$C$187","v":0},"#'T2-B(PP1)'!$C$187"]
["pp1_bl4_13_3_unit_in",{"$f":"'T2-B(PP1)'!$D$187","v":0},"#'T2-B(PP1)'!$D$187"]
["pp1_bl4_13_3_units_out",{"$f":"'T2-B(PP1)'!$G$187","v":0},"#'T2-B(PP1)'!$G$187"]
["pp1_bl4_13_4_name",{"$f":"'T2-B(PP1)'!$B$188","v":0},"#'T2-B(PP1)'!$B$188"]
["pp1_bl4_13_4_rate_in",{"$f":"'T2-B(PP1)'!$E$188","v":0},"#'T2-B(PP1)'!$E$188"]
["pp1_bl4_13_4_rate_out",{"$f":"'T2-B(PP1)'!$H$188","v":0},"#'T2-B(PP1)'!$H$188"]
["pp1_bl4_13_4_total",{"$f":"'T2-B(PP1)'!$J$188","v":0},"#'T2-B(PP1)'!$J$188"]
["pp1_bl4_13_4_total_in",{"$f":"'T2-B(PP1)'!$F$188","v":0},"#'T2-B(PP1)'!$F$188"]
["pp1_bl4_13_4_total_out",{"$f":"'T2-B(PP1)'!$I$188","v":0},"#'T2-B(PP1)'!$I$188"]
["pp1_bl4_13_4_unit",{"$f":"'T2-B(PP1)'!$C$188","v":0},"#'T2-B(PP1)'!$C$188"]
["pp1_bl4_13_4_unit_in",{"$f":"'T2-B(PP1)'!$D$188","v":0},"#'T2-B(PP1)'!$D$188"]
["pp1_bl4_13_4_units_out",{"$f":"'T2-B(PP1)'!$G$188","v":0},"#'T2-B(PP1)'!$G$188"]
["pp1_bl4_13_5_name",{"$f":"'T2-B(PP1)'!$B$189","v":0},"#'T2-B(PP1)'!$B$189"]
["pp1_bl4_13_5_rate_in",{"$f":"'T2-B(PP1)'!$E$189","v":0},"#'T2-B(PP1)'!$E$189"]
["pp1_bl4_13_5_rate_out",{"$f":"'T2-B(PP1)'!$H$189","v":0},"#'T2-B(PP1)'!$H$189"]
["pp1_bl4_13_5_total",{"$f":"'T2-B(PP1)'!$J$189","v":0},"#'T2-B(PP1)'!$J$189"]
["pp1_bl4_13_5_total_in",{"$f":"'T2-B(PP1)'!$F$189","v":0},"#'T2-B(PP1)'!$F$189"]
["pp1_bl4_13_5_total_out",{"$f":"'T2-B(PP1)'!$I$189","v":0},"#'T2-B(PP1)'!$I$189"]
["pp1_bl4_13_5_unit",{"$f":"'T2-B(PP1)'!$C$189","v":0},"#'T2-B(PP1)'!$C$189"]
["pp1_bl4_13_5_unit_in",{"$f":"'T2-B(PP1)'!$D$189","v":0},"#'T2-B(PP1)'!$D$189"]
["pp1_bl4_13_5_units_out",{"$f":"'T2-B(PP1)'!$G$189","v":0},"#'T2-B(PP1)'!$G$189"]
["pp1_bl4_13_6_name",{"$f":"'T2-B(PP1)'!$B$190","v":0},"#'T2-B(PP1)'!$B$190"]
["pp1_bl4_13_6_rate_in",{"$f":"'T2-B(PP1)'!$E$190","v":0},"#'T2-B(PP1)'!$E$190"]
["pp1_bl4_13_6_rate_out",{"$f":"'T2-B(PP1)'!$H$190","v":0},"#'T2-B(PP1)'!$H$190"]
["pp1_bl4_13_6_total",{"$f":"'T2-B(PP1)'!$J$190","v":0},"#'T2-B(PP1)'!$J$190"]
["pp1_bl4_13_6_total_in",{"$f":"'T2-B(PP1)'!$F$190","v":0},"#'T2-B(PP1)'!$F$190"]
["pp1_bl4_13_6_total_out",{"$f":"'T2-B(PP1)'!$I$190","v":0},"#'T2-B(PP1)'!$I$190"]
["pp1_bl4_13_6_unit",{"$f":"'T2-B(PP1)'!$C$190","v":0},"#'T2-B(PP1)'!$C$190"]
["pp1_bl4_13_6_unit_in",{"$f":"'T2-B(PP1)'!$D$190","v":0},"#'T2-B(PP1)'!$D$190"]
["pp1_bl4_13_6_units_out",{"$f":"'T2-B(PP1)'!$G$190","v":0},"#'T2-B(PP1)'!$G$190"]
["pp1_bl4_13_7_name",{"$f":"'T2-B(PP1)'!$B$191","v":0},"#'T2-B(PP1)'!$B$191"]
["pp1_bl4_13_7_rate_in",{"$f":"'T2-B(PP1)'!$E$191","v":0},"#'T2-B(PP1)'!$E$191"]
["pp1_bl4_13_7_rate_out",{"$f":"'T2-B(PP1)'!$H$191","v":0},"#'T2-B(PP1)'!$H$191"]
["pp1_bl4_13_7_total",{"$f":"'T2-B(PP1)'!$J$191","v":0},"#'T2-B(PP1)'!$J$191"]
["pp1_bl4_13_7_total_in",{"$f":"'T2-B(PP1)'!$F$191","v":0},"#'T2-B(PP1)'!$F$191"]
["pp1_bl4_13_7_total_out",{"$f":"'T2-B(PP1)'!$I$191","v":0},"#'T2-B(PP1)'!$I$191"]
["pp1_bl4_13_7_unit",{"$f":"'T2-B(PP1)'!$C$191","v":0},"#'T2-B(PP1)'!$C$191"]
["pp1_bl4_13_7_unit_in",{"$f":"'T2-B(PP1)'!$D$191","v":0},"#'T2-B(PP1)'!$D$191"]
["pp1_bl4_13_7_units_out",{"$f":"'T2-B(PP1)'!$G$191","v":0},"#'T2-B(PP1)'!$G$191"]
["pp1_bl4_13_8_name",{"$f":"'T2-B(PP1)'!$B$192","v":0},"#'T2-B(PP1)'!$B$192"]
["pp1_bl4_13_8_rate_in",{"$f":"'T2-B(PP1)'!$E$192","v":0},"#'T2-B(PP1)'!$E$192"]
["pp1_bl4_13_8_rate_out",{"$f":"'T2-B(PP1)'!$H$192","v":0},"#'T2-B(PP1)'!$H$192"]
["pp1_bl4_13_8_total",{"$f":"'T2-B(PP1)'!$J$192","v":0},"#'T2-B(PP1)'!$J$192"]
["pp1_bl4_13_8_total_in",{"$f":"'T2-B(PP1)'!$F$192","v":0},"#'T2-B(PP1)'!$F$192"]
["pp1_bl4_13_8_total_out",{"$f":"'T2-B(PP1)'!$I$192","v":0},"#'T2-B(PP1)'!$I$192"]
["pp1_bl4_13_8_unit",{"$f":"'T2-B(PP1)'!$C$192","v":0},"#'T2-B(PP1)'!$C$192"]
["pp1_bl4_13_8_unit_in",{"$f":"'T2-B(PP1)'!$D$192","v":0},"#'T2-B(PP1)'!$D$192"]
["pp1_bl4_13_8_units_out",{"$f":"'T2-B(PP1)'!$G$192","v":0},"#'T2-B(PP1)'!$G$192"]
["pp1_bl4_13_9_name",{"$f":"'T2-B(PP1)'!$B$193","v":0},"#'T2-B(PP1)'!$B$193"]
["pp1_bl4_13_9_rate_in",{"$f":"'T2-B(PP1)'!$E$193","v":0},"#'T2-B(PP1)'!$E$193"]
["pp1_bl4_13_9_rate_out",{"$f":"'T2-B(PP1)'!$H$193","v":0},"#'T2-B(PP1)'!$H$193"]
["pp1_bl4_13_9_total",{"$f":"'T2-B(PP1)'!$J$193","v":0},"#'T2-B(PP1)'!$J$193"]
["pp1_bl4_13_9_total_in",{"$f":"'T2-B(PP1)'!$F$193","v":0},"#'T2-B(PP1)'!$F$193"]
["pp1_bl4_13_9_total_out",{"$f":"'T2-B(PP1)'!$I$193","v":0},"#'T2-B(PP1)'!$I$193"]
["pp1_bl4_13_9_unit",{"$f":"'T2-B(PP1)'!$C$193","v":0},"#'T2-B(PP1)'!$C$193"]
["pp1_bl4_13_9_unit_in",{"$f":"'T2-B(PP1)'!$D$193","v":0},"#'T2-B(PP1)'!$D$193"]
["pp1_bl4_13_9_units_out",{"$f":"'T2-B(PP1)'!$G$193","v":0},"#'T2-B(PP1)'!$G$193"]
["pp1_bl4_13_total",{"$f":"'T2-B(PP1)'!$J$184","v":0},"#'T2-B(PP1)'!$J$184"]
["pp1_bl4_13_total_in",{"$f":"'T2-B(PP1)'!$F$184","v":0},"#'T2-B(PP1)'!$F$184"]
["pp1_bl4_13_total_out",{"$f":"'T2-B(PP1)'!$I$184","v":0},"#'T2-B(PP1)'!$I$184"]
["pp1_bl4_14_1_name",{"$f":"'T2-B(PP1)'!$B$196","v":0},"#'T2-B(PP1)'!$B$196"]
["pp1_bl4_14_1_rate_in",{"$f":"'T2-B(PP1)'!$E$196","v":0},"#'T2-B(PP1)'!$E$196"]
["pp1_bl4_14_1_rate_out",{"$f":"'T2-B(PP1)'!$H$196","v":0},"#'T2-B(PP1)'!$H$196"]
["pp1_bl4_14_1_total",{"$f":"'T2-B(PP1)'!$J$196","v":0},"#'T2-B(PP1)'!$J$196"]
["pp1_bl4_14_1_total_in",{"$f":"'T2-B(PP1)'!$F$196","v":0},"#'T2-B(PP1)'!$F$196"]
["pp1_bl4_14_1_total_out",{"$f":"'T2-B(PP1)'!$I$196","v":0},"#'T2-B(PP1)'!$I$196"]
["pp1_bl4_14_1_unit",{"$f":"'T2-B(PP1)'!$C$196","v":0},"#'T2-B(PP1)'!$C$196"]
["pp1_bl4_14_1_unit_in",{"$f":"'T2-B(PP1)'!$D$196","v":0},"#'T2-B(PP1)'!$D$196"]
["pp1_bl4_14_1_units_out",{"$f":"'T2-B(PP1)'!$G$196","v":0},"#'T2-B(PP1)'!$G$196"]
["pp1_bl4_14_10_name",{"$f":"'T2-B(PP1)'!$B$205","v":0},"#'T2-B(PP1)'!$B$205"]
["pp1_bl4_14_10_rate_in",{"$f":"'T2-B(PP1)'!$E$205","v":0},"#'T2-B(PP1)'!$E$205"]
["pp1_bl4_14_10_rate_out",{"$f":"'T2-B(PP1)'!$H$205","v":0},"#'T2-B(PP1)'!$H$205"]
["pp1_bl4_14_10_total",{"$f":"'T2-B(PP1)'!$J$205","v":0},"#'T2-B(PP1)'!$J$205"]
["pp1_bl4_14_10_total_in",{"$f":"'T2-B(PP1)'!$F$205","v":0},"#'T2-B(PP1)'!$F$205"]
["pp1_bl4_14_10_total_out",{"$f":"'T2-B(PP1)'!$I$205","v":0},"#'T2-B(PP1)'!$I$205"]
["pp1_bl4_14_10_unit",{"$f":"'T2-B(PP1)'!$C$205","v":0},"#'T2-B(PP1)'!$C$205"]
["pp1_bl4_14_10_unit_in",{"$f":"'T2-B(PP1)'!$D$205","v":0},"#'T2-B(PP1)'!$D$205"]
["pp1_bl4_14_10_units_out",{"$f":"'T2-B(PP1)'!$G$205","v":0},"#'T2-B(PP1)'!$G$205"]
["pp1_bl4_14_2_name",{"$f":"'T2-B(PP1)'!$B$197","v":0},"#'T2-B(PP1)'!$B$197"]
["pp1_bl4_14_2_rate_in",{"$f":"'T2-B(PP1)'!$E$197","v":0},"#'T2-B(PP1)'!$E$197"]
["pp1_bl4_14_2_rate_out",{"$f":"'T2-B(PP1)'!$H$197","v":0},"#'T2-B(PP1)'!$H$197"]
["pp1_bl4_14_2_total",{"$f":"'T2-B(PP1)'!$J$197","v":0},"#'T2-B(PP1)'!$J$197"]
["pp1_bl4_14_2_total_in",{"$f":"'T2-B(PP1)'!$F$197","v":0},"#'T2-B(PP1)'!$F$197"]
["pp1_bl4_14_2_total_out",{"$f":"'T2-B(PP1)'!$I$197","v":0},"#'T2-B(PP1)'!$I$197"]
["pp1_bl4_14_2_unit",{"$f":"'T2-B(PP1)'!$C$197","v":0},"#'T2-B(PP1)'!$C$197"]
["pp1_bl4_14_2_unit_in",{"$f":"'T2-B(PP1)'!$D$197","v":0},"#'T2-B(PP1)'!$D$197"]
["pp1_bl4_14_2_units_out",{"$f":"'T2-B(PP1)'!$G$197","v":0},"#'T2-B(PP1)'!$G$197"]
["pp1_bl4_14_3_name",{"$f":"'T2-B(PP1)'!$B$198","v":0},"#'T2-B(PP1)'!$B$198"]
["pp1_bl4_14_3_rate_in",{"$f":"'T2-B(PP1)'!$E$198","v":0},"#'T2-B(PP1)'!$E$198"]
["pp1_bl4_14_3_rate_out",{"$f":"'T2-B(PP1)'!$H$198","v":0},"#'T2-B(PP1)'!$H$198"]
["pp1_bl4_14_3_total",{"$f":"'T2-B(PP1)'!$J$198","v":0},"#'T2-B(PP1)'!$J$198"]
["pp1_bl4_14_3_total_in",{"$f":"'T2-B(PP1)'!$F$198","v":0},"#'T2-B(PP1)'!$F$198"]
["pp1_bl4_14_3_total_out",{"$f":"'T2-B(PP1)'!$I$198","v":0},"#'T2-B(PP1)'!$I$198"]
["pp1_bl4_14_3_unit",{"$f":"'T2-B(PP1)'!$C$198","v":0},"#'T2-B(PP1)'!$C$198"]
["pp1_bl4_14_3_unit_in",{"$f":"'T2-B(PP1)'!$D$198","v":0},"#'T2-B(PP1)'!$D$198"]
["pp1_bl4_14_3_units_out",{"$f":"'T2-B(PP1)'!$G$198","v":0},"#'T2-B(PP1)'!$G$198"]
["pp1_bl4_14_4_name",{"$f":"'T2-B(PP1)'!$B$199","v":0},"#'T2-B(PP1)'!$B$199"]
["pp1_bl4_14_4_rate_in",{"$f":"'T2-B(PP1)'!$E$199","v":0},"#'T2-B(PP1)'!$E$199"]
["pp1_bl4_14_4_rate_out",{"$f":"'T2-B(PP1)'!$H$199","v":0},"#'T2-B(PP1)'!$H$199"]
["pp1_bl4_14_4_total",{"$f":"'T2-B(PP1)'!$J$199","v":0},"#'T2-B(PP1)'!$J$199"]
["pp1_bl4_14_4_total_in",{"$f":"'T2-B(PP1)'!$F$199","v":0},"#'T2-B(PP1)'!$F$199"]
["pp1_bl4_14_4_total_out",{"$f":"'T2-B(PP1)'!$I$199","v":0},"#'T2-B(PP1)'!$I$199"]
["pp1_bl4_14_4_unit",{"$f":"'T2-B(PP1)'!$C$199","v":0},"#'T2-B(PP1)'!$C$199"]
["pp1_bl4_14_4_unit_in",{"$f":"'T2-B(PP1)'!$D$199","v":0},"#'T2-B(PP1)'!$D$199"]
["pp1_bl4_14_4_units_out",{"$f":"'T2-B(PP1)'!$G$199","v":0},"#'T2-B(PP1)'!$G$199"]
["pp1_bl4_14_5_name",{"$f":"'T2-B(PP1)'!$B$200","v":0},"#'T2-B(PP1)'!$B$200"]
["pp1_bl4_14_5_rate_in",{"$f":"'T2-B(PP1)'!$E$200","v":0},"#'T2-B(PP1)'!$E$200"]
["pp1_bl4_14_5_rate_out",{"$f":"'T2-B(PP1)'!$H$200","v":0},"#'T2-B(PP1)'!$H$200"]
["pp1_bl4_14_5_total",{"$f":"'T2-B(PP1)'!$J$200","v":0},"#'T2-B(PP1)'!$J$200"]
["pp1_bl4_14_5_total_in",{"$f":"'T2-B(PP1)'!$F$200","v":0},"#'T2-B(PP1)'!$F$200"]
["pp1_bl4_14_5_total_out",{"$f":"'T2-B(PP1)'!$I$200","v":0},"#'T2-B(PP1)'!$I$200"]
["pp1_bl4_14_5_unit",{"$f":"'T2-B(PP1)'!$C$200","v":0},"#'T2-B(PP1)'!$C$200"]
["pp1_bl4_14_5_unit_in",{"$f":"'T2-B(PP1)'!$D$200","v":0},"#'T2-B(PP1)'!$D$200"]
["pp1_bl4_14_5_units_out",{"$f":"'T2-B(PP1)'!$G$200","v":0},"#'T2-B(PP1)'!$G$200"]
["pp1_bl4_14_6_name",{"$f":"'T2-B(PP1)'!$B$201","v":0},"#'T2-B(PP1)'!$B$201"]
["pp1_bl4_14_6_rate_in",{"$f":"'T2-B(PP1)'!$E$201","v":0},"#'T2-B(PP1)'!$E$201"]
["pp1_bl4_14_6_rate_out",{"$f":"'T2-B(PP1)'!$H$201","v":0},"#'T2-B(PP1)'!$H$201"]
["pp1_bl4_14_6_total",{"$f":"'T2-B(PP1)'!$J$201","v":0},"#'T2-B(PP1)'!$J$201"]
["pp1_bl4_14_6_total_in",{"$f":"'T2-B(PP1)'!$F$201","v":0},"#'T2-B(PP1)'!$F$201"]
["pp1_bl4_14_6_total_out",{"$f":"'T2-B(PP1)'!$I$201","v":0},"#'T2-B(PP1)'!$I$201"]
["pp1_bl4_14_6_unit",{"$f":"'T2-B(PP1)'!$C$201","v":0},"#'T2-B(PP1)'!$C$201"]
["pp1_bl4_14_6_unit_in",{"$f":"'T2-B(PP1)'!$D$201","v":0},"#'T2-B(PP1)'!$D$201"]
["pp1_bl4_14_6_units_out",{"$f":"'T2-B(PP1)'!$G$201","v":0},"#'T2-B(PP1)'!$G$201"]
["pp1_bl4_14_7_name",{"$f":"'T2-B(PP1)'!$B$202","v":0},"#'T2-B(PP1)'!$B$202"]
["pp1_bl4_14_7_rate_in",{"$f":"'T2-B(PP1)'!$E$202","v":0},"#'T2-B(PP1)'!$E$202"]
["pp1_bl4_14_7_rate_out",{"$f":"'T2-B(PP1)'!$H$202","v":0},"#'T2-B(PP1)'!$H$202"]
["pp1_bl4_14_7_total",{"$f":"'T2-B(PP1)'!$J$202","v":0},"#'T2-B(PP1)'!$J$202"]
["pp1_bl4_14_7_total_in",{"$f":"'T2-B(PP1)'!$F$202","v":0},"#'T2-B(PP1)'!$F$202"]
["pp1_bl4_14_7_total_out",{"$f":"'T2-B(PP1)'!$I$202","v":0},"#'T2-B(PP1)'!$I$202"]
["pp1_bl4_14_7_unit",{"$f":"'T2-B(PP1)'!$C$202","v":0},"#'T2-B(PP1)'!$C$202"]
["pp1_bl4_14_7_unit_in",{"$f":"'T2-B(PP1)'!$D$202","v":0},"#'T2-B(PP1)'!$D$202"]
["pp1_bl4_14_7_units_out",{"$f":"'T2-B(PP1)'!$G$202","v":0},"#'T2-B(PP1)'!$G$202"]
["pp1_bl4_14_8_name",{"$f":"'T2-B(PP1)'!$B$203","v":0},"#'T2-B(PP1)'!$B$203"]
["pp1_bl4_14_8_rate_in",{"$f":"'T2-B(PP1)'!$E$203","v":0},"#'T2-B(PP1)'!$E$203"]
["pp1_bl4_14_8_rate_out",{"$f":"'T2-B(PP1)'!$H$203","v":0},"#'T2-B(PP1)'!$H$203"]
["pp1_bl4_14_8_total",{"$f":"'T2-B(PP1)'!$J$203","v":0},"#'T2-B(PP1)'!$J$203"]
["pp1_bl4_14_8_total_in",{"$f":"'T2-B(PP1)'!$F$203","v":0},"#'T2-B(PP1)'!$F$203"]
["pp1_bl4_14_8_total_out",{"$f":"'T2-B(PP1)'!$I$203","v":0},"#'T2-B(PP1)'!$I$203"]
["pp1_bl4_14_8_unit",{"$f":"'T2-B(PP1)'!$C$203","v":0},"#'T2-B(PP1)'!$C$203"]
["pp1_bl4_14_8_unit_in",{"$f":"'T2-B(PP1)'!$D$203","v":0},"#'T2-B(PP1)'!$D$203"]
["pp1_bl4_14_8_units_out",{"$f":"'T2-B(PP1)'!$G$203","v":0},"#'T2-B(PP1)'!$G$203"]
["pp1_bl4_14_9_name",{"$f":"'T2-B(PP1)'!$B$204","v":0},"#'T2-B(PP1)'!$B$204"]
["pp1_bl4_14_9_rate_in",{"$f":"'T2-B(PP1)'!$E$204","v":0},"#'T2-B(PP1)'!$E$204"]
["pp1_bl4_14_9_rate_out",{"$f":"'T2-B(PP1)'!$H$204","v":0},"#'T2-B(PP1)'!$H$204"]
["pp1_bl4_14_9_total",{"$f":"'T2-B(PP1)'!$J$204","v":0},"#'T2-B(PP1)'!$J$204"]
["pp1_bl4_14_9_total_in",{"$f":"'T2-B(PP1)'!$F$204","v":0},"#'T2-B(PP1)'!$F$204"]
["pp1_bl4_14_9_total_out",{"$f":"'T2-B(PP1)'!$I$204","v":0},"#'T2-B(PP1)'!$I$204"]
["pp1_bl4_14_9_unit",{"$f":"'T2-B(PP1)'!$C$204","v":0},"#'T2-B(PP1)'!$C$204"]
["pp1_bl4_14_9_unit_in",{"$f":"'T2-B(PP1)'!$D$204","v":0},"#'T2-B(PP1)'!$D$204"]
["pp1_bl4_14_9_units_out",{"$f":"'T2-B(PP1)'!$G$204","v":0},"#'T2-B(PP1)'!$G$204"]
["pp1_bl4_14_total",{"$f":"'T2-B(PP1)'!$J$195","v":0},"#'T2-B(PP1)'!$J$195"]
["pp1_bl4_14_total_in",{"$f":"'T2-B(PP1)'!$F$195","v":0},"#'T2-B(PP1)'!$F$195"]
["pp1_bl4_14_total_out",{"$f":"'T2-B(PP1)'!$I$195","v":0},"#'T2-B(PP1)'!$I$195"]
["pp1_bl4_2_1_name",{"$f":"'T2-B(PP1)'!$B$64","v":0},"#'T2-B(PP1)'!$B$64"]
["pp1_bl4_2_1_rate_in",{"$f":"'T2-B(PP1)'!$E$64","v":0},"#'T2-B(PP1)'!$E$64"]
["pp1_bl4_2_1_rate_out",{"$f":"'T2-B(PP1)'!$H$64","v":0},"#'T2-B(PP1)'!$H$64"]
["pp1_bl4_2_1_total",{"$f":"'T2-B(PP1)'!$J$64","v":0},"#'T2-B(PP1)'!$J$64"]
["pp1_bl4_2_1_total_in",{"$f":"'T2-B(PP1)'!$F$64","v":0},"#'T2-B(PP1)'!$F$64"]
["pp1_bl4_2_1_total_out",{"$f":"'T2-B(PP1)'!$I$64","v":0},"#'T2-B(PP1)'!$I$64"]
["pp1_bl4_2_1_unit",{"$f":"'T2-B(PP1)'!$C$64","v":0},"#'T2-B(PP1)'!$C$64"]
["pp1_bl4_2_1_unit_in",{"$f":"'T2-B(PP1)'!$D$64","v":0},"#'T2-B(PP1)'!$D$64"]
["pp1_bl4_2_1_units_out",{"$f":"'T2-B(PP1)'!$G$64","v":0},"#'T2-B(PP1)'!$G$64"]
["pp1_bl4_2_10_name",{"$f":"'T2-B(PP1)'!$B$73","v":0},"#'T2-B(PP1)'!$B$73"]
["pp1_bl4_2_10_rate_in",{"$f":"'T2-B(PP1)'!$E$73","v":0},"#'T2-B(PP1)'!$E$73"]
["pp1_bl4_2_10_rate_out",{"$f":"'T2-B(PP1)'!$H$73","v":0},"#'T2-B(PP1)'!$H$73"]
["pp1_bl4_2_10_total",{"$f":"'T2-B(PP1)'!$J$73","v":0},"#'T2-B(PP1)'!$J$73"]
["pp1_bl4_2_10_total_in",{"$f":"'T2-B(PP1)'!$F$73","v":0},"#'T2-B(PP1)'!$F$73"]
["pp1_bl4_2_10_total_out",{"$f":"'T2-B(PP1)'!$I$73","v":0},"#'T2-B(PP1)'!$I$73"]
["pp1_bl4_2_10_unit",{"$f":"'T2-B(PP1)'!$C$73","v":0},"#'T2-B(PP1)'!$C$73"]
["pp1_bl4_2_10_unit_in",{"$f":"'T2-B(PP1)'!$D$73","v":0},"#'T2-B(PP1)'!$D$73"]
["pp1_bl4_2_10_units_out",{"$f":"'T2-B(PP1)'!$G$73","v":0},"#'T2-B(PP1)'!$G$73"]
["pp1_bl4_2_2_name",{"$f":"'T2-B(PP1)'!$B$65","v":0},"#'T2-B(PP1)'!$B$65"]
["pp1_bl4_2_2_rate_in",{"$f":"'T2-B(PP1)'!$E$65","v":0},"#'T2-B(PP1)'!$E$65"]
["pp1_bl4_2_2_rate_out",{"$f":"'T2-B(PP1)'!$H$65","v":0},"#'T2-B(PP1)'!$H$65"]
["pp1_bl4_2_2_total",{"$f":"'T2-B(PP1)'!$J$65","v":0},"#'T2-B(PP1)'!$J$65"]
["pp1_bl4_2_2_total_in",{"$f":"'T2-B(PP1)'!$F$65","v":0},"#'T2-B(PP1)'!$F$65"]
["pp1_bl4_2_2_total_out",{"$f":"'T2-B(PP1)'!$I$65","v":0},"#'T2-B(PP1)'!$I$65"]
["pp1_bl4_2_2_unit",{"$f":"'T2-B(PP1)'!$C$65","v":0},"#'T2-B(PP1)'!$C$65"]
["pp1_bl4_2_2_unit_in",{"$f":"'T2-B(PP1)'!$D$65","v":0},"#'T2-B(PP1)'!$D$65"]
["pp1_bl4_2_2_units_out",{"$f":"'T2-B(PP1)'!$G$65","v":0},"#'T2-B(PP1)'!$G$65"]
["pp1_bl4_2_3_name",{"$f":"'T2-B(PP1)'!$B$66","v":0},"#'T2-B(PP1)'!$B$66"]
["pp1_bl4_2_3_rate_in",{"$f":"'T2-B(PP1)'!$E$66","v":0},"#'T2-B(PP1)'!$E$66"]
["pp1_bl4_2_3_rate_out",{"$f":"'T2-B(PP1)'!$H$66","v":0},"#'T2-B(PP1)'!$H$66"]
["pp1_bl4_2_3_total",{"$f":"'T2-B(PP1)'!$J$66","v":0},"#'T2-B(PP1)'!$J$66"]
["pp1_bl4_2_3_total_in",{"$f":"'T2-B(PP1)'!$F$66","v":0},"#'T2-B(PP1)'!$F$66"]
["pp1_bl4_2_3_total_out",{"$f":"'T2-B(PP1)'!$I$66","v":0},"#'T2-B(PP1)'!$I$66"]
["pp1_bl4_2_3_unit",{"$f":"'T2-B(PP1)'!$C$66","v":0},"#'T2-B(PP1)'!$C$66"]
["pp1_bl4_2_3_unit_in",{"$f":"'T2-B(PP1)'!$D$66","v":0},"#'T2-B(PP1)'!$D$66"]
["pp1_bl4_2_3_units_out",{"$f":"'T2-B(PP1)'!$G$66","v":0},"#'T2-B(PP1)'!$G$66"]
["pp1_bl4_2_4_name",{"$f":"'T2-B(PP1)'!$B$67","v":0},"#'T2-B(PP1)'!$B$67"]
["pp1_bl4_2_4_rate_in",{"$f":"'T2-B(PP1)'!$E$67","v":0},"#'T2-B(PP1)'!$E$67"]
["pp1_bl4_2_4_rate_out",{"$f":"'T2-B(PP1)'!$H$67","v":0},"#'T2-B(PP1)'!$H$67"]
["pp1_bl4_2_4_total",{"$f":"'T2-B(PP1)'!$J$67","v":0},"#'T2-B(PP1)'!$J$67"]
["pp1_bl4_2_4_total_in",{"$f":"'T2-B(PP1)'!$F$67","v":0},"#'T2-B(PP1)'!$F$67"]
["pp1_bl4_2_4_total_out",{"$f":"'T2-B(PP1)'!$I$67","v":0},"#'T2-B(PP1)'!$I$67"]
["pp1_bl4_2_4_unit",{"$f":"'T2-B(PP1)'!$C$67","v":0},"#'T2-B(PP1)'!$C$67"]
["pp1_bl4_2_4_unit_in",{"$f":"'T2-B(PP1)'!$D$67","v":0},"#'T2-B(PP1)'!$D$67"]
["pp1_bl4_2_4_units_out",{"$f":"'T2-B(PP1)'!$G$67","v":0},"#'T2-B(PP1)'!$G$67"]
["pp1_bl4_2_5_name",{"$f":"'T2-B(PP1)'!$B$68","v":0},"#'T2-B(PP1)'!$B$68"]
["pp1_bl4_2_5_rate_in",{"$f":"'T2-B(PP1)'!$E$68","v":0},"#'T2-B(PP1)'!$E$68"]
["pp1_bl4_2_5_rate_out",{"$f":"'T2-B(PP1)'!$H$68","v":0},"#'T2-B(PP1)'!$H$68"]
["pp1_bl4_2_5_total",{"$f":"'T2-B(PP1)'!$J$68","v":0},"#'T2-B(PP1)'!$J$68"]
["pp1_bl4_2_5_total_in",{"$f":"'T2-B(PP1)'!$F$68","v":0},"#'T2-B(PP1)'!$F$68"]
["pp1_bl4_2_5_total_out",{"$f":"'T2-B(PP1)'!$I$68","v":0},"#'T2-B(PP1)'!$I$68"]
["pp1_bl4_2_5_unit",{"$f":"'T2-B(PP1)'!$C$68","v":0},"#'T2-B(PP1)'!$C$68"]
["pp1_bl4_2_5_unit_in",{"$f":"'T2-B(PP1)'!$D$68","v":0},"#'T2-B(PP1)'!$D$68"]
["pp1_bl4_2_5_units_out",{"$f":"'T2-B(PP1)'!$G$68","v":0},"#'T2-B(PP1)'!$G$68"]
["pp1_bl4_2_6_name",{"$f":"'T2-B(PP1)'!$B$69","v":0},"#'T2-B(PP1)'!$B$69"]
["pp1_bl4_2_6_rate_in",{"$f":"'T2-B(PP1)'!$E$69","v":0},"#'T2-B(PP1)'!$E$69"]
["pp1_bl4_2_6_rate_out",{"$f":"'T2-B(PP1)'!$H$69","v":0},"#'T2-B(PP1)'!$H$69"]
["pp1_bl4_2_6_total",{"$f":"'T2-B(PP1)'!$J$69","v":0},"#'T2-B(PP1)'!$J$69"]
["pp1_bl4_2_6_total_in",{"$f":"'T2-B(PP1)'!$F$69","v":0},"#'T2-B(PP1)'!$F$69"]
["pp1_bl4_2_6_total_out",{"$f":"'T2-B(PP1)'!$I$69","v":0},"#'T2-B(PP1)'!$I$69"]
["pp1_bl4_2_6_unit",{"$f":"'T2-B(PP1)'!$C$69","v":0},"#'T2-B(PP1)'!$C$69"]
["pp1_bl4_2_6_unit_in",{"$f":"'T2-B(PP1)'!$D$69","v":0},"#'T2-B(PP1)'!$D$69"]
["pp1_bl4_2_6_units_out",{"$f":"'T2-B(PP1)'!$G$69","v":0},"#'T2-B(PP1)'!$G$69"]
["pp1_bl4_2_7_name",{"$f":"'T2-B(PP1)'!$B$70","v":0},"#'T2-B(PP1)'!$B$70"]
["pp1_bl4_2_7_rate_in",{"$f":"'T2-B(PP1)'!$E$70","v":0},"#'T2-B(PP1)'!$E$70"]
["pp1_bl4_2_7_rate_out",{"$f":"'T2-B(PP1)'!$H$70","v":0},"#'T2-B(PP1)'!$H$70"]
["pp1_bl4_2_7_total",{"$f":"'T2-B(PP1)'!$J$70","v":0},"#'T2-B(PP1)'!$J$70"]
["pp1_bl4_2_7_total_in",{"$f":"'T2-B(PP1)'!$F$70","v":0},"#'T2-B(PP1)'!$F$70"]
["pp1_bl4_2_7_total_out",{"$f":"'T2-B(PP1)'!$I$70","v":0},"#'T2-B(PP1)'!$I$70"]
["pp1_bl4_2_7_unit",{"$f":"'T2-B(PP1)'!$C$70","v":0},"#'T2-B(PP1)'!$C$70"]
["pp1_bl4_2_7_unit_in",{"$f":"'T2-B(PP1)'!$D$70","v":0},"#'T2-B(PP1)'!$D$70"]
["pp1_bl4_2_7_units_out",{"$f":"'T2-B(PP1)'!$G$70","v":0},"#'T2-B(PP1)'!$G$70"]
["pp1_bl4_2_8_name",{"$f":"'T2-B(PP1)'!$B$71","v":0},"#'T2-B(PP1)'!$B$71"]
["pp1_bl4_2_8_rate_in",{"$f":"'T2-B(PP1)'!$E$71","v":0},"#'T2-B(PP1)'!$E$71"]
["pp1_bl4_2_8_rate_out",{"$f":"'T2-B(PP1)'!$H$71","v":0},"#'T2-B(PP1)'!$H$71"]
["pp1_bl4_2_8_total",{"$f":"'T2-B(PP1)'!$J$71","v":0},"#'T2-B(PP1)'!$J$71"]
["pp1_bl4_2_8_total_in",{"$f":"'T2-B(PP1)'!$F$71","v":0},"#'T2-B(PP1)'!$F$71"]
["pp1_bl4_2_8_total_out",{"$f":"'T2-B(PP1)'!$I$71","v":0},"#'T2-B(PP1)'!$I$71"]
["pp1_bl4_2_8_unit",{"$f":"'T2-B(PP1)'!$C$71","v":0},"#'T2-B(PP1)'!$C$71"]
["pp1_bl4_2_8_unit_in",{"$f":"'T2-B(PP1)'!$D$71","v":0},"#'T2-B(PP1)'!$D$71"]
["pp1_bl4_2_8_units_out",{"$f":"'T2-B(PP1)'!$G$71","v":0},"#'T2-B(PP1)'!$G$71"]
["pp1_bl4_2_9_name",{"$f":"'T2-B(PP1)'!$B$72","v":0},"#'T2-B(PP1)'!$B$72"]
["pp1_bl4_2_9_rate_in",{"$f":"'T2-B(PP1)'!$E$72","v":0},"#'T2-B(PP1)'!$E$72"]
["pp1_bl4_2_9_rate_out",{"$f":"'T2-B(PP1)'!$H$72","v":0},"#'T2-B(PP1)'!$H$72"]
["pp1_bl4_2_9_total",{"$f":"'T2-B(PP1)'!$J$72","v":0},"#'T2-B(PP1)'!$J$72"]
["pp1_bl4_2_9_total_in",{"$f":"'T2-B(PP1)'!$F$72","v":0},"#'T2-B(PP1)'!$F$72"]
["pp1_bl4_2_9_total_out",{"$f":"'T2-B(PP1)'!$I$72","v":0},"#'T2-B(PP1)'!$I$72"]
["pp1_bl4_2_9_unit",{"$f":"'T2-B(PP1)'!$C$72","v":0},"#'T2-B(PP1)'!$C$72"]
["pp1_bl4_2_9_unit_in",{"$f":"'T2-B(PP1)'!$D$72","v":0},"#'T2-B(PP1)'!$D$72"]
["pp1_bl4_2_9_units_out",{"$f":"'T2-B(PP1)'!$G$72","v":0},"#'T2-B(PP1)'!$G$72"]
["pp1_bl4_2_total",{"$f":"'T2-B(PP1)'!$J$63","v":0},"#'T2-B(PP1)'!$J$63"]
["pp1_bl4_2_total_in",{"$f":"'T2-B(PP1)'!$F$63","v":0},"#'T2-B(PP1)'!$F$63"]
["pp1_bl4_2_total_out",{"$f":"'T2-B(PP1)'!$I$63","v":0},"#'T2-B(PP1)'!$I$63"]
["pp1_bl4_3_1_name",{"$f":"'T2-B(PP1)'!$B$75","v":0},"#'T2-B(PP1)'!$B$75"]
["pp1_bl4_3_1_rate_in",{"$f":"'T2-B(PP1)'!$E$75","v":0},"#'T2-B(PP1)'!$E$75"]
["pp1_bl4_3_1_rate_out",{"$f":"'T2-B(PP1)'!$H$75","v":0},"#'T2-B(PP1)'!$H$75"]
["pp1_bl4_3_1_total",{"$f":"'T2-B(PP1)'!$J$75","v":0},"#'T2-B(PP1)'!$J$75"]
["pp1_bl4_3_1_total_in",{"$f":"'T2-B(PP1)'!$F$75","v":0},"#'T2-B(PP1)'!$F$75"]
["pp1_bl4_3_1_total_out",{"$f":"'T2-B(PP1)'!$I$75","v":0},"#'T2-B(PP1)'!$I$75"]
["pp1_bl4_3_1_unit",{"$f":"'T2-B(PP1)'!$C$75","v":0},"#'T2-B(PP1)'!$C$75"]
["pp1_bl4_3_1_unit_in",{"$f":"'T2-B(PP1)'!$D$75","v":0},"#'T2-B(PP1)'!$D$75"]
["pp1_bl4_3_1_units_out",{"$f":"'T2-B(PP1)'!$G$75","v":0},"#'T2-B(PP1)'!$G$75"]
["pp1_bl4_3_10_name",{"$f":"'T2-B(PP1)'!$B$84","v":0},"#'T2-B(PP1)'!$B$84"]
["pp1_bl4_3_10_rate_in",{"$f":"'T2-B(PP1)'!$E$84","v":0},"#'T2-B(PP1)'!$E$84"]
["pp1_bl4_3_10_rate_out",{"$f":"'T2-B(PP1)'!$H$84","v":0},"#'T2-B(PP1)'!$H$84"]
["pp1_bl4_3_10_total",{"$f":"'T2-B(PP1)'!$J$84","v":0},"#'T2-B(PP1)'!$J$84"]
["pp1_bl4_3_10_total_in",{"$f":"'T2-B(PP1)'!$F$84","v":0},"#'T2-B(PP1)'!$F$84"]
["pp1_bl4_3_10_total_out",{"$f":"'T2-B(PP1)'!$I$84","v":0},"#'T2-B(PP1)'!$I$84"]
["pp1_bl4_3_10_unit",{"$f":"'T2-B(PP1)'!$C$84","v":0},"#'T2-B(PP1)'!$C$84"]
["pp1_bl4_3_10_unit_in",{"$f":"'T2-B(PP1)'!$D$84","v":0},"#'T2-B(PP1)'!$D$84"]
["pp1_bl4_3_10_units_out",{"$f":"'T2-B(PP1)'!$G$84","v":0},"#'T2-B(PP1)'!$G$84"]
["pp1_bl4_3_2_name",{"$f":"'T2-B(PP1)'!$B$76","v":0},"#'T2-B(PP1)'!$B$76"]
["pp1_bl4_3_2_rate_in",{"$f":"'T2-B(PP1)'!$E$76","v":0},"#'T2-B(PP1)'!$E$76"]
["pp1_bl4_3_2_rate_out",{"$f":"'T2-B(PP1)'!$H$76","v":0},"#'T2-B(PP1)'!$H$76"]
["pp1_bl4_3_2_total",{"$f":"'T2-B(PP1)'!$J$76","v":0},"#'T2-B(PP1)'!$J$76"]
["pp1_bl4_3_2_total_in",{"$f":"'T2-B(PP1)'!$F$76","v":0},"#'T2-B(PP1)'!$F$76"]
["pp1_bl4_3_2_total_out",{"$f":"'T2-B(PP1)'!$I$76","v":0},"#'T2-B(PP1)'!$I$76"]
["pp1_bl4_3_2_unit",{"$f":"'T2-B(PP1)'!$C$76","v":0},"#'T2-B(PP1)'!$C$76"]
["pp1_bl4_3_2_unit_in",{"$f":"'T2-B(PP1)'!$D$76","v":0},"#'T2-B(PP1)'!$D$76"]
["pp1_bl4_3_2_units_out",{"$f":"'T2-B(PP1)'!$G$76","v":0},"#'T2-B(PP1)'!$G$76"]
["pp1_bl4_3_3_name",{"$f":"'T2-B(PP1)'!$B$77","v":0},"#'T2-B(PP1)'!$B$77"]
["pp1_bl4_3_3_rate_in",{"$f":"'T2-B(PP1)'!$E$77","v":0},"#'T2-B(PP1)'!$E$77"]
["pp1_bl4_3_3_rate_out",{"$f":"'T2-B(PP1)'!$H$77","v":0},"#'T2-B(PP1)'!$H$77"]
["pp1_bl4_3_3_total",{"$f":"'T2-B(PP1)'!$J$77","v":0},"#'T2-B(PP1)'!$J$77"]
["pp1_bl4_3_3_total_in",{"$f":"'T2-B(PP1)'!$F$77","v":0},"#'T2-B(PP1)'!$F$77"]
["pp1_bl4_3_3_total_out",{"$f":"'T2-B(PP1)'!$I$77","v":0},"#'T2-B(PP1)'!$I$77"]
["pp1_bl4_3_3_unit",{"$f":"'T2-B(PP1)'!$C$77","v":0},"#'T2-B(PP1)'!$C$77"]
["pp1_bl4_3_3_unit_in",{"$f":"'T2-B(PP1)'!$D$77","v":0},"#'T2-B(PP1)'!$D$77"]
["pp1_bl4_3_3_units_out",{"$f":"'T2-B(PP1)'!$G$77","v":0},"#'T2-B(PP1)'!$G$77"]
["pp1_bl4_3_4_name",{"$f":"'T2-B(PP1)'!$B$78","v":0},"#'T2-B(PP1)'!$B$78"]
["pp1_bl4_3_4_rate_in",{"$f":"'T2-B(PP1)'!$E$78","v":0},"#'T2-B(PP1)'!$E$78"]
["pp1_bl4_3_4_rate_out",{"$f":"'T2-B(PP1)'!$H$78","v":0},"#'T2-B(PP1)'!$H$78"]
["pp1_bl4_3_4_total",{"$f":"'T2-B(PP1)'!$J$78","v":0},"#'T2-B(PP1)'!$J$78"]
["pp1_bl4_3_4_total_in",{"$f":"'T2-B(PP1)'!$F$78","v":0},"#'T2-B(PP1)'!$F$78"]
["pp1_bl4_3_4_total_out",{"$f":"'T2-B(PP1)'!$I$78","v":0},"#'T2-B(PP1)'!$I$78"]
["pp1_bl4_3_4_unit",{"$f":"'T2-B(PP1)'!$C$78","v":0},"#'T2-B(PP1)'!$C$78"]
["pp1_bl4_3_4_unit_in",{"$f":"'T2-B(PP1)'!$D$78","v":0},"#'T2-B(PP1)'!$D$78"]
["pp1_bl4_3_4_units_out",{"$f":"'T2-B(PP1)'!$G$78","v":0},"#'T2-B(PP1)'!$G$78"]
["pp1_bl4_3_5_name",{"$f":"'T2-B(PP1)'!$B$79","v":0},"#'T2-B(PP1)'!$B$79"]
["pp1_bl4_3_5_rate_in",{"$f":"'T2-B(PP1)'!$E$79","v":0},"#'T2-B(PP1)'!$E$79"]
["pp1_bl4_3_5_rate_out",{"$f":"'T2-B(PP1)'!$H$79","v":0},"#'T2-B(PP1)'!$H$79"]
["pp1_bl4_3_5_total",{"$f":"'T2-B(PP1)'!$J$79","v":0},"#'T2-B(PP1)'!$J$79"]
["pp1_bl4_3_5_total_in",{"$f":"'T2-B(PP1)'!$F$79","v":0},"#'T2-B(PP1)'!$F$79"]
["pp1_bl4_3_5_total_out",{"$f":"'T2-B(PP1)'!$I$79","v":0},"#'T2-B(PP1)'!$I$79"]
["pp1_bl4_3_5_unit",{"$f":"'T2-B(PP1)'!$C$79","v":0},"#'T2-B(PP1)'!$C$79"]
["pp1_bl4_3_5_unit_in",{"$f":"'T2-B(PP1)'!$D$79","v":0},"#'T2-B(PP1)'!$D$79"]
["pp1_bl4_3_5_units_out",{"$f":"'T2-B(PP1)'!$G$79","v":0},"#'T2-B(PP1)'!$G$79"]
["pp1_bl4_3_6_name",{"$f":"'T2-B(PP1)'!$B$80","v":0},"#'T2-B(PP1)'!$B$80"]
["pp1_bl4_3_6_rate_in",{"$f":"'T2-B(PP1)'!$E$80","v":0},"#'T2-B(PP1)'!$E$80"]
["pp1_bl4_3_6_rate_out",{"$f":"'T2-B(PP1)'!$H$80","v":0},"#'T2-B(PP1)'!$H$80"]
["pp1_bl4_3_6_total",{"$f":"'T2-B(PP1)'!$J$80","v":0},"#'T2-B(PP1)'!$J$80"]
["pp1_bl4_3_6_total_in",{"$f":"'T2-B(PP1)'!$F$80","v":0},"#'T2-B(PP1)'!$F$80"]
["pp1_bl4_3_6_total_out",{"$f":"'T2-B(PP1)'!$I$80","v":0},"#'T2-B(PP1)'!$I$80"]
["pp1_bl4_3_6_unit",{"$f":"'T2-B(PP1)'!$C$80","v":0},"#'T2-B(PP1)'!$C$80"]
["pp1_bl4_3_6_unit_in",{"$f":"'T2-B(PP1)'!$D$80","v":0},"#'T2-B(PP1)'!$D$80"]
["pp1_bl4_3_6_units_out",{"$f":"'T2-B(PP1)'!$G$80","v":0},"#'T2-B(PP1)'!$G$80"]
["pp1_bl4_3_7_name",{"$f":"'T2-B(PP1)'!$B$81","v":0},"#'T2-B(PP1)'!$B$81"]
["pp1_bl4_3_7_rate_in",{"$f":"'T2-B(PP1)'!$E$81","v":0},"#'T2-B(PP1)'!$E$81"]
["pp1_bl4_3_7_rate_out",{"$f":"'T2-B(PP1)'!$H$81","v":0},"#'T2-B(PP1)'!$H$81"]
["pp1_bl4_3_7_total",{"$f":"'T2-B(PP1)'!$J$81","v":0},"#'T2-B(PP1)'!$J$81"]
["pp1_bl4_3_7_total_in",{"$f":"'T2-B(PP1)'!$F$81","v":0},"#'T2-B(PP1)'!$F$81"]
["pp1_bl4_3_7_total_out",{"$f":"'T2-B(PP1)'!$I$81","v":0},"#'T2-B(PP1)'!$I$81"]
["pp1_bl4_3_7_unit",{"$f":"'T2-B(PP1)'!$C$81","v":0},"#'T2-B(PP1)'!$C$81"]
["pp1_bl4_3_7_unit_in",{"$f":"'T2-B(PP1)'!$D$81","v":0},"#'T2-B(PP1)'!$D$81"]
["pp1_bl4_3_7_units_out",{"$f":"'T2-B(PP1)'!$G$81","v":0},"#'T2-B(PP1)'!$G$81"]
["pp1_bl4_3_8_name",{"$f":"'T2-B(PP1)'!$B$82","v":0},"#'T2-B(PP1)'!$B$82"]
["pp1_bl4_3_8_rate_in",{"$f":"'T2-B(PP1)'!$E$82","v":0},"#'T2-B(PP1)'!$E$82"]
["pp1_bl4_3_8_rate_out",{"$f":"'T2-B(PP1)'!$H$82","v":0},"#'T2-B(PP1)'!$H$82"]
["pp1_bl4_3_8_total",{"$f":"'T2-B(PP1)'!$J$82","v":0},"#'T2-B(PP1)'!$J$82"]
["pp1_bl4_3_8_total_in",{"$f":"'T2-B(PP1)'!$F$82","v":0},"#'T2-B(PP1)'!$F$82"]
["pp1_bl4_3_8_total_out",{"$f":"'T2-B(PP1)'!$I$82","v":0},"#'T2-B(PP1)'!$I$82"]
["pp1_bl4_3_8_unit",{"$f":"'T2-B(PP1)'!$C$82","v":0},"#'T2-B(PP1)'!$C$82"]
["pp1_bl4_3_8_unit_in",{"$f":"'T2-B(PP1)'!$D$82","v":0},"#'T2-B(PP1)'!$D$82"]
["pp1_bl4_3_8_units_out",{"$f":"'T2-B(PP1)'!$G$82","v":0},"#'T2-B(PP1)'!$G$82"]
["pp1_bl4_3_9_name",{"$f":"'T2-B(PP1)'!$B$83","v":0},"#'T2-B(PP1)'!$B$83"]
["pp1_bl4_3_9_rate_in",{"$f":"'T2-B(PP1)'!$E$83","v":0},"#'T2-B(PP1)'!$E$83"]
["pp1_bl4_3_9_rate_out",{"$f":"'T2-B(PP1)'!$H$83","v":0},"#'T2-B(PP1)'!$H$83"]
["pp1_bl4_3_9_total",{"$f":"'T2-B(PP1)'!$J$83","v":0},"#'T2-B(PP1)'!$J$83"]
["pp1_bl4_3_9_total_in",{"$f":"'T2-B(PP1)'!$F$83","v":0},"#'T2-B(PP1)'!$F$83"]
["pp1_bl4_3_9_total_out",{"$f":"'T2-B(PP1)'!$I$83","v":0},"#'T2-B(PP1)'!$I$83"]
["pp1_bl4_3_9_unit",{"$f":"'T2-B(PP1)'!$C$83","v":0},"#'T2-B(PP1)'!$C$83"]
["pp1_bl4_3_9_unit_in",{"$f":"'T2-B(PP1)'!$D$83","v":0},"#'T2-B(PP1)'!$D$83"]
["pp1_bl4_3_9_units_out",{"$f":"'T2-B(PP1)'!$G$83","v":0},"#'T2-B(PP1)'!$G$83"]
["pp1_bl4_3_total",{"$f":"'T2-B(PP1)'!$J$74","v":0},"#'T2-B(PP1)'!$J$74"]
["pp1_bl4_3_total_in",{"$f":"'T2-B(PP1)'!$F$74","v":0},"#'T2-B(PP1)'!$F$74"]
["pp1_bl4_3_total_out",{"$f":"'T2-B(PP1)'!$I$74","v":0},"#'T2-B(PP1)'!$I$74"]
["pp1_bl4_4_1_name",{"$f":"'T2-B(PP1)'!$B$86","v":0},"#'T2-B(PP1)'!$B$86"]
["pp1_bl4_4_1_rate_in",{"$f":"'T2-B(PP1)'!$E$86","v":0},"#'T2-B(PP1)'!$E$86"]
["pp1_bl4_4_1_rate_out",{"$f":"'T2-B(PP1)'!$H$86","v":0},"#'T2-B(PP1)'!$H$86"]
["pp1_bl4_4_1_total",{"$f":"'T2-B(PP1)'!$J$86","v":0},"#'T2-B(PP1)'!$J$86"]
["pp1_bl4_4_1_total_in",{"$f":"'T2-B(PP1)'!$F$86","v":0},"#'T2-B(PP1)'!$F$86"]
["pp1_bl4_4_1_total_out",{"$f":"'T2-B(PP1)'!$I$86","v":0},"#'T2-B(PP1)'!$I$86"]
["pp1_bl4_4_1_unit",{"$f":"'T2-B(PP1)'!$C$86","v":0},"#'T2-B(PP1)'!$C$86"]
["pp1_bl4_4_1_unit_in",{"$f":"'T2-B(PP1)'!$D$86","v":0},"#'T2-B(PP1)'!$D$86"]
["pp1_bl4_4_1_units_out",{"$f":"'T2-B(PP1)'!$G$86","v":0},"#'T2-B(PP1)'!$G$86"]
["pp1_bl4_4_10_name",{"$f":"'T2-B(PP1)'!$B$95","v":0},"#'T2-B(PP1)'!$B$95"]
["pp1_bl4_4_10_rate_in",{"$f":"'T2-B(PP1)'!$E$95","v":0},"#'T2-B(PP1)'!$E$95"]
["pp1_bl4_4_10_rate_out",{"$f":"'T2-B(PP1)'!$H$95","v":0},"#'T2-B(PP1)'!$H$95"]
["pp1_bl4_4_10_total",{"$f":"'T2-B(PP1)'!$J$95","v":0},"#'T2-B(PP1)'!$J$95"]
["pp1_bl4_4_10_total_in",{"$f":"'T2-B(PP1)'!$F$95","v":0},"#'T2-B(PP1)'!$F$95"]
["pp1_bl4_4_10_total_out",{"$f":"'T2-B(PP1)'!$I$95","v":0},"#'T2-B(PP1)'!$I$95"]
["pp1_bl4_4_10_unit",{"$f":"'T2-B(PP1)'!$C$95","v":0},"#'T2-B(PP1)'!$C$95"]
["pp1_bl4_4_10_unit_in",{"$f":"'T2-B(PP1)'!$D$95","v":0},"#'T2-B(PP1)'!$D$95"]
["pp1_bl4_4_10_units_out",{"$f":"'T2-B(PP1)'!$G$95","v":0},"#'T2-B(PP1)'!$G$95"]
["pp1_bl4_4_2_name",{"$f":"'T2-B(PP1)'!$B$87","v":0},"#'T2-B(PP1)'!$B$87"]
["pp1_bl4_4_2_rate_in",{"$f":"'T2-B(PP1)'!$E$87","v":0},"#'T2-B(PP1)'!$E$87"]
["pp1_bl4_4_2_rate_out",{"$f":"'T2-B(PP1)'!$H$87","v":0},"#'T2-B(PP1)'!$H$87"]
["pp1_bl4_4_2_total",{"$f":"'T2-B(PP1)'!$J$87","v":0},"#'T2-B(PP1)'!$J$87"]
["pp1_bl4_4_2_total_in",{"$f":"'T2-B(PP1)'!$F$87","v":0},"#'T2-B(PP1)'!$F$87"]
["pp1_bl4_4_2_total_out",{"$f":"'T2-B(PP1)'!$I$87","v":0},"#'T2-B(PP1)'!$I$87"]
["pp1_bl4_4_2_unit",{"$f":"'T2-B(PP1)'!$C$87","v":0},"#'T2-B(PP1)'!$C$87"]
["pp1_bl4_4_2_unit_in",{"$f":"'T2-B(PP1)'!$D$87","v":0},"#'T2-B(PP1)'!$D$87"]
["pp1_bl4_4_2_units_out",{"$f":"'T2-B(PP1)'!$G$87","v":0},"#'T2-B(PP1)'!$G$87"]
["pp1_bl4_4_3_name",{"$f":"'T2-B(PP1)'!$B$88","v":0},"#'T2-B(PP1)'!$B$88"]
["pp1_bl4_4_3_rate_in",{"$f":"'T2-B(PP1)'!$E$88","v":0},"#'T2-B(PP1)'!$E$88"]
["pp1_bl4_4_3_rate_out",{"$f":"'T2-B(PP1)'!$H$88","v":0},"#'T2-B(PP1)'!$H$88"]
["pp1_bl4_4_3_total",{"$f":"'T2-B(PP1)'!$J$88","v":0},"#'T2-B(PP1)'!$J$88"]
["pp1_bl4_4_3_total_in",{"$f":"'T2-B(PP1)'!$F$88","v":0},"#'T2-B(PP1)'!$F$88"]
["pp1_bl4_4_3_total_out",{"$f":"'T2-B(PP1)'!$I$88","v":0},"#'T2-B(PP1)'!$I$88"]
["pp1_bl4_4_3_unit",{"$f":"'T2-B(PP1)'!$C$88","v":0},"#'T2-B(PP1)'!$C$88"]
["pp1_bl4_4_3_unit_in",{"$f":"'T2-B(PP1)'!$D$88","v":0},"#'T2-B(PP1)'!$D$88"]
["pp1_bl4_4_3_units_out",{"$f":"'T2-B(PP1)'!$G$88","v":0},"#'T2-B(PP1)'!$G$88"]
["pp1_bl4_4_4_name",{"$f":"'T2-B(PP1)'!$B$89","v":0},"#'T2-B(PP1)'!$B$89"]
["pp1_bl4_4_4_rate_in",{"$f":"'T2-B(PP1)'!$E$89","v":0},"#'T2-B(PP1)'!$E$89"]
["pp1_bl4_4_4_rate_out",{"$f":"'T2-B(PP1)'!$H$89","v":0},"#'T2-B(PP1)'!$H$89"]
["pp1_bl4_4_4_total",{"$f":"'T2-B(PP1)'!$J$89","v":0},"#'T2-B(PP1)'!$J$89"]
["pp1_bl4_4_4_total_in",{"$f":"'T2-B(PP1)'!$F$89","v":0},"#'T2-B(PP1)'!$F$89"]
["pp1_bl4_4_4_total_out",{"$f":"'T2-B(PP1)'!$I$89","v":0},"#'T2-B(PP1)'!$I$89"]
["pp1_bl4_4_4_unit",{"$f":"'T2-B(PP1)'!$C$89","v":0},"#'T2-B(PP1)'!$C$89"]
["pp1_bl4_4_4_unit_in",{"$f":"'T2-B(PP1)'!$D$89","v":0},"#'T2-B(PP1)'!$D$89"]
["pp1_bl4_4_4_units_out",{"$f":"'T2-B(PP1)'!$G$89","v":0},"#'T2-B(PP1)'!$G$89"]
["pp1_bl4_4_5_name",{"$f":"'T2-B(PP1)'!$B$90","v":0},"#'T2-B(PP1)'!$B$90"]
["pp1_bl4_4_5_rate_in",{"$f":"'T2-B(PP1)'!$E$90","v":0},"#'T2-B(PP1)'!$E$90"]
["pp1_bl4_4_5_rate_out",{"$f":"'T2-B(PP1)'!$H$90","v":0},"#'T2-B(PP1)'!$H$90"]
["pp1_bl4_4_5_total",{"$f":"'T2-B(PP1)'!$J$90","v":0},"#'T2-B(PP1)'!$J$90"]
["pp1_bl4_4_5_total_in",{"$f":"'T2-B(PP1)'!$F$90","v":0},"#'T2-B(PP1)'!$F$90"]
["pp1_bl4_4_5_total_out",{"$f":"'T2-B(PP1)'!$I$90","v":0},"#'T2-B(PP1)'!$I$90"]
["pp1_bl4_4_5_unit",{"$f":"'T2-B(PP1)'!$C$90","v":0},"#'T2-B(PP1)'!$C$90"]
["pp1_bl4_4_5_unit_in",{"$f":"'T2-B(PP1)'!$D$90","v":0},"#'T2-B(PP1)'!$D$90"]
["pp1_bl4_4_5_units_out",{"$f":"'T2-B(PP1)'!$G$90","v":0},"#'T2-B(PP1)'!$G$90"]
["pp1_bl4_4_6_name",{"$f":"'T2-B(PP1)'!$B$91","v":0},"#'T2-B(PP1)'!$B$91"]
["pp1_bl4_4_6_rate_in",{"$f":"'T2-B(PP1)'!$E$91","v":0},"#'T2-B(PP1)'!$E$91"]
["pp1_bl4_4_6_rate_out",{"$f":"'T2-B(PP1)'!$H$91","v":0},"#'T2-B(PP1)'!$H$91"]
["pp1_bl4_4_6_total",{"$f":"'T2-B(PP1)'!$J$91","v":0},"#'T2-B(PP1)'!$J$91"]
["pp1_bl4_4_6_total_in",{"$f":"'T2-B(PP1)'!$F$91","v":0},"#'T2-B(PP1)'!$F$91"]
["pp1_bl4_4_6_total_out",{"$f":"'T2-B(PP1)'!$I$91","v":0},"#'T2-B(PP1)'!$I$91"]
["pp1_bl4_4_6_unit",{"$f":"'T2-B(PP1)'!$C$91","v":0},"#'T2-B(PP1)'!$C$91"]
["pp1_bl4_4_6_unit_in",{"$f":"'T2-B(PP1)'!$D$91","v":0},"#'T2-B(PP1)'!$D$91"]
["pp1_bl4_4_6_units_out",{"$f":"'T2-B(PP1)'!$G$91","v":0},"#'T2-B(PP1)'!$G$91"]
["pp1_bl4_4_7_name",{"$f":"'T2-B(PP1)'!$B$92","v":0},"#'T2-B(PP1)'!$B$92"]
["pp1_bl4_4_7_rate_in",{"$f":"'T2-B(PP1)'!$E$92","v":0},"#'T2-B(PP1)'!$E$92"]
["pp1_bl4_4_7_rate_out",{"$f":"'T2-B(PP1)'!$H$92","v":0},"#'T2-B(PP1)'!$H$92"]
["pp1_bl4_4_7_total",{"$f":"'T2-B(PP1)'!$J$92","v":0},"#'T2-B(PP1)'!$J$92"]
["pp1_bl4_4_7_total_in",{"$f":"'T2-B(PP1)'!$F$92","v":0},"#'T2-B(PP1)'!$F$92"]
["pp1_bl4_4_7_total_out",{"$f":"'T2-B(PP1)'!$I$92","v":0},"#'T2-B(PP1)'!$I$92"]
["pp1_bl4_4_7_unit",{"$f":"'T2-B(PP1)'!$C$92","v":0},"#'T2-B(PP1)'!$C$92"]
["pp1_bl4_4_7_unit_in",{"$f":"'T2-B(PP1)'!$D$92","v":0},"#'T2-B(PP1)'!$D$92"]
["pp1_bl4_4_7_units_out",{"$f":"'T2-B(PP1)'!$G$92","v":0},"#'T2-B(PP1)'!$G$92"]
["pp1_bl4_4_8_name",{"$f":"'T2-B(PP1)'!$B$93","v":0},"#'T2-B(PP1)'!$B$93"]
["pp1_bl4_4_8_rate_in",{"$f":"'T2-B(PP1)'!$E$93","v":0},"#'T2-B(PP1)'!$E$93"]
["pp1_bl4_4_8_rate_out",{"$f":"'T2-B(PP1)'!$H$93","v":0},"#'T2-B(PP1)'!$H$93"]
["pp1_bl4_4_8_total",{"$f":"'T2-B(PP1)'!$J$93","v":0},"#'T2-B(PP1)'!$J$93"]
["pp1_bl4_4_8_total_in",{"$f":"'T2-B(PP1)'!$F$93","v":0},"#'T2-B(PP1)'!$F$93"]
["pp1_bl4_4_8_total_out",{"$f":"'T2-B(PP1)'!$I$93","v":0},"#'T2-B(PP1)'!$I$93"]
["pp1_bl4_4_8_unit",{"$f":"'T2-B(PP1)'!$C$93","v":0},"#'T2-B(PP1)'!$C$93"]
["pp1_bl4_4_8_unit_in",{"$f":"'T2-B(PP1)'!$D$93","v":0},"#'T2-B(PP1)'!$D$93"]
["pp1_bl4_4_8_units_out",{"$f":"'T2-B(PP1)'!$G$93","v":0},"#'T2-B(PP1)'!$G$93"]
["pp1_bl4_4_9_name",{"$f":"'T2-B(PP1)'!$B$94","v":0},"#'T2-B(PP1)'!$B$94"]
["pp1_bl4_4_9_rate_in",{"$f":"'T2-B(PP1)'!$E$94","v":0},"#'T2-B(PP1)'!$E$94"]
["pp1_bl4_4_9_rate_out",{"$f":"'T2-B(PP1)'!$H$94","v":0},"#'T2-B(PP1)'!$H$94"]
["pp1_bl4_4_9_total",{"$f":"'T2-B(PP1)'!$J$94","v":0},"#'T2-B(PP1)'!$J$94"]
["pp1_bl4_4_9_total_in",{"$f":"'T2-B(PP1)'!$F$94","v":0},"#'T2-B(PP1)'!$F$94"]
["pp1_bl4_4_9_total_out",{"$f":"'T2-B(PP1)'!$I$94","v":0},"#'T2-B(PP1)'!$I$94"]
["pp1_bl4_4_9_unit",{"$f":"'T2-B(PP1)'!$C$94","v":0},"#'T2-B(PP1)'!$C$94"]
["pp1_bl4_4_9_unit_in",{"$f":"'T2-B(PP1)'!$D$94","v":0},"#'T2-B(PP1)'!$D$94"]
["pp1_bl4_4_9_units_out",{"$f":"'T2-B(PP1)'!$G$94","v":0},"#'T2-B(PP1)'!$G$94"]
["pp1_bl4_4_total",{"$f":"'T2-B(PP1)'!$J$85","v":0},"#'T2-B(PP1)'!$J$85"]
["pp1_bl4_4_total_in",{"$f":"'T2-B(PP1)'!$F$85","v":0},"#'T2-B(PP1)'!$F$85"]
["pp1_bl4_4_total_out",{"$f":"'T2-B(PP1)'!$I$85","v":0},"#'T2-B(PP1)'!$I$85"]
["pp1_bl4_5_1_name",{"$f":"'T2-B(PP1)'!$B$97","v":0},"#'T2-B(PP1)'!$B$97"]
["pp1_bl4_5_1_rate_in",{"$f":"'T2-B(PP1)'!$E$97","v":0},"#'T2-B(PP1)'!$E$97"]
["pp1_bl4_5_1_rate_out",{"$f":"'T2-B(PP1)'!$H$97","v":0},"#'T2-B(PP1)'!$H$97"]
["pp1_bl4_5_1_total",{"$f":"'T2-B(PP1)'!$J$97","v":0},"#'T2-B(PP1)'!$J$97"]
["pp1_bl4_5_1_total_in",{"$f":"'T2-B(PP1)'!$F$97","v":0},"#'T2-B(PP1)'!$F$97"]
["pp1_bl4_5_1_total_out",{"$f":"'T2-B(PP1)'!$I$97","v":0},"#'T2-B(PP1)'!$I$97"]
["pp1_bl4_5_1_unit",{"$f":"'T2-B(PP1)'!$C$97","v":0},"#'T2-B(PP1)'!$C$97"]
["pp1_bl4_5_1_unit_in",{"$f":"'T2-B(PP1)'!$D$97","v":0},"#'T2-B(PP1)'!$D$97"]
["pp1_bl4_5_1_units_out",{"$f":"'T2-B(PP1)'!$G$97","v":0},"#'T2-B(PP1)'!$G$97"]
["pp1_bl4_5_10_name",{"$f":"'T2-B(PP1)'!$B$106","v":0},"#'T2-B(PP1)'!$B$106"]
["pp1_bl4_5_10_rate_in",{"$f":"'T2-B(PP1)'!$E$106","v":0},"#'T2-B(PP1)'!$E$106"]
["pp1_bl4_5_10_rate_out",{"$f":"'T2-B(PP1)'!$H$106","v":0},"#'T2-B(PP1)'!$H$106"]
["pp1_bl4_5_10_total",{"$f":"'T2-B(PP1)'!$J$106","v":0},"#'T2-B(PP1)'!$J$106"]
["pp1_bl4_5_10_total_in",{"$f":"'T2-B(PP1)'!$F$106","v":0},"#'T2-B(PP1)'!$F$106"]
["pp1_bl4_5_10_total_out",{"$f":"'T2-B(PP1)'!$I$106","v":0},"#'T2-B(PP1)'!$I$106"]
["pp1_bl4_5_10_unit",{"$f":"'T2-B(PP1)'!$C$106","v":0},"#'T2-B(PP1)'!$C$106"]
["pp1_bl4_5_10_unit_in",{"$f":"'T2-B(PP1)'!$D$106","v":0},"#'T2-B(PP1)'!$D$106"]
["pp1_bl4_5_10_units_out",{"$f":"'T2-B(PP1)'!$G$106","v":0},"#'T2-B(PP1)'!$G$106"]
["pp1_bl4_5_2_name",{"$f":"'T2-B(PP1)'!$B$98","v":0},"#'T2-B(PP1)'!$B$98"]
["pp1_bl4_5_2_rate_in",{"$f":"'T2-B(PP1)'!$E$98","v":0},"#'T2-B(PP1)'!$E$98"]
["pp1_bl4_5_2_rate_out",{"$f":"'T2-B(PP1)'!$H$98","v":0},"#'T2-B(PP1)'!$H$98"]
["pp1_bl4_5_2_total",{"$f":"'T2-B(PP1)'!$J$98","v":0},"#'T2-B(PP1)'!$J$98"]
["pp1_bl4_5_2_total_in",{"$f":"'T2-B(PP1)'!$F$98","v":0},"#'T2-B(PP1)'!$F$98"]
["pp1_bl4_5_2_total_out",{"$f":"'T2-B(PP1)'!$I$98","v":0},"#'T2-B(PP1)'!$I$98"]
["pp1_bl4_5_2_unit",{"$f":"'T2-B(PP1)'!$C$98","v":0},"#'T2-B(PP1)'!$C$98"]
["pp1_bl4_5_2_unit_in",{"$f":"'T2-B(PP1)'!$D$98","v":0},"#'T2-B(PP1)'!$D$98"]
["pp1_bl4_5_2_units_out",{"$f":"'T2-B(PP1)'!$G$98","v":0},"#'T2-B(PP1)'!$G$98"]
["pp1_bl4_5_3_name",{"$f":"'T2-B(PP1)'!$B$99","v":0},"#'T2-B(PP1)'!$B$99"]
["pp1_bl4_5_3_rate_in",{"$f":"'T2-B(PP1)'!$E$99","v":0},"#'T2-B(PP1)'!$E$99"]
["pp1_bl4_5_3_rate_out",{"$f":"'T2-B(PP1)'!$H$99","v":0},"#'T2-B(PP1)'!$H$99"]
["pp1_bl4_5_3_total",{"$f":"'T2-B(PP1)'!$J$99","v":0},"#'T2-B(PP1)'!$J$99"]
["pp1_bl4_5_3_total_in",{"$f":"'T2-B(PP1)'!$F$99","v":0},"#'T2-B(PP1)'!$F$99"]
["pp1_bl4_5_3_total_out",{"$f":"'T2-B(PP1)'!$I$99","v":0},"#'T2-B(PP1)'!$I$99"]
["pp1_bl4_5_3_unit",{"$f":"'T2-B(PP1)'!$C$99","v":0},"#'T2-B(PP1)'!$C$99"]
["pp1_bl4_5_3_unit_in",{"$f":"'T2-B(PP1)'!$D$99","v":0},"#'T2-B(PP1)'!$D$99"]
["pp1_bl4_5_3_units_out",{"$f":"'T2-B(PP1)'!$G$99","v":0},"#'T2-B(PP1)'!$G$99"]
["pp1_bl4_5_4_name",{"$f":"'T2-B(PP1)'!$B$100","v":0},"#'T2-B(PP1)'!$B$100"]
["pp1_bl4_5_4_rate_in",{"$f":"'T2-B(PP1)'!$E$100","v":0},"#'T2-B(PP1)'!$E$100"]
["pp1_bl4_5_4_rate_out",{"$f":"'T2-B(PP1)'!$H$100","v":0},"#'T2-B(PP1)'!$H$100"]
["pp1_bl4_5_4_total",{"$f":"'T2-B(PP1)'!$J$100","v":0},"#'T2-B(PP1)'!$J$100"]
["pp1_bl4_5_4_total_in",{"$f":"'T2-B(PP1)'!$F$100","v":0},"#'T2-B(PP1)'!$F$100"]
["pp1_bl4_5_4_total_out",{"$f":"'T2-B(PP1)'!$I$100","v":0},"#'T2-B(PP1)'!$I$100"]
["pp1_bl4_5_4_unit",{"$f":"'T2-B(PP1)'!$C$100","v":0},"#'T2-B(PP1)'!$C$100"]
["pp1_bl4_5_4_unit_in",{"$f":"'T2-B(PP1)'!$D$100","v":0},"#'T2-B(PP1)'!$D$100"]
["pp1_bl4_5_4_units_out",{"$f":"'T2-B(PP1)'!$G$100","v":0},"#'T2-B(PP1)'!$G$100"]
["pp1_bl4_5_5_name",{"$f":"'T2-B(PP1)'!$B$101","v":0},"#'T2-B(PP1)'!$B$101"]
["pp1_bl4_5_5_rate_in",{"$f":"'T2-B(PP1)'!$E$101","v":0},"#'T2-B(PP1)'!$E$101"]
["pp1_bl4_5_5_rate_out",{"$f":"'T2-B(PP1)'!$H$101","v":0},"#'T2-B(PP1)'!$H$101"]
["pp1_bl4_5_5_total",{"$f":"'T2-B(PP1)'!$J$101","v":0},"#'T2-B(PP1)'!$J$101"]
["pp1_bl4_5_5_total_in",{"$f":"'T2-B(PP1)'!$F$101","v":0},"#'T2-B(PP1)'!$F$101"]
["pp1_bl4_5_5_total_out",{"$f":"'T2-B(PP1)'!$I$101","v":0},"#'T2-B(PP1)'!$I$101"]
["pp1_bl4_5_5_unit",{"$f":"'T2-B(PP1)'!$C$101","v":0},"#'T2-B(PP1)'!$C$101"]
["pp1_bl4_5_5_unit_in",{"$f":"'T2-B(PP1)'!$D$101","v":0},"#'T2-B(PP1)'!$D$101"]
["pp1_bl4_5_5_units_out",{"$f":"'T2-B(PP1)'!$G$101","v":0},"#'T2-B(PP1)'!$G$101"]
["pp1_bl4_5_6_name",{"$f":"'T2-B(PP1)'!$B$102","v":0},"#'T2-B(PP1)'!$B$102"]
["pp1_bl4_5_6_rate_in",{"$f":"'T2-B(PP1)'!$E$102","v":0},"#'T2-B(PP1)'!$E$102"]
["pp1_bl4_5_6_rate_out",{"$f":"'T2-B(PP1)'!$H$102","v":0},"#'T2-B(PP1)'!$H$102"]
["pp1_bl4_5_6_total",{"$f":"'T2-B(PP1)'!$J$102","v":0},"#'T2-B(PP1)'!$J$102"]
["pp1_bl4_5_6_total_in",{"$f":"'T2-B(PP1)'!$F$102","v":0},"#'T2-B(PP1)'!$F$102"]
["pp1_bl4_5_6_total_out",{"$f":"'T2-B(PP1)'!$I$102","v":0},"#'T2-B(PP1)'!$I$102"]
["pp1_bl4_5_6_unit",{"$f":"'T2-B(PP1)'!$C$102","v":0},"#'T2-B(PP1)'!$C$102"]
["pp1_bl4_5_6_unit_in",{"$f":"'T2-B(PP1)'!$D$102","v":0},"#'T2-B(PP1)'!$D$102"]
["pp1_bl4_5_6_units_out",{"$f":"'T2-B(PP1)'!$G$102","v":0},"#'T2-B(PP1)'!$G$102"]
["pp1_bl4_5_7_name",{"$f":"'T2-B(PP1)'!$B$103","v":0},"#'T2-B(PP1)'!$B$103"]
["pp1_bl4_5_7_rate_in",{"$f":"'T2-B(PP1)'!$E$103","v":0},"#'T2-B(PP1)'!$E$103"]
["pp1_bl4_5_7_rate_out",{"$f":"'T2-B(PP1)'!$H$103","v":0},"#'T2-B(PP1)'!$H$103"]
["pp1_bl4_5_7_total",{"$f":"'T2-B(PP1)'!$J$103","v":0},"#'T2-B(PP1)'!$J$103"]
["pp1_bl4_5_7_total_in",{"$f":"'T2-B(PP1)'!$F$103","v":0},"#'T2-B(PP1)'!$F$103"]
["pp1_bl4_5_7_total_out",{"$f":"'T2-B(PP1)'!$I$103","v":0},"#'T2-B(PP1)'!$I$103"]
["pp1_bl4_5_7_unit",{"$f":"'T2-B(PP1)'!$C$103","v":0},"#'T2-B(PP1)'!$C$103"]
["pp1_bl4_5_7_unit_in",{"$f":"'T2-B(PP1)'!$D$103","v":0},"#'T2-B(PP1)'!$D$103"]
["pp1_bl4_5_7_units_out",{"$f":"'T2-B(PP1)'!$G$103","v":0},"#'T2-B(PP1)'!$G$103"]
["pp1_bl4_5_8_name",{"$f":"'T2-B(PP1)'!$B$104","v":0},"#'T2-B(PP1)'!$B$104"]
["pp1_bl4_5_8_rate_in",{"$f":"'T2-B(PP1)'!$E$104","v":0},"#'T2-B(PP1)'!$E$104"]
["pp1_bl4_5_8_rate_out",{"$f":"'T2-B(PP1)'!$H$104","v":0},"#'T2-B(PP1)'!$H$104"]
["pp1_bl4_5_8_total",{"$f":"'T2-B(PP1)'!$J$104","v":0},"#'T2-B(PP1)'!$J$104"]
["pp1_bl4_5_8_total_in",{"$f":"'T2-B(PP1)'!$F$104","v":0},"#'T2-B(PP1)'!$F$104"]
["pp1_bl4_5_8_total_out",{"$f":"'T2-B(PP1)'!$I$104","v":0},"#'T2-B(PP1)'!$I$104"]
["pp1_bl4_5_8_unit",{"$f":"'T2-B(PP1)'!$C$104","v":0},"#'T2-B(PP1)'!$C$104"]
["pp1_bl4_5_8_unit_in",{"$f":"'T2-B(PP1)'!$D$104","v":0},"#'T2-B(PP1)'!$D$104"]
["pp1_bl4_5_8_units_out",{"$f":"'T2-B(PP1)'!$G$104","v":0},"#'T2-B(PP1)'!$G$104"]
["pp1_bl4_5_9_name",{"$f":"'T2-B(PP1)'!$B$105","v":0},"#'T2-B(PP1)'!$B$105"]
["pp1_bl4_5_9_rate_in",{"$f":"'T2-B(PP1)'!$E$105","v":0},"#'T2-B(PP1)'!$E$105"]
["pp1_bl4_5_9_rate_out",{"$f":"'T2-B(PP1)'!$H$105","v":0},"#'T2-B(PP1)'!$H$105"]
["pp1_bl4_5_9_total",{"$f":"'T2-B(PP1)'!$J$105","v":0},"#'T2-B(PP1)'!$J$105"]
["pp1_bl4_5_9_total_in",{"$f":"'T2-B(PP1)'!$F$105","v":0},"#'T2-B(PP1)'!$F$105"]
["pp1_bl4_5_9_total_out",{"$f":"'T2-B(PP1)'!$I$105","v":0},"#'T2-B(PP1)'!$I$105"]
["pp1_bl4_5_9_unit",{"$f":"'T2-B(PP1)'!$C$105","v":0},"#'T2-B(PP1)'!$C$105"]
["pp1_bl4_5_9_unit_in",{"$f":"'T2-B(PP1)'!$D$105","v":0},"#'T2-B(PP1)'!$D$105"]
["pp1_bl4_5_9_units_out",{"$f":"'T2-B(PP1)'!$G$105","v":0},"#'T2-B(PP1)'!$G$105"]
["pp1_bl4_5_total",{"$f":"'T2-B(PP1)'!$J$96","v":0},"#'T2-B(PP1)'!$J$96"]
["pp1_bl4_5_total_in",{"$f":"'T2-B(PP1)'!$F$96","v":0},"#'T2-B(PP1)'!$F$96"]
["pp1_bl4_5_total_out",{"$f":"'T2-B(PP1)'!$I$96","v":0},"#'T2-B(PP1)'!$I$96"]
["pp1_bl4_6_1_name",{"$f":"'T2-B(PP1)'!$B$108","v":0},"#'T2-B(PP1)'!$B$108"]
["pp1_bl4_6_1_rate_in",{"$f":"'T2-B(PP1)'!$E$108","v":0},"#'T2-B(PP1)'!$E$108"]
["pp1_bl4_6_1_rate_out",{"$f":"'T2-B(PP1)'!$H$108","v":0},"#'T2-B(PP1)'!$H$108"]
["pp1_bl4_6_1_total",{"$f":"'T2-B(PP1)'!$J$108","v":0},"#'T2-B(PP1)'!$J$108"]
["pp1_bl4_6_1_total_in",{"$f":"'T2-B(PP1)'!$F$108","v":0},"#'T2-B(PP1)'!$F$108"]
["pp1_bl4_6_1_total_out",{"$f":"'T2-B(PP1)'!$I$108","v":0},"#'T2-B(PP1)'!$I$108"]
["pp1_bl4_6_1_unit",{"$f":"'T2-B(PP1)'!$C$108","v":0},"#'T2-B(PP1)'!$C$108"]
["pp1_bl4_6_1_unit_in",{"$f":"'T2-B(PP1)'!$D$108","v":0},"#'T2-B(PP1)'!$D$108"]
["pp1_bl4_6_1_units_out",{"$f":"'T2-B(PP1)'!$G$108","v":0},"#'T2-B(PP1)'!$G$108"]
["pp1_bl4_6_10_name",{"$f":"'T2-B(PP1)'!$B$117","v":0},"#'T2-B(PP1)'!$B$117"]
["pp1_bl4_6_10_rate_in",{"$f":"'T2-B(PP1)'!$E$117","v":0},"#'T2-B(PP1)'!$E$117"]
["pp1_bl4_6_10_rate_out",{"$f":"'T2-B(PP1)'!$H$117","v":0},"#'T2-B(PP1)'!$H$117"]
["pp1_bl4_6_10_total",{"$f":"'T2-B(PP1)'!$J$117","v":0},"#'T2-B(PP1)'!$J$117"]
["pp1_bl4_6_10_total_in",{"$f":"'T2-B(PP1)'!$F$117","v":0},"#'T2-B(PP1)'!$F$117"]
["pp1_bl4_6_10_total_out",{"$f":"'T2-B(PP1)'!$I$117","v":0},"#'T2-B(PP1)'!$I$117"]
["pp1_bl4_6_10_unit",{"$f":"'T2-B(PP1)'!$C$117","v":0},"#'T2-B(PP1)'!$C$117"]
["pp1_bl4_6_10_unit_in",{"$f":"'T2-B(PP1)'!$D$117","v":0},"#'T2-B(PP1)'!$D$117"]
["pp1_bl4_6_10_units_out",{"$f":"'T2-B(PP1)'!$G$117","v":0},"#'T2-B(PP1)'!$G$117"]
["pp1_bl4_6_2_name",{"$f":"'T2-B(PP1)'!$B$109","v":0},"#'T2-B(PP1)'!$B$109"]
["pp1_bl4_6_2_rate_in",{"$f":"'T2-B(PP1)'!$E$109","v":0},"#'T2-B(PP1)'!$E$109"]
["pp1_bl4_6_2_rate_out",{"$f":"'T2-B(PP1)'!$H$109","v":0},"#'T2-B(PP1)'!$H$109"]
["pp1_bl4_6_2_total",{"$f":"'T2-B(PP1)'!$J$109","v":0},"#'T2-B(PP1)'!$J$109"]
["pp1_bl4_6_2_total_in",{"$f":"'T2-B(PP1)'!$F$109","v":0},"#'T2-B(PP1)'!$F$109"]
["pp1_bl4_6_2_total_out",{"$f":"'T2-B(PP1)'!$I$109","v":0},"#'T2-B(PP1)'!$I$109"]
["pp1_bl4_6_2_unit",{"$f":"'T2-B(PP1)'!$C$109","v":0},"#'T2-B(PP1)'!$C$109"]
["pp1_bl4_6_2_unit_in",{"$f":"'T2-B(PP1)'!$D$109","v":0},"#'T2-B(PP1)'!$D$109"]
["pp1_bl4_6_2_units_out",{"$f":"'T2-B(PP1)'!$G$109","v":0},"#'T2-B(PP1)'!$G$109"]
["pp1_bl4_6_3_name",{"$f":"'T2-B(PP1)'!$B$110","v":0},"#'T2-B(PP1)'!$B$110"]
["pp1_bl4_6_3_rate_in",{"$f":"'T2-B(PP1)'!$E$110","v":0},"#'T2-B(PP1)'!$E$110"]
["pp1_bl4_6_3_rate_out",{"$f":"'T2-B(PP1)'!$H$110","v":0},"#'T2-B(PP1)'!$H$110"]
["pp1_bl4_6_3_total",{"$f":"'T2-B(PP1)'!$J$110","v":0},"#'T2-B(PP1)'!$J$110"]
["pp1_bl4_6_3_total_in",{"$f":"'T2-B(PP1)'!$F$110","v":0},"#'T2-B(PP1)'!$F$110"]
["pp1_bl4_6_3_total_out",{"$f":"'T2-B(PP1)'!$I$110","v":0},"#'T2-B(PP1)'!$I$110"]
["pp1_bl4_6_3_unit",{"$f":"'T2-B(PP1)'!$C$110","v":0},"#'T2-B(PP1)'!$C$110"]
["pp1_bl4_6_3_unit_in",{"$f":"'T2-B(PP1)'!$D$110","v":0},"#'T2-B(PP1)'!$D$110"]
["pp1_bl4_6_3_units_out",{"$f":"'T2-B(PP1)'!$G$110","v":0},"#'T2-B(PP1)'!$G$110"]
["pp1_bl4_6_4_name",{"$f":"'T2-B(PP1)'!$B$111","v":0},"#'T2-B(PP1)'!$B$111"]
["pp1_bl4_6_4_rate_in",{"$f":"'T2-B(PP1)'!$E$111","v":0},"#'T2-B(PP1)'!$E$111"]
["pp1_bl4_6_4_rate_out",{"$f":"'T2-B(PP1)'!$H$111","v":0},"#'T2-B(PP1)'!$H$111"]
["pp1_bl4_6_4_total",{"$f":"'T2-B(PP1)'!$J$111","v":0},"#'T2-B(PP1)'!$J$111"]
["pp1_bl4_6_4_total_in",{"$f":"'T2-B(PP1)'!$F$111","v":0},"#'T2-B(PP1)'!$F$111"]
["pp1_bl4_6_4_total_out",{"$f":"'T2-B(PP1)'!$I$111","v":0},"#'T2-B(PP1)'!$I$111"]
["pp1_bl4_6_4_unit",{"$f":"'T2-B(PP1)'!$C$111","v":0},"#'T2-B(PP1)'!$C$111"]
["pp1_bl4_6_4_unit_in",{"$f":"'T2-B(PP1)'!$D$111","v":0},"#'T2-B(PP1)'!$D$111"]
["pp1_bl4_6_4_units_out",{"$f":"'T2-B(PP1)'!$G$111","v":0},"#'T2-B(PP1)'!$G$111"]
["pp1_bl4_6_5_name",{"$f":"'T2-B(PP1)'!$B$112","v":0},"#'T2-B(PP1)'!$B$112"]
["pp1_bl4_6_5_rate_in",{"$f":"'T2-B(PP1)'!$E$112","v":0},"#'T2-B(PP1)'!$E$112"]
["pp1_bl4_6_5_rate_out",{"$f":"'T2-B(PP1)'!$H$112","v":0},"#'T2-B(PP1)'!$H$112"]
["pp1_bl4_6_5_total",{"$f":"'T2-B(PP1)'!$J$112","v":0},"#'T2-B(PP1)'!$J$112"]
["pp1_bl4_6_5_total_in",{"$f":"'T2-B(PP1)'!$F$112","v":0},"#'T2-B(PP1)'!$F$112"]
["pp1_bl4_6_5_total_out",{"$f":"'T2-B(PP1)'!$I$112","v":0},"#'T2-B(PP1)'!$I$112"]
["pp1_bl4_6_5_unit",{"$f":"'T2-B(PP1)'!$C$112","v":0},"#'T2-B(PP1)'!$C$112"]
["pp1_bl4_6_5_unit_in",{"$f":"'T2-B(PP1)'!$D$112","v":0},"#'T2-B(PP1)'!$D$112"]
["pp1_bl4_6_5_units_out",{"$f":"'T2-B(PP1)'!$G$112","v":0},"#'T2-B(PP1)'!$G$112"]
["pp1_bl4_6_6_name",{"$f":"'T2-B(PP1)'!$B$113","v":0},"#'T2-B(PP1)'!$B$113"]
["pp1_bl4_6_6_rate_in",{"$f":"'T2-B(PP1)'!$E$113","v":0},"#'T2-B(PP1)'!$E$113"]
["pp1_bl4_6_6_rate_out",{"$f":"'T2-B(PP1)'!$H$113","v":0},"#'T2-B(PP1)'!$H$113"]
["pp1_bl4_6_6_total",{"$f":"'T2-B(PP1)'!$J$113","v":0},"#'T2-B(PP1)'!$J$113"]
["pp1_bl4_6_6_total_in",{"$f":"'T2-B(PP1)'!$F$113","v":0},"#'T2-B(PP1)'!$F$113"]
["pp1_bl4_6_6_total_out",{"$f":"'T2-B(PP1)'!$I$113","v":0},"#'T2-B(PP1)'!$I$113"]
["pp1_bl4_6_6_unit",{"$f":"'T2-B(PP1)'!$C$113","v":0},"#'T2-B(PP1)'!$C$113"]
["pp1_bl4_6_6_unit_in",{"$f":"'T2-B(PP1)'!$D$113","v":0},"#'T2-B(PP1)'!$D$113"]
["pp1_bl4_6_6_units_out",{"$f":"'T2-B(PP1)'!$G$113","v":0},"#'T2-B(PP1)'!$G$113"]
["pp1_bl4_6_7_name",{"$f":"'T2-B(PP1)'!$B$114","v":0},"#'T2-B(PP1)'!$B$114"]
["pp1_bl4_6_7_rate_in",{"$f":"'T2-B(PP1)'!$E$114","v":0},"#'T2-B(PP1)'!$E$114"]
["pp1_bl4_6_7_rate_out",{"$f":"'T2-B(PP1)'!$H$114","v":0},"#'T2-B(PP1)'!$H$114"]
["pp1_bl4_6_7_total",{"$f":"'T2-B(PP1)'!$J$114","v":0},"#'T2-B(PP1)'!$J$114"]
["pp1_bl4_6_7_total_in",{"$f":"'T2-B(PP1)'!$F$114","v":0},"#'T2-B(PP1)'!$F$114"]
["pp1_bl4_6_7_total_out",{"$f":"'T2-B(PP1)'!$I$114","v":0},"#'T2-B(PP1)'!$I$114"]
["pp1_bl4_6_7_unit",{"$f":"'T2-B(PP1)'!$C$114","v":0},"#'T2-B(PP1)'!$C$114"]
["pp1_bl4_6_7_unit_in",{"$f":"'T2-B(PP1)'!$D$114","v":0},"#'T2-B(PP1)'!$D$114"]
["pp1_bl4_6_7_units_out",{"$f":"'T2-B(PP1)'!$G$114","v":0},"#'T2-B(PP1)'!$G$114"]
["pp1_bl4_6_8_name",{"$f":"'T2-B(PP1)'!$B$115","v":0},"#'T2-B(PP1)'!$B$115"]
["pp1_bl4_6_8_rate_in",{"$f":"'T2-B(PP1)'!$E$115","v":0},"#'T2-B(PP1)'!$E$115"]
["pp1_bl4_6_8_rate_out",{"$f":"'T2-B(PP1)'!$H$115","v":0},"#'T2-B(PP1)'!$H$115"]
["pp1_bl4_6_8_total",{"$f":"'T2-B(PP1)'!$J$115","v":0},"#'T2-B(PP1)'!$J$115"]
["pp1_bl4_6_8_total_in",{"$f":"'T2-B(PP1)'!$F$115","v":0},"#'T2-B(PP1)'!$F$115"]
["pp1_bl4_6_8_total_out",{"$f":"'T2-B(PP1)'!$I$115","v":0},"#'T2-B(PP1)'!$I$115"]
["pp1_bl4_6_8_unit",{"$f":"'T2-B(PP1)'!$C$115","v":0},"#'T2-B(PP1)'!$C$115"]
["pp1_bl4_6_8_unit_in",{"$f":"'T2-B(PP1)'!$D$115","v":0},"#'T2-B(PP1)'!$D$115"]
["pp1_bl4_6_8_units_out",{"$f":"'T2-B(PP1)'!$G$115","v":0},"#'T2-B(PP1)'!$G$115"]
["pp1_bl4_6_9_name",{"$f":"'T2-B(PP1)'!$B$116","v":0},"#'T2-B(PP1)'!$B$116"]
["pp1_bl4_6_9_rate_in",{"$f":"'T2-B(PP1)'!$E$116","v":0},"#'T2-B(PP1)'!$E$116"]
["pp1_bl4_6_9_rate_out",{"$f":"'T2-B(PP1)'!$H$116","v":0},"#'T2-B(PP1)'!$H$116"]
["pp1_bl4_6_9_total",{"$f":"'T2-B(PP1)'!$J$116","v":0},"#'T2-B(PP1)'!$J$116"]
["pp1_bl4_6_9_total_in",{"$f":"'T2-B(PP1)'!$F$116","v":0},"#'T2-B(PP1)'!$F$116"]
["pp1_bl4_6_9_total_out",{"$f":"'T2-B(PP1)'!$I$116","v":0},"#'T2-B(PP1)'!$I$116"]
["pp1_bl4_6_9_unit",{"$f":"'T2-B(PP1)'!$C$116","v":0},"#'T2-B(PP1)'!$C$116"]
["pp1_bl4_6_9_unit_in",{"$f":"'T2-B(PP1)'!$D$116","v":0},"#'T2-B(PP1)'!$D$116"]
["pp1_bl4_6_9_units_out",{"$f":"'T2-B(PP1)'!$G$116","v":0},"#'T2-B(PP1)'!$G$116"]
["pp1_bl4_6_total",{"$f":"'T2-B(PP1)'!$J$107","v":0},"#'T2-B(PP1)'!$J$107"]
["pp1_bl4_6_total_in",{"$f":"'T2-B(PP1)'!$F$107","v":0},"#'T2-B(PP1)'!$F$107"]
["pp1_bl4_6_total_out",{"$f":"'T2-B(PP1)'!$I$107","v":0},"#'T2-B(PP1)'!$I$107"]
["pp1_bl4_7_1_name",{"$f":"'T2-B(PP1)'!$B$119","v":0},"#'T2-B(PP1)'!$B$119"]
["pp1_bl4_7_1_rate_in",{"$f":"'T2-B(PP1)'!$E$119","v":0},"#'T2-B(PP1)'!$E$119"]
["pp1_bl4_7_1_rate_out",{"$f":"'T2-B(PP1)'!$H$119","v":0},"#'T2-B(PP1)'!$H$119"]
["pp1_bl4_7_1_total",{"$f":"'T2-B(PP1)'!$J$119","v":0},"#'T2-B(PP1)'!$J$119"]
["pp1_bl4_7_1_total_in",{"$f":"'T2-B(PP1)'!$F$119","v":0},"#'T2-B(PP1)'!$F$119"]
["pp1_bl4_7_1_total_out",{"$f":"'T2-B(PP1)'!$I$119","v":0},"#'T2-B(PP1)'!$I$119"]
["pp1_bl4_7_1_unit",{"$f":"'T2-B(PP1)'!$C$119","v":0},"#'T2-B(PP1)'!$C$119"]
["pp1_bl4_7_1_unit_in",{"$f":"'T2-B(PP1)'!$D$119","v":0},"#'T2-B(PP1)'!$D$119"]
["pp1_bl4_7_1_units_out",{"$f":"'T2-B(PP1)'!$G$119","v":0},"#'T2-B(PP1)'!$G$119"]
["pp1_bl4_7_10_name",{"$f":"'T2-B(PP1)'!$B$128","v":0},"#'T2-B(PP1)'!$B$128"]
["pp1_bl4_7_10_rate_in",{"$f":"'T2-B(PP1)'!$E$128","v":0},"#'T2-B(PP1)'!$E$128"]
["pp1_bl4_7_10_rate_out",{"$f":"'T2-B(PP1)'!$H$128","v":0},"#'T2-B(PP1)'!$H$128"]
["pp1_bl4_7_10_total",{"$f":"'T2-B(PP1)'!$J$128","v":0},"#'T2-B(PP1)'!$J$128"]
["pp1_bl4_7_10_total_in",{"$f":"'T2-B(PP1)'!$F$128","v":0},"#'T2-B(PP1)'!$F$128"]
["pp1_bl4_7_10_total_out",{"$f":"'T2-B(PP1)'!$I$128","v":0},"#'T2-B(PP1)'!$I$128"]
["pp1_bl4_7_10_unit",{"$f":"'T2-B(PP1)'!$C$128","v":0},"#'T2-B(PP1)'!$C$128"]
["pp1_bl4_7_10_unit_in",{"$f":"'T2-B(PP1)'!$D$128","v":0},"#'T2-B(PP1)'!$D$128"]
["pp1_bl4_7_10_units_out",{"$f":"'T2-B(PP1)'!$G$128","v":0},"#'T2-B(PP1)'!$G$128"]
["pp1_bl4_7_2_name",{"$f":"'T2-B(PP1)'!$B$120","v":0},"#'T2-B(PP1)'!$B$120"]
["pp1_bl4_7_2_rate_in",{"$f":"'T2-B(PP1)'!$E$120","v":0},"#'T2-B(PP1)'!$E$120"]
["pp1_bl4_7_2_rate_out",{"$f":"'T2-B(PP1)'!$H$120","v":0},"#'T2-B(PP1)'!$H$120"]
["pp1_bl4_7_2_total",{"$f":"'T2-B(PP1)'!$J$120","v":0},"#'T2-B(PP1)'!$J$120"]
["pp1_bl4_7_2_total_in",{"$f":"'T2-B(PP1)'!$F$120","v":0},"#'T2-B(PP1)'!$F$120"]
["pp1_bl4_7_2_total_out",{"$f":"'T2-B(PP1)'!$I$120","v":0},"#'T2-B(PP1)'!$I$120"]
["pp1_bl4_7_2_unit",{"$f":"'T2-B(PP1)'!$C$120","v":0},"#'T2-B(PP1)'!$C$120"]
["pp1_bl4_7_2_unit_in",{"$f":"'T2-B(PP1)'!$D$120","v":0},"#'T2-B(PP1)'!$D$120"]
["pp1_bl4_7_2_units_out",{"$f":"'T2-B(PP1)'!$G$120","v":0},"#'T2-B(PP1)'!$G$120"]
["pp1_bl4_7_3_name",{"$f":"'T2-B(PP1)'!$B$121","v":0},"#'T2-B(PP1)'!$B$121"]
["pp1_bl4_7_3_rate_in",{"$f":"'T2-B(PP1)'!$E$121","v":0},"#'T2-B(PP1)'!$E$121"]
["pp1_bl4_7_3_rate_out",{"$f":"'T2-B(PP1)'!$H$121","v":0},"#'T2-B(PP1)'!$H$121"]
["pp1_bl4_7_3_total",{"$f":"'T2-B(PP1)'!$J$121","v":0},"#'T2-B(PP1)'!$J$121"]
["pp1_bl4_7_3_total_in",{"$f":"'T2-B(PP1)'!$F$121","v":0},"#'T2-B(PP1)'!$F$121"]
["pp1_bl4_7_3_total_out",{"$f":"'T2-B(PP1)'!$I$121","v":0},"#'T2-B(PP1)'!$I$121"]
["pp1_bl4_7_3_unit",{"$f":"'T2-B(PP1)'!$C$121","v":0},"#'T2-B(PP1)'!$C$121"]
["pp1_bl4_7_3_unit_in",{"$f":"'T2-B(PP1)'!$D$121","v":0},"#'T2-B(PP1)'!$D$121"]
["pp1_bl4_7_3_units_out",{"$f":"'T2-B(PP1)'!$G$121","v":0},"#'T2-B(PP1)'!$G$121"]
["pp1_bl4_7_4_name",{"$f":"'T2-B(PP1)'!$B$122","v":0},"#'T2-B(PP1)'!$B$122"]
["pp1_bl4_7_4_rate_in",{"$f":"'T2-B(PP1)'!$E$122","v":0},"#'T2-B(PP1)'!$E$122"]
["pp1_bl4_7_4_rate_out",{"$f":"'T2-B(PP1)'!$H$122","v":0},"#'T2-B(PP1)'!$H$122"]
["pp1_bl4_7_4_total",{"$f":"'T2-B(PP1)'!$J$122","v":0},"#'T2-B(PP1)'!$J$122"]
["pp1_bl4_7_4_total_in",{"$f":"'T2-B(PP1)'!$F$122","v":0},"#'T2-B(PP1)'!$F$122"]
["pp1_bl4_7_4_total_out",{"$f":"'T2-B(PP1)'!$I$122","v":0},"#'T2-B(PP1)'!$I$122"]
["pp1_bl4_7_4_unit",{"$f":"'T2-B(PP1)'!$C$122","v":0},"#'T2-B(PP1)'!$C$122"]
["pp1_bl4_7_4_unit_in",{"$f":"'T2-B(PP1)'!$D$122","v":0},"#'T2-B(PP1)'!$D$122"]
["pp1_bl4_7_4_units_out",{"$f":"'T2-B(PP1)'!$G$122","v":0},"#'T2-B(PP1)'!$G$122"]
["pp1_bl4_7_5_name",{"$f":"'T2-B(PP1)'!$B$123","v":0},"#'T2-B(PP1)'!$B$123"]
["pp1_bl4_7_5_rate_in",{"$f":"'T2-B(PP1)'!$E$123","v":0},"#'T2-B(PP1)'!$E$123"]
["pp1_bl4_7_5_rate_out",{"$f":"'T2-B(PP1)'!$H$123","v":0},"#'T2-B(PP1)'!$H$123"]
["pp1_bl4_7_5_total",{"$f":"'T2-B(PP1)'!$J$123","v":0},"#'T2-B(PP1)'!$J$123"]
["pp1_bl4_7_5_total_in",{"$f":"'T2-B(PP1)'!$F$123","v":0},"#'T2-B(PP1)'!$F$123"]
["pp1_bl4_7_5_total_out",{"$f":"'T2-B(PP1)'!$I$123","v":0},"#'T2-B(PP1)'!$I$123"]
["pp1_bl4_7_5_unit",{"$f":"'T2-B(PP1)'!$C$123","v":0},"#'T2-B(PP1)'!$C$123"]
["pp1_bl4_7_5_unit_in",{"$f":"'T2-B(PP1)'!$D$123","v":0},"#'T2-B(PP1)'!$D$123"]
["pp1_bl4_7_5_units_out",{"$f":"'T2-B(PP1)'!$G$123","v":0},"#'T2-B(PP1)'!$G$123"]
["pp1_bl4_7_6_name",{"$f":"'T2-B(PP1)'!$B$124","v":0},"#'T2-B(PP1)'!$B$124"]
["pp1_bl4_7_6_rate_in",{"$f":"'T2-B(PP1)'!$E$124","v":0},"#'T2-B(PP1)'!$E$124"]
["pp1_bl4_7_6_rate_out",{"$f":"'T2-B(PP1)'!$H$124","v":0},"#'T2-B(PP1)'!$H$124"]
["pp1_bl4_7_6_total",{"$f":"'T2-B(PP1)'!$J$124","v":0},"#'T2-B(PP1)'!$J$124"]
["pp1_bl4_7_6_total_in",{"$f":"'T2-B(PP1)'!$F$124","v":0},"#'T2-B(PP1)'!$F$124"]
["pp1_bl4_7_6_total_out",{"$f":"'T2-B(PP1)'!$I$124","v":0},"#'T2-B(PP1)'!$I$124"]
["pp1_bl4_7_6_unit",{"$f":"'T2-B(PP1)'!$C$124","v":0},"#'T2-B(PP1)'!$C$124"]
["pp1_bl4_7_6_unit_in",{"$f":"'T2-B(PP1)'!$D$124","v":0},"#'T2-B(PP1)'!$D$124"]
["pp1_bl4_7_6_units_out",{"$f":"'T2-B(PP1)'!$G$124","v":0},"#'T2-B(PP1)'!$G$124"]
["pp1_bl4_7_7_name",{"$f":"'T2-B(PP1)'!$B$125","v":0},"#'T2-B(PP1)'!$B$125"]
["pp1_bl4_7_7_rate_in",{"$f":"'T2-B(PP1)'!$E$125","v":0},"#'T2-B(PP1)'!$E$125"]
["pp1_bl4_7_7_rate_out",{"$f":"'T2-B(PP1)'!$H$125","v":0},"#'T2-B(PP1)'!$H$125"]
["pp1_bl4_7_7_total",{"$f":"'T2-B(PP1)'!$J$125","v":0},"#'T2-B(PP1)'!$J$125"]
["pp1_bl4_7_7_total_in",{"$f":"'T2-B(PP1)'!$F$125","v":0},"#'T2-B(PP1)'!$F$125"]
["pp1_bl4_7_7_total_out",{"$f":"'T2-B(PP1)'!$I$125","v":0},"#'T2-B(PP1)'!$I$125"]
["pp1_bl4_7_7_unit",{"$f":"'T2-B(PP1)'!$C$125","v":0},"#'T2-B(PP1)'!$C$125"]
["pp1_bl4_7_7_unit_in",{"$f":"'T2-B(PP1)'!$D$125","v":0},"#'T2-B(PP1)'!$D$125"]
["pp1_bl4_7_7_units_out",{"$f":"'T2-B(PP1)'!$G$125","v":0},"#'T2-B(PP1)'!$G$125"]
["pp1_bl4_7_8_name",{"$f":"'T2-B(PP1)'!$B$126","v":0},"#'T2-B(PP1)'!$B$126"]
["pp1_bl4_7_8_rate_in",{"$f":"'T2-B(PP1)'!$E$126","v":0},"#'T2-B(PP1)'!$E$126"]
["pp1_bl4_7_8_rate_out",{"$f":"'T2-B(PP1)'!$H$126","v":0},"#'T2-B(PP1)'!$H$126"]
["pp1_bl4_7_8_total",{"$f":"'T2-B(PP1)'!$J$126","v":0},"#'T2-B(PP1)'!$J$126"]
["pp1_bl4_7_8_total_in",{"$f":"'T2-B(PP1)'!$F$126","v":0},"#'T2-B(PP1)'!$F$126"]
["pp1_bl4_7_8_total_out",{"$f":"'T2-B(PP1)'!$I$126","v":0},"#'T2-B(PP1)'!$I$126"]
["pp1_bl4_7_8_unit",{"$f":"'T2-B(PP1)'!$C$126","v":0},"#'T2-B(PP1)'!$C$126"]
["pp1_bl4_7_8_unit_in",{"$f":"'T2-B(PP1)'!$D$126","v":0},"#'T2-B(PP1)'!$D$126"]
["pp1_bl4_7_8_units_out",{"$f":"'T2-B(PP1)'!$G$126","v":0},"#'T2-B(PP1)'!$G$126"]
["pp1_bl4_7_9_name",{"$f":"'T2-B(PP1)'!$B$127","v":0},"#'T2-B(PP1)'!$B$127"]
["pp1_bl4_7_9_rate_in",{"$f":"'T2-B(PP1)'!$E$127","v":0},"#'T2-B(PP1)'!$E$127"]
["pp1_bl4_7_9_rate_out",{"$f":"'T2-B(PP1)'!$H$127","v":0},"#'T2-B(PP1)'!$H$127"]
["pp1_bl4_7_9_total",{"$f":"'T2-B(PP1)'!$J$127","v":0},"#'T2-B(PP1)'!$J$127"]
["pp1_bl4_7_9_total_in",{"$f":"'T2-B(PP1)'!$F$127","v":0},"#'T2-B(PP1)'!$F$127"]
["pp1_bl4_7_9_total_out",{"$f":"'T2-B(PP1)'!$I$127","v":0},"#'T2-B(PP1)'!$I$127"]
["pp1_bl4_7_9_unit",{"$f":"'T2-B(PP1)'!$C$127","v":0},"#'T2-B(PP1)'!$C$127"]
["pp1_bl4_7_9_unit_in",{"$f":"'T2-B(PP1)'!$D$127","v":0},"#'T2-B(PP1)'!$D$127"]
["pp1_bl4_7_9_units_out",{"$f":"'T2-B(PP1)'!$G$127","v":0},"#'T2-B(PP1)'!$G$127"]
["pp1_bl4_7_total",{"$f":"'T2-B(PP1)'!$J$118","v":0},"#'T2-B(PP1)'!$J$118"]
["pp1_bl4_7_total_in",{"$f":"'T2-B(PP1)'!$F$118","v":0},"#'T2-B(PP1)'!$F$118"]
["pp1_bl4_7_total_out",{"$f":"'T2-B(PP1)'!$I$118","v":0},"#'T2-B(PP1)'!$I$118"]
["pp1_bl4_8_1_name",{"$f":"'T2-B(PP1)'!$B$130","v":0},"#'T2-B(PP1)'!$B$130"]
["pp1_bl4_8_1_rate_in",{"$f":"'T2-B(PP1)'!$E$130","v":0},"#'T2-B(PP1)'!$E$130"]
["pp1_bl4_8_1_rate_out",{"$f":"'T2-B(PP1)'!$H$130","v":0},"#'T2-B(PP1)'!$H$130"]
["pp1_bl4_8_1_total",{"$f":"'T2-B(PP1)'!$J$130","v":0},"#'T2-B(PP1)'!$J$130"]
["pp1_bl4_8_1_total_in",{"$f":"'T2-B(PP1)'!$F$130","v":0},"#'T2-B(PP1)'!$F$130"]
["pp1_bl4_8_1_total_out",{"$f":"'T2-B(PP1)'!$I$130","v":0},"#'T2-B(PP1)'!$I$130"]
["pp1_bl4_8_1_unit",{"$f":"'T2-B(PP1)'!$C$130","v":0},"#'T2-B(PP1)'!$C$130"]
["pp1_bl4_8_1_unit_in",{"$f":"'T2-B(PP1)'!$D$130","v":0},"#'T2-B(PP1)'!$D$130"]
["pp1_bl4_8_1_units_out",{"$f":"'T2-B(PP1)'!$G$130","v":0},"#'T2-B(PP1)'!$G$130"]
["pp1_bl4_8_10_name",{"$f":"'T2-B(PP1)'!$B$139","v":0},"#'T2-B(PP1)'!$B$139"]
["pp1_bl4_8_10_rate_in",{"$f":"'T2-B(PP1)'!$E$139","v":0},"#'T2-B(PP1)'!$E$139"]
["pp1_bl4_8_10_rate_out",{"$f":"'T2-B(PP1)'!$H$139","v":0},"#'T2-B(PP1)'!$H$139"]
["pp1_bl4_8_10_total",{"$f":"'T2-B(PP1)'!$J$139","v":0},"#'T2-B(PP1)'!$J$139"]
["pp1_bl4_8_10_total_in",{"$f":"'T2-B(PP1)'!$F$139","v":0},"#'T2-B(PP1)'!$F$139"]
["pp1_bl4_8_10_total_out",{"$f":"'T2-B(PP1)'!$I$139","v":0},"#'T2-B(PP1)'!$I$139"]
["pp1_bl4_8_10_unit",{"$f":"'T2-B(PP1)'!$C$139","v":0},"#'T2-B(PP1)'!$C$139"]
["pp1_bl4_8_10_unit_in",{"$f":"'T2-B(PP1)'!$D$139","v":0},"#'T2-B(PP1)'!$D$139"]
["pp1_bl4_8_10_units_out",{"$f":"'T2-B(PP1)'!$G$139","v":0},"#'T2-B(PP1)'!$G$139"]
["pp1_bl4_8_2_name",{"$f":"'T2-B(PP1)'!$B$131","v":0},"#'T2-B(PP1)'!$B$131"]
["pp1_bl4_8_2_rate_in",{"$f":"'T2-B(PP1)'!$E$131","v":0},"#'T2-B(PP1)'!$E$131"]
["pp1_bl4_8_2_rate_out",{"$f":"'T2-B(PP1)'!$H$131","v":0},"#'T2-B(PP1)'!$H$131"]
["pp1_bl4_8_2_total",{"$f":"'T2-B(PP1)'!$J$131","v":0},"#'T2-B(PP1)'!$J$131"]
["pp1_bl4_8_2_total_in",{"$f":"'T2-B(PP1)'!$F$131","v":0},"#'T2-B(PP1)'!$F$131"]
["pp1_bl4_8_2_total_out",{"$f":"'T2-B(PP1)'!$I$131","v":0},"#'T2-B(PP1)'!$I$131"]
["pp1_bl4_8_2_unit",{"$f":"'T2-B(PP1)'!$C$131","v":0},"#'T2-B(PP1)'!$C$131"]
["pp1_bl4_8_2_unit_in",{"$f":"'T2-B(PP1)'!$D$131","v":0},"#'T2-B(PP1)'!$D$131"]
["pp1_bl4_8_2_units_out",{"$f":"'T2-B(PP1)'!$G$131","v":0},"#'T2-B(PP1)'!$G$131"]
["pp1_bl4_8_3_name",{"$f":"'T2-B(PP1)'!$B$132","v":0},"#'T2-B(PP1)'!$B$132"]
["pp1_bl4_8_3_rate_in",{"$f":"'T2-B(PP1)'!$E$132","v":0},"#'T2-B(PP1)'!$E$132"]
["pp1_bl4_8_3_rate_out",{"$f":"'T2-B(PP1)'!$H$132","v":0},"#'T2-B(PP1)'!$H$132"]
["pp1_bl4_8_3_total",{"$f":"'T2-B(PP1)'!$J$132","v":0},"#'T2-B(PP1)'!$J$132"]
["pp1_bl4_8_3_total_in",{"$f":"'T2-B(PP1)'!$F$132","v":0},"#'T2-B(PP1)'!$F$132"]
["pp1_bl4_8_3_total_out",{"$f":"'T2-B(PP1)'!$I$132","v":0},"#'T2-B(PP1)'!$I$132"]
["pp1_bl4_8_3_unit",{"$f":"'T2-B(PP1)'!$C$132","v":0},"#'T2-B(PP1)'!$C$132"]
["pp1_bl4_8_3_unit_in",{"$f":"'T2-B(PP1)'!$D$132","v":0},"#'T2-B(PP1)'!$D$132"]
["pp1_bl4_8_3_units_out",{"$f":"'T2-B(PP1)'!$G$132","v":0},"#'T2-B(PP1)'!$G$132"]
["pp1_bl4_8_4_name",{"$f":"'T2-B(PP1)'!$B$133","v":0},"#'T2-B(PP1)'!$B$133"]
["pp1_bl4_8_4_rate_in",{"$f":"'T2-B(PP1)'!$E$133","v":0},"#'T2-B(PP1)'!$E$133"]
["pp1_bl4_8_4_rate_out",{"$f":"'T2-B(PP1)'!$H$133","v":0},"#'T2-B(PP1)'!$H$133"]
["pp1_bl4_8_4_total",{"$f":"'T2-B(PP1)'!$J$133","v":0},"#'T2-B(PP1)'!$J$133"]
["pp1_bl4_8_4_total_in",{"$f":"'T2-B(PP1)'!$F$133","v":0},"#'T2-B(PP1)'!$F$133"]
["pp1_bl4_8_4_total_out",{"$f":"'T2-B(PP1)'!$I$133","v":0},"#'T2-B(PP1)'!$I$133"]
["pp1_bl4_8_4_unit",{"$f":"'T2-B(PP1)'!$C$133","v":0},"#'T2-B(PP1)'!$C$133"]
["pp1_bl4_8_4_unit_in",{"$f":"'T2-B(PP1)'!$D$133","v":0},"#'T2-B(PP1)'!$D$133"]
["pp1_bl4_8_4_units_out",{"$f":"'T2-B(PP1)'!$G$133","v":0},"#'T2-B(PP1)'!$G$133"]
["pp1_bl4_8_5_name",{"$f":"'T2-B(PP1)'!$B$134","v":0},"#'T2-B(PP1)'!$B$134"]
["pp1_bl4_8_5_rate_in",{"$f":"'T2-B(PP1)'!$E$134","v":0},"#'T2-B(PP1)'!$E$134"]
["pp1_bl4_8_5_rate_out",{"$f":"'T2-B(PP1)'!$H$134","v":0},"#'T2-B(PP1)'!$H$134"]
["pp1_bl4_8_5_total",{"$f":"'T2-B(PP1)'!$J$134","v":0},"#'T2-B(PP1)'!$J$134"]
["pp1_bl4_8_5_total_in",{"$f":"'T2-B(PP1)'!$F$134","v":0},"#'T2-B(PP1)'!$F$134"]
["pp1_bl4_8_5_total_out",{"$f":"'T2-B(PP1)'!$I$134","v":0},"#'T2-B(PP1)'!$I$134"]
["pp1_bl4_8_5_unit",{"$f":"'T2-B(PP1)'!$C$134","v":0},"#'T2-B(PP1)'!$C$134"]
["pp1_bl4_8_5_unit_in",{"$f":"'T2-B(PP1)'!$D$134","v":0},"#'T2-B(PP1)'!$D$134"]
["pp1_bl4_8_5_units_out",{"$f":"'T2-B(PP1)'!$G$134","v":0},"#'T2-B(PP1)'!$G$134"]
["pp1_bl4_8_6_name",{"$f":"'T2-B(PP1)'!$B$135","v":0},"#'T2-B(PP1)'!$B$135"]
["pp1_bl4_8_6_rate_in",{"$f":"'T2-B(PP1)'!$E$135","v":0},"#'T2-B(PP1)'!$E$135"]
["pp1_bl4_8_6_rate_out",{"$f":"'T2-B(PP1)'!$H$135","v":0},"#'T2-B(PP1)'!$H$135"]
["pp1_bl4_8_6_total",{"$f":"'T2-B(PP1)'!$J$135","v":0},"#'T2-B(PP1)'!$J$135"]
["pp1_bl4_8_6_total_in",{"$f":"'T2-B(PP1)'!$F$135","v":0},"#'T2-B(PP1)'!$F$135"]
["pp1_bl4_8_6_total_out",{"$f":"'T2-B(PP1)'!$I$135","v":0},"#'T2-B(PP1)'!$I$135"]
["pp1_bl4_8_6_unit",{"$f":"'T2-B(PP1)'!$C$135","v":0},"#'T2-B(PP1)'!$C$135"]
["pp1_bl4_8_6_unit_in",{"$f":"'T2-B(PP1)'!$D$135","v":0},"#'T2-B(PP1)'!$D$135"]
["pp1_bl4_8_6_units_out",{"$f":"'T2-B(PP1)'!$G$135","v":0},"#'T2-B(PP1)'!$G$135"]
["pp1_bl4_8_7_name",{"$f":"'T2-B(PP1)'!$B$136","v":0},"#'T2-B(PP1)'!$B$136"]
["pp1_bl4_8_7_rate_in",{"$f":"'T2-B(PP1)'!$E$136","v":0},"#'T2-B(PP1)'!$E$136"]
["pp1_bl4_8_7_rate_out",{"$f":"'T2-B(PP1)'!$H$136","v":0},"#'T2-B(PP1)'!$H$136"]
["pp1_bl4_8_7_total",{"$f":"'T2-B(PP1)'!$J$136","v":0},"#'T2-B(PP1)'!$J$136"]
["pp1_bl4_8_7_total_in",{"$f":"'T2-B(PP1)'!$F$136","v":0},"#'T2-B(PP1)'!$F$136"]
["pp1_bl4_8_7_total_out",{"$f":"'T2-B(PP1)'!$I$136","v":0},"#'T2-B(PP1)'!$I$136"]
["pp1_bl4_8_7_unit",{"$f":"'T2-B(PP1)'!$C$136","v":0},"#'T2-B(PP1)'!$C$136"]
["pp1_bl4_8_7_unit_in",{"$f":"'T2-B(PP1)'!$D$136","v":0},"#'T2-B(PP1)'!$D$136"]
["pp1_bl4_8_7_units_out",{"$f":"'T2-B(PP1)'!$G$136","v":0},"#'T2-B(PP1)'!$G$136"]
["pp1_bl4_8_8_name",{"$f":"'T2-B(PP1)'!$B$137","v":0},"#'T2-B(PP1)'!$B$137"]
["pp1_bl4_8_8_rate_in",{"$f":"'T2-B(PP1)'!$E$137","v":0},"#'T2-B(PP1)'!$E$137"]
["pp1_bl4_8_8_rate_out",{"$f":"'T2-B(PP1)'!$H$137","v":0},"#'T2-B(PP1)'!$H$137"]
["pp1_bl4_8_8_total",{"$f":"'T2-B(PP1)'!$J$137","v":0},"#'T2-B(PP1)'!$J$137"]
["pp1_bl4_8_8_total_in",{"$f":"'T2-B(PP1)'!$F$137","v":0},"#'T2-B(PP1)'!$F$137"]
["pp1_bl4_8_8_total_out",{"$f":"'T2-B(PP1)'!$I$137","v":0},"#'T2-B(PP1)'!$I$137"]
["pp1_bl4_8_8_unit",{"$f":"'T2-B(PP1)'!$C$137","v":0},"#'T2-B(PP1)'!$C$137"]
["pp1_bl4_8_8_unit_in",{"$f":"'T2-B(PP1)'!$D$137","v":0},"#'T2-B(PP1)'!$D$137"]
["pp1_bl4_8_8_units_out",{"$f":"'T2-B(PP1)'!$G$137","v":0},"#'T2-B(PP1)'!$G$137"]
["pp1_bl4_8_9_name",{"$f":"'T2-B(PP1)'!$B$138","v":0},"#'T2-B(PP1)'!$B$138"]
["pp1_bl4_8_9_rate_in",{"$f":"'T2-B(PP1)'!$E$138","v":0},"#'T2-B(PP1)'!$E$138"]
["pp1_bl4_8_9_rate_out",{"$f":"'T2-B(PP1)'!$H$138","v":0},"#'T2-B(PP1)'!$H$138"]
["pp1_bl4_8_9_total",{"$f":"'T2-B(PP1)'!$J$138","v":0},"#'T2-B(PP1)'!$J$138"]
["pp1_bl4_8_9_total_in",{"$f":"'T2-B(PP1)'!$F$138","v":0},"#'T2-B(PP1)'!$F$138"]
["pp1_bl4_8_9_total_out",{"$f":"'T2-B(PP1)'!$I$138","v":0},"#'T2-B(PP1)'!$I$138"]
["pp1_bl4_8_9_unit",{"$f":"'T2-B(PP1)'!$C$138","v":0},"#'T2-B(PP1)'!$C$138"]
["pp1_bl4_8_9_unit_in",{"$f":"'T2-B(PP1)'!$D$138","v":0},"#'T2-B(PP1)'!$D$138"]
["pp1_bl4_8_9_units_out",{"$f":"'T2-B(PP1)'!$G$138","v":0},"#'T2-B(PP1)'!$G$138"]
["pp1_bl4_8_total",{"$f":"'T2-B(PP1)'!$J$129","v":0},"#'T2-B(PP1)'!$J$129"]
["pp1_bl4_8_total_in",{"$f":"'T2-B(PP1)'!$F$129","v":0},"#'T2-B(PP1)'!$F$129"]
["pp1_bl4_8_total_out",{"$f":"'T2-B(PP1)'!$I$129","v":0},"#'T2-B(PP1)'!$I$129"]
["pp1_bl4_9_1_name",{"$f":"'T2-B(PP1)'!$B$141","v":0},"#'T2-B(PP1)'!$B$141"]
["pp1_bl4_9_1_rate_in",{"$f":"'T2-B(PP1)'!$E$141","v":0},"#'T2-B(PP1)'!$E$141"]
["pp1_bl4_9_1_rate_out",{"$f":"'T2-B(PP1)'!$H$141","v":0},"#'T2-B(PP1)'!$H$141"]
["pp1_bl4_9_1_total",{"$f":"'T2-B(PP1)'!$J$141","v":0},"#'T2-B(PP1)'!$J$141"]
["pp1_bl4_9_1_total_in",{"$f":"'T2-B(PP1)'!$F$141","v":0},"#'T2-B(PP1)'!$F$141"]
["pp1_bl4_9_1_total_out",{"$f":"'T2-B(PP1)'!$I$141","v":0},"#'T2-B(PP1)'!$I$141"]
["pp1_bl4_9_1_unit",{"$f":"'T2-B(PP1)'!$C$141","v":0},"#'T2-B(PP1)'!$C$141"]
["pp1_bl4_9_1_unit_in",{"$f":"'T2-B(PP1)'!$D$141","v":0},"#'T2-B(PP1)'!$D$141"]
["pp1_bl4_9_1_units_out",{"$f":"'T2-B(PP1)'!$G$141","v":0},"#'T2-B(PP1)'!$G$141"]
["pp1_bl4_9_10_name",{"$f":"'T2-B(PP1)'!$B$150","v":0},"#'T2-B(PP1)'!$B$150"]
["pp1_bl4_9_10_rate_in",{"$f":"'T2-B(PP1)'!$E$150","v":0},"#'T2-B(PP1)'!$E$150"]
["pp1_bl4_9_10_rate_out",{"$f":"'T2-B(PP1)'!$H$150","v":0},"#'T2-B(PP1)'!$H$150"]
["pp1_bl4_9_10_total",{"$f":"'T2-B(PP1)'!$J$150","v":0},"#'T2-B(PP1)'!$J$150"]
["pp1_bl4_9_10_total_in",{"$f":"'T2-B(PP1)'!$F$150","v":0},"#'T2-B(PP1)'!$F$150"]
["pp1_bl4_9_10_total_out",{"$f":"'T2-B(PP1)'!$I$150","v":0},"#'T2-B(PP1)'!$I$150"]
["pp1_bl4_9_10_unit",{"$f":"'T2-B(PP1)'!$C$150","v":0},"#'T2-B(PP1)'!$C$150"]
["pp1_bl4_9_10_unit_in",{"$f":"'T2-B(PP1)'!$D$150","v":0},"#'T2-B(PP1)'!$D$150"]
["pp1_bl4_9_10_units_out",{"$f":"'T2-B(PP1)'!$G$150","v":0},"#'T2-B(PP1)'!$G$150"]
["pp1_bl4_9_2_name",{"$f":"'T2-B(PP1)'!$B$142","v":0},"#'T2-B(PP1)'!$B$142"]
["pp1_bl4_9_2_rate_in",{"$f":"'T2-B(PP1)'!$E$142","v":0},"#'T2-B(PP1)'!$E$142"]
["pp1_bl4_9_2_rate_out",{"$f":"'T2-B(PP1)'!$H$142","v":0},"#'T2-B(PP1)'!$H$142"]
["pp1_bl4_9_2_total",{"$f":"'T2-B(PP1)'!$J$142","v":0},"#'T2-B(PP1)'!$J$142"]
["pp1_bl4_9_2_total_in",{"$f":"'T2-B(PP1)'!$F$142","v":0},"#'T2-B(PP1)'!$F$142"]
["pp1_bl4_9_2_total_out",{"$f":"'T2-B(PP1)'!$I$142","v":0},"#'T2-B(PP1)'!$I$142"]
["pp1_bl4_9_2_unit",{"$f":"'T2-B(PP1)'!$C$142","v":0},"#'T2-B(PP1)'!$C$142"]
["pp1_bl4_9_2_unit_in",{"$f":"'T2-B(PP1)'!$D$142","v":0},"#'T2-B(PP1)'!$D$142"]
["pp1_bl4_9_2_units_out",{"$f":"'T2-B(PP1)'!$G$142","v":0},"#'T2-B(PP1)'!$G$142"]
["pp1_bl4_9_3_name",{"$f":"'T2-B(PP1)'!$B$143","v":0},"#'T2-B(PP1)'!$B$143"]
["pp1_bl4_9_3_rate_in",{"$f":"'T2-B(PP1)'!$E$143","v":0},"#'T2-B(PP1)'!$E$143"]
["pp1_bl4_9_3_rate_out",{"$f":"'T2-B(PP1)'!$H$143","v":0},"#'T2-B(PP1)'!$H$143"]
["pp1_bl4_9_3_total",{"$f":"'T2-B(PP1)'!$J$143","v":0},"#'T2-B(PP1)'!$J$143"]
["pp1_bl4_9_3_total_in",{"$f":"'T2-B(PP1)'!$F$143","v":0},"#'T2-B(PP1)'!$F$143"]
["pp1_bl4_9_3_total_out",{"$f":"'T2-B(PP1)'!$I$143","v":0},"#'T2-B(PP1)'!$I$143"]
["pp1_bl4_9_3_unit",{"$f":"'T2-B(PP1)'!$C$143","v":0},"#'T2-B(PP1)'!$C$143"]
["pp1_bl4_9_3_unit_in",{"$f":"'T2-B(PP1)'!$D$143","v":0},"#'T2-B(PP1)'!$D$143"]
["pp1_bl4_9_3_units_out",{"$f":"'T2-B(PP1)'!$G$143","v":0},"#'T2-B(PP1)'!$G$143"]
["pp1_bl4_9_4_name",{"$f":"'T2-B(PP1)'!$B$144","v":0},"#'T2-B(PP1)'!$B$144"]
["pp1_bl4_9_4_rate_in",{"$f":"'T2-B(PP1)'!$E$144","v":0},"#'T2-B(PP1)'!$E$144"]
["pp1_bl4_9_4_rate_out",{"$f":"'T2-B(PP1)'!$H$144","v":0},"#'T2-B(PP1)'!$H$144"]
["pp1_bl4_9_4_total",{"$f":"'T2-B(PP1)'!$J$144","v":0},"#'T2-B(PP1)'!$J$144"]
["pp1_bl4_9_4_total_in",{"$f":"'T2-B(PP1)'!$F$144","v":0},"#'T2-B(PP1)'!$F$144"]
["pp1_bl4_9_4_total_out",{"$f":"'T2-B(PP1)'!$I$144","v":0},"#'T2-B(PP1)'!$I$144"]
["pp1_bl4_9_4_unit",{"$f":"'T2-B(PP1)'!$C$144","v":0},"#'T2-B(PP1)'!$C$144"]
["pp1_bl4_9_4_unit_in",{"$f":"'T2-B(PP1)'!$D$144","v":0},"#'T2-B(PP1)'!$D$144"]
["pp1_bl4_9_4_units_out",{"$f":"'T2-B(PP1)'!$G$144","v":0},"#'T2-B(PP1)'!$G$144"]
["pp1_bl4_9_5_name",{"$f":"'T2-B(PP1)'!$B$145","v":0},"#'T2-B(PP1)'!$B$145"]
["pp1_bl4_9_5_rate_in",{"$f":"'T2-B(PP1)'!$E$145","v":0},"#'T2-B(PP1)'!$E$145"]
["pp1_bl4_9_5_rate_out",{"$f":"'T2-B(PP1)'!$H$145","v":0},"#'T2-B(PP1)'!$H$145"]
["pp1_bl4_9_5_total",{"$f":"'T2-B(PP1)'!$J$145","v":0},"#'T2-B(PP1)'!$J$145"]
["pp1_bl4_9_5_total_in",{"$f":"'T2-B(PP1)'!$F$145","v":0},"#'T2-B(PP1)'!$F$145"]
["pp1_bl4_9_5_total_out",{"$f":"'T2-B(PP1)'!$I$145","v":0},"#'T2-B(PP1)'!$I$145"]
["pp1_bl4_9_5_unit",{"$f":"'T2-B(PP1)'!$C$145","v":0},"#'T2-B(PP1)'!$C$145"]
["pp1_bl4_9_5_unit_in",{"$f":"'T2-B(PP1)'!$D$145","v":0},"#'T2-B(PP1)'!$D$145"]
["pp1_bl4_9_5_units_out",{"$f":"'T2-B(PP1)'!$G$145","v":0},"#'T2-B(PP1)'!$G$145"]
["pp1_bl4_9_6_name",{"$f":"'T2-B(PP1)'!$B$146","v":0},"#'T2-B(PP1)'!$B$146"]
["pp1_bl4_9_6_rate_in",{"$f":"'T2-B(PP1)'!$E$146","v":0},"#'T2-B(PP1)'!$E$146"]
["pp1_bl4_9_6_rate_out",{"$f":"'T2-B(PP1)'!$H$146","v":0},"#'T2-B(PP1)'!$H$146"]
["pp1_bl4_9_6_total",{"$f":"'T2-B(PP1)'!$J$146","v":0},"#'T2-B(PP1)'!$J$146"]
["pp1_bl4_9_6_total_in",{"$f":"'T2-B(PP1)'!$F$146","v":0},"#'T2-B(PP1)'!$F$146"]
["pp1_bl4_9_6_total_out",{"$f":"'T2-B(PP1)'!$I$146","v":0},"#'T2-B(PP1)'!$I$146"]
["pp1_bl4_9_6_unit",{"$f":"'T2-B(PP1)'!$C$146","v":0},"#'T2-B(PP1)'!$C$146"]
["pp1_bl4_9_6_unit_in",{"$f":"'T2-B(PP1)'!$D$146","v":0},"#'T2-B(PP1)'!$D$146"]
["pp1_bl4_9_6_units_out",{"$f":"'T2-B(PP1)'!$G$146","v":0},"#'T2-B(PP1)'!$G$146"]
["pp1_bl4_9_7_name",{"$f":"'T2-B(PP1)'!$B$147","v":0},"#'T2-B(PP1)'!$B$147"]
["pp1_bl4_9_7_rate_in",{"$f":"'T2-B(PP1)'!$E$147","v":0},"#'T2-B(PP1)'!$E$147"]
["pp1_bl4_9_7_rate_out",{"$f":"'T2-B(PP1)'!$H$147","v":0},"#'T2-B(PP1)'!$H$147"]
["pp1_bl4_9_7_total",{"$f":"'T2-B(PP1)'!$J$147","v":0},"#'T2-B(PP1)'!$J$147"]
["pp1_bl4_9_7_total_in",{"$f":"'T2-B(PP1)'!$F$147","v":0},"#'T2-B(PP1)'!$F$147"]
["pp1_bl4_9_7_total_out",{"$f":"'T2-B(PP1)'!$I$147","v":0},"#'T2-B(PP1)'!$I$147"]
["pp1_bl4_9_7_unit",{"$f":"'T2-B(PP1)'!$C$147","v":0},"#'T2-B(PP1)'!$C$147"]
["pp1_bl4_9_7_unit_in",{"$f":"'T2-B(PP1)'!$D$147","v":0},"#'T2-B(PP1)'!$D$147"]
["pp1_bl4_9_7_units_out",{"$f":"'T2-B(PP1)'!$G$147","v":0},"#'T2-B(PP1)'!$G$147"]
["pp1_bl4_9_8_name",{"$f":"'T2-B(PP1)'!$B$148","v":0},"#'T2-B(PP1)'!$B$148"]
["pp1_bl4_9_8_rate_in",{"$f":"'T2-B(PP1)'!$E$148","v":0},"#'T2-B(PP1)'!$E$148"]
["pp1_bl4_9_8_rate_out",{"$f":"'T2-B(PP1)'!$H$148","v":0},"#'T2-B(PP1)'!$H$148"]
["pp1_bl4_9_8_total",{"$f":"'T2-B(PP1)'!$J$148","v":0},"#'T2-B(PP1)'!$J$148"]
["pp1_bl4_9_8_total_in",{"$f":"'T2-B(PP1)'!$F$148","v":0},"#'T2-B(PP1)'!$F$148"]
["pp1_bl4_9_8_total_out",{"$f":"'T2-B(PP1)'!$I$148","v":0},"#'T2-B(PP1)'!$I$148"]
["pp1_bl4_9_8_unit",{"$f":"'T2-B(PP1)'!$C$148","v":0},"#'T2-B(PP1)'!$C$148"]
["pp1_bl4_9_8_unit_in",{"$f":"'T2-B(PP1)'!$D$148","v":0},"#'T2-B(PP1)'!$D$148"]
["pp1_bl4_9_8_units_out",{"$f":"'T2-B(PP1)'!$G$148","v":0},"#'T2-B(PP1)'!$G$148"]
["pp1_bl4_9_9_name",{"$f":"'T2-B(PP1)'!$B$149","v":0},"#'T2-B(PP1)'!$B$149"]
["pp1_bl4_9_9_rate_in",{"$f":"'T2-B(PP1)'!$E$149","v":0},"#'T2-B(PP1)'!$E$149"]
["pp1_bl4_9_9_rate_out",{"$f":"'T2-B(PP1)'!$H$149","v":0},"#'T2-B(PP1)'!$H$149"]
["pp1_bl4_9_9_total",{"$f":"'T2-B(PP1)'!$J$149","v":0},"#'T2-B(PP1)'!$J$149"]
["pp1_bl4_9_9_total_in",{"$f":"'T2-B(PP1)'!$F$149","v":0},"#'T2-B(PP1)'!$F$149"]
["pp1_bl4_9_9_total_out",{"$f":"'T2-B(PP1)'!$I$149","v":0},"#'T2-B(PP1)'!$I$149"]
["pp1_bl4_9_9_unit",{"$f":"'T2-B(PP1)'!$C$149","v":0},"#'T2-B(PP1)'!$C$149"]
["pp1_bl4_9_9_unit_in",{"$f":"'T2-B(PP1)'!$D$149","v":0},"#'T2-B(PP1)'!$D$149"]
["pp1_bl4_9_9_units_out",{"$f":"'T2-B(PP1)'!$G$149","v":0},"#'T2-B(PP1)'!$G$149"]
["pp1_bl4_9_total",{"$f":"'T2-B(PP1)'!$J$140","v":0},"#'T2-B(PP1)'!$J$140"]
["pp1_bl4_9_total_in",{"$f":"'T2-B(PP1)'!$F$140","v":0},"#'T2-B(PP1)'!$F$140"]
["pp1_bl4_9_total_out",{"$f":"'T2-B(PP1)'!$I$140","v":0},"#'T2-B(PP1)'!$I$140"]
["pp1_bl4_total",{"$f":"'T2-B(PP1)'!$J$206","v":0},"#'T2-B(PP1)'!$J$206"]
["pp1_bl4_total_in",{"$f":"'T2-B(PP1)'!$F$206","v":0},"#'T2-B(PP1)'!$F$206"]
["pp1_bl4_total_out",{"$f":"'T2-B(PP1)'!$I$206","v":0},"#'T2-B(PP1)'!$I$206"]
["pp1_bl5_1_1_name",{"$f":"'T2-B(PP1)'!$B$211","v":0},"#'T2-B(PP1)'!$B$211"]
["pp1_bl5_1_1_rate_in",{"$f":"'T2-B(PP1)'!$E$211","v":0},"#'T2-B(PP1)'!$E$211"]
["pp1_bl5_1_1_rate_out",{"$f":"'T2-B(PP1)'!$H$211","v":0},"#'T2-B(PP1)'!$H$211"]
["pp1_bl5_1_1_total",{"$f":"'T2-B(PP1)'!$J$211","v":0},"#'T2-B(PP1)'!$J$211"]
["pp1_bl5_1_1_total_in",{"$f":"'T2-B(PP1)'!$F$211","v":0},"#'T2-B(PP1)'!$F$211"]
["pp1_bl5_1_1_total_out",{"$f":"'T2-B(PP1)'!$I$211","v":0},"#'T2-B(PP1)'!$I$211"]
["pp1_bl5_1_1_unit",{"$f":"'T2-B(PP1)'!$C$211","v":0},"#'T2-B(PP1)'!$C$211"]
["pp1_bl5_1_1_unit_in",{"$f":"'T2-B(PP1)'!$D$211","v":0},"#'T2-B(PP1)'!$D$211"]
["pp1_bl5_1_1_units_out",{"$f":"'T2-B(PP1)'!$G$211","v":0},"#'T2-B(PP1)'!$G$211"]
["pp1_bl5_1_10_name",{"$f":"'T2-B(PP1)'!$B$220","v":0},"#'T2-B(PP1)'!$B$220"]
["pp1_bl5_1_10_rate_in",{"$f":"'T2-B(PP1)'!$E$220","v":0},"#'T2-B(PP1)'!$E$220"]
["pp1_bl5_1_10_rate_out",{"$f":"'T2-B(PP1)'!$H$220","v":0},"#'T2-B(PP1)'!$H$220"]
["pp1_bl5_1_10_total",{"$f":"'T2-B(PP1)'!$J$220","v":0},"#'T2-B(PP1)'!$J$220"]
["pp1_bl5_1_10_total_in",{"$f":"'T2-B(PP1)'!$F$220","v":0},"#'T2-B(PP1)'!$F$220"]
["pp1_bl5_1_10_total_out",{"$f":"'T2-B(PP1)'!$I$220","v":0},"#'T2-B(PP1)'!$I$220"]
["pp1_bl5_1_10_unit",{"$f":"'T2-B(PP1)'!$C$220","v":0},"#'T2-B(PP1)'!$C$220"]
["pp1_bl5_1_10_unit_in",{"$f":"'T2-B(PP1)'!$D$220","v":0},"#'T2-B(PP1)'!$D$220"]
["pp1_bl5_1_10_units_out",{"$f":"'T2-B(PP1)'!$G$220","v":0},"#'T2-B(PP1)'!$G$220"]
["pp1_bl5_1_2_name",{"$f":"'T2-B(PP1)'!$B$212","v":0},"#'T2-B(PP1)'!$B$212"]
["pp1_bl5_1_2_rate_in",{"$f":"'T2-B(PP1)'!$E$212","v":0},"#'T2-B(PP1)'!$E$212"]
["pp1_bl5_1_2_rate_out",{"$f":"'T2-B(PP1)'!$H$212","v":0},"#'T2-B(PP1)'!$H$212"]
["pp1_bl5_1_2_total",{"$f":"'T2-B(PP1)'!$J$212","v":0},"#'T2-B(PP1)'!$J$212"]
["pp1_bl5_1_2_total_in",{"$f":"'T2-B(PP1)'!$F$212","v":0},"#'T2-B(PP1)'!$F$212"]
["pp1_bl5_1_2_total_out",{"$f":"'T2-B(PP1)'!$I$212","v":0},"#'T2-B(PP1)'!$I$212"]
["pp1_bl5_1_2_unit",{"$f":"'T2-B(PP1)'!$C$212","v":0},"#'T2-B(PP1)'!$C$212"]
["pp1_bl5_1_2_unit_in",{"$f":"'T2-B(PP1)'!$D$212","v":0},"#'T2-B(PP1)'!$D$212"]
["pp1_bl5_1_2_units_out",{"$f":"'T2-B(PP1)'!$G$212","v":0},"#'T2-B(PP1)'!$G$212"]
["pp1_bl5_1_3_name",{"$f":"'T2-B(PP1)'!$B$213","v":0},"#'T2-B(PP1)'!$B$213"]
["pp1_bl5_1_3_rate_in",{"$f":"'T2-B(PP1)'!$E$213","v":0},"#'T2-B(PP1)'!$E$213"]
["pp1_bl5_1_3_rate_out",{"$f":"'T2-B(PP1)'!$H$213","v":0},"#'T2-B(PP1)'!$H$213"]
["pp1_bl5_1_3_total",{"$f":"'T2-B(PP1)'!$J$213","v":0},"#'T2-B(PP1)'!$J$213"]
["pp1_bl5_1_3_total_in",{"$f":"'T2-B(PP1)'!$F$213","v":0},"#'T2-B(PP1)'!$F$213"]
["pp1_bl5_1_3_total_out",{"$f":"'T2-B(PP1)'!$I$213","v":0},"#'T2-B(PP1)'!$I$213"]
["pp1_bl5_1_3_unit",{"$f":"'T2-B(PP1)'!$C$213","v":0},"#'T2-B(PP1)'!$C$213"]
["pp1_bl5_1_3_unit_in",{"$f":"'T2-B(PP1)'!$D$213","v":0},"#'T2-B(PP1)'!$D$213"]
["pp1_bl5_1_3_units_out",{"$f":"'T2-B(PP1)'!$G$213","v":0},"#'T2-B(PP1)'!$G$213"]
["pp1_bl5_1_4_name",{"$f":"'T2-B(PP1)'!$B$214","v":0},"#'T2-B(PP1)'!$B$214"]
["pp1_bl5_1_4_rate_in",{"$f":"'T2-B(PP1)'!$E$214","v":0},"#'T2-B(PP1)'!$E$214"]
["pp1_bl5_1_4_rate_out",{"$f":"'T2-B(PP1)'!$H$214","v":0},"#'T2-B(PP1)'!$H$214"]
["pp1_bl5_1_4_total",{"$f":"'T2-B(PP1)'!$J$214","v":0},"#'T2-B(PP1)'!$J$214"]
["pp1_bl5_1_4_total_in",{"$f":"'T2-B(PP1)'!$F$214","v":0},"#'T2-B(PP1)'!$F$214"]
["pp1_bl5_1_4_total_out",{"$f":"'T2-B(PP1)'!$I$214","v":0},"#'T2-B(PP1)'!$I$214"]
["pp1_bl5_1_4_unit",{"$f":"'T2-B(PP1)'!$C$214","v":0},"#'T2-B(PP1)'!$C$214"]
["pp1_bl5_1_4_unit_in",{"$f":"'T2-B(PP1)'!$D$214","v":0},"#'T2-B(PP1)'!$D$214"]
["pp1_bl5_1_4_units_out",{"$f":"'T2-B(PP1)'!$G$214","v":0},"#'T2-B(PP1)'!$G$214"]
["pp1_bl5_1_5_name",{"$f":"'T2-B(PP1)'!$B$215","v":0},"#'T2-B(PP1)'!$B$215"]
["pp1_bl5_1_5_rate_in",{"$f":"'T2-B(PP1)'!$E$215","v":0},"#'T2-B(PP1)'!$E$215"]
["pp1_bl5_1_5_rate_out",{"$f":"'T2-B(PP1)'!$H$215","v":0},"#'T2-B(PP1)'!$H$215"]
["pp1_bl5_1_5_total",{"$f":"'T2-B(PP1)'!$J$215","v":0},"#'T2-B(PP1)'!$J$215"]
["pp1_bl5_1_5_total_in",{"$f":"'T2-B(PP1)'!$F$215","v":0},"#'T2-B(PP1)'!$F$215"]
["pp1_bl5_1_5_total_out",{"$f":"'T2-B(PP1)'!$I$215","v":0},"#'T2-B(PP1)'!$I$215"]
["pp1_bl5_1_5_unit",{"$f":"'T2-B(PP1)'!$C$215","v":0},"#'T2-B(PP1)'!$C$215"]
["pp1_bl5_1_5_unit_in",{"$f":"'T2-B(PP1)'!$D$215","v":0},"#'T2-B(PP1)'!$D$215"]
["pp1_bl5_1_5_units_out",{"$f":"'T2-B(PP1)'!$G$215","v":0},"#'T2-B(PP1)'!$G$215"]
["pp1_bl5_1_6_name",{"$f":"'T2-B(PP1)'!$B$216","v":0},"#'T2-B(PP1)'!$B$216"]
["pp1_bl5_1_6_rate_in",{"$f":"'T2-B(PP1)'!$E$216","v":0},"#'T2-B(PP1)'!$E$216"]
["pp1_bl5_1_6_rate_out",{"$f":"'T2-B(PP1)'!$H$216","v":0},"#'T2-B(PP1)'!$H$216"]
["pp1_bl5_1_6_total",{"$f":"'T2-B(PP1)'!$J$216","v":0},"#'T2-B(PP1)'!$J$216"]
["pp1_bl5_1_6_total_in",{"$f":"'T2-B(PP1)'!$F$216","v":0},"#'T2-B(PP1)'!$F$216"]
["pp1_bl5_1_6_total_out",{"$f":"'T2-B(PP1)'!$I$216","v":0},"#'T2-B(PP1)'!$I$216"]
["pp1_bl5_1_6_unit",{"$f":"'T2-B(PP1)'!$C$216","v":0},"#'T2-B(PP1)'!$C$216"]
["pp1_bl5_1_6_unit_in",{"$f":"'T2-B(PP1)'!$D$216","v":0},"#'T2-B(PP1)'!$D$216"]
["pp1_bl5_1_6_units_out",{"$f":"'T2-B(PP1)'!$G$216","v":0},"#'T2-B(PP1)'!$G$216"]
["pp1_bl5_1_7_name",{"$f":"'T2-B(PP1)'!$B$217","v":0},"#'T2-B(PP1)'!$B$217"]
["pp1_bl5_1_7_rate_in",{"$f":"'T2-B(PP1)'!$E$217","v":0},"#'T2-B(PP1)'!$E$217"]
["pp1_bl5_1_7_rate_out",{"$f":"'T2-B(PP1)'!$H$217","v":0},"#'T2-B(PP1)'!$H$217"]
["pp1_bl5_1_7_total",{"$f":"'T2-B(PP1)'!$J$217","v":0},"#'T2-B(PP1)'!$J$217"]
["pp1_bl5_1_7_total_in",{"$f":"'T2-B(PP1)'!$F$217","v":0},"#'T2-B(PP1)'!$F$217"]
["pp1_bl5_1_7_total_out",{"$f":"'T2-B(PP1)'!$I$217","v":0},"#'T2-B(PP1)'!$I$217"]
["pp1_bl5_1_7_unit",{"$f":"'T2-B(PP1)'!$C$217","v":0},"#'T2-B(PP1)'!$C$217"]
["pp1_bl5_1_7_unit_in",{"$f":"'T2-B(PP1)'!$D$217","v":0},"#'T2-B(PP1)'!$D$217"]
["pp1_bl5_1_7_units_out",{"$f":"'T2-B(PP1)'!$G$217","v":0},"#'T2-B(PP1)'!$G$217"]
["pp1_bl5_1_8_name",{"$f":"'T2-B(PP1)'!$B$218","v":0},"#'T2-B(PP1)'!$B$218"]
["pp1_bl5_1_8_rate_in",{"$f":"'T2-B(PP1)'!$E$218","v":0},"#'T2-B(PP1)'!$E$218"]
["pp1_bl5_1_8_rate_out",{"$f":"'T2-B(PP1)'!$H$218","v":0},"#'T2-B(PP1)'!$H$218"]
["pp1_bl5_1_8_total",{"$f":"'T2-B(PP1)'!$J$218","v":0},"#'T2-B(PP1)'!$J$218"]
["pp1_bl5_1_8_total_in",{"$f":"'T2-B(PP1)'!$F$218","v":0},"#'T2-B(PP1)'!$F$218"]
["pp1_bl5_1_8_total_out",{"$f":"'T2-B(PP1)'!$I$218","v":0},"#'T2-B(PP1)'!$I$218"]
["pp1_bl5_1_8_unit",{"$f":"'T2-B(PP1)'!$C$218","v":0},"#'T2-B(PP1)'!$C$218"]
["pp1_bl5_1_8_unit_in",{"$f":"'T2-B(PP1)'!$D$218","v":0},"#'T2-B(PP1)'!$D$218"]
["pp1_bl5_1_8_units_out",{"$f":"'T2-B(PP1)'!$G$218","v":0},"#'T2-B(PP1)'!$G$218"]
["pp1_bl5_1_9_name",{"$f":"'T2-B(PP1)'!$B$219","v":0},"#'T2-B(PP1)'!$B$219"]
["pp1_bl5_1_9_rate_in",{"$f":"'T2-B(PP1)'!$E$219","v":0},"#'T2-B(PP1)'!$E$219"]
["pp1_bl5_1_9_rate_out",{"$f":"'T2-B(PP1)'!$H$219","v":0},"#'T2-B(PP1)'!$H$219"]
["pp1_bl5_1_9_total",{"$f":"'T2-B(PP1)'!$J$219","v":0},"#'T2-B(PP1)'!$J$219"]
["pp1_bl5_1_9_total_in",{"$f":"'T2-B(PP1)'!$F$219","v":0},"#'T2-B(PP1)'!$F$219"]
["pp1_bl5_1_9_total_out",{"$f":"'T2-B(PP1)'!$I$219","v":0},"#'T2-B(PP1)'!$I$219"]
["pp1_bl5_1_9_unit",{"$f":"'T2-B(PP1)'!$C$219","v":0},"#'T2-B(PP1)'!$C$219"]
["pp1_bl5_1_9_unit_in",{"$f":"'T2-B(PP1)'!$D$219","v":0},"#'T2-B(PP1)'!$D$219"]
["pp1_bl5_1_9_units_out",{"$f":"'T2-B(PP1)'!$G$219","v":0},"#'T2-B(PP1)'!$G$219"]
["pp1_bl5_1_total",{"$f":"'T2-B(PP1)'!$J$210","v":0},"#'T2-B(PP1)'!$J$210"]
["pp1_bl5_1_total_in",{"$f":"'T2-B(PP1)'!$F$210","v":0},"#'T2-B(PP1)'!$F$210"]
["pp1_bl5_1_total_out",{"$f":"'T2-B(PP1)'!$I$210","v":0},"#'T2-B(PP1)'!$I$210"]
["pp1_bl5_2_1_name",{"$f":"'T2-B(PP1)'!$B$222","v":0},"#'T2-B(PP1)'!$B$222"]
["pp1_bl5_2_1_rate_in",{"$f":"'T2-B(PP1)'!$E$222","v":0},"#'T2-B(PP1)'!$E$222"]
["pp1_bl5_2_1_rate_out",{"$f":"'T2-B(PP1)'!$H$222","v":0},"#'T2-B(PP1)'!$H$222"]
["pp1_bl5_2_1_total",{"$f":"'T2-B(PP1)'!$J$222","v":0},"#'T2-B(PP1)'!$J$222"]
["pp1_bl5_2_1_total_in",{"$f":"'T2-B(PP1)'!$F$222","v":0},"#'T2-B(PP1)'!$F$222"]
["pp1_bl5_2_1_total_out",{"$f":"'T2-B(PP1)'!$I$222","v":0},"#'T2-B(PP1)'!$I$222"]
["pp1_bl5_2_1_unit",{"$f":"'T2-B(PP1)'!$C$222","v":0},"#'T2-B(PP1)'!$C$222"]
["pp1_bl5_2_1_unit_in",{"$f":"'T2-B(PP1)'!$D$222","v":0},"#'T2-B(PP1)'!$D$222"]
["pp1_bl5_2_1_units_out",{"$f":"'T2-B(PP1)'!$G$222","v":0},"#'T2-B(PP1)'!$G$222"]
["pp1_bl5_2_10_name",{"$f":"'T2-B(PP1)'!$B$231","v":0},"#'T2-B(PP1)'!$B$231"]
["pp1_bl5_2_10_rate_in",{"$f":"'T2-B(PP1)'!$E$231","v":0},"#'T2-B(PP1)'!$E$231"]
["pp1_bl5_2_10_rate_out",{"$f":"'T2-B(PP1)'!$H$231","v":0},"#'T2-B(PP1)'!$H$231"]
["pp1_bl5_2_10_total",{"$f":"'T2-B(PP1)'!$J$231","v":0},"#'T2-B(PP1)'!$J$231"]
["pp1_bl5_2_10_total_in",{"$f":"'T2-B(PP1)'!$F$231","v":0},"#'T2-B(PP1)'!$F$231"]
["pp1_bl5_2_10_total_out",{"$f":"'T2-B(PP1)'!$I$231","v":0},"#'T2-B(PP1)'!$I$231"]
["pp1_bl5_2_10_unit",{"$f":"'T2-B(PP1)'!$C$231","v":0},"#'T2-B(PP1)'!$C$231"]
["pp1_bl5_2_10_unit_in",{"$f":"'T2-B(PP1)'!$D$231","v":0},"#'T2-B(PP1)'!$D$231"]
["pp1_bl5_2_10_units_out",{"$f":"'T2-B(PP1)'!$G$231","v":0},"#'T2-B(PP1)'!$G$231"]
["pp1_bl5_2_2_name",{"$f":"'T2-B(PP1)'!$B$223","v":0},"#'T2-B(PP1)'!$B$223"]
["pp1_bl5_2_2_rate_in",{"$f":"'T2-B(PP1)'!$E$223","v":0},"#'T2-B(PP1)'!$E$223"]
["pp1_bl5_2_2_rate_out",{"$f":"'T2-B(PP1)'!$H$223","v":0},"#'T2-B(PP1)'!$H$223"]
["pp1_bl5_2_2_total",{"$f":"'T2-B(PP1)'!$J$223","v":0},"#'T2-B(PP1)'!$J$223"]
["pp1_bl5_2_2_total_in",{"$f":"'T2-B(PP1)'!$F$223","v":0},"#'T2-B(PP1)'!$F$223"]
["pp1_bl5_2_2_total_out",{"$f":"'T2-B(PP1)'!$I$223","v":0},"#'T2-B(PP1)'!$I$223"]
["pp1_bl5_2_2_unit",{"$f":"'T2-B(PP1)'!$C$223","v":0},"#'T2-B(PP1)'!$C$223"]
["pp1_bl5_2_2_unit_in",{"$f":"'T2-B(PP1)'!$D$223","v":0},"#'T2-B(PP1)'!$D$223"]
["pp1_bl5_2_2_units_out",{"$f":"'T2-B(PP1)'!$G$223","v":0},"#'T2-B(PP1)'!$G$223"]
["pp1_bl5_2_3_name",{"$f":"'T2-B(PP1)'!$B$224","v":0},"#'T2-B(PP1)'!$B$224"]
["pp1_bl5_2_3_rate_in",{"$f":"'T2-B(PP1)'!$E$224","v":0},"#'T2-B(PP1)'!$E$224"]
["pp1_bl5_2_3_rate_out",{"$f":"'T2-B(PP1)'!$H$224","v":0},"#'T2-B(PP1)'!$H$224"]
["pp1_bl5_2_3_total",{"$f":"'T2-B(PP1)'!$J$224","v":0},"#'T2-B(PP1)'!$J$224"]
["pp1_bl5_2_3_total_in",{"$f":"'T2-B(PP1)'!$F$224","v":0},"#'T2-B(PP1)'!$F$224"]
["pp1_bl5_2_3_total_out",{"$f":"'T2-B(PP1)'!$I$224","v":0},"#'T2-B(PP1)'!$I$224"]
["pp1_bl5_2_3_unit",{"$f":"'T2-B(PP1)'!$C$224","v":0},"#'T2-B(PP1)'!$C$224"]
["pp1_bl5_2_3_unit_in",{"$f":"'T2-B(PP1)'!$D$224","v":0},"#'T2-B(PP1)'!$D$224"]
["pp1_bl5_2_3_units_out",{"$f":"'T2-B(PP1)'!$G$224","v":0},"#'T2-B(PP1)'!$G$224"]
["pp1_bl5_2_4_name",{"$f":"'T2-B(PP1)'!$B$225","v":0},"#'T2-B(PP1)'!$B$225"]
["pp1_bl5_2_4_rate_in",{"$f":"'T2-B(PP1)'!$E$225","v":0},"#'T2-B(PP1)'!$E$225"]
["pp1_bl5_2_4_rate_out",{"$f":"'T2-B(PP1)'!$H$225","v":0},"#'T2-B(PP1)'!$H$225"]
["pp1_bl5_2_4_total",{"$f":"'T2-B(PP1)'!$J$225","v":0},"#'T2-B(PP1)'!$J$225"]
["pp1_bl5_2_4_total_in",{"$f":"'T2-B(PP1)'!$F$225","v":0},"#'T2-B(PP1)'!$F$225"]
["pp1_bl5_2_4_total_out",{"$f":"'T2-B(PP1)'!$I$225","v":0},"#'T2-B(PP1)'!$I$225"]
["pp1_bl5_2_4_unit",{"$f":"'T2-B(PP1)'!$C$225","v":0},"#'T2-B(PP1)'!$C$225"]
["pp1_bl5_2_4_unit_in",{"$f":"'T2-B(PP1)'!$D$225","v":0},"#'T2-B(PP1)'!$D$225"]
["pp1_bl5_2_4_units_out",{"$f":"'T2-B(PP1)'!$G$225","v":0},"#'T2-B(PP1)'!$G$225"]
["pp1_bl5_2_5_name",{"$f":"'T2-B(PP1)'!$B$226","v":0},"#'T2-B(PP1)'!$B$226"]
["pp1_bl5_2_5_rate_in",{"$f":"'T2-B(PP1)'!$E$226","v":0},"#'T2-B(PP1)'!$E$226"]
["pp1_bl5_2_5_rate_out",{"$f":"'T2-B(PP1)'!$H$226","v":0},"#'T2-B(PP1)'!$H$226"]
["pp1_bl5_2_5_total",{"$f":"'T2-B(PP1)'!$J$226","v":0},"#'T2-B(PP1)'!$J$226"]
["pp1_bl5_2_5_total_in",{"$f":"'T2-B(PP1)'!$F$226","v":0},"#'T2-B(PP1)'!$F$226"]
["pp1_bl5_2_5_total_out",{"$f":"'T2-B(PP1)'!$I$226","v":0},"#'T2-B(PP1)'!$I$226"]
["pp1_bl5_2_5_unit",{"$f":"'T2-B(PP1)'!$C$226","v":0},"#'T2-B(PP1)'!$C$226"]
["pp1_bl5_2_5_unit_in",{"$f":"'T2-B(PP1)'!$D$226","v":0},"#'T2-B(PP1)'!$D$226"]
["pp1_bl5_2_5_units_out",{"$f":"'T2-B(PP1)'!$G$226","v":0},"#'T2-B(PP1)'!$G$226"]
["pp1_bl5_2_6_name",{"$f":"'T2-B(PP1)'!$B$227","v":0},"#'T2-B(PP1)'!$B$227"]
["pp1_bl5_2_6_rate_in",{"$f":"'T2-B(PP1)'!$E$227","v":0},"#'T2-B(PP1)'!$E$227"]
["pp1_bl5_2_6_rate_out",{"$f":"'T2-B(PP1)'!$H$227","v":0},"#'T2-B(PP1)'!$H$227"]
["pp1_bl5_2_6_total",{"$f":"'T2-B(PP1)'!$J$227","v":0},"#'T2-B(PP1)'!$J$227"]
["pp1_bl5_2_6_total_in",{"$f":"'T2-B(PP1)'!$F$227","v":0},"#'T2-B(PP1)'!$F$227"]
["pp1_bl5_2_6_total_out",{"$f":"'T2-B(PP1)'!$I$227","v":0},"#'T2-B(PP1)'!$I$227"]
["pp1_bl5_2_6_unit",{"$f":"'T2-B(PP1)'!$C$227","v":0},"#'T2-B(PP1)'!$C$227"]
["pp1_bl5_2_6_unit_in",{"$f":"'T2-B(PP1)'!$D$227","v":0},"#'T2-B(PP1)'!$D$227"]
["pp1_bl5_2_6_units_out",{"$f":"'T2-B(PP1)'!$G$227","v":0},"#'T2-B(PP1)'!$G$227"]
["pp1_bl5_2_7_name",{"$f":"'T2-B(PP1)'!$B$228","v":0},"#'T2-B(PP1)'!$B$228"]
["pp1_bl5_2_7_rate_in",{"$f":"'T2-B(PP1)'!$E$228","v":0},"#'T2-B(PP1)'!$E$228"]
["pp1_bl5_2_7_rate_out",{"$f":"'T2-B(PP1)'!$H$228","v":0},"#'T2-B(PP1)'!$H$228"]
["pp1_bl5_2_7_total",{"$f":"'T2-B(PP1)'!$J$228","v":0},"#'T2-B(PP1)'!$J$228"]
["pp1_bl5_2_7_total_in",{"$f":"'T2-B(PP1)'!$F$228","v":0},"#'T2-B(PP1)'!$F$228"]
["pp1_bl5_2_7_total_out",{"$f":"'T2-B(PP1)'!$I$228","v":0},"#'T2-B(PP1)'!$I$228"]
["pp1_bl5_2_7_unit",{"$f":"'T2-B(PP1)'!$C$228","v":0},"#'T2-B(PP1)'!$C$228"]
["pp1_bl5_2_7_unit_in",{"$f":"'T2-B(PP1)'!$D$228","v":0},"#'T2-B(PP1)'!$D$228"]
["pp1_bl5_2_7_units_out",{"$f":"'T2-B(PP1)'!$G$228","v":0},"#'T2-B(PP1)'!$G$228"]
["pp1_bl5_2_8_name",{"$f":"'T2-B(PP1)'!$B$229","v":0},"#'T2-B(PP1)'!$B$229"]
["pp1_bl5_2_8_rate_in",{"$f":"'T2-B(PP1)'!$E$229","v":0},"#'T2-B(PP1)'!$E$229"]
["pp1_bl5_2_8_rate_out",{"$f":"'T2-B(PP1)'!$H$229","v":0},"#'T2-B(PP1)'!$H$229"]
["pp1_bl5_2_8_total",{"$f":"'T2-B(PP1)'!$J$229","v":0},"#'T2-B(PP1)'!$J$229"]
["pp1_bl5_2_8_total_in",{"$f":"'T2-B(PP1)'!$F$229","v":0},"#'T2-B(PP1)'!$F$229"]
["pp1_bl5_2_8_total_out",{"$f":"'T2-B(PP1)'!$I$229","v":0},"#'T2-B(PP1)'!$I$229"]
["pp1_bl5_2_8_unit",{"$f":"'T2-B(PP1)'!$C$229","v":0},"#'T2-B(PP1)'!$C$229"]
["pp1_bl5_2_8_unit_in",{"$f":"'T2-B(PP1)'!$D$229","v":0},"#'T2-B(PP1)'!$D$229"]
["pp1_bl5_2_8_units_out",{"$f":"'T2-B(PP1)'!$G$229","v":0},"#'T2-B(PP1)'!$G$229"]
["pp1_bl5_2_9_name",{"$f":"'T2-B(PP1)'!$B$230","v":0},"#'T2-B(PP1)'!$B$230"]
["pp1_bl5_2_9_rate_in",{"$f":"'T2-B(PP1)'!$E$230","v":0},"#'T2-B(PP1)'!$E$230"]
["pp1_bl5_2_9_rate_out",{"$f":"'T2-B(PP1)'!$H$230","v":0},"#'T2-B(PP1)'!$H$230"]
["pp1_bl5_2_9_total",{"$f":"'T2-B(PP1)'!$J$230","v":0},"#'T2-B(PP1)'!$J$230"]
["pp1_bl5_2_9_total_in",{"$f":"'T2-B(PP1)'!$F$230","v":0},"#'T2-B(PP1)'!$F$230"]
["pp1_bl5_2_9_total_out",{"$f":"'T2-B(PP1)'!$I$230","v":0},"#'T2-B(PP1)'!$I$230"]
["pp1_bl5_2_9_unit",{"$f":"'T2-B(PP1)'!$C$230","v":0},"#'T2-B(PP1)'!$C$230"]
["pp1_bl5_2_9_unit_in",{"$f":"'T2-B(PP1)'!$D$230","v":0},"#'T2-B(PP1)'!$D$230"]
["pp1_bl5_2_9_units_out",{"$f":"'T2-B(PP1)'!$G$230","v":0},"#'T2-B(PP1)'!$G$230"]
["pp1_bl5_2_total",{"$f":"'T2-B(PP1)'!$J$221","v":0},"#'T2-B(PP1)'!$J$221"]
["pp1_bl5_2_total_in",{"$f":"'T2-B(PP1)'!$F$221","v":0},"#'T2-B(PP1)'!$F$221"]
["pp1_bl5_2_total_out",{"$f":"'T2-B(PP1)'!$I$221","v":0},"#'T2-B(PP1)'!$I$221"]
["pp1_bl5_total",{"$f":"'T2-B(PP1)'!$J$232","v":0},"#'T2-B(PP1)'!$J$232"]
["pp1_bl5_total_in",{"$f":"'T2-B(PP1)'!$F$232","v":0},"#'T2-B(PP1)'!$F$232"]
["pp1_bl5_total_out",{"$f":"'T2-B(PP1)'!$I$232","v":0},"#'T2-B(PP1)'!$I$232"]
["pp1_bl6_1_1_name",{"$f":"'T2-B(PP1)'!$B$236","v":0},"#'T2-B(PP1)'!$B$236"]
["pp1_bl6_1_1_rate_in",{"$f":"'T2-B(PP1)'!$E$236","v":0},"#'T2-B(PP1)'!$E$236"]
["pp1_bl6_1_1_rate_out",{"$f":"'T2-B(PP1)'!$H$236","v":0},"#'T2-B(PP1)'!$H$236"]
["pp1_bl6_1_1_total",{"$f":"'T2-B(PP1)'!$J$236","v":0},"#'T2-B(PP1)'!$J$236"]
["pp1_bl6_1_1_total_in",{"$f":"'T2-B(PP1)'!$F$236","v":0},"#'T2-B(PP1)'!$F$236"]
["pp1_bl6_1_1_total_out",{"$f":"'T2-B(PP1)'!$I$236","v":0},"#'T2-B(PP1)'!$I$236"]
["pp1_bl6_1_1_unit",{"$f":"'T2-B(PP1)'!$C$236","v":0},"#'T2-B(PP1)'!$C$236"]
["pp1_bl6_1_1_unit_in",{"$f":"'T2-B(PP1)'!$D$236","v":0},"#'T2-B(PP1)'!$D$236"]
["pp1_bl6_1_1_units_out",{"$f":"'T2-B(PP1)'!$G$236","v":0},"#'T2-B(PP1)'!$G$236"]
["pp1_bl6_1_10_name",{"$f":"'T2-B(PP1)'!$B$245","v":0},"#'T2-B(PP1)'!$B$245"]
["pp1_bl6_1_10_rate_in",{"$f":"'T2-B(PP1)'!$E$245","v":0},"#'T2-B(PP1)'!$E$245"]
["pp1_bl6_1_10_rate_out",{"$f":"'T2-B(PP1)'!$H$245","v":0},"#'T2-B(PP1)'!$H$245"]
["pp1_bl6_1_10_total",{"$f":"'T2-B(PP1)'!$J$245","v":0},"#'T2-B(PP1)'!$J$245"]
["pp1_bl6_1_10_total_in",{"$f":"'T2-B(PP1)'!$F$245","v":0},"#'T2-B(PP1)'!$F$245"]
["pp1_bl6_1_10_total_out",{"$f":"'T2-B(PP1)'!$I$245","v":0},"#'T2-B(PP1)'!$I$245"]
["pp1_bl6_1_10_unit",{"$f":"'T2-B(PP1)'!$C$245","v":0},"#'T2-B(PP1)'!$C$245"]
["pp1_bl6_1_10_unit_in",{"$f":"'T2-B(PP1)'!$D$245","v":0},"#'T2-B(PP1)'!$D$245"]
["pp1_bl6_1_10_units_out",{"$f":"'T2-B(PP1)'!$G$245","v":0},"#'T2-B(PP1)'!$G$245"]
["pp1_bl6_1_2_name",{"$f":"'T2-B(PP1)'!$B$237","v":0},"#'T2-B(PP1)'!$B$237"]
["pp1_bl6_1_2_rate_in",{"$f":"'T2-B(PP1)'!$E$237","v":0},"#'T2-B(PP1)'!$E$237"]
["pp1_bl6_1_2_rate_out",{"$f":"'T2-B(PP1)'!$H$237","v":0},"#'T2-B(PP1)'!$H$237"]
["pp1_bl6_1_2_total",{"$f":"'T2-B(PP1)'!$J$237","v":0},"#'T2-B(PP1)'!$J$237"]
["pp1_bl6_1_2_total_in",{"$f":"'T2-B(PP1)'!$F$237","v":0},"#'T2-B(PP1)'!$F$237"]
["pp1_bl6_1_2_total_out",{"$f":"'T2-B(PP1)'!$I$237","v":0},"#'T2-B(PP1)'!$I$237"]
["pp1_bl6_1_2_unit",{"$f":"'T2-B(PP1)'!$C$237","v":0},"#'T2-B(PP1)'!$C$237"]
["pp1_bl6_1_2_unit_in",{"$f":"'T2-B(PP1)'!$D$237","v":0},"#'T2-B(PP1)'!$D$237"]
["pp1_bl6_1_2_units_out",{"$f":"'T2-B(PP1)'!$G$237","v":0},"#'T2-B(PP1)'!$G$237"]
["pp1_bl6_1_3_name",{"$f":"'T2-B(PP1)'!$B$238","v":0},"#'T2-B(PP1)'!$B$238"]
["pp1_bl6_1_3_rate_in",{"$f":"'T2-B(PP1)'!$E$238","v":0},"#'T2-B(PP1)'!$E$238"]
["pp1_bl6_1_3_rate_out",{"$f":"'T2-B(PP1)'!$H$238","v":0},"#'T2-B(PP1)'!$H$238"]
["pp1_bl6_1_3_total",{"$f":"'T2-B(PP1)'!$J$238","v":0},"#'T2-B(PP1)'!$J$238"]
["pp1_bl6_1_3_total_in",{"$f":"'T2-B(PP1)'!$F$238","v":0},"#'T2-B(PP1)'!$F$238"]
["pp1_bl6_1_3_total_out",{"$f":"'T2-B(PP1)'!$I$238","v":0},"#'T2-B(PP1)'!$I$238"]
["pp1_bl6_1_3_unit",{"$f":"'T2-B(PP1)'!$C$238","v":0},"#'T2-B(PP1)'!$C$238"]
["pp1_bl6_1_3_unit_in",{"$f":"'T2-B(PP1)'!$D$238","v":0},"#'T2-B(PP1)'!$D$238"]
["pp1_bl6_1_3_units_out",{"$f":"'T2-B(PP1)'!$G$238","v":0},"#'T2-B(PP1)'!$G$238"]
["pp1_bl6_1_4_name",{"$f":"'T2-B(PP1)'!$B$239","v":0},"#'T2-B(PP1)'!$B$239"]
["pp1_bl6_1_4_rate_in",{"$f":"'T2-B(PP1)'!$E$239","v":0},"#'T2-B(PP1)'!$E$239"]
["pp1_bl6_1_4_rate_out",{"$f":"'T2-B(PP1)'!$H$239","v":0},"#'T2-B(PP1)'!$H$239"]
["pp1_bl6_1_4_total",{"$f":"'T2-B(PP1)'!$J$239","v":0},"#'T2-B(PP1)'!$J$239"]
["pp1_bl6_1_4_total_in",{"$f":"'T2-B(PP1)'!$F$239","v":0},"#'T2-B(PP1)'!$F$239"]
["pp1_bl6_1_4_total_out",{"$f":"'T2-B(PP1)'!$I$239","v":0},"#'T2-B(PP1)'!$I$239"]
["pp1_bl6_1_4_unit",{"$f":"'T2-B(PP1)'!$C$239","v":0},"#'T2-B(PP1)'!$C$239"]
["pp1_bl6_1_4_unit_in",{"$f":"'T2-B(PP1)'!$D$239","v":0},"#'T2-B(PP1)'!$D$239"]
["pp1_bl6_1_4_units_out",{"$f":"'T2-B(PP1)'!$G$239","v":0},"#'T2-B(PP1)'!$G$239"]
["pp1_bl6_1_5_name",{"$f":"'T2-B(PP1)'!$B$240","v":0},"#'T2-B(PP1)'!$B$240"]
["pp1_bl6_1_5_rate_in",{"$f":"'T2-B(PP1)'!$E$240","v":0},"#'T2-B(PP1)'!$E$240"]
["pp1_bl6_1_5_rate_out",{"$f":"'T2-B(PP1)'!$H$240","v":0},"#'T2-B(PP1)'!$H$240"]
["pp1_bl6_1_5_total",{"$f":"'T2-B(PP1)'!$J$240","v":0},"#'T2-B(PP1)'!$J$240"]
["pp1_bl6_1_5_total_in",{"$f":"'T2-B(PP1)'!$F$240","v":0},"#'T2-B(PP1)'!$F$240"]
["pp1_bl6_1_5_total_out",{"$f":"'T2-B(PP1)'!$I$240","v":0},"#'T2-B(PP1)'!$I$240"]
["pp1_bl6_1_5_unit",{"$f":"'T2-B(PP1)'!$C$240","v":0},"#'T2-B(PP1)'!$C$240"]
["pp1_bl6_1_5_unit_in",{"$f":"'T2-B(PP1)'!$D$240","v":0},"#'T2-B(PP1)'!$D$240"]
["pp1_bl6_1_5_units_out",{"$f":"'T2-B(PP1)'!$G$240","v":0},"#'T2-B(PP1)'!$G$240"]
["pp1_bl6_1_6_name",{"$f":"'T2-B(PP1)'!$B$241","v":0},"#'T2-B(PP1)'!$B$241"]
["pp1_bl6_1_6_rate_in",{"$f":"'T2-B(PP1)'!$E$241","v":0},"#'T2-B(PP1)'!$E$241"]
["pp1_bl6_1_6_rate_out",{"$f":"'T2-B(PP1)'!$H$241","v":0},"#'T2-B(PP1)'!$H$241"]
["pp1_bl6_1_6_total",{"$f":"'T2-B(PP1)'!$J$241","v":0},"#'T2-B(PP1)'!$J$241"]
["pp1_bl6_1_6_total_in",{"$f":"'T2-B(PP1)'!$F$241","v":0},"#'T2-B(PP1)'!$F$241"]
["pp1_bl6_1_6_total_out",{"$f":"'T2-B(PP1)'!$I$241","v":0},"#'T2-B(PP1)'!$I$241"]
["pp1_bl6_1_6_unit",{"$f":"'T2-B(PP1)'!$C$241","v":0},"#'T2-B(PP1)'!$C$241"]
["pp1_bl6_1_6_unit_in",{"$f":"'T2-B(PP1)'!$D$241","v":0},"#'T2-B(PP1)'!$D$241"]
["pp1_bl6_1_6_units_out",{"$f":"'T2-B(PP1)'!$G$241","v":0},"#'T2-B(PP1)'!$G$241"]
["pp1_bl6_1_7_name",{"$f":"'T2-B(PP1)'!$B$242","v":0},"#'T2-B(PP1)'!$B$242"]
["pp1_bl6_1_7_rate_in",{"$f":"'T2-B(PP1)'!$E$242","v":0},"#'T2-B(PP1)'!$E$242"]
["pp1_bl6_1_7_rate_out",{"$f":"'T2-B(PP1)'!$H$242","v":0},"#'T2-B(PP1)'!$H$242"]
["pp1_bl6_1_7_total",{"$f":"'T2-B(PP1)'!$J$242","v":0},"#'T2-B(PP1)'!$J$242"]
["pp1_bl6_1_7_total_in",{"$f":"'T2-B(PP1)'!$F$242","v":0},"#'T2-B(PP1)'!$F$242"]
["pp1_bl6_1_7_total_out",{"$f":"'T2-B(PP1)'!$I$242","v":0},"#'T2-B(PP1)'!$I$242"]
["pp1_bl6_1_7_unit",{"$f":"'T2-B(PP1)'!$C$242","v":0},"#'T2-B(PP1)'!$C$242"]
["pp1_bl6_1_7_unit_in",{"$f":"'T2-B(PP1)'!$D$242","v":0},"#'T2-B(PP1)'!$D$242"]
["pp1_bl6_1_7_units_out",{"$f":"'T2-B(PP1)'!$G$242","v":0},"#'T2-B(PP1)'!$G$242"]
["pp1_bl6_1_8_name",{"$f":"'T2-B(PP1)'!$B$243","v":0},"#'T2-B(PP1)'!$B$243"]
["pp1_bl6_1_8_rate_in",{"$f":"'T2-B(PP1)'!$E$243","v":0},"#'T2-B(PP1)'!$E$243"]
["pp1_bl6_1_8_rate_out",{"$f":"'T2-B(PP1)'!$H$243","v":0},"#'T2-B(PP1)'!$H$243"]
["pp1_bl6_1_8_total",{"$f":"'T2-B(PP1)'!$J$243","v":0},"#'T2-B(PP1)'!$J$243"]
["pp1_bl6_1_8_total_in",{"$f":"'T2-B(PP1)'!$F$243","v":0},"#'T2-B(PP1)'!$F$243"]
["pp1_bl6_1_8_total_out",{"$f":"'T2-B(PP1)'!$I$243","v":0},"#'T2-B(PP1)'!$I$243"]
["pp1_bl6_1_8_unit",{"$f":"'T2-B(PP1)'!$C$243","v":0},"#'T2-B(PP1)'!$C$243"]
["pp1_bl6_1_8_unit_in",{"$f":"'T2-B(PP1)'!$D$243","v":0},"#'T2-B(PP1)'!$D$243"]
["pp1_bl6_1_8_units_out",{"$f":"'T2-B(PP1)'!$G$243","v":0},"#'T2-B(PP1)'!$G$243"]
["pp1_bl6_1_9_name",{"$f":"'T2-B(PP1)'!$B$244","v":0},"#'T2-B(PP1)'!$B$244"]
["pp1_bl6_1_9_rate_in",{"$f":"'T2-B(PP1)'!$E$244","v":0},"#'T2-B(PP1)'!$E$244"]
["pp1_bl6_1_9_rate_out",{"$f":"'T2-B(PP1)'!$H$244","v":0},"#'T2-B(PP1)'!$H$244"]
["pp1_bl6_1_9_total",{"$f":"'T2-B(PP1)'!$J$244","v":0},"#'T2-B(PP1)'!$J$244"]
["pp1_bl6_1_9_total_in",{"$f":"'T2-B(PP1)'!$F$244","v":0},"#'T2-B(PP1)'!$F$244"]
["pp1_bl6_1_9_total_out",{"$f":"'T2-B(PP1)'!$I$244","v":0},"#'T2-B(PP1)'!$I$244"]
["pp1_bl6_1_9_unit",{"$f":"'T2-B(PP1)'!$C$244","v":0},"#'T2-B(PP1)'!$C$244"]
["pp1_bl6_1_9_unit_in",{"$f":"'T2-B(PP1)'!$D$244","v":0},"#'T2-B(PP1)'!$D$244"]
["pp1_bl6_1_9_units_out",{"$f":"'T2-B(PP1)'!$G$244","v":0},"#'T2-B(PP1)'!$G$244"]
["pp1_bl6_1_total",{"$f":"'T2-B(PP1)'!$J$235","v":0},"#'T2-B(PP1)'!$J$235"]
["pp1_bl6_1_total_in",{"$f":"'T2-B(PP1)'!$F$235","v":"TOTAL"},"#'T2-B(PP1)'!$F$235"]
["pp1_bl6_1_total_out",{"$f":"'T2-B(PP1)'!$I$235","v":"TOTAL"},"#'T2-B(PP1)'!$I$235"]
["pp1_bl6_total",{"$f":"'T2-B(PP1)'!$J$246","v":0},"#'T2-B(PP1)'!$J$246"]
["pp1_bl6_total_in",{"$f":"'T2-B(PP1)'!$F$246","v":0},"#'T2-B(PP1)'!$F$246"]
["pp1_bl6_total_out",{"$f":"'T2-B(PP1)'!$I$246","v":0},"#'T2-B(PP1)'!$I$246"]
["pp1_country",{"$f":"'PP1(LP)'!$K$14","v":2},"#'PP1(LP)'!$K$14"]
["pp1_fax",{"$f":"'PP1(LP)'!$C$29","v":0},"#'PP1(LP)'!$C$29"]
["pp1_is_bg",{"$f":"'PP1(LP)'!$D$13","v":0},"#'PP1(LP)'!$D$13"]
["pp1_is_pc",{"$f":"'PP1(LP)'!$F$13","v":0},"#'PP1(LP)'!$F$13"]
["pp1_legal_representative",{"$f":"Cover!$C$39","v":0},"#Cover!$C$39"]
["pp1_legal_representative_position",{"$f":"'PP1(LP)'!$C$25","v":0},"#'PP1(LP)'!$C$25"]
["pp1_mail",{"$f":"'PP1(LP)'!$C$31","v":0},"#'PP1(LP)'!$C$31"]
["pp1_nat_code",{"$f":"'PP1(LP)'!$C$70","v":0},"#'PP1(LP)'!$C$70"]
["pp1_nuts3",{"$f":"'PP1(LP)'!$C$15","v":0},"#'PP1(LP)'!$C$15"]
["pp1_organisation_en",{"$f":"Cover!$C$36","v":0},"#Cover!$C$36"]
["pp1_organisation_native",{"$f":"'PP1(LP)'!$C$9","v":0},"#'PP1(LP)'!$C$9"]
["pp1_pe_date1",{"$f":"'PP1(LP)'!$G$47","v":0},"#'PP1(LP)'!$G$47"]
["pp1_pe_date2",{"$f":"'PP1(LP)'!$G$55","v":0},"#'PP1(LP)'!$G$55"]
["pp1_pe_date3",{"$f":"'PP1(LP)'!$G$63","v":0},"#'PP1(LP)'!$G$63"]
["pp1_pe_ga1",{"$f":"'PP1(LP)'!$G$46","v":0},"#'PP1(LP)'!$G$46"]
["pp1_pe_ga2",{"$f":"'PP1(LP)'!$G$54","v":0},"#'PP1(LP)'!$G$54"]
["pp1_pe_ga3",{"$f":"'PP1(LP)'!$G$62","v":0},"#'PP1(LP)'!$G$62"]
["pp1_pe_ip1",{"$f":"'PP1(LP)'!$C$43","v":0},"#'PP1(LP)'!$C$43"]
["pp1_pe_ip2",{"$f":"'PP1(LP)'!$C$51","v":0},"#'PP1(LP)'!$C$51"]
["pp1_pe_ip3",{"$f":"'PP1(LP)'!$C$59","v":0},"#'PP1(LP)'!$C$59"]
["pp1_pe_or1",{"$f":"'PP1(LP)'!$C$47","v":0},"#'PP1(LP)'!$C$47"]
["pp1_pe_or2",{"$f":"'PP1(LP)'!$C$55","v":0},"#'PP1(LP)'!$C$55"]
["pp1_pe_or3",{"$f":"'PP1(LP)'!$C$63","v":0},"#'PP1(LP)'!$C$63"]
["pp1_pe_pt1",{"$f":"'PP1(LP)'!$C$44","v":0},"#'PP1(LP)'!$C$44"]
["pp1_pe_pt2",{"$f":"'PP1(LP)'!$C$52","v":0},"#'PP1(LP)'!$C$52"]
["pp1_pe_pt3",{"$f":"'PP1(LP)'!$C$60","v":0},"#'PP1(LP)'!$C$60"]
["pp1_pe_sd1",{"$f":"'PP1(LP)'!$C$45","v":0},"#'PP1(LP)'!$C$45"]
["pp1_pe_sd2",{"$f":"'PP1(LP)'!$C$53","v":0},"#'PP1(LP)'!$C$53"]
["pp1_pe_sd3",{"$f":"'PP1(LP)'!$C$61","v":0},"#'PP1(LP)'!$C$61"]
["pp1_pe_tev1",{"$f":"'PP1(LP)'!$C$46","v":0},"#'PP1(LP)'!$C$46"]
["pp1_pe_tev2",{"$f":"'PP1(LP)'!$C$54","v":0},"#'PP1(LP)'!$C$54"]
["pp1_pe_tev3",{"$f":"'PP1(LP)'!$C$62","v":0},"#'PP1(LP)'!$C$62"]
["pp1_phone",{"$f":"'PP1(LP)'!$C$27","v":0},"#'PP1(LP)'!$C$27"]
["pp1_post_code",{"$f":"'PP1(LP)'!$C$21","v":0},"#'PP1(LP)'!$C$21"]
["pp1_profile",{"$f":"'PP1(LP)'!$B$38","v":0},"#'PP1(LP)'!$B$38"]
["pp1_proj_direct_total",{"$f":"'T2-B(PP1)'!$J$248","v":0},"#'T2-B(PP1)'!$J$248"]
["pp1_proj_direct_total_in",{"$f":"'T2-B(PP1)'!$F$248","v":0},"#'T2-B(PP1)'!$F$248"]
["pp1_proj_direct_total_out",{"$f":"'T2-B(PP1)'!$G$248","v":0},"#'T2-B(PP1)'!$G$248"]
["pp1_proj_total",{"$f":"'T2-B(PP1)'!$J$249","v":0},"#'T2-B(PP1)'!$J$249"]
["pp1_proj_total_in",{"$f":"'T2-B(PP1)'!$F$249","v":0},"#'T2-B(PP1)'!$F$249"]
["pp1_proj_total_out",{"$f":"'T2-B(PP1)'!$G$249","v":0},"#'T2-B(PP1)'!$G$249"]
["pp1_town",{"$f":"'PP1(LP)'!$C$17","v":0},"#'PP1(LP)'!$C$17"]
["pp1_type_org",{"$f":"'PP1(LP)'!$C$11","v":0},"#'PP1(LP)'!$C$11"]
["pp1_vat_code",{"$f":"'PP1(LP)'!$C$72","v":0},"#'PP1(LP)'!$C$72"]
["pp1_website",{"$f":"'PP1(LP)'!$C$33","v":0},"#'PP1(LP)'!$C$33"]
["pp2_2012_fulltime_staff",{"$f":"'PP2'!$D$79","v":0},"#'PP2'!$D$79"]
["pp2_2012_offices",{"$f":"'PP2'!$F$79","v":0},"#'PP2'!$F$79"]
["pp2_2012_parttime_staff",{"$f":"'PP2'!$E$79","v":0},"#'PP2'!$E$79"]
["pp2_2012_turnover",{"$f":"'PP2'!$C$79","v":0},"#'PP2'!$C$79"]
["pp2_2013_fulltime_staff",{"$f":"'PP2'!$D$78","v":0},"#'PP2'!$D$78"]
["pp2_2013_offices",{"$f":"'PP2'!$F$78","v":0},"#'PP2'!$F$78"]
["pp2_2013_parttime_staff",{"$f":"'PP2'!$E$78","v":0},"#'PP2'!$E$78"]
["pp2_2013_turnover",{"$f":"'PP2'!$C$78","v":0},"#'PP2'!$C$78"]
["pp2_2014_fulltime_staff",{"$f":"'PP2'!$D$77","v":0},"#'PP2'!$D$77"]
["pp2_2014_offices",{"$f":"'PP2'!$F$77","v":0},"#'PP2'!$F$77"]
["pp2_2014_parttime_staff",{"$f":"'PP2'!$E$77","v":0},"#'PP2'!$E$77"]
["pp2_2014_turnover",{"$f":"'PP2'!$C$77","v":0},"#'PP2'!$C$77"]
["pp2_address",{"$f":"'PP2'!$C$19","v":0},"#'PP2'!$C$19"]
["pp2_bl1_1_name",{"$f":"'T2-B(PP2)'!$B$5","v":"0 project"},"#'T2-B(PP2)'!$B$5"]
["pp2_bl1_1_perc",{"$f":"'T2-B(PP2)'!$G$5","v":0},"#'T2-B(PP2)'!$G$5"]
["pp2_bl1_1_total",{"$f":"'T2-B(PP2)'!$I$5","v":0},"#'T2-B(PP2)'!$I$5"]
["pp2_bl1_total",{"$f":"'T2-B(PP2)'!$I$6","v":0},"#'T2-B(PP2)'!$I$6"]
["pp2_bl2_1_name",{"$f":"'T2-B(PP2)'!$B$10","v":"0 project"},"#'T2-B(PP2)'!$B$10"]
["pp2_bl2_1_perc",{"$f":"'T2-B(PP2)'!$G$10","v":0},"#'T2-B(PP2)'!$G$10"]
["pp2_bl2_1_total",{"$f":"'T2-B(PP2)'!$I$10","v":0},"#'T2-B(PP2)'!$I$10"]
["pp2_bl2_total",{"$f":"'T2-B(PP2)'!$I$11","v":0},"#'T2-B(PP2)'!$I$11"]
["pp2_bl3_1_1_name",{"$f":"'T2-B(PP2)'!$B$16","v":0},"#'T2-B(PP2)'!$B$16"]
["pp2_bl3_1_1_rate_in",{"$f":"'T2-B(PP2)'!$E$16","v":0},"#'T2-B(PP2)'!$E$16"]
["pp2_bl3_1_1_rate_out",{"$f":"'T2-B(PP2)'!$H$16","v":0},"#'T2-B(PP2)'!$H$16"]
["pp2_bl3_1_1_total",{"$f":"'T2-B(PP2)'!$J$16","v":0},"#'T2-B(PP2)'!$J$16"]
["pp2_bl3_1_1_total_in",{"$f":"'T2-B(PP2)'!$F$16","v":0},"#'T2-B(PP2)'!$F$16"]
["pp2_bl3_1_1_total_out",{"$f":"'T2-B(PP2)'!$I$16","v":0},"#'T2-B(PP2)'!$I$16"]
["pp2_bl3_1_1_unit",{"$f":"'T2-B(PP2)'!$C$16","v":0},"#'T2-B(PP2)'!$C$16"]
["pp2_bl3_1_1_unit_in",{"$f":"'T2-B(PP2)'!$D$16","v":0},"#'T2-B(PP2)'!$D$16"]
["pp2_bl3_1_1_units_out",{"$f":"'T2-B(PP2)'!$G$16","v":0},"#'T2-B(PP2)'!$G$16"]
["pp2_bl3_1_10_name",{"$f":"'T2-B(PP2)'!$B$25","v":0},"#'T2-B(PP2)'!$B$25"]
["pp2_bl3_1_10_rate_in",{"$f":"'T2-B(PP2)'!$E$25","v":0},"#'T2-B(PP2)'!$E$25"]
["pp2_bl3_1_10_rate_out",{"$f":"'T2-B(PP2)'!$H$25","v":0},"#'T2-B(PP2)'!$H$25"]
["pp2_bl3_1_10_total",{"$f":"'T2-B(PP2)'!$J$25","v":0},"#'T2-B(PP2)'!$J$25"]
["pp2_bl3_1_10_total_in",{"$f":"'T2-B(PP2)'!$F$25","v":0},"#'T2-B(PP2)'!$F$25"]
["pp2_bl3_1_10_total_out",{"$f":"'T2-B(PP2)'!$I$25","v":0},"#'T2-B(PP2)'!$I$25"]
["pp2_bl3_1_10_unit",{"$f":"'T2-B(PP2)'!$C$25","v":0},"#'T2-B(PP2)'!$C$25"]
["pp2_bl3_1_10_unit_in",{"$f":"'T2-B(PP2)'!$D$25","v":0},"#'T2-B(PP2)'!$D$25"]
["pp2_bl3_1_10_units_out",{"$f":"'T2-B(PP2)'!$G$25","v":0},"#'T2-B(PP2)'!$G$25"]
["pp2_bl3_1_2_name",{"$f":"'T2-B(PP2)'!$B$17","v":0},"#'T2-B(PP2)'!$B$17"]
["pp2_bl3_1_2_rate_in",{"$f":"'T2-B(PP2)'!$E$17","v":0},"#'T2-B(PP2)'!$E$17"]
["pp2_bl3_1_2_rate_out",{"$f":"'T2-B(PP2)'!$H$17","v":0},"#'T2-B(PP2)'!$H$17"]
["pp2_bl3_1_2_total",{"$f":"'T2-B(PP2)'!$J$17","v":0},"#'T2-B(PP2)'!$J$17"]
["pp2_bl3_1_2_total_in",{"$f":"'T2-B(PP2)'!$F$17","v":0},"#'T2-B(PP2)'!$F$17"]
["pp2_bl3_1_2_total_out",{"$f":"'T2-B(PP2)'!$I$17","v":0},"#'T2-B(PP2)'!$I$17"]
["pp2_bl3_1_2_unit",{"$f":"'T2-B(PP2)'!$C$17","v":0},"#'T2-B(PP2)'!$C$17"]
["pp2_bl3_1_2_unit_in",{"$f":"'T2-B(PP2)'!$D$17","v":0},"#'T2-B(PP2)'!$D$17"]
["pp2_bl3_1_2_units_out",{"$f":"'T2-B(PP2)'!$G$17","v":0},"#'T2-B(PP2)'!$G$17"]
["pp2_bl3_1_3_name",{"$f":"'T2-B(PP2)'!$B$18","v":0},"#'T2-B(PP2)'!$B$18"]
["pp2_bl3_1_3_rate_in",{"$f":"'T2-B(PP2)'!$E$18","v":0},"#'T2-B(PP2)'!$E$18"]
["pp2_bl3_1_3_rate_out",{"$f":"'T2-B(PP2)'!$H$18","v":0},"#'T2-B(PP2)'!$H$18"]
["pp2_bl3_1_3_total",{"$f":"'T2-B(PP2)'!$J$18","v":0},"#'T2-B(PP2)'!$J$18"]
["pp2_bl3_1_3_total_in",{"$f":"'T2-B(PP2)'!$F$18","v":0},"#'T2-B(PP2)'!$F$18"]
["pp2_bl3_1_3_total_out",{"$f":"'T2-B(PP2)'!$I$18","v":0},"#'T2-B(PP2)'!$I$18"]
["pp2_bl3_1_3_unit",{"$f":"'T2-B(PP2)'!$C$18","v":0},"#'T2-B(PP2)'!$C$18"]
["pp2_bl3_1_3_unit_in",{"$f":"'T2-B(PP2)'!$D$18","v":0},"#'T2-B(PP2)'!$D$18"]
["pp2_bl3_1_3_units_out",{"$f":"'T2-B(PP2)'!$G$18","v":0},"#'T2-B(PP2)'!$G$18"]
["pp2_bl3_1_4_name",{"$f":"'T2-B(PP2)'!$B$19","v":0},"#'T2-B(PP2)'!$B$19"]
["pp2_bl3_1_4_rate_in",{"$f":"'T2-B(PP2)'!$E$19","v":0},"#'T2-B(PP2)'!$E$19"]
["pp2_bl3_1_4_rate_out",{"$f":"'T2-B(PP2)'!$H$19","v":0},"#'T2-B(PP2)'!$H$19"]
["pp2_bl3_1_4_total",{"$f":"'T2-B(PP2)'!$J$19","v":0},"#'T2-B(PP2)'!$J$19"]
["pp2_bl3_1_4_total_in",{"$f":"'T2-B(PP2)'!$F$19","v":0},"#'T2-B(PP2)'!$F$19"]
["pp2_bl3_1_4_total_out",{"$f":"'T2-B(PP2)'!$I$19","v":0},"#'T2-B(PP2)'!$I$19"]
["pp2_bl3_1_4_unit",{"$f":"'T2-B(PP2)'!$C$19","v":0},"#'T2-B(PP2)'!$C$19"]
["pp2_bl3_1_4_unit_in",{"$f":"'T2-B(PP2)'!$D$19","v":0},"#'T2-B(PP2)'!$D$19"]
["pp2_bl3_1_4_units_out",{"$f":"'T2-B(PP2)'!$G$19","v":0},"#'T2-B(PP2)'!$G$19"]
["pp2_bl3_1_5_name",{"$f":"'T2-B(PP2)'!$B$20","v":0},"#'T2-B(PP2)'!$B$20"]
["pp2_bl3_1_5_rate_in",{"$f":"'T2-B(PP2)'!$E$20","v":0},"#'T2-B(PP2)'!$E$20"]
["pp2_bl3_1_5_rate_out",{"$f":"'T2-B(PP2)'!$H$20","v":0},"#'T2-B(PP2)'!$H$20"]
["pp2_bl3_1_5_total",{"$f":"'T2-B(PP2)'!$J$20","v":0},"#'T2-B(PP2)'!$J$20"]
["pp2_bl3_1_5_total_in",{"$f":"'T2-B(PP2)'!$F$20","v":0},"#'T2-B(PP2)'!$F$20"]
["pp2_bl3_1_5_total_out",{"$f":"'T2-B(PP2)'!$I$20","v":0},"#'T2-B(PP2)'!$I$20"]
["pp2_bl3_1_5_unit",{"$f":"'T2-B(PP2)'!$C$20","v":0},"#'T2-B(PP2)'!$C$20"]
["pp2_bl3_1_5_unit_in",{"$f":"'T2-B(PP2)'!$D$20","v":0},"#'T2-B(PP2)'!$D$20"]
["pp2_bl3_1_5_units_out",{"$f":"'T2-B(PP2)'!$G$20","v":0},"#'T2-B(PP2)'!$G$20"]
["pp2_bl3_1_6_name",{"$f":"'T2-B(PP2)'!$B$21","v":0},"#'T2-B(PP2)'!$B$21"]
["pp2_bl3_1_6_rate_in",{"$f":"'T2-B(PP2)'!$E$21","v":0},"#'T2-B(PP2)'!$E$21"]
["pp2_bl3_1_6_rate_out",{"$f":"'T2-B(PP2)'!$H$21","v":0},"#'T2-B(PP2)'!$H$21"]
["pp2_bl3_1_6_total",{"$f":"'T2-B(PP2)'!$J$21","v":0},"#'T2-B(PP2)'!$J$21"]
["pp2_bl3_1_6_total_in",{"$f":"'T2-B(PP2)'!$F$21","v":0},"#'T2-B(PP2)'!$F$21"]
["pp2_bl3_1_6_total_out",{"$f":"'T2-B(PP2)'!$I$21","v":0},"#'T2-B(PP2)'!$I$21"]
["pp2_bl3_1_6_unit",{"$f":"'T2-B(PP2)'!$C$21","v":0},"#'T2-B(PP2)'!$C$21"]
["pp2_bl3_1_6_unit_in",{"$f":"'T2-B(PP2)'!$D$21","v":0},"#'T2-B(PP2)'!$D$21"]
["pp2_bl3_1_6_units_out",{"$f":"'T2-B(PP2)'!$G$21","v":0},"#'T2-B(PP2)'!$G$21"]
["pp2_bl3_1_7_name",{"$f":"'T2-B(PP2)'!$B$22","v":0},"#'T2-B(PP2)'!$B$22"]
["pp2_bl3_1_7_rate_in",{"$f":"'T2-B(PP2)'!$E$22","v":0},"#'T2-B(PP2)'!$E$22"]
["pp2_bl3_1_7_rate_out",{"$f":"'T2-B(PP2)'!$H$22","v":0},"#'T2-B(PP2)'!$H$22"]
["pp2_bl3_1_7_total",{"$f":"'T2-B(PP2)'!$J$22","v":0},"#'T2-B(PP2)'!$J$22"]
["pp2_bl3_1_7_total_in",{"$f":"'T2-B(PP2)'!$F$22","v":0},"#'T2-B(PP2)'!$F$22"]
["pp2_bl3_1_7_total_out",{"$f":"'T2-B(PP2)'!$I$22","v":0},"#'T2-B(PP2)'!$I$22"]
["pp2_bl3_1_7_unit",{"$f":"'T2-B(PP2)'!$C$22","v":0},"#'T2-B(PP2)'!$C$22"]
["pp2_bl3_1_7_unit_in",{"$f":"'T2-B(PP2)'!$D$22","v":0},"#'T2-B(PP2)'!$D$22"]
["pp2_bl3_1_7_units_out",{"$f":"'T2-B(PP2)'!$G$22","v":0},"#'T2-B(PP2)'!$G$22"]
["pp2_bl3_1_8_name",{"$f":"'T2-B(PP2)'!$B$23","v":0},"#'T2-B(PP2)'!$B$23"]
["pp2_bl3_1_8_rate_in",{"$f":"'T2-B(PP2)'!$E$23","v":0},"#'T2-B(PP2)'!$E$23"]
["pp2_bl3_1_8_rate_out",{"$f":"'T2-B(PP2)'!$H$23","v":0},"#'T2-B(PP2)'!$H$23"]
["pp2_bl3_1_8_total",{"$f":"'T2-B(PP2)'!$J$23","v":0},"#'T2-B(PP2)'!$J$23"]
["pp2_bl3_1_8_total_in",{"$f":"'T2-B(PP2)'!$F$23","v":0},"#'T2-B(PP2)'!$F$23"]
["pp2_bl3_1_8_total_out",{"$f":"'T2-B(PP2)'!$I$23","v":0},"#'T2-B(PP2)'!$I$23"]
["pp2_bl3_1_8_unit",{"$f":"'T2-B(PP2)'!$C$23","v":0},"#'T2-B(PP2)'!$C$23"]
["pp2_bl3_1_8_unit_in",{"$f":"'T2-B(PP2)'!$D$23","v":0},"#'T2-B(PP2)'!$D$23"]
["pp2_bl3_1_8_units_out",{"$f":"'T2-B(PP2)'!$G$23","v":0},"#'T2-B(PP2)'!$G$23"]
["pp2_bl3_1_9_name",{"$f":"'T2-B(PP2)'!$B$24","v":0},"#'T2-B(PP2)'!$B$24"]
["pp2_bl3_1_9_rate_in",{"$f":"'T2-B(PP2)'!$E$24","v":0},"#'T2-B(PP2)'!$E$24"]
["pp2_bl3_1_9_rate_out",{"$f":"'T2-B(PP2)'!$H$24","v":0},"#'T2-B(PP2)'!$H$24"]
["pp2_bl3_1_9_total",{"$f":"'T2-B(PP2)'!$J$24","v":0},"#'T2-B(PP2)'!$J$24"]
["pp2_bl3_1_9_total_in",{"$f":"'T2-B(PP2)'!$F$24","v":0},"#'T2-B(PP2)'!$F$24"]
["pp2_bl3_1_9_total_out",{"$f":"'T2-B(PP2)'!$I$24","v":0},"#'T2-B(PP2)'!$I$24"]
["pp2_bl3_1_9_unit",{"$f":"'T2-B(PP2)'!$C$24","v":0},"#'T2-B(PP2)'!$C$24"]
["pp2_bl3_1_9_unit_in",{"$f":"'T2-B(PP2)'!$D$24","v":0},"#'T2-B(PP2)'!$D$24"]
["pp2_bl3_1_9_units_out",{"$f":"'T2-B(PP2)'!$G$24","v":0},"#'T2-B(PP2)'!$G$24"]
["pp2_bl3_1_total",{"$f":"'T2-B(PP2)'!$J$15","v":0},"#'T2-B(PP2)'!$J$15"]
["pp2_bl3_1_total_in",{"$f":"'T2-B(PP2)'!$F$15","v":0},"#'T2-B(PP2)'!$F$15"]
["pp2_bl3_1_total_out",{"$f":"'T2-B(PP2)'!$I$15","v":0},"#'T2-B(PP2)'!$I$15"]
["pp2_bl3_2_1_name",{"$f":"'T2-B(PP2)'!$B$27","v":0},"#'T2-B(PP2)'!$B$27"]
["pp2_bl3_2_1_rate_in",{"$f":"'T2-B(PP2)'!$E$27","v":0},"#'T2-B(PP2)'!$E$27"]
["pp2_bl3_2_1_rate_out",{"$f":"'T2-B(PP2)'!$H$27","v":0},"#'T2-B(PP2)'!$H$27"]
["pp2_bl3_2_1_total",{"$f":"'T2-B(PP2)'!$J$27","v":0},"#'T2-B(PP2)'!$J$27"]
["pp2_bl3_2_1_total_in",{"$f":"'T2-B(PP2)'!$F$27","v":0},"#'T2-B(PP2)'!$F$27"]
["pp2_bl3_2_1_total_out",{"$f":"'T2-B(PP2)'!$I$27","v":0},"#'T2-B(PP2)'!$I$27"]
["pp2_bl3_2_1_unit",{"$f":"'T2-B(PP2)'!$C$27","v":0},"#'T2-B(PP2)'!$C$27"]
["pp2_bl3_2_1_unit_in",{"$f":"'T2-B(PP2)'!$D$27","v":0},"#'T2-B(PP2)'!$D$27"]
["pp2_bl3_2_1_units_out",{"$f":"'T2-B(PP2)'!$G$27","v":0},"#'T2-B(PP2)'!$G$27"]
["pp2_bl3_2_10_name",{"$f":"'T2-B(PP2)'!$B$36","v":0},"#'T2-B(PP2)'!$B$36"]
["pp2_bl3_2_10_rate_in",{"$f":"'T2-B(PP2)'!$E$36","v":0},"#'T2-B(PP2)'!$E$36"]
["pp2_bl3_2_10_rate_out",{"$f":"'T2-B(PP2)'!$H$36","v":0},"#'T2-B(PP2)'!$H$36"]
["pp2_bl3_2_10_total",{"$f":"'T2-B(PP2)'!$J$36","v":0},"#'T2-B(PP2)'!$J$36"]
["pp2_bl3_2_10_total_in",{"$f":"'T2-B(PP2)'!$F$36","v":0},"#'T2-B(PP2)'!$F$36"]
["pp2_bl3_2_10_total_out",{"$f":"'T2-B(PP2)'!$I$36","v":0},"#'T2-B(PP2)'!$I$36"]
["pp2_bl3_2_10_unit",{"$f":"'T2-B(PP2)'!$C$36","v":0},"#'T2-B(PP2)'!$C$36"]
["pp2_bl3_2_10_unit_in",{"$f":"'T2-B(PP2)'!$D$36","v":0},"#'T2-B(PP2)'!$D$36"]
["pp2_bl3_2_10_units_out",{"$f":"'T2-B(PP2)'!$G$36","v":0},"#'T2-B(PP2)'!$G$36"]
["pp2_bl3_2_2_name",{"$f":"'T2-B(PP2)'!$B$28","v":0},"#'T2-B(PP2)'!$B$28"]
["pp2_bl3_2_2_rate_in",{"$f":"'T2-B(PP2)'!$E$28","v":0},"#'T2-B(PP2)'!$E$28"]
["pp2_bl3_2_2_rate_out",{"$f":"'T2-B(PP2)'!$H$28","v":0},"#'T2-B(PP2)'!$H$28"]
["pp2_bl3_2_2_total",{"$f":"'T2-B(PP2)'!$J$28","v":0},"#'T2-B(PP2)'!$J$28"]
["pp2_bl3_2_2_total_in",{"$f":"'T2-B(PP2)'!$F$28","v":0},"#'T2-B(PP2)'!$F$28"]
["pp2_bl3_2_2_total_out",{"$f":"'T2-B(PP2)'!$I$28","v":0},"#'T2-B(PP2)'!$I$28"]
["pp2_bl3_2_2_unit",{"$f":"'T2-B(PP2)'!$C$28","v":0},"#'T2-B(PP2)'!$C$28"]
["pp2_bl3_2_2_unit_in",{"$f":"'T2-B(PP2)'!$D$28","v":0},"#'T2-B(PP2)'!$D$28"]
["pp2_bl3_2_2_units_out",{"$f":"'T2-B(PP2)'!$G$28","v":0},"#'T2-B(PP2)'!$G$28"]
["pp2_bl3_2_3_name",{"$f":"'T2-B(PP2)'!$B$29","v":0},"#'T2-B(PP2)'!$B$29"]
["pp2_bl3_2_3_rate_in",{"$f":"'T2-B(PP2)'!$E$29","v":0},"#'T2-B(PP2)'!$E$29"]
["pp2_bl3_2_3_rate_out",{"$f":"'T2-B(PP2)'!$H$29","v":0},"#'T2-B(PP2)'!$H$29"]
["pp2_bl3_2_3_total",{"$f":"'T2-B(PP2)'!$J$29","v":0},"#'T2-B(PP2)'!$J$29"]
["pp2_bl3_2_3_total_in",{"$f":"'T2-B(PP2)'!$F$29","v":0},"#'T2-B(PP2)'!$F$29"]
["pp2_bl3_2_3_total_out",{"$f":"'T2-B(PP2)'!$I$29","v":0},"#'T2-B(PP2)'!$I$29"]
["pp2_bl3_2_3_unit",{"$f":"'T2-B(PP2)'!$C$29","v":0},"#'T2-B(PP2)'!$C$29"]
["pp2_bl3_2_3_unit_in",{"$f":"'T2-B(PP2)'!$D$29","v":0},"#'T2-B(PP2)'!$D$29"]
["pp2_bl3_2_3_units_out",{"$f":"'T2-B(PP2)'!$G$29","v":0},"#'T2-B(PP2)'!$G$29"]
["pp2_bl3_2_4_name",{"$f":"'T2-B(PP2)'!$B$30","v":0},"#'T2-B(PP2)'!$B$30"]
["pp2_bl3_2_4_rate_in",{"$f":"'T2-B(PP2)'!$E$30","v":0},"#'T2-B(PP2)'!$E$30"]
["pp2_bl3_2_4_rate_out",{"$f":"'T2-B(PP2)'!$H$30","v":0},"#'T2-B(PP2)'!$H$30"]
["pp2_bl3_2_4_total",{"$f":"'T2-B(PP2)'!$J$30","v":0},"#'T2-B(PP2)'!$J$30"]
["pp2_bl3_2_4_total_in",{"$f":"'T2-B(PP2)'!$F$30","v":0},"#'T2-B(PP2)'!$F$30"]
["pp2_bl3_2_4_total_out",{"$f":"'T2-B(PP2)'!$I$30","v":0},"#'T2-B(PP2)'!$I$30"]
["pp2_bl3_2_4_unit",{"$f":"'T2-B(PP2)'!$C$30","v":0},"#'T2-B(PP2)'!$C$30"]
["pp2_bl3_2_4_unit_in",{"$f":"'T2-B(PP2)'!$D$30","v":0},"#'T2-B(PP2)'!$D$30"]
["pp2_bl3_2_4_units_out",{"$f":"'T2-B(PP2)'!$G$30","v":0},"#'T2-B(PP2)'!$G$30"]
["pp2_bl3_2_5_name",{"$f":"'T2-B(PP2)'!$B$31","v":0},"#'T2-B(PP2)'!$B$31"]
["pp2_bl3_2_5_rate_in",{"$f":"'T2-B(PP2)'!$E$31","v":0},"#'T2-B(PP2)'!$E$31"]
["pp2_bl3_2_5_rate_out",{"$f":"'T2-B(PP2)'!$H$31","v":0},"#'T2-B(PP2)'!$H$31"]
["pp2_bl3_2_5_total",{"$f":"'T2-B(PP2)'!$J$31","v":0},"#'T2-B(PP2)'!$J$31"]
["pp2_bl3_2_5_total_in",{"$f":"'T2-B(PP2)'!$F$31","v":0},"#'T2-B(PP2)'!$F$31"]
["pp2_bl3_2_5_total_out",{"$f":"'T2-B(PP2)'!$I$31","v":0},"#'T2-B(PP2)'!$I$31"]
["pp2_bl3_2_5_unit",{"$f":"'T2-B(PP2)'!$C$31","v":0},"#'T2-B(PP2)'!$C$31"]
["pp2_bl3_2_5_unit_in",{"$f":"'T2-B(PP2)'!$D$31","v":0},"#'T2-B(PP2)'!$D$31"]
["pp2_bl3_2_5_units_out",{"$f":"'T2-B(PP2)'!$G$31","v":0},"#'T2-B(PP2)'!$G$31"]
["pp2_bl3_2_6_name",{"$f":"'T2-B(PP2)'!$B$32","v":0},"#'T2-B(PP2)'!$B$32"]
["pp2_bl3_2_6_rate_in",{"$f":"'T2-B(PP2)'!$E$32","v":0},"#'T2-B(PP2)'!$E$32"]
["pp2_bl3_2_6_rate_out",{"$f":"'T2-B(PP2)'!$H$32","v":0},"#'T2-B(PP2)'!$H$32"]
["pp2_bl3_2_6_total",{"$f":"'T2-B(PP2)'!$J$32","v":0},"#'T2-B(PP2)'!$J$32"]
["pp2_bl3_2_6_total_in",{"$f":"'T2-B(PP2)'!$F$32","v":0},"#'T2-B(PP2)'!$F$32"]
["pp2_bl3_2_6_total_out",{"$f":"'T2-B(PP2)'!$I$32","v":0},"#'T2-B(PP2)'!$I$32"]
["pp2_bl3_2_6_unit",{"$f":"'T2-B(PP2)'!$C$32","v":0},"#'T2-B(PP2)'!$C$32"]
["pp2_bl3_2_6_unit_in",{"$f":"'T2-B(PP2)'!$D$32","v":0},"#'T2-B(PP2)'!$D$32"]
["pp2_bl3_2_6_units_out",{"$f":"'T2-B(PP2)'!$G$32","v":0},"#'T2-B(PP2)'!$G$32"]
["pp2_bl3_2_7_name",{"$f":"'T2-B(PP2)'!$B$33","v":0},"#'T2-B(PP2)'!$B$33"]
["pp2_bl3_2_7_rate_in",{"$f":"'T2-B(PP2)'!$E$33","v":0},"#'T2-B(PP2)'!$E$33"]
["pp2_bl3_2_7_rate_out",{"$f":"'T2-B(PP2)'!$H$33","v":0},"#'T2-B(PP2)'!$H$33"]
["pp2_bl3_2_7_total",{"$f":"'T2-B(PP2)'!$J$33","v":0},"#'T2-B(PP2)'!$J$33"]
["pp2_bl3_2_7_total_in",{"$f":"'T2-B(PP2)'!$F$33","v":0},"#'T2-B(PP2)'!$F$33"]
["pp2_bl3_2_7_total_out",{"$f":"'T2-B(PP2)'!$I$33","v":0},"#'T2-B(PP2)'!$I$33"]
["pp2_bl3_2_7_unit",{"$f":"'T2-B(PP2)'!$C$33","v":0},"#'T2-B(PP2)'!$C$33"]
["pp2_bl3_2_7_unit_in",{"$f":"'T2-B(PP2)'!$D$33","v":0},"#'T2-B(PP2)'!$D$33"]
["pp2_bl3_2_7_units_out",{"$f":"'T2-B(PP2)'!$G$33","v":0},"#'T2-B(PP2)'!$G$33"]
["pp2_bl3_2_8_name",{"$f":"'T2-B(PP2)'!$B$34","v":0},"#'T2-B(PP2)'!$B$34"]
["pp2_bl3_2_8_rate_in",{"$f":"'T2-B(PP2)'!$E$34","v":0},"#'T2-B(PP2)'!$E$34"]
["pp2_bl3_2_8_rate_out",{"$f":"'T2-B(PP2)'!$H$34","v":0},"#'T2-B(PP2)'!$H$34"]
["pp2_bl3_2_8_total",{"$f":"'T2-B(PP2)'!$J$34","v":0},"#'T2-B(PP2)'!$J$34"]
["pp2_bl3_2_8_total_in",{"$f":"'T2-B(PP2)'!$F$34","v":0},"#'T2-B(PP2)'!$F$34"]
["pp2_bl3_2_8_total_out",{"$f":"'T2-B(PP2)'!$I$34","v":0},"#'T2-B(PP2)'!$I$34"]
["pp2_bl3_2_8_unit",{"$f":"'T2-B(PP2)'!$C$34","v":0},"#'T2-B(PP2)'!$C$34"]
["pp2_bl3_2_8_unit_in",{"$f":"'T2-B(PP2)'!$D$34","v":0},"#'T2-B(PP2)'!$D$34"]
["pp2_bl3_2_8_units_out",{"$f":"'T2-B(PP2)'!$G$34","v":0},"#'T2-B(PP2)'!$G$34"]
["pp2_bl3_2_9_name",{"$f":"'T2-B(PP2)'!$B$35","v":0},"#'T2-B(PP2)'!$B$35"]
["pp2_bl3_2_9_rate_in",{"$f":"'T2-B(PP2)'!$E$35","v":0},"#'T2-B(PP2)'!$E$35"]
["pp2_bl3_2_9_rate_out",{"$f":"'T2-B(PP2)'!$H$35","v":0},"#'T2-B(PP2)'!$H$35"]
["pp2_bl3_2_9_total",{"$f":"'T2-B(PP2)'!$J$35","v":0},"#'T2-B(PP2)'!$J$35"]
["pp2_bl3_2_9_total_in",{"$f":"'T2-B(PP2)'!$F$35","v":0},"#'T2-B(PP2)'!$F$35"]
["pp2_bl3_2_9_total_out",{"$f":"'T2-B(PP2)'!$I$35","v":0},"#'T2-B(PP2)'!$I$35"]
["pp2_bl3_2_9_unit",{"$f":"'T2-B(PP2)'!$C$35","v":0},"#'T2-B(PP2)'!$C$35"]
["pp2_bl3_2_9_unit_in",{"$f":"'T2-B(PP2)'!$D$35","v":0},"#'T2-B(PP2)'!$D$35"]
["pp2_bl3_2_9_units_out",{"$f":"'T2-B(PP2)'!$G$35","v":0},"#'T2-B(PP2)'!$G$35"]
["pp2_bl3_2_total",{"$f":"'T2-B(PP2)'!$J$26","v":0},"#'T2-B(PP2)'!$J$26"]
["pp2_bl3_2_total_in",{"$f":"'T2-B(PP2)'!$F$26","v":0},"#'T2-B(PP2)'!$F$26"]
["pp2_bl3_2_total_out",{"$f":"'T2-B(PP2)'!$I$26","v":0},"#'T2-B(PP2)'!$I$26"]
["pp2_bl3_3_1_name",{"$f":"'T2-B(PP2)'!$B$38","v":0},"#'T2-B(PP2)'!$B$38"]
["pp2_bl3_3_1_rate_in",{"$f":"'T2-B(PP2)'!$E$38","v":0},"#'T2-B(PP2)'!$E$38"]
["pp2_bl3_3_1_rate_out",{"$f":"'T2-B(PP2)'!$H$38","v":0},"#'T2-B(PP2)'!$H$38"]
["pp2_bl3_3_1_total",{"$f":"'T2-B(PP2)'!$J$38","v":0},"#'T2-B(PP2)'!$J$38"]
["pp2_bl3_3_1_total_in",{"$f":"'T2-B(PP2)'!$F$38","v":0},"#'T2-B(PP2)'!$F$38"]
["pp2_bl3_3_1_total_out",{"$f":"'T2-B(PP2)'!$I$38","v":0},"#'T2-B(PP2)'!$I$38"]
["pp2_bl3_3_1_unit",{"$f":"'T2-B(PP2)'!$C$38","v":0},"#'T2-B(PP2)'!$C$38"]
["pp2_bl3_3_1_unit_in",{"$f":"'T2-B(PP2)'!$D$38","v":0},"#'T2-B(PP2)'!$D$38"]
["pp2_bl3_3_1_units_out",{"$f":"'T2-B(PP2)'!$G$38","v":0},"#'T2-B(PP2)'!$G$38"]
["pp2_bl3_3_10_name",{"$f":"'T2-B(PP2)'!$B$47","v":0},"#'T2-B(PP2)'!$B$47"]
["pp2_bl3_3_10_rate_in",{"$f":"'T2-B(PP2)'!$E$47","v":0},"#'T2-B(PP2)'!$E$47"]
["pp2_bl3_3_10_rate_out",{"$f":"'T2-B(PP2)'!$H$47","v":0},"#'T2-B(PP2)'!$H$47"]
["pp2_bl3_3_10_total",{"$f":"'T2-B(PP2)'!$J$47","v":0},"#'T2-B(PP2)'!$J$47"]
["pp2_bl3_3_10_total_in",{"$f":"'T2-B(PP2)'!$F$47","v":0},"#'T2-B(PP2)'!$F$47"]
["pp2_bl3_3_10_total_out",{"$f":"'T2-B(PP2)'!$I$47","v":0},"#'T2-B(PP2)'!$I$47"]
["pp2_bl3_3_10_unit",{"$f":"'T2-B(PP2)'!$C$47","v":0},"#'T2-B(PP2)'!$C$47"]
["pp2_bl3_3_10_unit_in",{"$f":"'T2-B(PP2)'!$D$47","v":0},"#'T2-B(PP2)'!$D$47"]
["pp2_bl3_3_10_units_out",{"$f":"'T2-B(PP2)'!$G$47","v":0},"#'T2-B(PP2)'!$G$47"]
["pp2_bl3_3_2_name",{"$f":"'T2-B(PP2)'!$B$39","v":"ttt"},"#'T2-B(PP2)'!$B$39"]
["pp2_bl3_3_2_rate_in",{"$f":"'T2-B(PP2)'!$E$39","v":0},"#'T2-B(PP2)'!$E$39"]
["pp2_bl3_3_2_rate_out",{"$f":"'T2-B(PP2)'!$H$39","v":0},"#'T2-B(PP2)'!$H$39"]
["pp2_bl3_3_2_total",{"$f":"'T2-B(PP2)'!$J$39","v":0},"#'T2-B(PP2)'!$J$39"]
["pp2_bl3_3_2_total_in",{"$f":"'T2-B(PP2)'!$F$39","v":0},"#'T2-B(PP2)'!$F$39"]
["pp2_bl3_3_2_total_out",{"$f":"'T2-B(PP2)'!$I$39","v":0},"#'T2-B(PP2)'!$I$39"]
["pp2_bl3_3_2_unit",{"$f":"'T2-B(PP2)'!$C$39","v":"u"},"#'T2-B(PP2)'!$C$39"]
["pp2_bl3_3_2_unit_in",{"$f":"'T2-B(PP2)'!$D$39","v":0},"#'T2-B(PP2)'!$D$39"]
["pp2_bl3_3_2_units_out",{"$f":"'T2-B(PP2)'!$G$39","v":0},"#'T2-B(PP2)'!$G$39"]
["pp2_bl3_3_3_name",{"$f":"'T2-B(PP2)'!$B$40","v":0},"#'T2-B(PP2)'!$B$40"]
["pp2_bl3_3_3_rate_in",{"$f":"'T2-B(PP2)'!$E$40","v":0},"#'T2-B(PP2)'!$E$40"]
["pp2_bl3_3_3_rate_out",{"$f":"'T2-B(PP2)'!$H$40","v":0},"#'T2-B(PP2)'!$H$40"]
["pp2_bl3_3_3_total",{"$f":"'T2-B(PP2)'!$J$40","v":0},"#'T2-B(PP2)'!$J$40"]
["pp2_bl3_3_3_total_in",{"$f":"'T2-B(PP2)'!$F$40","v":0},"#'T2-B(PP2)'!$F$40"]
["pp2_bl3_3_3_total_out",{"$f":"'T2-B(PP2)'!$I$40","v":0},"#'T2-B(PP2)'!$I$40"]
["pp2_bl3_3_3_unit",{"$f":"'T2-B(PP2)'!$C$40","v":0},"#'T2-B(PP2)'!$C$40"]
["pp2_bl3_3_3_unit_in",{"$f":"'T2-B(PP2)'!$D$40","v":0},"#'T2-B(PP2)'!$D$40"]
["pp2_bl3_3_3_units_out",{"$f":"'T2-B(PP2)'!$G$40","v":0},"#'T2-B(PP2)'!$G$40"]
["pp2_bl3_3_4_name",{"$f":"'T2-B(PP2)'!$B$41","v":0},"#'T2-B(PP2)'!$B$41"]
["pp2_bl3_3_4_rate_in",{"$f":"'T2-B(PP2)'!$E$41","v":0},"#'T2-B(PP2)'!$E$41"]
["pp2_bl3_3_4_rate_out",{"$f":"'T2-B(PP2)'!$H$41","v":0},"#'T2-B(PP2)'!$H$41"]
["pp2_bl3_3_4_total",{"$f":"'T2-B(PP2)'!$J$41","v":0},"#'T2-B(PP2)'!$J$41"]
["pp2_bl3_3_4_total_in",{"$f":"'T2-B(PP2)'!$F$41","v":0},"#'T2-B(PP2)'!$F$41"]
["pp2_bl3_3_4_total_out",{"$f":"'T2-B(PP2)'!$I$41","v":0},"#'T2-B(PP2)'!$I$41"]
["pp2_bl3_3_4_unit",{"$f":"'T2-B(PP2)'!$C$41","v":0},"#'T2-B(PP2)'!$C$41"]
["pp2_bl3_3_4_unit_in",{"$f":"'T2-B(PP2)'!$D$41","v":0},"#'T2-B(PP2)'!$D$41"]
["pp2_bl3_3_4_units_out",{"$f":"'T2-B(PP2)'!$G$41","v":0},"#'T2-B(PP2)'!$G$41"]
["pp2_bl3_3_5_name",{"$f":"'T2-B(PP2)'!$B$42","v":0},"#'T2-B(PP2)'!$B$42"]
["pp2_bl3_3_5_rate_in",{"$f":"'T2-B(PP2)'!$E$42","v":0},"#'T2-B(PP2)'!$E$42"]
["pp2_bl3_3_5_rate_out",{"$f":"'T2-B(PP2)'!$H$42","v":0},"#'T2-B(PP2)'!$H$42"]
["pp2_bl3_3_5_total",{"$f":"'T2-B(PP2)'!$J$42","v":0},"#'T2-B(PP2)'!$J$42"]
["pp2_bl3_3_5_total_in",{"$f":"'T2-B(PP2)'!$F$42","v":0},"#'T2-B(PP2)'!$F$42"]
["pp2_bl3_3_5_total_out",{"$f":"'T2-B(PP2)'!$I$42","v":0},"#'T2-B(PP2)'!$I$42"]
["pp2_bl3_3_5_unit",{"$f":"'T2-B(PP2)'!$C$42","v":0},"#'T2-B(PP2)'!$C$42"]
["pp2_bl3_3_5_unit_in",{"$f":"'T2-B(PP2)'!$D$42","v":0},"#'T2-B(PP2)'!$D$42"]
["pp2_bl3_3_5_units_out",{"$f":"'T2-B(PP2)'!$G$42","v":0},"#'T2-B(PP2)'!$G$42"]
["pp2_bl3_3_6_name",{"$f":"'T2-B(PP2)'!$B$43","v":0},"#'T2-B(PP2)'!$B$43"]
["pp2_bl3_3_6_rate_in",{"$f":"'T2-B(PP2)'!$E$43","v":0},"#'T2-B(PP2)'!$E$43"]
["pp2_bl3_3_6_rate_out",{"$f":"'T2-B(PP2)'!$H$43","v":0},"#'T2-B(PP2)'!$H$43"]
["pp2_bl3_3_6_total",{"$f":"'T2-B(PP2)'!$J$43","v":0},"#'T2-B(PP2)'!$J$43"]
["pp2_bl3_3_6_total_in",{"$f":"'T2-B(PP2)'!$F$43","v":0},"#'T2-B(PP2)'!$F$43"]
["pp2_bl3_3_6_total_out",{"$f":"'T2-B(PP2)'!$I$43","v":0},"#'T2-B(PP2)'!$I$43"]
["pp2_bl3_3_6_unit",{"$f":"'T2-B(PP2)'!$C$43","v":0},"#'T2-B(PP2)'!$C$43"]
["pp2_bl3_3_6_unit_in",{"$f":"'T2-B(PP2)'!$D$43","v":0},"#'T2-B(PP2)'!$D$43"]
["pp2_bl3_3_6_units_out",{"$f":"'T2-B(PP2)'!$G$43","v":0},"#'T2-B(PP2)'!$G$43"]
["pp2_bl3_3_7_name",{"$f":"'T2-B(PP2)'!$B$44","v":0},"#'T2-B(PP2)'!$B$44"]
["pp2_bl3_3_7_rate_in",{"$f":"'T2-B(PP2)'!$E$44","v":0},"#'T2-B(PP2)'!$E$44"]
["pp2_bl3_3_7_rate_out",{"$f":"'T2-B(PP2)'!$H$44","v":0},"#'T2-B(PP2)'!$H$44"]
["pp2_bl3_3_7_total",{"$f":"'T2-B(PP2)'!$J$44","v":0},"#'T2-B(PP2)'!$J$44"]
["pp2_bl3_3_7_total_in",{"$f":"'T2-B(PP2)'!$F$44","v":0},"#'T2-B(PP2)'!$F$44"]
["pp2_bl3_3_7_total_out",{"$f":"'T2-B(PP2)'!$I$44","v":0},"#'T2-B(PP2)'!$I$44"]
["pp2_bl3_3_7_unit",{"$f":"'T2-B(PP2)'!$C$44","v":0},"#'T2-B(PP2)'!$C$44"]
["pp2_bl3_3_7_unit_in",{"$f":"'T2-B(PP2)'!$D$44","v":0},"#'T2-B(PP2)'!$D$44"]
["pp2_bl3_3_7_units_out",{"$f":"'T2-B(PP2)'!$G$44","v":0},"#'T2-B(PP2)'!$G$44"]
["pp2_bl3_3_8_name",{"$f":"'T2-B(PP2)'!$B$45","v":0},"#'T2-B(PP2)'!$B$45"]
["pp2_bl3_3_8_rate_in",{"$f":"'T2-B(PP2)'!$E$45","v":0},"#'T2-B(PP2)'!$E$45"]
["pp2_bl3_3_8_rate_out",{"$f":"'T2-B(PP2)'!$H$45","v":0},"#'T2-B(PP2)'!$H$45"]
["pp2_bl3_3_8_total",{"$f":"'T2-B(PP2)'!$J$45","v":0},"#'T2-B(PP2)'!$J$45"]
["pp2_bl3_3_8_total_in",{"$f":"'T2-B(PP2)'!$F$45","v":0},"#'T2-B(PP2)'!$F$45"]
["pp2_bl3_3_8_total_out",{"$f":"'T2-B(PP2)'!$I$45","v":0},"#'T2-B(PP2)'!$I$45"]
["pp2_bl3_3_8_unit",{"$f":"'T2-B(PP2)'!$C$45","v":0},"#'T2-B(PP2)'!$C$45"]
["pp2_bl3_3_8_unit_in",{"$f":"'T2-B(PP2)'!$D$45","v":0},"#'T2-B(PP2)'!$D$45"]
["pp2_bl3_3_8_units_out",{"$f":"'T2-B(PP2)'!$G$45","v":0},"#'T2-B(PP2)'!$G$45"]
["pp2_bl3_3_9_name",{"$f":"'T2-B(PP2)'!$B$46","v":0},"#'T2-B(PP2)'!$B$46"]
["pp2_bl3_3_9_rate_in",{"$f":"'T2-B(PP2)'!$E$46","v":0},"#'T2-B(PP2)'!$E$46"]
["pp2_bl3_3_9_rate_out",{"$f":"'T2-B(PP2)'!$H$46","v":0},"#'T2-B(PP2)'!$H$46"]
["pp2_bl3_3_9_total",{"$f":"'T2-B(PP2)'!$J$46","v":0},"#'T2-B(PP2)'!$J$46"]
["pp2_bl3_3_9_total_in",{"$f":"'T2-B(PP2)'!$F$46","v":0},"#'T2-B(PP2)'!$F$46"]
["pp2_bl3_3_9_total_out",{"$f":"'T2-B(PP2)'!$I$46","v":0},"#'T2-B(PP2)'!$I$46"]
["pp2_bl3_3_9_unit",{"$f":"'T2-B(PP2)'!$C$46","v":0},"#'T2-B(PP2)'!$C$46"]
["pp2_bl3_3_9_unit_in",{"$f":"'T2-B(PP2)'!$D$46","v":0},"#'T2-B(PP2)'!$D$46"]
["pp2_bl3_3_9_units_out",{"$f":"'T2-B(PP2)'!$G$46","v":0},"#'T2-B(PP2)'!$G$46"]
["pp2_bl3_3_total",{"$f":"'T2-B(PP2)'!$J$37","v":0},"#'T2-B(PP2)'!$J$37"]
["pp2_bl3_3_total_in",{"$f":"'T2-B(PP2)'!$F$37","v":0},"#'T2-B(PP2)'!$F$37"]
["pp2_bl3_3_total_out",{"$f":"'T2-B(PP2)'!$I$37","v":0},"#'T2-B(PP2)'!$I$37"]
["pp2_bl3_total",{"$f":"'T2-B(PP2)'!$J$48","v":0},"#'T2-B(PP2)'!$J$48"]
["pp2_bl3_total_in",{"$f":"'T2-B(PP2)'!$F$48","v":0},"#'T2-B(PP2)'!$F$48"]
["pp2_bl3_total_out",{"$f":"'T2-B(PP2)'!$I$48","v":0},"#'T2-B(PP2)'!$I$48"]
["pp2_bl4_1_1_name",{"$f":"'T2-B(PP2)'!$B$53","v":0},"#'T2-B(PP2)'!$B$53"]
["pp2_bl4_1_1_rate_in",{"$f":"'T2-B(PP2)'!$E$53","v":0},"#'T2-B(PP2)'!$E$53"]
["pp2_bl4_1_1_rate_out",{"$f":"'T2-B(PP2)'!$H$53","v":0},"#'T2-B(PP2)'!$H$53"]
["pp2_bl4_1_1_total",{"$f":"'T2-B(PP2)'!$J$53","v":0},"#'T2-B(PP2)'!$J$53"]
["pp2_bl4_1_1_total_in",{"$f":"'T2-B(PP2)'!$F$53","v":0},"#'T2-B(PP2)'!$F$53"]
["pp2_bl4_1_1_total_out",{"$f":"'T2-B(PP2)'!$I$53","v":0},"#'T2-B(PP2)'!$I$53"]
["pp2_bl4_1_1_unit",{"$f":"'T2-B(PP2)'!$C$53","v":0},"#'T2-B(PP2)'!$C$53"]
["pp2_bl4_1_1_unit_in",{"$f":"'T2-B(PP2)'!$D$53","v":0},"#'T2-B(PP2)'!$D$53"]
["pp2_bl4_1_1_units_out",{"$f":"'T2-B(PP2)'!$G$53","v":0},"#'T2-B(PP2)'!$G$53"]
["pp2_bl4_1_10_name",{"$f":"'T2-B(PP2)'!$B$62","v":0},"#'T2-B(PP2)'!$B$62"]
["pp2_bl4_1_10_rate_in",{"$f":"'T2-B(PP2)'!$E$62","v":0},"#'T2-B(PP2)'!$E$62"]
["pp2_bl4_1_10_rate_out",{"$f":"'T2-B(PP2)'!$H$62","v":0},"#'T2-B(PP2)'!$H$62"]
["pp2_bl4_1_10_total",{"$f":"'T2-B(PP2)'!$J$62","v":0},"#'T2-B(PP2)'!$J$62"]
["pp2_bl4_1_10_total_in",{"$f":"'T2-B(PP2)'!$F$62","v":0},"#'T2-B(PP2)'!$F$62"]
["pp2_bl4_1_10_total_out",{"$f":"'T2-B(PP2)'!$I$62","v":0},"#'T2-B(PP2)'!$I$62"]
["pp2_bl4_1_10_unit",{"$f":"'T2-B(PP2)'!$C$62","v":0},"#'T2-B(PP2)'!$C$62"]
["pp2_bl4_1_10_unit_in",{"$f":"'T2-B(PP2)'!$D$62","v":0},"#'T2-B(PP2)'!$D$62"]
["pp2_bl4_1_10_units_out",{"$f":"'T2-B(PP2)'!$G$62","v":0},"#'T2-B(PP2)'!$G$62"]
["pp2_bl4_1_2_name",{"$f":"'T2-B(PP2)'!$B$54","v":0},"#'T2-B(PP2)'!$B$54"]
["pp2_bl4_1_2_rate_in",{"$f":"'T2-B(PP2)'!$E$54","v":0},"#'T2-B(PP2)'!$E$54"]
["pp2_bl4_1_2_rate_out",{"$f":"'T2-B(PP2)'!$H$54","v":0},"#'T2-B(PP2)'!$H$54"]
["pp2_bl4_1_2_total",{"$f":"'T2-B(PP2)'!$J$54","v":0},"#'T2-B(PP2)'!$J$54"]
["pp2_bl4_1_2_total_in",{"$f":"'T2-B(PP2)'!$F$54","v":0},"#'T2-B(PP2)'!$F$54"]
["pp2_bl4_1_2_total_out",{"$f":"'T2-B(PP2)'!$I$54","v":0},"#'T2-B(PP2)'!$I$54"]
["pp2_bl4_1_2_unit",{"$f":"'T2-B(PP2)'!$C$54","v":0},"#'T2-B(PP2)'!$C$54"]
["pp2_bl4_1_2_unit_in",{"$f":"'T2-B(PP2)'!$D$54","v":0},"#'T2-B(PP2)'!$D$54"]
["pp2_bl4_1_2_units_out",{"$f":"'T2-B(PP2)'!$G$54","v":0},"#'T2-B(PP2)'!$G$54"]
["pp2_bl4_1_3_name",{"$f":"'T2-B(PP2)'!$B$55","v":0},"#'T2-B(PP2)'!$B$55"]
["pp2_bl4_1_3_rate_in",{"$f":"'T2-B(PP2)'!$E$55","v":0},"#'T2-B(PP2)'!$E$55"]
["pp2_bl4_1_3_rate_out",{"$f":"'T2-B(PP2)'!$H$55","v":0},"#'T2-B(PP2)'!$H$55"]
["pp2_bl4_1_3_total",{"$f":"'T2-B(PP2)'!$J$55","v":0},"#'T2-B(PP2)'!$J$55"]
["pp2_bl4_1_3_total_in",{"$f":"'T2-B(PP2)'!$F$55","v":0},"#'T2-B(PP2)'!$F$55"]
["pp2_bl4_1_3_total_out",{"$f":"'T2-B(PP2)'!$I$55","v":0},"#'T2-B(PP2)'!$I$55"]
["pp2_bl4_1_3_unit",{"$f":"'T2-B(PP2)'!$C$55","v":0},"#'T2-B(PP2)'!$C$55"]
["pp2_bl4_1_3_unit_in",{"$f":"'T2-B(PP2)'!$D$55","v":0},"#'T2-B(PP2)'!$D$55"]
["pp2_bl4_1_3_units_out",{"$f":"'T2-B(PP2)'!$G$55","v":0},"#'T2-B(PP2)'!$G$55"]
["pp2_bl4_1_4_name",{"$f":"'T2-B(PP2)'!$B$56","v":0},"#'T2-B(PP2)'!$B$56"]
["pp2_bl4_1_4_rate_in",{"$f":"'T2-B(PP2)'!$E$56","v":0},"#'T2-B(PP2)'!$E$56"]
["pp2_bl4_1_4_rate_out",{"$f":"'T2-B(PP2)'!$H$56","v":0},"#'T2-B(PP2)'!$H$56"]
["pp2_bl4_1_4_total",{"$f":"'T2-B(PP2)'!$J$56","v":0},"#'T2-B(PP2)'!$J$56"]
["pp2_bl4_1_4_total_in",{"$f":"'T2-B(PP2)'!$F$56","v":0},"#'T2-B(PP2)'!$F$56"]
["pp2_bl4_1_4_total_out",{"$f":"'T2-B(PP2)'!$I$56","v":0},"#'T2-B(PP2)'!$I$56"]
["pp2_bl4_1_4_unit",{"$f":"'T2-B(PP2)'!$C$56","v":0},"#'T2-B(PP2)'!$C$56"]
["pp2_bl4_1_4_unit_in",{"$f":"'T2-B(PP2)'!$D$56","v":0},"#'T2-B(PP2)'!$D$56"]
["pp2_bl4_1_4_units_out",{"$f":"'T2-B(PP2)'!$G$56","v":0},"#'T2-B(PP2)'!$G$56"]
["pp2_bl4_1_5_name",{"$f":"'T2-B(PP2)'!$B$57","v":0},"#'T2-B(PP2)'!$B$57"]
["pp2_bl4_1_5_rate_in",{"$f":"'T2-B(PP2)'!$E$57","v":0},"#'T2-B(PP2)'!$E$57"]
["pp2_bl4_1_5_rate_out",{"$f":"'T2-B(PP2)'!$H$57","v":0},"#'T2-B(PP2)'!$H$57"]
["pp2_bl4_1_5_total",{"$f":"'T2-B(PP2)'!$J$57","v":0},"#'T2-B(PP2)'!$J$57"]
["pp2_bl4_1_5_total_in",{"$f":"'T2-B(PP2)'!$F$57","v":0},"#'T2-B(PP2)'!$F$57"]
["pp2_bl4_1_5_total_out",{"$f":"'T2-B(PP2)'!$I$57","v":0},"#'T2-B(PP2)'!$I$57"]
["pp2_bl4_1_5_unit",{"$f":"'T2-B(PP2)'!$C$57","v":0},"#'T2-B(PP2)'!$C$57"]
["pp2_bl4_1_5_unit_in",{"$f":"'T2-B(PP2)'!$D$57","v":0},"#'T2-B(PP2)'!$D$57"]
["pp2_bl4_1_5_units_out",{"$f":"'T2-B(PP2)'!$G$57","v":0},"#'T2-B(PP2)'!$G$57"]
["pp2_bl4_1_6_name",{"$f":"'T2-B(PP2)'!$B$58","v":0},"#'T2-B(PP2)'!$B$58"]
["pp2_bl4_1_6_rate_in",{"$f":"'T2-B(PP2)'!$E$58","v":0},"#'T2-B(PP2)'!$E$58"]
["pp2_bl4_1_6_rate_out",{"$f":"'T2-B(PP2)'!$H$58","v":0},"#'T2-B(PP2)'!$H$58"]
["pp2_bl4_1_6_total",{"$f":"'T2-B(PP2)'!$J$58","v":0},"#'T2-B(PP2)'!$J$58"]
["pp2_bl4_1_6_total_in",{"$f":"'T2-B(PP2)'!$F$58","v":0},"#'T2-B(PP2)'!$F$58"]
["pp2_bl4_1_6_total_out",{"$f":"'T2-B(PP2)'!$I$58","v":0},"#'T2-B(PP2)'!$I$58"]
["pp2_bl4_1_6_unit",{"$f":"'T2-B(PP2)'!$C$58","v":0},"#'T2-B(PP2)'!$C$58"]
["pp2_bl4_1_6_unit_in",{"$f":"'T2-B(PP2)'!$D$58","v":0},"#'T2-B(PP2)'!$D$58"]
["pp2_bl4_1_6_units_out",{"$f":"'T2-B(PP2)'!$G$58","v":0},"#'T2-B(PP2)'!$G$58"]
["pp2_bl4_1_7_name",{"$f":"'T2-B(PP2)'!$B$59","v":0},"#'T2-B(PP2)'!$B$59"]
["pp2_bl4_1_7_rate_in",{"$f":"'T2-B(PP2)'!$E$59","v":0},"#'T2-B(PP2)'!$E$59"]
["pp2_bl4_1_7_rate_out",{"$f":"'T2-B(PP2)'!$H$59","v":0},"#'T2-B(PP2)'!$H$59"]
["pp2_bl4_1_7_total",{"$f":"'T2-B(PP2)'!$J$59","v":0},"#'T2-B(PP2)'!$J$59"]
["pp2_bl4_1_7_total_in",{"$f":"'T2-B(PP2)'!$F$59","v":0},"#'T2-B(PP2)'!$F$59"]
["pp2_bl4_1_7_total_out",{"$f":"'T2-B(PP2)'!$I$59","v":0},"#'T2-B(PP2)'!$I$59"]
["pp2_bl4_1_7_unit",{"$f":"'T2-B(PP2)'!$C$59","v":0},"#'T2-B(PP2)'!$C$59"]
["pp2_bl4_1_7_unit_in",{"$f":"'T2-B(PP2)'!$D$59","v":0},"#'T2-B(PP2)'!$D$59"]
["pp2_bl4_1_7_units_out",{"$f":"'T2-B(PP2)'!$G$59","v":0},"#'T2-B(PP2)'!$G$59"]
["pp2_bl4_1_8_name",{"$f":"'T2-B(PP2)'!$B$60","v":0},"#'T2-B(PP2)'!$B$60"]
["pp2_bl4_1_8_rate_in",{"$f":"'T2-B(PP2)'!$E$60","v":0},"#'T2-B(PP2)'!$E$60"]
["pp2_bl4_1_8_rate_out",{"$f":"'T2-B(PP2)'!$H$60","v":0},"#'T2-B(PP2)'!$H$60"]
["pp2_bl4_1_8_total",{"$f":"'T2-B(PP2)'!$J$60","v":0},"#'T2-B(PP2)'!$J$60"]
["pp2_bl4_1_8_total_in",{"$f":"'T2-B(PP2)'!$F$60","v":0},"#'T2-B(PP2)'!$F$60"]
["pp2_bl4_1_8_total_out",{"$f":"'T2-B(PP2)'!$I$60","v":0},"#'T2-B(PP2)'!$I$60"]
["pp2_bl4_1_8_unit",{"$f":"'T2-B(PP2)'!$C$60","v":0},"#'T2-B(PP2)'!$C$60"]
["pp2_bl4_1_8_unit_in",{"$f":"'T2-B(PP2)'!$D$60","v":0},"#'T2-B(PP2)'!$D$60"]
["pp2_bl4_1_8_units_out",{"$f":"'T2-B(PP2)'!$G$60","v":0},"#'T2-B(PP2)'!$G$60"]
["pp2_bl4_1_9_name",{"$f":"'T2-B(PP2)'!$B$61","v":0},"#'T2-B(PP2)'!$B$61"]
["pp2_bl4_1_9_rate_in",{"$f":"'T2-B(PP2)'!$E$61","v":0},"#'T2-B(PP2)'!$E$61"]
["pp2_bl4_1_9_rate_out",{"$f":"'T2-B(PP2)'!$H$61","v":0},"#'T2-B(PP2)'!$H$61"]
["pp2_bl4_1_9_total",{"$f":"'T2-B(PP2)'!$J$61","v":0},"#'T2-B(PP2)'!$J$61"]
["pp2_bl4_1_9_total_in",{"$f":"'T2-B(PP2)'!$F$61","v":0},"#'T2-B(PP2)'!$F$61"]
["pp2_bl4_1_9_total_out",{"$f":"'T2-B(PP2)'!$I$61","v":0},"#'T2-B(PP2)'!$I$61"]
["pp2_bl4_1_9_unit",{"$f":"'T2-B(PP2)'!$C$61","v":0},"#'T2-B(PP2)'!$C$61"]
["pp2_bl4_1_9_unit_in",{"$f":"'T2-B(PP2)'!$D$61","v":0},"#'T2-B(PP2)'!$D$61"]
["pp2_bl4_1_9_units_out",{"$f":"'T2-B(PP2)'!$G$61","v":0},"#'T2-B(PP2)'!$G$61"]
["pp2_bl4_1_total",{"$f":"'T2-B(PP2)'!$J$52","v":0},"#'T2-B(PP2)'!$J$52"]
["pp2_bl4_1_total_in",{"$f":"'T2-B(PP2)'!$F$52","v":0},"#'T2-B(PP2)'!$F$52"]
["pp2_bl4_1_total_out",{"$f":"'T2-B(PP2)'!$I$52","v":0},"#'T2-B(PP2)'!$I$52"]
["pp2_bl4_10_1_name",{"$f":"'T2-B(PP2)'!$B$152","v":0},"#'T2-B(PP2)'!$B$152"]
["pp2_bl4_10_1_rate_in",{"$f":"'T2-B(PP2)'!$E$152","v":0},"#'T2-B(PP2)'!$E$152"]
["pp2_bl4_10_1_rate_out",{"$f":"'T2-B(PP2)'!$H$152","v":0},"#'T2-B(PP2)'!$H$152"]
["pp2_bl4_10_1_total",{"$f":"'T2-B(PP2)'!$J$152","v":0},"#'T2-B(PP2)'!$J$152"]
["pp2_bl4_10_1_total_in",{"$f":"'T2-B(PP2)'!$F$152","v":0},"#'T2-B(PP2)'!$F$152"]
["pp2_bl4_10_1_total_out",{"$f":"'T2-B(PP2)'!$I$152","v":0},"#'T2-B(PP2)'!$I$152"]
["pp2_bl4_10_1_unit",{"$f":"'T2-B(PP2)'!$C$152","v":0},"#'T2-B(PP2)'!$C$152"]
["pp2_bl4_10_1_unit_in",{"$f":"'T2-B(PP2)'!$D$152","v":0},"#'T2-B(PP2)'!$D$152"]
["pp2_bl4_10_1_units_out",{"$f":"'T2-B(PP2)'!$G$152","v":0},"#'T2-B(PP2)'!$G$152"]
["pp2_bl4_10_10_name",{"$f":"'T2-B(PP2)'!$B$161","v":0},"#'T2-B(PP2)'!$B$161"]
["pp2_bl4_10_10_rate_in",{"$f":"'T2-B(PP2)'!$E$161","v":0},"#'T2-B(PP2)'!$E$161"]
["pp2_bl4_10_10_rate_out",{"$f":"'T2-B(PP2)'!$H$161","v":0},"#'T2-B(PP2)'!$H$161"]
["pp2_bl4_10_10_total",{"$f":"'T2-B(PP2)'!$J$161","v":0},"#'T2-B(PP2)'!$J$161"]
["pp2_bl4_10_10_total_in",{"$f":"'T2-B(PP2)'!$F$161","v":0},"#'T2-B(PP2)'!$F$161"]
["pp2_bl4_10_10_total_out",{"$f":"'T2-B(PP2)'!$I$161","v":0},"#'T2-B(PP2)'!$I$161"]
["pp2_bl4_10_10_unit",{"$f":"'T2-B(PP2)'!$C$161","v":0},"#'T2-B(PP2)'!$C$161"]
["pp2_bl4_10_10_unit_in",{"$f":"'T2-B(PP2)'!$D$161","v":0},"#'T2-B(PP2)'!$D$161"]
["pp2_bl4_10_10_units_out",{"$f":"'T2-B(PP2)'!$G$161","v":0},"#'T2-B(PP2)'!$G$161"]
["pp2_bl4_10_2_name",{"$f":"'T2-B(PP2)'!$B$153","v":0},"#'T2-B(PP2)'!$B$153"]
["pp2_bl4_10_2_rate_in",{"$f":"'T2-B(PP2)'!$E$153","v":0},"#'T2-B(PP2)'!$E$153"]
["pp2_bl4_10_2_rate_out",{"$f":"'T2-B(PP2)'!$H$153","v":0},"#'T2-B(PP2)'!$H$153"]
["pp2_bl4_10_2_total",{"$f":"'T2-B(PP2)'!$J$153","v":0},"#'T2-B(PP2)'!$J$153"]
["pp2_bl4_10_2_total_in",{"$f":"'T2-B(PP2)'!$F$153","v":0},"#'T2-B(PP2)'!$F$153"]
["pp2_bl4_10_2_total_out",{"$f":"'T2-B(PP2)'!$I$153","v":0},"#'T2-B(PP2)'!$I$153"]
["pp2_bl4_10_2_unit",{"$f":"'T2-B(PP2)'!$C$153","v":0},"#'T2-B(PP2)'!$C$153"]
["pp2_bl4_10_2_unit_in",{"$f":"'T2-B(PP2)'!$D$153","v":0},"#'T2-B(PP2)'!$D$153"]
["pp2_bl4_10_2_units_out",{"$f":"'T2-B(PP2)'!$G$153","v":0},"#'T2-B(PP2)'!$G$153"]
["pp2_bl4_10_3_name",{"$f":"'T2-B(PP2)'!$B$154","v":0},"#'T2-B(PP2)'!$B$154"]
["pp2_bl4_10_3_rate_in",{"$f":"'T2-B(PP2)'!$E$154","v":0},"#'T2-B(PP2)'!$E$154"]
["pp2_bl4_10_3_rate_out",{"$f":"'T2-B(PP2)'!$H$154","v":0},"#'T2-B(PP2)'!$H$154"]
["pp2_bl4_10_3_total",{"$f":"'T2-B(PP2)'!$J$154","v":0},"#'T2-B(PP2)'!$J$154"]
["pp2_bl4_10_3_total_in",{"$f":"'T2-B(PP2)'!$F$154","v":0},"#'T2-B(PP2)'!$F$154"]
["pp2_bl4_10_3_total_out",{"$f":"'T2-B(PP2)'!$I$154","v":0},"#'T2-B(PP2)'!$I$154"]
["pp2_bl4_10_3_unit",{"$f":"'T2-B(PP2)'!$C$154","v":0},"#'T2-B(PP2)'!$C$154"]
["pp2_bl4_10_3_unit_in",{"$f":"'T2-B(PP2)'!$D$154","v":0},"#'T2-B(PP2)'!$D$154"]
["pp2_bl4_10_3_units_out",{"$f":"'T2-B(PP2)'!$G$154","v":0},"#'T2-B(PP2)'!$G$154"]
["pp2_bl4_10_4_name",{"$f":"'T2-B(PP2)'!$B$155","v":0},"#'T2-B(PP2)'!$B$155"]
["pp2_bl4_10_4_rate_in",{"$f":"'T2-B(PP2)'!$E$155","v":0},"#'T2-B(PP2)'!$E$155"]
["pp2_bl4_10_4_rate_out",{"$f":"'T2-B(PP2)'!$H$155","v":0},"#'T2-B(PP2)'!$H$155"]
["pp2_bl4_10_4_total",{"$f":"'T2-B(PP2)'!$J$155","v":0},"#'T2-B(PP2)'!$J$155"]
["pp2_bl4_10_4_total_in",{"$f":"'T2-B(PP2)'!$F$155","v":0},"#'T2-B(PP2)'!$F$155"]
["pp2_bl4_10_4_total_out",{"$f":"'T2-B(PP2)'!$I$155","v":0},"#'T2-B(PP2)'!$I$155"]
["pp2_bl4_10_4_unit",{"$f":"'T2-B(PP2)'!$C$155","v":0},"#'T2-B(PP2)'!$C$155"]
["pp2_bl4_10_4_unit_in",{"$f":"'T2-B(PP2)'!$D$155","v":0},"#'T2-B(PP2)'!$D$155"]
["pp2_bl4_10_4_units_out",{"$f":"'T2-B(PP2)'!$G$155","v":0},"#'T2-B(PP2)'!$G$155"]
["pp2_bl4_10_5_name",{"$f":"'T2-B(PP2)'!$B$156","v":0},"#'T2-B(PP2)'!$B$156"]
["pp2_bl4_10_5_rate_in",{"$f":"'T2-B(PP2)'!$E$156","v":0},"#'T2-B(PP2)'!$E$156"]
["pp2_bl4_10_5_rate_out",{"$f":"'T2-B(PP2)'!$H$156","v":0},"#'T2-B(PP2)'!$H$156"]
["pp2_bl4_10_5_total",{"$f":"'T2-B(PP2)'!$J$156","v":0},"#'T2-B(PP2)'!$J$156"]
["pp2_bl4_10_5_total_in",{"$f":"'T2-B(PP2)'!$F$156","v":0},"#'T2-B(PP2)'!$F$156"]
["pp2_bl4_10_5_total_out",{"$f":"'T2-B(PP2)'!$I$156","v":0},"#'T2-B(PP2)'!$I$156"]
["pp2_bl4_10_5_unit",{"$f":"'T2-B(PP2)'!$C$156","v":0},"#'T2-B(PP2)'!$C$156"]
["pp2_bl4_10_5_unit_in",{"$f":"'T2-B(PP2)'!$D$156","v":0},"#'T2-B(PP2)'!$D$156"]
["pp2_bl4_10_5_units_out",{"$f":"'T2-B(PP2)'!$G$156","v":0},"#'T2-B(PP2)'!$G$156"]
["pp2_bl4_10_6_name",{"$f":"'T2-B(PP2)'!$B$157","v":0},"#'T2-B(PP2)'!$B$157"]
["pp2_bl4_10_6_rate_in",{"$f":"'T2-B(PP2)'!$E$157","v":0},"#'T2-B(PP2)'!$E$157"]
["pp2_bl4_10_6_rate_out",{"$f":"'T2-B(PP2)'!$H$157","v":0},"#'T2-B(PP2)'!$H$157"]
["pp2_bl4_10_6_total",{"$f":"'T2-B(PP2)'!$J$157","v":0},"#'T2-B(PP2)'!$J$157"]
["pp2_bl4_10_6_total_in",{"$f":"'T2-B(PP2)'!$F$157","v":0},"#'T2-B(PP2)'!$F$157"]
["pp2_bl4_10_6_total_out",{"$f":"'T2-B(PP2)'!$I$157","v":0},"#'T2-B(PP2)'!$I$157"]
["pp2_bl4_10_6_unit",{"$f":"'T2-B(PP2)'!$C$157","v":0},"#'T2-B(PP2)'!$C$157"]
["pp2_bl4_10_6_unit_in",{"$f":"'T2-B(PP2)'!$D$157","v":0},"#'T2-B(PP2)'!$D$157"]
["pp2_bl4_10_6_units_out",{"$f":"'T2-B(PP2)'!$G$157","v":0},"#'T2-B(PP2)'!$G$157"]
["pp2_bl4_10_7_name",{"$f":"'T2-B(PP2)'!$B$158","v":0},"#'T2-B(PP2)'!$B$158"]
["pp2_bl4_10_7_rate_in",{"$f":"'T2-B(PP2)'!$E$158","v":0},"#'T2-B(PP2)'!$E$158"]
["pp2_bl4_10_7_rate_out",{"$f":"'T2-B(PP2)'!$H$158","v":0},"#'T2-B(PP2)'!$H$158"]
["pp2_bl4_10_7_total",{"$f":"'T2-B(PP2)'!$J$158","v":0},"#'T2-B(PP2)'!$J$158"]
["pp2_bl4_10_7_total_in",{"$f":"'T2-B(PP2)'!$F$158","v":0},"#'T2-B(PP2)'!$F$158"]
["pp2_bl4_10_7_total_out",{"$f":"'T2-B(PP2)'!$I$158","v":0},"#'T2-B(PP2)'!$I$158"]
["pp2_bl4_10_7_unit",{"$f":"'T2-B(PP2)'!$C$158","v":0},"#'T2-B(PP2)'!$C$158"]
["pp2_bl4_10_7_unit_in",{"$f":"'T2-B(PP2)'!$D$158","v":0},"#'T2-B(PP2)'!$D$158"]
["pp2_bl4_10_7_units_out",{"$f":"'T2-B(PP2)'!$G$158","v":0},"#'T2-B(PP2)'!$G$158"]
["pp2_bl4_10_8_name",{"$f":"'T2-B(PP2)'!$B$159","v":0},"#'T2-B(PP2)'!$B$159"]
["pp2_bl4_10_8_rate_in",{"$f":"'T2-B(PP2)'!$E$159","v":0},"#'T2-B(PP2)'!$E$159"]
["pp2_bl4_10_8_rate_out",{"$f":"'T2-B(PP2)'!$H$159","v":0},"#'T2-B(PP2)'!$H$159"]
["pp2_bl4_10_8_total",{"$f":"'T2-B(PP2)'!$J$159","v":0},"#'T2-B(PP2)'!$J$159"]
["pp2_bl4_10_8_total_in",{"$f":"'T2-B(PP2)'!$F$159","v":0},"#'T2-B(PP2)'!$F$159"]
["pp2_bl4_10_8_total_out",{"$f":"'T2-B(PP2)'!$I$159","v":0},"#'T2-B(PP2)'!$I$159"]
["pp2_bl4_10_8_unit",{"$f":"'T2-B(PP2)'!$C$159","v":0},"#'T2-B(PP2)'!$C$159"]
["pp2_bl4_10_8_unit_in",{"$f":"'T2-B(PP2)'!$D$159","v":0},"#'T2-B(PP2)'!$D$159"]
["pp2_bl4_10_8_units_out",{"$f":"'T2-B(PP2)'!$G$159","v":0},"#'T2-B(PP2)'!$G$159"]
["pp2_bl4_10_9_name",{"$f":"'T2-B(PP2)'!$B$160","v":0},"#'T2-B(PP2)'!$B$160"]
["pp2_bl4_10_9_rate_in",{"$f":"'T2-B(PP2)'!$E$160","v":0},"#'T2-B(PP2)'!$E$160"]
["pp2_bl4_10_9_rate_out",{"$f":"'T2-B(PP2)'!$H$160","v":0},"#'T2-B(PP2)'!$H$160"]
["pp2_bl4_10_9_total",{"$f":"'T2-B(PP2)'!$J$160","v":0},"#'T2-B(PP2)'!$J$160"]
["pp2_bl4_10_9_total_in",{"$f":"'T2-B(PP2)'!$F$160","v":0},"#'T2-B(PP2)'!$F$160"]
["pp2_bl4_10_9_total_out",{"$f":"'T2-B(PP2)'!$I$160","v":0},"#'T2-B(PP2)'!$I$160"]
["pp2_bl4_10_9_unit",{"$f":"'T2-B(PP2)'!$C$160","v":0},"#'T2-B(PP2)'!$C$160"]
["pp2_bl4_10_9_unit_in",{"$f":"'T2-B(PP2)'!$D$160","v":0},"#'T2-B(PP2)'!$D$160"]
["pp2_bl4_10_9_units_out",{"$f":"'T2-B(PP2)'!$G$160","v":0},"#'T2-B(PP2)'!$G$160"]
["pp2_bl4_10_total",{"$f":"'T2-B(PP2)'!$J$151","v":0},"#'T2-B(PP2)'!$J$151"]
["pp2_bl4_10_total_in",{"$f":"'T2-B(PP2)'!$F$151","v":0},"#'T2-B(PP2)'!$F$151"]
["pp2_bl4_10_total_out",{"$f":"'T2-B(PP2)'!$I$151","v":0},"#'T2-B(PP2)'!$I$151"]
["pp2_bl4_11_1_name",{"$f":"'T2-B(PP2)'!$B$163","v":0},"#'T2-B(PP2)'!$B$163"]
["pp2_bl4_11_1_rate_in",{"$f":"'T2-B(PP2)'!$E$163","v":0},"#'T2-B(PP2)'!$E$163"]
["pp2_bl4_11_1_rate_out",{"$f":"'T2-B(PP2)'!$H$163","v":0},"#'T2-B(PP2)'!$H$163"]
["pp2_bl4_11_1_total",{"$f":"'T2-B(PP2)'!$J$163","v":0},"#'T2-B(PP2)'!$J$163"]
["pp2_bl4_11_1_total_in",{"$f":"'T2-B(PP2)'!$F$163","v":0},"#'T2-B(PP2)'!$F$163"]
["pp2_bl4_11_1_total_out",{"$f":"'T2-B(PP2)'!$I$163","v":0},"#'T2-B(PP2)'!$I$163"]
["pp2_bl4_11_1_unit",{"$f":"'T2-B(PP2)'!$C$163","v":0},"#'T2-B(PP2)'!$C$163"]
["pp2_bl4_11_1_unit_in",{"$f":"'T2-B(PP2)'!$D$163","v":0},"#'T2-B(PP2)'!$D$163"]
["pp2_bl4_11_1_units_out",{"$f":"'T2-B(PP2)'!$G$163","v":0},"#'T2-B(PP2)'!$G$163"]
["pp2_bl4_11_10_name",{"$f":"'T2-B(PP2)'!$B$172","v":0},"#'T2-B(PP2)'!$B$172"]
["pp2_bl4_11_10_rate_in",{"$f":"'T2-B(PP2)'!$E$172","v":0},"#'T2-B(PP2)'!$E$172"]
["pp2_bl4_11_10_rate_out",{"$f":"'T2-B(PP2)'!$H$172","v":0},"#'T2-B(PP2)'!$H$172"]
["pp2_bl4_11_10_total",{"$f":"'T2-B(PP2)'!$J$172","v":0},"#'T2-B(PP2)'!$J$172"]
["pp2_bl4_11_10_total_in",{"$f":"'T2-B(PP2)'!$F$172","v":0},"#'T2-B(PP2)'!$F$172"]
["pp2_bl4_11_10_total_out",{"$f":"'T2-B(PP2)'!$I$172","v":0},"#'T2-B(PP2)'!$I$172"]
["pp2_bl4_11_10_unit",{"$f":"'T2-B(PP2)'!$C$172","v":0},"#'T2-B(PP2)'!$C$172"]
["pp2_bl4_11_10_unit_in",{"$f":"'T2-B(PP2)'!$D$172","v":0},"#'T2-B(PP2)'!$D$172"]
["pp2_bl4_11_10_units_out",{"$f":"'T2-B(PP2)'!$G$172","v":0},"#'T2-B(PP2)'!$G$172"]
["pp2_bl4_11_2_name",{"$f":"'T2-B(PP2)'!$B$164","v":0},"#'T2-B(PP2)'!$B$164"]
["pp2_bl4_11_2_rate_in",{"$f":"'T2-B(PP2)'!$E$164","v":0},"#'T2-B(PP2)'!$E$164"]
["pp2_bl4_11_2_rate_out",{"$f":"'T2-B(PP2)'!$H$164","v":0},"#'T2-B(PP2)'!$H$164"]
["pp2_bl4_11_2_total",{"$f":"'T2-B(PP2)'!$J$164","v":0},"#'T2-B(PP2)'!$J$164"]
["pp2_bl4_11_2_total_in",{"$f":"'T2-B(PP2)'!$F$164","v":0},"#'T2-B(PP2)'!$F$164"]
["pp2_bl4_11_2_total_out",{"$f":"'T2-B(PP2)'!$I$164","v":0},"#'T2-B(PP2)'!$I$164"]
["pp2_bl4_11_2_unit",{"$f":"'T2-B(PP2)'!$C$164","v":0},"#'T2-B(PP2)'!$C$164"]
["pp2_bl4_11_2_unit_in",{"$f":"'T2-B(PP2)'!$D$164","v":0},"#'T2-B(PP2)'!$D$164"]
["pp2_bl4_11_2_units_out",{"$f":"'T2-B(PP2)'!$G$164","v":0},"#'T2-B(PP2)'!$G$164"]
["pp2_bl4_11_3_name",{"$f":"'T2-B(PP2)'!$B$165","v":0},"#'T2-B(PP2)'!$B$165"]
["pp2_bl4_11_3_rate_in",{"$f":"'T2-B(PP2)'!$E$165","v":0},"#'T2-B(PP2)'!$E$165"]
["pp2_bl4_11_3_rate_out",{"$f":"'T2-B(PP2)'!$H$165","v":0},"#'T2-B(PP2)'!$H$165"]
["pp2_bl4_11_3_total",{"$f":"'T2-B(PP2)'!$J$165","v":0},"#'T2-B(PP2)'!$J$165"]
["pp2_bl4_11_3_total_in",{"$f":"'T2-B(PP2)'!$F$165","v":0},"#'T2-B(PP2)'!$F$165"]
["pp2_bl4_11_3_total_out",{"$f":"'T2-B(PP2)'!$I$165","v":0},"#'T2-B(PP2)'!$I$165"]
["pp2_bl4_11_3_unit",{"$f":"'T2-B(PP2)'!$C$165","v":0},"#'T2-B(PP2)'!$C$165"]
["pp2_bl4_11_3_unit_in",{"$f":"'T2-B(PP2)'!$D$165","v":0},"#'T2-B(PP2)'!$D$165"]
["pp2_bl4_11_3_units_out",{"$f":"'T2-B(PP2)'!$G$165","v":0},"#'T2-B(PP2)'!$G$165"]
["pp2_bl4_11_4_name",{"$f":"'T2-B(PP2)'!$B$166","v":0},"#'T2-B(PP2)'!$B$166"]
["pp2_bl4_11_4_rate_in",{"$f":"'T2-B(PP2)'!$E$166","v":0},"#'T2-B(PP2)'!$E$166"]
["pp2_bl4_11_4_rate_out",{"$f":"'T2-B(PP2)'!$H$166","v":0},"#'T2-B(PP2)'!$H$166"]
["pp2_bl4_11_4_total",{"$f":"'T2-B(PP2)'!$J$166","v":0},"#'T2-B(PP2)'!$J$166"]
["pp2_bl4_11_4_total_in",{"$f":"'T2-B(PP2)'!$F$166","v":0},"#'T2-B(PP2)'!$F$166"]
["pp2_bl4_11_4_total_out",{"$f":"'T2-B(PP2)'!$I$166","v":0},"#'T2-B(PP2)'!$I$166"]
["pp2_bl4_11_4_unit",{"$f":"'T2-B(PP2)'!$C$166","v":0},"#'T2-B(PP2)'!$C$166"]
["pp2_bl4_11_4_unit_in",{"$f":"'T2-B(PP2)'!$D$166","v":0},"#'T2-B(PP2)'!$D$166"]
["pp2_bl4_11_4_units_out",{"$f":"'T2-B(PP2)'!$G$166","v":0},"#'T2-B(PP2)'!$G$166"]
["pp2_bl4_11_5_name",{"$f":"'T2-B(PP2)'!$B$167","v":0},"#'T2-B(PP2)'!$B$167"]
["pp2_bl4_11_5_rate_in",{"$f":"'T2-B(PP2)'!$E$167","v":0},"#'T2-B(PP2)'!$E$167"]
["pp2_bl4_11_5_rate_out",{"$f":"'T2-B(PP2)'!$H$167","v":0},"#'T2-B(PP2)'!$H$167"]
["pp2_bl4_11_5_total",{"$f":"'T2-B(PP2)'!$J$167","v":0},"#'T2-B(PP2)'!$J$167"]
["pp2_bl4_11_5_total_in",{"$f":"'T2-B(PP2)'!$F$167","v":0},"#'T2-B(PP2)'!$F$167"]
["pp2_bl4_11_5_total_out",{"$f":"'T2-B(PP2)'!$I$167","v":0},"#'T2-B(PP2)'!$I$167"]
["pp2_bl4_11_5_unit",{"$f":"'T2-B(PP2)'!$C$167","v":0},"#'T2-B(PP2)'!$C$167"]
["pp2_bl4_11_5_unit_in",{"$f":"'T2-B(PP2)'!$D$167","v":0},"#'T2-B(PP2)'!$D$167"]
["pp2_bl4_11_5_units_out",{"$f":"'T2-B(PP2)'!$G$167","v":0},"#'T2-B(PP2)'!$G$167"]
["pp2_bl4_11_6_name",{"$f":"'T2-B(PP2)'!$B$168","v":0},"#'T2-B(PP2)'!$B$168"]
["pp2_bl4_11_6_rate_in",{"$f":"'T2-B(PP2)'!$E$168","v":0},"#'T2-B(PP2)'!$E$168"]
["pp2_bl4_11_6_rate_out",{"$f":"'T2-B(PP2)'!$H$168","v":0},"#'T2-B(PP2)'!$H$168"]
["pp2_bl4_11_6_total",{"$f":"'T2-B(PP2)'!$J$168","v":0},"#'T2-B(PP2)'!$J$168"]
["pp2_bl4_11_6_total_in",{"$f":"'T2-B(PP2)'!$F$168","v":0},"#'T2-B(PP2)'!$F$168"]
["pp2_bl4_11_6_total_out",{"$f":"'T2-B(PP2)'!$I$168","v":0},"#'T2-B(PP2)'!$I$168"]
["pp2_bl4_11_6_unit",{"$f":"'T2-B(PP2)'!$C$168","v":0},"#'T2-B(PP2)'!$C$168"]
["pp2_bl4_11_6_unit_in",{"$f":"'T2-B(PP2)'!$D$168","v":0},"#'T2-B(PP2)'!$D$168"]
["pp2_bl4_11_6_units_out",{"$f":"'T2-B(PP2)'!$G$168","v":0},"#'T2-B(PP2)'!$G$168"]
["pp2_bl4_11_7_name",{"$f":"'T2-B(PP2)'!$B$169","v":0},"#'T2-B(PP2)'!$B$169"]
["pp2_bl4_11_7_rate_in",{"$f":"'T2-B(PP2)'!$E$169","v":0},"#'T2-B(PP2)'!$E$169"]
["pp2_bl4_11_7_rate_out",{"$f":"'T2-B(PP2)'!$H$169","v":0},"#'T2-B(PP2)'!$H$169"]
["pp2_bl4_11_7_total",{"$f":"'T2-B(PP2)'!$J$169","v":0},"#'T2-B(PP2)'!$J$169"]
["pp2_bl4_11_7_total_in",{"$f":"'T2-B(PP2)'!$F$169","v":0},"#'T2-B(PP2)'!$F$169"]
["pp2_bl4_11_7_total_out",{"$f":"'T2-B(PP2)'!$I$169","v":0},"#'T2-B(PP2)'!$I$169"]
["pp2_bl4_11_7_unit",{"$f":"'T2-B(PP2)'!$C$169","v":0},"#'T2-B(PP2)'!$C$169"]
["pp2_bl4_11_7_unit_in",{"$f":"'T2-B(PP2)'!$D$169","v":0},"#'T2-B(PP2)'!$D$169"]
["pp2_bl4_11_7_units_out",{"$f":"'T2-B(PP2)'!$G$169","v":0},"#'T2-B(PP2)'!$G$169"]
["pp2_bl4_11_8_name",{"$f":"'T2-B(PP2)'!$B$170","v":0},"#'T2-B(PP2)'!$B$170"]
["pp2_bl4_11_8_rate_in",{"$f":"'T2-B(PP2)'!$E$170","v":0},"#'T2-B(PP2)'!$E$170"]
["pp2_bl4_11_8_rate_out",{"$f":"'T2-B(PP2)'!$H$170","v":0},"#'T2-B(PP2)'!$H$170"]
["pp2_bl4_11_8_total",{"$f":"'T2-B(PP2)'!$J$170","v":0},"#'T2-B(PP2)'!$J$170"]
["pp2_bl4_11_8_total_in",{"$f":"'T2-B(PP2)'!$F$170","v":0},"#'T2-B(PP2)'!$F$170"]
["pp2_bl4_11_8_total_out",{"$f":"'T2-B(PP2)'!$I$170","v":0},"#'T2-B(PP2)'!$I$170"]
["pp2_bl4_11_8_unit",{"$f":"'T2-B(PP2)'!$C$170","v":0},"#'T2-B(PP2)'!$C$170"]
["pp2_bl4_11_8_unit_in",{"$f":"'T2-B(PP2)'!$D$170","v":0},"#'T2-B(PP2)'!$D$170"]
["pp2_bl4_11_8_units_out",{"$f":"'T2-B(PP2)'!$G$170","v":0},"#'T2-B(PP2)'!$G$170"]
["pp2_bl4_11_9_name",{"$f":"'T2-B(PP2)'!$B$171","v":0},"#'T2-B(PP2)'!$B$171"]
["pp2_bl4_11_9_rate_in",{"$f":"'T2-B(PP2)'!$E$171","v":0},"#'T2-B(PP2)'!$E$171"]
["pp2_bl4_11_9_rate_out",{"$f":"'T2-B(PP2)'!$H$171","v":0},"#'T2-B(PP2)'!$H$171"]
["pp2_bl4_11_9_total",{"$f":"'T2-B(PP2)'!$J$171","v":0},"#'T2-B(PP2)'!$J$171"]
["pp2_bl4_11_9_total_in",{"$f":"'T2-B(PP2)'!$F$171","v":0},"#'T2-B(PP2)'!$F$171"]
["pp2_bl4_11_9_total_out",{"$f":"'T2-B(PP2)'!$I$171","v":0},"#'T2-B(PP2)'!$I$171"]
["pp2_bl4_11_9_unit",{"$f":"'T2-B(PP2)'!$C$171","v":0},"#'T2-B(PP2)'!$C$171"]
["pp2_bl4_11_9_unit_in",{"$f":"'T2-B(PP2)'!$D$171","v":0},"#'T2-B(PP2)'!$D$171"]
["pp2_bl4_11_9_units_out",{"$f":"'T2-B(PP2)'!$G$171","v":0},"#'T2-B(PP2)'!$G$171"]
["pp2_bl4_11_total",{"$f":"'T2-B(PP2)'!$J$162","v":0},"#'T2-B(PP2)'!$J$162"]
["pp2_bl4_11_total_in",{"$f":"'T2-B(PP2)'!$F$162","v":0},"#'T2-B(PP2)'!$F$162"]
["pp2_bl4_11_total_out",{"$f":"'T2-B(PP2)'!$I$162","v":0},"#'T2-B(PP2)'!$I$162"]
["pp2_bl4_12_1_name",{"$f":"'T2-B(PP2)'!$B$174","v":0},"#'T2-B(PP2)'!$B$174"]
["pp2_bl4_12_1_rate_in",{"$f":"'T2-B(PP2)'!$E$174","v":0},"#'T2-B(PP2)'!$E$174"]
["pp2_bl4_12_1_rate_out",{"$f":"'T2-B(PP2)'!$H$174","v":0},"#'T2-B(PP2)'!$H$174"]
["pp2_bl4_12_1_total",{"$f":"'T2-B(PP2)'!$J$174","v":0},"#'T2-B(PP2)'!$J$174"]
["pp2_bl4_12_1_total_in",{"$f":"'T2-B(PP2)'!$F$174","v":0},"#'T2-B(PP2)'!$F$174"]
["pp2_bl4_12_1_total_out",{"$f":"'T2-B(PP2)'!$I$174","v":0},"#'T2-B(PP2)'!$I$174"]
["pp2_bl4_12_1_unit",{"$f":"'T2-B(PP2)'!$C$174","v":0},"#'T2-B(PP2)'!$C$174"]
["pp2_bl4_12_1_unit_in",{"$f":"'T2-B(PP2)'!$D$174","v":0},"#'T2-B(PP2)'!$D$174"]
["pp2_bl4_12_1_units_out",{"$f":"'T2-B(PP2)'!$G$174","v":0},"#'T2-B(PP2)'!$G$174"]
["pp2_bl4_12_10_name",{"$f":"'T2-B(PP2)'!$B$183","v":0},"#'T2-B(PP2)'!$B$183"]
["pp2_bl4_12_10_rate_in",{"$f":"'T2-B(PP2)'!$E$183","v":0},"#'T2-B(PP2)'!$E$183"]
["pp2_bl4_12_10_rate_out",{"$f":"'T2-B(PP2)'!$H$183","v":0},"#'T2-B(PP2)'!$H$183"]
["pp2_bl4_12_10_total",{"$f":"'T2-B(PP2)'!$J$183","v":0},"#'T2-B(PP2)'!$J$183"]
["pp2_bl4_12_10_total_in",{"$f":"'T2-B(PP2)'!$F$183","v":0},"#'T2-B(PP2)'!$F$183"]
["pp2_bl4_12_10_total_out",{"$f":"'T2-B(PP2)'!$I$183","v":0},"#'T2-B(PP2)'!$I$183"]
["pp2_bl4_12_10_unit",{"$f":"'T2-B(PP2)'!$C$183","v":0},"#'T2-B(PP2)'!$C$183"]
["pp2_bl4_12_10_unit_in",{"$f":"'T2-B(PP2)'!$D$183","v":0},"#'T2-B(PP2)'!$D$183"]
["pp2_bl4_12_10_units_out",{"$f":"'T2-B(PP2)'!$G$183","v":0},"#'T2-B(PP2)'!$G$183"]
["pp2_bl4_12_2_name",{"$f":"'T2-B(PP2)'!$B$175","v":0},"#'T2-B(PP2)'!$B$175"]
["pp2_bl4_12_2_rate_in",{"$f":"'T2-B(PP2)'!$E$175","v":0},"#'T2-B(PP2)'!$E$175"]
["pp2_bl4_12_2_rate_out",{"$f":"'T2-B(PP2)'!$H$175","v":0},"#'T2-B(PP2)'!$H$175"]
["pp2_bl4_12_2_total",{"$f":"'T2-B(PP2)'!$J$175","v":0},"#'T2-B(PP2)'!$J$175"]
["pp2_bl4_12_2_total_in",{"$f":"'T2-B(PP2)'!$F$175","v":0},"#'T2-B(PP2)'!$F$175"]
["pp2_bl4_12_2_total_out",{"$f":"'T2-B(PP2)'!$I$175","v":0},"#'T2-B(PP2)'!$I$175"]
["pp2_bl4_12_2_unit",{"$f":"'T2-B(PP2)'!$C$175","v":0},"#'T2-B(PP2)'!$C$175"]
["pp2_bl4_12_2_unit_in",{"$f":"'T2-B(PP2)'!$D$175","v":0},"#'T2-B(PP2)'!$D$175"]
["pp2_bl4_12_2_units_out",{"$f":"'T2-B(PP2)'!$G$175","v":0},"#'T2-B(PP2)'!$G$175"]
["pp2_bl4_12_3_name",{"$f":"'T2-B(PP2)'!$B$176","v":0},"#'T2-B(PP2)'!$B$176"]
["pp2_bl4_12_3_rate_in",{"$f":"'T2-B(PP2)'!$E$176","v":0},"#'T2-B(PP2)'!$E$176"]
["pp2_bl4_12_3_rate_out",{"$f":"'T2-B(PP2)'!$H$176","v":0},"#'T2-B(PP2)'!$H$176"]
["pp2_bl4_12_3_total",{"$f":"'T2-B(PP2)'!$J$176","v":0},"#'T2-B(PP2)'!$J$176"]
["pp2_bl4_12_3_total_in",{"$f":"'T2-B(PP2)'!$F$176","v":0},"#'T2-B(PP2)'!$F$176"]
["pp2_bl4_12_3_total_out",{"$f":"'T2-B(PP2)'!$I$176","v":0},"#'T2-B(PP2)'!$I$176"]
["pp2_bl4_12_3_unit",{"$f":"'T2-B(PP2)'!$C$176","v":0},"#'T2-B(PP2)'!$C$176"]
["pp2_bl4_12_3_unit_in",{"$f":"'T2-B(PP2)'!$D$176","v":0},"#'T2-B(PP2)'!$D$176"]
["pp2_bl4_12_3_units_out",{"$f":"'T2-B(PP2)'!$G$176","v":0},"#'T2-B(PP2)'!$G$176"]
["pp2_bl4_12_4_name",{"$f":"'T2-B(PP2)'!$B$177","v":0},"#'T2-B(PP2)'!$B$177"]
["pp2_bl4_12_4_rate_in",{"$f":"'T2-B(PP2)'!$E$177","v":0},"#'T2-B(PP2)'!$E$177"]
["pp2_bl4_12_4_rate_out",{"$f":"'T2-B(PP2)'!$H$177","v":0},"#'T2-B(PP2)'!$H$177"]
["pp2_bl4_12_4_total",{"$f":"'T2-B(PP2)'!$J$177","v":0},"#'T2-B(PP2)'!$J$177"]
["pp2_bl4_12_4_total_in",{"$f":"'T2-B(PP2)'!$F$177","v":0},"#'T2-B(PP2)'!$F$177"]
["pp2_bl4_12_4_total_out",{"$f":"'T2-B(PP2)'!$I$177","v":0},"#'T2-B(PP2)'!$I$177"]
["pp2_bl4_12_4_unit",{"$f":"'T2-B(PP2)'!$C$177","v":0},"#'T2-B(PP2)'!$C$177"]
["pp2_bl4_12_4_unit_in",{"$f":"'T2-B(PP2)'!$D$177","v":0},"#'T2-B(PP2)'!$D$177"]
["pp2_bl4_12_4_units_out",{"$f":"'T2-B(PP2)'!$G$177","v":0},"#'T2-B(PP2)'!$G$177"]
["pp2_bl4_12_5_name",{"$f":"'T2-B(PP2)'!$B$178","v":0},"#'T2-B(PP2)'!$B$178"]
["pp2_bl4_12_5_rate_in",{"$f":"'T2-B(PP2)'!$E$178","v":0},"#'T2-B(PP2)'!$E$178"]
["pp2_bl4_12_5_rate_out",{"$f":"'T2-B(PP2)'!$H$178","v":0},"#'T2-B(PP2)'!$H$178"]
["pp2_bl4_12_5_total",{"$f":"'T2-B(PP2)'!$J$178","v":0},"#'T2-B(PP2)'!$J$178"]
["pp2_bl4_12_5_total_in",{"$f":"'T2-B(PP2)'!$F$178","v":0},"#'T2-B(PP2)'!$F$178"]
["pp2_bl4_12_5_total_out",{"$f":"'T2-B(PP2)'!$I$178","v":0},"#'T2-B(PP2)'!$I$178"]
["pp2_bl4_12_5_unit",{"$f":"'T2-B(PP2)'!$C$178","v":0},"#'T2-B(PP2)'!$C$178"]
["pp2_bl4_12_5_unit_in",{"$f":"'T2-B(PP2)'!$D$178","v":0},"#'T2-B(PP2)'!$D$178"]
["pp2_bl4_12_5_units_out",{"$f":"'T2-B(PP2)'!$G$178","v":0},"#'T2-B(PP2)'!$G$178"]
["pp2_bl4_12_6_name",{"$f":"'T2-B(PP2)'!$B$179","v":0},"#'T2-B(PP2)'!$B$179"]
["pp2_bl4_12_6_rate_in",{"$f":"'T2-B(PP2)'!$E$179","v":0},"#'T2-B(PP2)'!$E$179"]
["pp2_bl4_12_6_rate_out",{"$f":"'T2-B(PP2)'!$H$179","v":0},"#'T2-B(PP2)'!$H$179"]
["pp2_bl4_12_6_total",{"$f":"'T2-B(PP2)'!$J$179","v":0},"#'T2-B(PP2)'!$J$179"]
["pp2_bl4_12_6_total_in",{"$f":"'T2-B(PP2)'!$F$179","v":0},"#'T2-B(PP2)'!$F$179"]
["pp2_bl4_12_6_total_out",{"$f":"'T2-B(PP2)'!$I$179","v":0},"#'T2-B(PP2)'!$I$179"]
["pp2_bl4_12_6_unit",{"$f":"'T2-B(PP2)'!$C$179","v":0},"#'T2-B(PP2)'!$C$179"]
["pp2_bl4_12_6_unit_in",{"$f":"'T2-B(PP2)'!$D$179","v":0},"#'T2-B(PP2)'!$D$179"]
["pp2_bl4_12_6_units_out",{"$f":"'T2-B(PP2)'!$G$179","v":0},"#'T2-B(PP2)'!$G$179"]
["pp2_bl4_12_7_name",{"$f":"'T2-B(PP2)'!$B$180","v":0},"#'T2-B(PP2)'!$B$180"]
["pp2_bl4_12_7_rate_in",{"$f":"'T2-B(PP2)'!$E$180","v":0},"#'T2-B(PP2)'!$E$180"]
["pp2_bl4_12_7_rate_out",{"$f":"'T2-B(PP2)'!$H$180","v":0},"#'T2-B(PP2)'!$H$180"]
["pp2_bl4_12_7_total",{"$f":"'T2-B(PP2)'!$J$180","v":0},"#'T2-B(PP2)'!$J$180"]
["pp2_bl4_12_7_total_in",{"$f":"'T2-B(PP2)'!$F$180","v":0},"#'T2-B(PP2)'!$F$180"]
["pp2_bl4_12_7_total_out",{"$f":"'T2-B(PP2)'!$I$180","v":0},"#'T2-B(PP2)'!$I$180"]
["pp2_bl4_12_7_unit",{"$f":"'T2-B(PP2)'!$C$180","v":0},"#'T2-B(PP2)'!$C$180"]
["pp2_bl4_12_7_unit_in",{"$f":"'T2-B(PP2)'!$D$180","v":0},"#'T2-B(PP2)'!$D$180"]
["pp2_bl4_12_7_units_out",{"$f":"'T2-B(PP2)'!$G$180","v":0},"#'T2-B(PP2)'!$G$180"]
["pp2_bl4_12_8_name",{"$f":"'T2-B(PP2)'!$B$181","v":0},"#'T2-B(PP2)'!$B$181"]
["pp2_bl4_12_8_rate_in",{"$f":"'T2-B(PP2)'!$E$181","v":0},"#'T2-B(PP2)'!$E$181"]
["pp2_bl4_12_8_rate_out",{"$f":"'T2-B(PP2)'!$H$181","v":0},"#'T2-B(PP2)'!$H$181"]
["pp2_bl4_12_8_total",{"$f":"'T2-B(PP2)'!$J$181","v":0},"#'T2-B(PP2)'!$J$181"]
["pp2_bl4_12_8_total_in",{"$f":"'T2-B(PP2)'!$F$181","v":0},"#'T2-B(PP2)'!$F$181"]
["pp2_bl4_12_8_total_out",{"$f":"'T2-B(PP2)'!$I$181","v":0},"#'T2-B(PP2)'!$I$181"]
["pp2_bl4_12_8_unit",{"$f":"'T2-B(PP2)'!$C$181","v":0},"#'T2-B(PP2)'!$C$181"]
["pp2_bl4_12_8_unit_in",{"$f":"'T2-B(PP2)'!$D$181","v":0},"#'T2-B(PP2)'!$D$181"]
["pp2_bl4_12_8_units_out",{"$f":"'T2-B(PP2)'!$G$181","v":0},"#'T2-B(PP2)'!$G$181"]
["pp2_bl4_12_9_name",{"$f":"'T2-B(PP2)'!$B$182","v":0},"#'T2-B(PP2)'!$B$182"]
["pp2_bl4_12_9_rate_in",{"$f":"'T2-B(PP2)'!$E$182","v":0},"#'T2-B(PP2)'!$E$182"]
["pp2_bl4_12_9_rate_out",{"$f":"'T2-B(PP2)'!$H$182","v":0},"#'T2-B(PP2)'!$H$182"]
["pp2_bl4_12_9_total",{"$f":"'T2-B(PP2)'!$J$182","v":0},"#'T2-B(PP2)'!$J$182"]
["pp2_bl4_12_9_total_in",{"$f":"'T2-B(PP2)'!$F$182","v":0},"#'T2-B(PP2)'!$F$182"]
["pp2_bl4_12_9_total_out",{"$f":"'T2-B(PP2)'!$I$182","v":0},"#'T2-B(PP2)'!$I$182"]
["pp2_bl4_12_9_unit",{"$f":"'T2-B(PP2)'!$C$182","v":0},"#'T2-B(PP2)'!$C$182"]
["pp2_bl4_12_9_unit_in",{"$f":"'T2-B(PP2)'!$D$182","v":0},"#'T2-B(PP2)'!$D$182"]
["pp2_bl4_12_9_units_out",{"$f":"'T2-B(PP2)'!$G$182","v":0},"#'T2-B(PP2)'!$G$182"]
["pp2_bl4_12_total",{"$f":"'T2-B(PP2)'!$J$173","v":0},"#'T2-B(PP2)'!$J$173"]
["pp2_bl4_12_total_in",{"$f":"'T2-B(PP2)'!$F$173","v":0},"#'T2-B(PP2)'!$F$173"]
["pp2_bl4_12_total_out",{"$f":"'T2-B(PP2)'!$I$173","v":0},"#'T2-B(PP2)'!$I$173"]
["pp2_bl4_13_1_name",{"$f":"'T2-B(PP2)'!$B$185","v":0},"#'T2-B(PP2)'!$B$185"]
["pp2_bl4_13_1_rate_in",{"$f":"'T2-B(PP2)'!$E$185","v":0},"#'T2-B(PP2)'!$E$185"]
["pp2_bl4_13_1_rate_out",{"$f":"'T2-B(PP2)'!$H$185","v":0},"#'T2-B(PP2)'!$H$185"]
["pp2_bl4_13_1_total",{"$f":"'T2-B(PP2)'!$J$185","v":0},"#'T2-B(PP2)'!$J$185"]
["pp2_bl4_13_1_total_in",{"$f":"'T2-B(PP2)'!$F$185","v":0},"#'T2-B(PP2)'!$F$185"]
["pp2_bl4_13_1_total_out",{"$f":"'T2-B(PP2)'!$I$185","v":0},"#'T2-B(PP2)'!$I$185"]
["pp2_bl4_13_1_unit",{"$f":"'T2-B(PP2)'!$C$185","v":0},"#'T2-B(PP2)'!$C$185"]
["pp2_bl4_13_1_unit_in",{"$f":"'T2-B(PP2)'!$D$185","v":0},"#'T2-B(PP2)'!$D$185"]
["pp2_bl4_13_1_units_out",{"$f":"'T2-B(PP2)'!$G$185","v":0},"#'T2-B(PP2)'!$G$185"]
["pp2_bl4_13_10_name",{"$f":"'T2-B(PP2)'!$B$194","v":0},"#'T2-B(PP2)'!$B$194"]
["pp2_bl4_13_10_rate_in",{"$f":"'T2-B(PP2)'!$E$194","v":0},"#'T2-B(PP2)'!$E$194"]
["pp2_bl4_13_10_rate_out",{"$f":"'T2-B(PP2)'!$H$194","v":0},"#'T2-B(PP2)'!$H$194"]
["pp2_bl4_13_10_total",{"$f":"'T2-B(PP2)'!$J$194","v":0},"#'T2-B(PP2)'!$J$194"]
["pp2_bl4_13_10_total_in",{"$f":"'T2-B(PP2)'!$F$194","v":0},"#'T2-B(PP2)'!$F$194"]
["pp2_bl4_13_10_total_out",{"$f":"'T2-B(PP2)'!$I$194","v":0},"#'T2-B(PP2)'!$I$194"]
["pp2_bl4_13_10_unit",{"$f":"'T2-B(PP2)'!$C$194","v":0},"#'T2-B(PP2)'!$C$194"]
["pp2_bl4_13_10_unit_in",{"$f":"'T2-B(PP2)'!$D$194","v":0},"#'T2-B(PP2)'!$D$194"]
["pp2_bl4_13_10_units_out",{"$f":"'T2-B(PP2)'!$G$194","v":0},"#'T2-B(PP2)'!$G$194"]
["pp2_bl4_13_2_name",{"$f":"'T2-B(PP2)'!$B$186","v":0},"#'T2-B(PP2)'!$B$186"]
["pp2_bl4_13_2_rate_in",{"$f":"'T2-B(PP2)'!$E$186","v":0},"#'T2-B(PP2)'!$E$186"]
["pp2_bl4_13_2_rate_out",{"$f":"'T2-B(PP2)'!$H$186","v":0},"#'T2-B(PP2)'!$H$186"]
["pp2_bl4_13_2_total",{"$f":"'T2-B(PP2)'!$J$186","v":0},"#'T2-B(PP2)'!$J$186"]
["pp2_bl4_13_2_total_in",{"$f":"'T2-B(PP2)'!$F$186","v":0},"#'T2-B(PP2)'!$F$186"]
["pp2_bl4_13_2_total_out",{"$f":"'T2-B(PP2)'!$I$186","v":0},"#'T2-B(PP2)'!$I$186"]
["pp2_bl4_13_2_unit",{"$f":"'T2-B(PP2)'!$C$186","v":0},"#'T2-B(PP2)'!$C$186"]
["pp2_bl4_13_2_unit_in",{"$f":"'T2-B(PP2)'!$D$186","v":0},"#'T2-B(PP2)'!$D$186"]
["pp2_bl4_13_2_units_out",{"$f":"'T2-B(PP2)'!$G$186","v":0},"#'T2-B(PP2)'!$G$186"]
["pp2_bl4_13_3_name",{"$f":"'T2-B(PP2)'!$B$187","v":0},"#'T2-B(PP2)'!$B$187"]
["pp2_bl4_13_3_rate_in",{"$f":"'T2-B(PP2)'!$E$187","v":0},"#'T2-B(PP2)'!$E$187"]
["pp2_bl4_13_3_rate_out",{"$f":"'T2-B(PP2)'!$H$187","v":0},"#'T2-B(PP2)'!$H$187"]
["pp2_bl4_13_3_total",{"$f":"'T2-B(PP2)'!$J$187","v":0},"#'T2-B(PP2)'!$J$187"]
["pp2_bl4_13_3_total_in",{"$f":"'T2-B(PP2)'!$F$187","v":0},"#'T2-B(PP2)'!$F$187"]
["pp2_bl4_13_3_total_out",{"$f":"'T2-B(PP2)'!$I$187","v":0},"#'T2-B(PP2)'!$I$187"]
["pp2_bl4_13_3_unit",{"$f":"'T2-B(PP2)'!$C$187","v":0},"#'T2-B(PP2)'!$C$187"]
["pp2_bl4_13_3_unit_in",{"$f":"'T2-B(PP2)'!$D$187","v":0},"#'T2-B(PP2)'!$D$187"]
["pp2_bl4_13_3_units_out",{"$f":"'T2-B(PP2)'!$G$187","v":0},"#'T2-B(PP2)'!$G$187"]
["pp2_bl4_13_4_name",{"$f":"'T2-B(PP2)'!$B$188","v":0},"#'T2-B(PP2)'!$B$188"]
["pp2_bl4_13_4_rate_in",{"$f":"'T2-B(PP2)'!$E$188","v":0},"#'T2-B(PP2)'!$E$188"]
["pp2_bl4_13_4_rate_out",{"$f":"'T2-B(PP2)'!$H$188","v":0},"#'T2-B(PP2)'!$H$188"]
["pp2_bl4_13_4_total",{"$f":"'T2-B(PP2)'!$J$188","v":0},"#'T2-B(PP2)'!$J$188"]
["pp2_bl4_13_4_total_in",{"$f":"'T2-B(PP2)'!$F$188","v":0},"#'T2-B(PP2)'!$F$188"]
["pp2_bl4_13_4_total_out",{"$f":"'T2-B(PP2)'!$I$188","v":0},"#'T2-B(PP2)'!$I$188"]
["pp2_bl4_13_4_unit",{"$f":"'T2-B(PP2)'!$C$188","v":0},"#'T2-B(PP2)'!$C$188"]
["pp2_bl4_13_4_unit_in",{"$f":"'T2-B(PP2)'!$D$188","v":0},"#'T2-B(PP2)'!$D$188"]
["pp2_bl4_13_4_units_out",{"$f":"'T2-B(PP2)'!$G$188","v":0},"#'T2-B(PP2)'!$G$188"]
["pp2_bl4_13_5_name",{"$f":"'T2-B(PP2)'!$B$189","v":0},"#'T2-B(PP2)'!$B$189"]
["pp2_bl4_13_5_rate_in",{"$f":"'T2-B(PP2)'!$E$189","v":0},"#'T2-B(PP2)'!$E$189"]
["pp2_bl4_13_5_rate_out",{"$f":"'T2-B(PP2)'!$H$189","v":0},"#'T2-B(PP2)'!$H$189"]
["pp2_bl4_13_5_total",{"$f":"'T2-B(PP2)'!$J$189","v":0},"#'T2-B(PP2)'!$J$189"]
["pp2_bl4_13_5_total_in",{"$f":"'T2-B(PP2)'!$F$189","v":0},"#'T2-B(PP2)'!$F$189"]
["pp2_bl4_13_5_total_out",{"$f":"'T2-B(PP2)'!$I$189","v":0},"#'T2-B(PP2)'!$I$189"]
["pp2_bl4_13_5_unit",{"$f":"'T2-B(PP2)'!$C$189","v":0},"#'T2-B(PP2)'!$C$189"]
["pp2_bl4_13_5_unit_in",{"$f":"'T2-B(PP2)'!$D$189","v":0},"#'T2-B(PP2)'!$D$189"]
["pp2_bl4_13_5_units_out",{"$f":"'T2-B(PP2)'!$G$189","v":0},"#'T2-B(PP2)'!$G$189"]
["pp2_bl4_13_6_name",{"$f":"'T2-B(PP2)'!$B$190","v":0},"#'T2-B(PP2)'!$B$190"]
["pp2_bl4_13_6_rate_in",{"$f":"'T2-B(PP2)'!$E$190","v":0},"#'T2-B(PP2)'!$E$190"]
["pp2_bl4_13_6_rate_out",{"$f":"'T2-B(PP2)'!$H$190","v":0},"#'T2-B(PP2)'!$H$190"]
["pp2_bl4_13_6_total",{"$f":"'T2-B(PP2)'!$J$190","v":0},"#'T2-B(PP2)'!$J$190"]
["pp2_bl4_13_6_total_in",{"$f":"'T2-B(PP2)'!$F$190","v":0},"#'T2-B(PP2)'!$F$190"]
["pp2_bl4_13_6_total_out",{"$f":"'T2-B(PP2)'!$I$190","v":0},"#'T2-B(PP2)'!$I$190"]
["pp2_bl4_13_6_unit",{"$f":"'T2-B(PP2)'!$C$190","v":0},"#'T2-B(PP2)'!$C$190"]
["pp2_bl4_13_6_unit_in",{"$f":"'T2-B(PP2)'!$D$190","v":0},"#'T2-B(PP2)'!$D$190"]
["pp2_bl4_13_6_units_out",{"$f":"'T2-B(PP2)'!$G$190","v":0},"#'T2-B(PP2)'!$G$190"]
["pp2_bl4_13_7_name",{"$f":"'T2-B(PP2)'!$B$191","v":0},"#'T2-B(PP2)'!$B$191"]
["pp2_bl4_13_7_rate_in",{"$f":"'T2-B(PP2)'!$E$191","v":0},"#'T2-B(PP2)'!$E$191"]
["pp2_bl4_13_7_rate_out",{"$f":"'T2-B(PP2)'!$H$191","v":0},"#'T2-B(PP2)'!$H$191"]
["pp2_bl4_13_7_total",{"$f":"'T2-B(PP2)'!$J$191","v":0},"#'T2-B(PP2)'!$J$191"]
["pp2_bl4_13_7_total_in",{"$f":"'T2-B(PP2)'!$F$191","v":0},"#'T2-B(PP2)'!$F$191"]
["pp2_bl4_13_7_total_out",{"$f":"'T2-B(PP2)'!$I$191","v":0},"#'T2-B(PP2)'!$I$191"]
["pp2_bl4_13_7_unit",{"$f":"'T2-B(PP2)'!$C$191","v":0},"#'T2-B(PP2)'!$C$191"]
["pp2_bl4_13_7_unit_in",{"$f":"'T2-B(PP2)'!$D$191","v":0},"#'T2-B(PP2)'!$D$191"]
["pp2_bl4_13_7_units_out",{"$f":"'T2-B(PP2)'!$G$191","v":0},"#'T2-B(PP2)'!$G$191"]
["pp2_bl4_13_8_name",{"$f":"'T2-B(PP2)'!$B$192","v":0},"#'T2-B(PP2)'!$B$192"]
["pp2_bl4_13_8_rate_in",{"$f":"'T2-B(PP2)'!$E$192","v":0},"#'T2-B(PP2)'!$E$192"]
["pp2_bl4_13_8_rate_out",{"$f":"'T2-B(PP2)'!$H$192","v":0},"#'T2-B(PP2)'!$H$192"]
["pp2_bl4_13_8_total",{"$f":"'T2-B(PP2)'!$J$192","v":0},"#'T2-B(PP2)'!$J$192"]
["pp2_bl4_13_8_total_in",{"$f":"'T2-B(PP2)'!$F$192","v":0},"#'T2-B(PP2)'!$F$192"]
["pp2_bl4_13_8_total_out",{"$f":"'T2-B(PP2)'!$I$192","v":0},"#'T2-B(PP2)'!$I$192"]
["pp2_bl4_13_8_unit",{"$f":"'T2-B(PP2)'!$C$192","v":0},"#'T2-B(PP2)'!$C$192"]
["pp2_bl4_13_8_unit_in",{"$f":"'T2-B(PP2)'!$D$192","v":0},"#'T2-B(PP2)'!$D$192"]
["pp2_bl4_13_8_units_out",{"$f":"'T2-B(PP2)'!$G$192","v":0},"#'T2-B(PP2)'!$G$192"]
["pp2_bl4_13_9_name",{"$f":"'T2-B(PP2)'!$B$193","v":0},"#'T2-B(PP2)'!$B$193"]
["pp2_bl4_13_9_rate_in",{"$f":"'T2-B(PP2)'!$E$193","v":0},"#'T2-B(PP2)'!$E$193"]
["pp2_bl4_13_9_rate_out",{"$f":"'T2-B(PP2)'!$H$193","v":0},"#'T2-B(PP2)'!$H$193"]
["pp2_bl4_13_9_total",{"$f":"'T2-B(PP2)'!$J$193","v":0},"#'T2-B(PP2)'!$J$193"]
["pp2_bl4_13_9_total_in",{"$f":"'T2-B(PP2)'!$F$193","v":0},"#'T2-B(PP2)'!$F$193"]
["pp2_bl4_13_9_total_out",{"$f":"'T2-B(PP2)'!$I$193","v":0},"#'T2-B(PP2)'!$I$193"]
["pp2_bl4_13_9_unit",{"$f":"'T2-B(PP2)'!$C$193","v":0},"#'T2-B(PP2)'!$C$193"]
["pp2_bl4_13_9_unit_in",{"$f":"'T2-B(PP2)'!$D$193","v":0},"#'T2-B(PP2)'!$D$193"]
["pp2_bl4_13_9_units_out",{"$f":"'T2-B(PP2)'!$G$193","v":0},"#'T2-B(PP2)'!$G$193"]
["pp2_bl4_13_total",{"$f":"'T2-B(PP2)'!$J$184","v":0},"#'T2-B(PP2)'!$J$184"]
["pp2_bl4_13_total_in",{"$f":"'T2-B(PP2)'!$F$184","v":0},"#'T2-B(PP2)'!$F$184"]
["pp2_bl4_13_total_out",{"$f":"'T2-B(PP2)'!$I$184","v":0},"#'T2-B(PP2)'!$I$184"]
["pp2_bl4_14_1_name",{"$f":"'T2-B(PP2)'!$B$196","v":0},"#'T2-B(PP2)'!$B$196"]
["pp2_bl4_14_1_rate_in",{"$f":"'T2-B(PP2)'!$E$196","v":0},"#'T2-B(PP2)'!$E$196"]
["pp2_bl4_14_1_rate_out",{"$f":"'T2-B(PP2)'!$H$196","v":0},"#'T2-B(PP2)'!$H$196"]
["pp2_bl4_14_1_total",{"$f":"'T2-B(PP2)'!$J$196","v":0},"#'T2-B(PP2)'!$J$196"]
["pp2_bl4_14_1_total_in",{"$f":"'T2-B(PP2)'!$F$196","v":0},"#'T2-B(PP2)'!$F$196"]
["pp2_bl4_14_1_total_out",{"$f":"'T2-B(PP2)'!$I$196","v":0},"#'T2-B(PP2)'!$I$196"]
["pp2_bl4_14_1_unit",{"$f":"'T2-B(PP2)'!$C$196","v":0},"#'T2-B(PP2)'!$C$196"]
["pp2_bl4_14_1_unit_in",{"$f":"'T2-B(PP2)'!$D$196","v":0},"#'T2-B(PP2)'!$D$196"]
["pp2_bl4_14_1_units_out",{"$f":"'T2-B(PP2)'!$G$196","v":0},"#'T2-B(PP2)'!$G$196"]
["pp2_bl4_14_10_name",{"$f":"'T2-B(PP2)'!$B$205","v":0},"#'T2-B(PP2)'!$B$205"]
["pp2_bl4_14_10_rate_in",{"$f":"'T2-B(PP2)'!$E$205","v":0},"#'T2-B(PP2)'!$E$205"]
["pp2_bl4_14_10_rate_out",{"$f":"'T2-B(PP2)'!$H$205","v":0},"#'T2-B(PP2)'!$H$205"]
["pp2_bl4_14_10_total",{"$f":"'T2-B(PP2)'!$J$205","v":0},"#'T2-B(PP2)'!$J$205"]
["pp2_bl4_14_10_total_in",{"$f":"'T2-B(PP2)'!$F$205","v":0},"#'T2-B(PP2)'!$F$205"]
["pp2_bl4_14_10_total_out",{"$f":"'T2-B(PP2)'!$I$205","v":0},"#'T2-B(PP2)'!$I$205"]
["pp2_bl4_14_10_unit",{"$f":"'T2-B(PP2)'!$C$205","v":0},"#'T2-B(PP2)'!$C$205"]
["pp2_bl4_14_10_unit_in",{"$f":"'T2-B(PP2)'!$D$205","v":0},"#'T2-B(PP2)'!$D$205"]
["pp2_bl4_14_10_units_out",{"$f":"'T2-B(PP2)'!$G$205","v":0},"#'T2-B(PP2)'!$G$205"]
["pp2_bl4_14_2_name",{"$f":"'T2-B(PP2)'!$B$197","v":0},"#'T2-B(PP2)'!$B$197"]
["pp2_bl4_14_2_rate_in",{"$f":"'T2-B(PP2)'!$E$197","v":0},"#'T2-B(PP2)'!$E$197"]
["pp2_bl4_14_2_rate_out",{"$f":"'T2-B(PP2)'!$H$197","v":0},"#'T2-B(PP2)'!$H$197"]
["pp2_bl4_14_2_total",{"$f":"'T2-B(PP2)'!$J$197","v":0},"#'T2-B(PP2)'!$J$197"]
["pp2_bl4_14_2_total_in",{"$f":"'T2-B(PP2)'!$F$197","v":0},"#'T2-B(PP2)'!$F$197"]
["pp2_bl4_14_2_total_out",{"$f":"'T2-B(PP2)'!$I$197","v":0},"#'T2-B(PP2)'!$I$197"]
["pp2_bl4_14_2_unit",{"$f":"'T2-B(PP2)'!$C$197","v":0},"#'T2-B(PP2)'!$C$197"]
["pp2_bl4_14_2_unit_in",{"$f":"'T2-B(PP2)'!$D$197","v":0},"#'T2-B(PP2)'!$D$197"]
["pp2_bl4_14_2_units_out",{"$f":"'T2-B(PP2)'!$G$197","v":0},"#'T2-B(PP2)'!$G$197"]
["pp2_bl4_14_3_name",{"$f":"'T2-B(PP2)'!$B$198","v":0},"#'T2-B(PP2)'!$B$198"]
["pp2_bl4_14_3_rate_in",{"$f":"'T2-B(PP2)'!$E$198","v":0},"#'T2-B(PP2)'!$E$198"]
["pp2_bl4_14_3_rate_out",{"$f":"'T2-B(PP2)'!$H$198","v":0},"#'T2-B(PP2)'!$H$198"]
["pp2_bl4_14_3_total",{"$f":"'T2-B(PP2)'!$J$198","v":0},"#'T2-B(PP2)'!$J$198"]
["pp2_bl4_14_3_total_in",{"$f":"'T2-B(PP2)'!$F$198","v":0},"#'T2-B(PP2)'!$F$198"]
["pp2_bl4_14_3_total_out",{"$f":"'T2-B(PP2)'!$I$198","v":0},"#'T2-B(PP2)'!$I$198"]
["pp2_bl4_14_3_unit",{"$f":"'T2-B(PP2)'!$C$198","v":0},"#'T2-B(PP2)'!$C$198"]
["pp2_bl4_14_3_unit_in",{"$f":"'T2-B(PP2)'!$D$198","v":0},"#'T2-B(PP2)'!$D$198"]
["pp2_bl4_14_3_units_out",{"$f":"'T2-B(PP2)'!$G$198","v":0},"#'T2-B(PP2)'!$G$198"]
["pp2_bl4_14_4_name",{"$f":"'T2-B(PP2)'!$B$199","v":0},"#'T2-B(PP2)'!$B$199"]
["pp2_bl4_14_4_rate_in",{"$f":"'T2-B(PP2)'!$E$199","v":0},"#'T2-B(PP2)'!$E$199"]
["pp2_bl4_14_4_rate_out",{"$f":"'T2-B(PP2)'!$H$199","v":0},"#'T2-B(PP2)'!$H$199"]
["pp2_bl4_14_4_total",{"$f":"'T2-B(PP2)'!$J$199","v":0},"#'T2-B(PP2)'!$J$199"]
["pp2_bl4_14_4_total_in",{"$f":"'T2-B(PP2)'!$F$199","v":0},"#'T2-B(PP2)'!$F$199"]
["pp2_bl4_14_4_total_out",{"$f":"'T2-B(PP2)'!$I$199","v":0},"#'T2-B(PP2)'!$I$199"]
["pp2_bl4_14_4_unit",{"$f":"'T2-B(PP2)'!$C$199","v":0},"#'T2-B(PP2)'!$C$199"]
["pp2_bl4_14_4_unit_in",{"$f":"'T2-B(PP2)'!$D$199","v":0},"#'T2-B(PP2)'!$D$199"]
["pp2_bl4_14_4_units_out",{"$f":"'T2-B(PP2)'!$G$199","v":0},"#'T2-B(PP2)'!$G$199"]
["pp2_bl4_14_5_name",{"$f":"'T2-B(PP2)'!$B$200","v":0},"#'T2-B(PP2)'!$B$200"]
["pp2_bl4_14_5_rate_in",{"$f":"'T2-B(PP2)'!$E$200","v":0},"#'T2-B(PP2)'!$E$200"]
["pp2_bl4_14_5_rate_out",{"$f":"'T2-B(PP2)'!$H$200","v":0},"#'T2-B(PP2)'!$H$200"]
["pp2_bl4_14_5_total",{"$f":"'T2-B(PP2)'!$J$200","v":0},"#'T2-B(PP2)'!$J$200"]
["pp2_bl4_14_5_total_in",{"$f":"'T2-B(PP2)'!$F$200","v":0},"#'T2-B(PP2)'!$F$200"]
["pp2_bl4_14_5_total_out",{"$f":"'T2-B(PP2)'!$I$200","v":0},"#'T2-B(PP2)'!$I$200"]
["pp2_bl4_14_5_unit",{"$f":"'T2-B(PP2)'!$C$200","v":0},"#'T2-B(PP2)'!$C$200"]
["pp2_bl4_14_5_unit_in",{"$f":"'T2-B(PP2)'!$D$200","v":0},"#'T2-B(PP2)'!$D$200"]
["pp2_bl4_14_5_units_out",{"$f":"'T2-B(PP2)'!$G$200","v":0},"#'T2-B(PP2)'!$G$200"]
["pp2_bl4_14_6_name",{"$f":"'T2-B(PP2)'!$B$201","v":0},"#'T2-B(PP2)'!$B$201"]
["pp2_bl4_14_6_rate_in",{"$f":"'T2-B(PP2)'!$E$201","v":0},"#'T2-B(PP2)'!$E$201"]
["pp2_bl4_14_6_rate_out",{"$f":"'T2-B(PP2)'!$H$201","v":0},"#'T2-B(PP2)'!$H$201"]
["pp2_bl4_14_6_total",{"$f":"'T2-B(PP2)'!$J$201","v":0},"#'T2-B(PP2)'!$J$201"]
["pp2_bl4_14_6_total_in",{"$f":"'T2-B(PP2)'!$F$201","v":0},"#'T2-B(PP2)'!$F$201"]
["pp2_bl4_14_6_total_out",{"$f":"'T2-B(PP2)'!$I$201","v":0},"#'T2-B(PP2)'!$I$201"]
["pp2_bl4_14_6_unit",{"$f":"'T2-B(PP2)'!$C$201","v":0},"#'T2-B(PP2)'!$C$201"]
["pp2_bl4_14_6_unit_in",{"$f":"'T2-B(PP2)'!$D$201","v":0},"#'T2-B(PP2)'!$D$201"]
["pp2_bl4_14_6_units_out",{"$f":"'T2-B(PP2)'!$G$201","v":0},"#'T2-B(PP2)'!$G$201"]
["pp2_bl4_14_7_name",{"$f":"'T2-B(PP2)'!$B$202","v":0},"#'T2-B(PP2)'!$B$202"]
["pp2_bl4_14_7_rate_in",{"$f":"'T2-B(PP2)'!$E$202","v":0},"#'T2-B(PP2)'!$E$202"]
["pp2_bl4_14_7_rate_out",{"$f":"'T2-B(PP2)'!$H$202","v":0},"#'T2-B(PP2)'!$H$202"]
["pp2_bl4_14_7_total",{"$f":"'T2-B(PP2)'!$J$202","v":0},"#'T2-B(PP2)'!$J$202"]
["pp2_bl4_14_7_total_in",{"$f":"'T2-B(PP2)'!$F$202","v":0},"#'T2-B(PP2)'!$F$202"]
["pp2_bl4_14_7_total_out",{"$f":"'T2-B(PP2)'!$I$202","v":0},"#'T2-B(PP2)'!$I$202"]
["pp2_bl4_14_7_unit",{"$f":"'T2-B(PP2)'!$C$202","v":0},"#'T2-B(PP2)'!$C$202"]
["pp2_bl4_14_7_unit_in",{"$f":"'T2-B(PP2)'!$D$202","v":0},"#'T2-B(PP2)'!$D$202"]
["pp2_bl4_14_7_units_out",{"$f":"'T2-B(PP2)'!$G$202","v":0},"#'T2-B(PP2)'!$G$202"]
["pp2_bl4_14_8_name",{"$f":"'T2-B(PP2)'!$B$203","v":0},"#'T2-B(PP2)'!$B$203"]
["pp2_bl4_14_8_rate_in",{"$f":"'T2-B(PP2)'!$E$203","v":0},"#'T2-B(PP2)'!$E$203"]
["pp2_bl4_14_8_rate_out",{"$f":"'T2-B(PP2)'!$H$203","v":0},"#'T2-B(PP2)'!$H$203"]
["pp2_bl4_14_8_total",{"$f":"'T2-B(PP2)'!$J$203","v":0},"#'T2-B(PP2)'!$J$203"]
["pp2_bl4_14_8_total_in",{"$f":"'T2-B(PP2)'!$F$203","v":0},"#'T2-B(PP2)'!$F$203"]
["pp2_bl4_14_8_total_out",{"$f":"'T2-B(PP2)'!$I$203","v":0},"#'T2-B(PP2)'!$I$203"]
["pp2_bl4_14_8_unit",{"$f":"'T2-B(PP2)'!$C$203","v":0},"#'T2-B(PP2)'!$C$203"]
["pp2_bl4_14_8_unit_in",{"$f":"'T2-B(PP2)'!$D$203","v":0},"#'T2-B(PP2)'!$D$203"]
["pp2_bl4_14_8_units_out",{"$f":"'T2-B(PP2)'!$G$203","v":0},"#'T2-B(PP2)'!$G$203"]
["pp2_bl4_14_9_name",{"$f":"'T2-B(PP2)'!$B$204","v":0},"#'T2-B(PP2)'!$B$204"]
["pp2_bl4_14_9_rate_in",{"$f":"'T2-B(PP2)'!$E$204","v":0},"#'T2-B(PP2)'!$E$204"]
["pp2_bl4_14_9_rate_out",{"$f":"'T2-B(PP2)'!$H$204","v":0},"#'T2-B(PP2)'!$H$204"]
["pp2_bl4_14_9_total",{"$f":"'T2-B(PP2)'!$J$204","v":0},"#'T2-B(PP2)'!$J$204"]
["pp2_bl4_14_9_total_in",{"$f":"'T2-B(PP2)'!$F$204","v":0},"#'T2-B(PP2)'!$F$204"]
["pp2_bl4_14_9_total_out",{"$f":"'T2-B(PP2)'!$I$204","v":0},"#'T2-B(PP2)'!$I$204"]
["pp2_bl4_14_9_unit",{"$f":"'T2-B(PP2)'!$C$204","v":0},"#'T2-B(PP2)'!$C$204"]
["pp2_bl4_14_9_unit_in",{"$f":"'T2-B(PP2)'!$D$204","v":0},"#'T2-B(PP2)'!$D$204"]
["pp2_bl4_14_9_units_out",{"$f":"'T2-B(PP2)'!$G$204","v":0},"#'T2-B(PP2)'!$G$204"]
["pp2_bl4_14_total",{"$f":"'T2-B(PP2)'!$J$195","v":0},"#'T2-B(PP2)'!$J$195"]
["pp2_bl4_14_total_in",{"$f":"'T2-B(PP2)'!$F$195","v":0},"#'T2-B(PP2)'!$F$195"]
["pp2_bl4_14_total_out",{"$f":"'T2-B(PP2)'!$I$195","v":0},"#'T2-B(PP2)'!$I$195"]
["pp2_bl4_2_1_name",{"$f":"'T2-B(PP2)'!$B$64","v":0},"#'T2-B(PP2)'!$B$64"]
["pp2_bl4_2_1_rate_in",{"$f":"'T2-B(PP2)'!$E$64","v":0},"#'T2-B(PP2)'!$E$64"]
["pp2_bl4_2_1_rate_out",{"$f":"'T2-B(PP2)'!$H$64","v":0},"#'T2-B(PP2)'!$H$64"]
["pp2_bl4_2_1_total",{"$f":"'T2-B(PP2)'!$J$64","v":0},"#'T2-B(PP2)'!$J$64"]
["pp2_bl4_2_1_total_in",{"$f":"'T2-B(PP2)'!$F$64","v":0},"#'T2-B(PP2)'!$F$64"]
["pp2_bl4_2_1_total_out",{"$f":"'T2-B(PP2)'!$I$64","v":0},"#'T2-B(PP2)'!$I$64"]
["pp2_bl4_2_1_unit",{"$f":"'T2-B(PP2)'!$C$64","v":0},"#'T2-B(PP2)'!$C$64"]
["pp2_bl4_2_1_unit_in",{"$f":"'T2-B(PP2)'!$D$64","v":0},"#'T2-B(PP2)'!$D$64"]
["pp2_bl4_2_1_units_out",{"$f":"'T2-B(PP2)'!$G$64","v":0},"#'T2-B(PP2)'!$G$64"]
["pp2_bl4_2_10_name",{"$f":"'T2-B(PP2)'!$B$73","v":0},"#'T2-B(PP2)'!$B$73"]
["pp2_bl4_2_10_rate_in",{"$f":"'T2-B(PP2)'!$E$73","v":0},"#'T2-B(PP2)'!$E$73"]
["pp2_bl4_2_10_rate_out",{"$f":"'T2-B(PP2)'!$H$73","v":0},"#'T2-B(PP2)'!$H$73"]
["pp2_bl4_2_10_total",{"$f":"'T2-B(PP2)'!$J$73","v":0},"#'T2-B(PP2)'!$J$73"]
["pp2_bl4_2_10_total_in",{"$f":"'T2-B(PP2)'!$F$73","v":0},"#'T2-B(PP2)'!$F$73"]
["pp2_bl4_2_10_total_out",{"$f":"'T2-B(PP2)'!$I$73","v":0},"#'T2-B(PP2)'!$I$73"]
["pp2_bl4_2_10_unit",{"$f":"'T2-B(PP2)'!$C$73","v":0},"#'T2-B(PP2)'!$C$73"]
["pp2_bl4_2_10_unit_in",{"$f":"'T2-B(PP2)'!$D$73","v":0},"#'T2-B(PP2)'!$D$73"]
["pp2_bl4_2_10_units_out",{"$f":"'T2-B(PP2)'!$G$73","v":0},"#'T2-B(PP2)'!$G$73"]
["pp2_bl4_2_2_name",{"$f":"'T2-B(PP2)'!$B$65","v":0},"#'T2-B(PP2)'!$B$65"]
["pp2_bl4_2_2_rate_in",{"$f":"'T2-B(PP2)'!$E$65","v":0},"#'T2-B(PP2)'!$E$65"]
["pp2_bl4_2_2_rate_out",{"$f":"'T2-B(PP2)'!$H$65","v":0},"#'T2-B(PP2)'!$H$65"]
["pp2_bl4_2_2_total",{"$f":"'T2-B(PP2)'!$J$65","v":0},"#'T2-B(PP2)'!$J$65"]
["pp2_bl4_2_2_total_in",{"$f":"'T2-B(PP2)'!$F$65","v":0},"#'T2-B(PP2)'!$F$65"]
["pp2_bl4_2_2_total_out",{"$f":"'T2-B(PP2)'!$I$65","v":0},"#'T2-B(PP2)'!$I$65"]
["pp2_bl4_2_2_unit",{"$f":"'T2-B(PP2)'!$C$65","v":0},"#'T2-B(PP2)'!$C$65"]
["pp2_bl4_2_2_unit_in",{"$f":"'T2-B(PP2)'!$D$65","v":0},"#'T2-B(PP2)'!$D$65"]
["pp2_bl4_2_2_units_out",{"$f":"'T2-B(PP2)'!$G$65","v":0},"#'T2-B(PP2)'!$G$65"]
["pp2_bl4_2_3_name",{"$f":"'T2-B(PP2)'!$B$66","v":0},"#'T2-B(PP2)'!$B$66"]
["pp2_bl4_2_3_rate_in",{"$f":"'T2-B(PP2)'!$E$66","v":0},"#'T2-B(PP2)'!$E$66"]
["pp2_bl4_2_3_rate_out",{"$f":"'T2-B(PP2)'!$H$66","v":0},"#'T2-B(PP2)'!$H$66"]
["pp2_bl4_2_3_total",{"$f":"'T2-B(PP2)'!$J$66","v":0},"#'T2-B(PP2)'!$J$66"]
["pp2_bl4_2_3_total_in",{"$f":"'T2-B(PP2)'!$F$66","v":0},"#'T2-B(PP2)'!$F$66"]
["pp2_bl4_2_3_total_out",{"$f":"'T2-B(PP2)'!$I$66","v":0},"#'T2-B(PP2)'!$I$66"]
["pp2_bl4_2_3_unit",{"$f":"'T2-B(PP2)'!$C$66","v":0},"#'T2-B(PP2)'!$C$66"]
["pp2_bl4_2_3_unit_in",{"$f":"'T2-B(PP2)'!$D$66","v":0},"#'T2-B(PP2)'!$D$66"]
["pp2_bl4_2_3_units_out",{"$f":"'T2-B(PP2)'!$G$66","v":0},"#'T2-B(PP2)'!$G$66"]
["pp2_bl4_2_4_name",{"$f":"'T2-B(PP2)'!$B$67","v":0},"#'T2-B(PP2)'!$B$67"]
["pp2_bl4_2_4_rate_in",{"$f":"'T2-B(PP2)'!$E$67","v":0},"#'T2-B(PP2)'!$E$67"]
["pp2_bl4_2_4_rate_out",{"$f":"'T2-B(PP2)'!$H$67","v":0},"#'T2-B(PP2)'!$H$67"]
["pp2_bl4_2_4_total",{"$f":"'T2-B(PP2)'!$J$67","v":0},"#'T2-B(PP2)'!$J$67"]
["pp2_bl4_2_4_total_in",{"$f":"'T2-B(PP2)'!$F$67","v":0},"#'T2-B(PP2)'!$F$67"]
["pp2_bl4_2_4_total_out",{"$f":"'T2-B(PP2)'!$I$67","v":0},"#'T2-B(PP2)'!$I$67"]
["pp2_bl4_2_4_unit",{"$f":"'T2-B(PP2)'!$C$67","v":0},"#'T2-B(PP2)'!$C$67"]
["pp2_bl4_2_4_unit_in",{"$f":"'T2-B(PP2)'!$D$67","v":0},"#'T2-B(PP2)'!$D$67"]
["pp2_bl4_2_4_units_out",{"$f":"'T2-B(PP2)'!$G$67","v":0},"#'T2-B(PP2)'!$G$67"]
["pp2_bl4_2_5_name",{"$f":"'T2-B(PP2)'!$B$68","v":0},"#'T2-B(PP2)'!$B$68"]
["pp2_bl4_2_5_rate_in",{"$f":"'T2-B(PP2)'!$E$68","v":0},"#'T2-B(PP2)'!$E$68"]
["pp2_bl4_2_5_rate_out",{"$f":"'T2-B(PP2)'!$H$68","v":0},"#'T2-B(PP2)'!$H$68"]
["pp2_bl4_2_5_total",{"$f":"'T2-B(PP2)'!$J$68","v":0},"#'T2-B(PP2)'!$J$68"]
["pp2_bl4_2_5_total_in",{"$f":"'T2-B(PP2)'!$F$68","v":0},"#'T2-B(PP2)'!$F$68"]
["pp2_bl4_2_5_total_out",{"$f":"'T2-B(PP2)'!$I$68","v":0},"#'T2-B(PP2)'!$I$68"]
["pp2_bl4_2_5_unit",{"$f":"'T2-B(PP2)'!$C$68","v":0},"#'T2-B(PP2)'!$C$68"]
["pp2_bl4_2_5_unit_in",{"$f":"'T2-B(PP2)'!$D$68","v":0},"#'T2-B(PP2)'!$D$68"]
["pp2_bl4_2_5_units_out",{"$f":"'T2-B(PP2)'!$G$68","v":0},"#'T2-B(PP2)'!$G$68"]
["pp2_bl4_2_6_name",{"$f":"'T2-B(PP2)'!$B$69","v":0},"#'T2-B(PP2)'!$B$69"]
["pp2_bl4_2_6_rate_in",{"$f":"'T2-B(PP2)'!$E$69","v":0},"#'T2-B(PP2)'!$E$69"]
["pp2_bl4_2_6_rate_out",{"$f":"'T2-B(PP2)'!$H$69","v":0},"#'T2-B(PP2)'!$H$69"]
["pp2_bl4_2_6_total",{"$f":"'T2-B(PP2)'!$J$69","v":0},"#'T2-B(PP2)'!$J$69"]
["pp2_bl4_2_6_total_in",{"$f":"'T2-B(PP2)'!$F$69","v":0},"#'T2-B(PP2)'!$F$69"]
["pp2_bl4_2_6_total_out",{"$f":"'T2-B(PP2)'!$I$69","v":0},"#'T2-B(PP2)'!$I$69"]
["pp2_bl4_2_6_unit",{"$f":"'T2-B(PP2)'!$C$69","v":0},"#'T2-B(PP2)'!$C$69"]
["pp2_bl4_2_6_unit_in",{"$f":"'T2-B(PP2)'!$D$69","v":0},"#'T2-B(PP2)'!$D$69"]
["pp2_bl4_2_6_units_out",{"$f":"'T2-B(PP2)'!$G$69","v":0},"#'T2-B(PP2)'!$G$69"]
["pp2_bl4_2_7_name",{"$f":"'T2-B(PP2)'!$B$70","v":0},"#'T2-B(PP2)'!$B$70"]
["pp2_bl4_2_7_rate_in",{"$f":"'T2-B(PP2)'!$E$70","v":0},"#'T2-B(PP2)'!$E$70"]
["pp2_bl4_2_7_rate_out",{"$f":"'T2-B(PP2)'!$H$70","v":0},"#'T2-B(PP2)'!$H$70"]
["pp2_bl4_2_7_total",{"$f":"'T2-B(PP2)'!$J$70","v":0},"#'T2-B(PP2)'!$J$70"]
["pp2_bl4_2_7_total_in",{"$f":"'T2-B(PP2)'!$F$70","v":0},"#'T2-B(PP2)'!$F$70"]
["pp2_bl4_2_7_total_out",{"$f":"'T2-B(PP2)'!$I$70","v":0},"#'T2-B(PP2)'!$I$70"]
["pp2_bl4_2_7_unit",{"$f":"'T2-B(PP2)'!$C$70","v":0},"#'T2-B(PP2)'!$C$70"]
["pp2_bl4_2_7_unit_in",{"$f":"'T2-B(PP2)'!$D$70","v":0},"#'T2-B(PP2)'!$D$70"]
["pp2_bl4_2_7_units_out",{"$f":"'T2-B(PP2)'!$G$70","v":0},"#'T2-B(PP2)'!$G$70"]
["pp2_bl4_2_8_name",{"$f":"'T2-B(PP2)'!$B$71","v":0},"#'T2-B(PP2)'!$B$71"]
["pp2_bl4_2_8_rate_in",{"$f":"'T2-B(PP2)'!$E$71","v":0},"#'T2-B(PP2)'!$E$71"]
["pp2_bl4_2_8_rate_out",{"$f":"'T2-B(PP2)'!$H$71","v":0},"#'T2-B(PP2)'!$H$71"]
["pp2_bl4_2_8_total",{"$f":"'T2-B(PP2)'!$J$71","v":0},"#'T2-B(PP2)'!$J$71"]
["pp2_bl4_2_8_total_in",{"$f":"'T2-B(PP2)'!$F$71","v":0},"#'T2-B(PP2)'!$F$71"]
["pp2_bl4_2_8_total_out",{"$f":"'T2-B(PP2)'!$I$71","v":0},"#'T2-B(PP2)'!$I$71"]
["pp2_bl4_2_8_unit",{"$f":"'T2-B(PP2)'!$C$71","v":0},"#'T2-B(PP2)'!$C$71"]
["pp2_bl4_2_8_unit_in",{"$f":"'T2-B(PP2)'!$D$71","v":0},"#'T2-B(PP2)'!$D$71"]
["pp2_bl4_2_8_units_out",{"$f":"'T2-B(PP2)'!$G$71","v":0},"#'T2-B(PP2)'!$G$71"]
["pp2_bl4_2_9_name",{"$f":"'T2-B(PP2)'!$B$72","v":0},"#'T2-B(PP2)'!$B$72"]
["pp2_bl4_2_9_rate_in",{"$f":"'T2-B(PP2)'!$E$72","v":0},"#'T2-B(PP2)'!$E$72"]
["pp2_bl4_2_9_rate_out",{"$f":"'T2-B(PP2)'!$H$72","v":0},"#'T2-B(PP2)'!$H$72"]
["pp2_bl4_2_9_total",{"$f":"'T2-B(PP2)'!$J$72","v":0},"#'T2-B(PP2)'!$J$72"]
["pp2_bl4_2_9_total_in",{"$f":"'T2-B(PP2)'!$F$72","v":0},"#'T2-B(PP2)'!$F$72"]
["pp2_bl4_2_9_total_out",{"$f":"'T2-B(PP2)'!$I$72","v":0},"#'T2-B(PP2)'!$I$72"]
["pp2_bl4_2_9_unit",{"$f":"'T2-B(PP2)'!$C$72","v":0},"#'T2-B(PP2)'!$C$72"]
["pp2_bl4_2_9_unit_in",{"$f":"'T2-B(PP2)'!$D$72","v":0},"#'T2-B(PP2)'!$D$72"]
["pp2_bl4_2_9_units_out",{"$f":"'T2-B(PP2)'!$G$72","v":0},"#'T2-B(PP2)'!$G$72"]
["pp2_bl4_2_total",{"$f":"'T2-B(PP2)'!$J$63","v":0},"#'T2-B(PP2)'!$J$63"]
["pp2_bl4_2_total_in",{"$f":"'T2-B(PP2)'!$F$63","v":0},"#'T2-B(PP2)'!$F$63"]
["pp2_bl4_2_total_out",{"$f":"'T2-B(PP2)'!$I$63","v":0},"#'T2-B(PP2)'!$I$63"]
["pp2_bl4_3_1_name",{"$f":"'T2-B(PP2)'!$B$75","v":0},"#'T2-B(PP2)'!$B$75"]
["pp2_bl4_3_1_rate_in",{"$f":"'T2-B(PP2)'!$E$75","v":0},"#'T2-B(PP2)'!$E$75"]
["pp2_bl4_3_1_rate_out",{"$f":"'T2-B(PP2)'!$H$75","v":0},"#'T2-B(PP2)'!$H$75"]
["pp2_bl4_3_1_total",{"$f":"'T2-B(PP2)'!$J$75","v":0},"#'T2-B(PP2)'!$J$75"]
["pp2_bl4_3_1_total_in",{"$f":"'T2-B(PP2)'!$F$75","v":0},"#'T2-B(PP2)'!$F$75"]
["pp2_bl4_3_1_total_out",{"$f":"'T2-B(PP2)'!$I$75","v":0},"#'T2-B(PP2)'!$I$75"]
["pp2_bl4_3_1_unit",{"$f":"'T2-B(PP2)'!$C$75","v":0},"#'T2-B(PP2)'!$C$75"]
["pp2_bl4_3_1_unit_in",{"$f":"'T2-B(PP2)'!$D$75","v":0},"#'T2-B(PP2)'!$D$75"]
["pp2_bl4_3_1_units_out",{"$f":"'T2-B(PP2)'!$G$75","v":0},"#'T2-B(PP2)'!$G$75"]
["pp2_bl4_3_10_name",{"$f":"'T2-B(PP2)'!$B$84","v":0},"#'T2-B(PP2)'!$B$84"]
["pp2_bl4_3_10_rate_in",{"$f":"'T2-B(PP2)'!$E$84","v":0},"#'T2-B(PP2)'!$E$84"]
["pp2_bl4_3_10_rate_out",{"$f":"'T2-B(PP2)'!$H$84","v":0},"#'T2-B(PP2)'!$H$84"]
["pp2_bl4_3_10_total",{"$f":"'T2-B(PP2)'!$J$84","v":0},"#'T2-B(PP2)'!$J$84"]
["pp2_bl4_3_10_total_in",{"$f":"'T2-B(PP2)'!$F$84","v":0},"#'T2-B(PP2)'!$F$84"]
["pp2_bl4_3_10_total_out",{"$f":"'T2-B(PP2)'!$I$84","v":0},"#'T2-B(PP2)'!$I$84"]
["pp2_bl4_3_10_unit",{"$f":"'T2-B(PP2)'!$C$84","v":0},"#'T2-B(PP2)'!$C$84"]
["pp2_bl4_3_10_unit_in",{"$f":"'T2-B(PP2)'!$D$84","v":0},"#'T2-B(PP2)'!$D$84"]
["pp2_bl4_3_10_units_out",{"$f":"'T2-B(PP2)'!$G$84","v":0},"#'T2-B(PP2)'!$G$84"]
["pp2_bl4_3_2_name",{"$f":"'T2-B(PP2)'!$B$76","v":0},"#'T2-B(PP2)'!$B$76"]
["pp2_bl4_3_2_rate_in",{"$f":"'T2-B(PP2)'!$E$76","v":0},"#'T2-B(PP2)'!$E$76"]
["pp2_bl4_3_2_rate_out",{"$f":"'T2-B(PP2)'!$H$76","v":0},"#'T2-B(PP2)'!$H$76"]
["pp2_bl4_3_2_total",{"$f":"'T2-B(PP2)'!$J$76","v":0},"#'T2-B(PP2)'!$J$76"]
["pp2_bl4_3_2_total_in",{"$f":"'T2-B(PP2)'!$F$76","v":0},"#'T2-B(PP2)'!$F$76"]
["pp2_bl4_3_2_total_out",{"$f":"'T2-B(PP2)'!$I$76","v":0},"#'T2-B(PP2)'!$I$76"]
["pp2_bl4_3_2_unit",{"$f":"'T2-B(PP2)'!$C$76","v":0},"#'T2-B(PP2)'!$C$76"]
["pp2_bl4_3_2_unit_in",{"$f":"'T2-B(PP2)'!$D$76","v":0},"#'T2-B(PP2)'!$D$76"]
["pp2_bl4_3_2_units_out",{"$f":"'T2-B(PP2)'!$G$76","v":0},"#'T2-B(PP2)'!$G$76"]
["pp2_bl4_3_3_name",{"$f":"'T2-B(PP2)'!$B$77","v":0},"#'T2-B(PP2)'!$B$77"]
["pp2_bl4_3_3_rate_in",{"$f":"'T2-B(PP2)'!$E$77","v":0},"#'T2-B(PP2)'!$E$77"]
["pp2_bl4_3_3_rate_out",{"$f":"'T2-B(PP2)'!$H$77","v":0},"#'T2-B(PP2)'!$H$77"]
["pp2_bl4_3_3_total",{"$f":"'T2-B(PP2)'!$J$77","v":0},"#'T2-B(PP2)'!$J$77"]
["pp2_bl4_3_3_total_in",{"$f":"'T2-B(PP2)'!$F$77","v":0},"#'T2-B(PP2)'!$F$77"]
["pp2_bl4_3_3_total_out",{"$f":"'T2-B(PP2)'!$I$77","v":0},"#'T2-B(PP2)'!$I$77"]
["pp2_bl4_3_3_unit",{"$f":"'T2-B(PP2)'!$C$77","v":0},"#'T2-B(PP2)'!$C$77"]
["pp2_bl4_3_3_unit_in",{"$f":"'T2-B(PP2)'!$D$77","v":0},"#'T2-B(PP2)'!$D$77"]
["pp2_bl4_3_3_units_out",{"$f":"'T2-B(PP2)'!$G$77","v":0},"#'T2-B(PP2)'!$G$77"]
["pp2_bl4_3_4_name",{"$f":"'T2-B(PP2)'!$B$78","v":0},"#'T2-B(PP2)'!$B$78"]
["pp2_bl4_3_4_rate_in",{"$f":"'T2-B(PP2)'!$E$78","v":0},"#'T2-B(PP2)'!$E$78"]
["pp2_bl4_3_4_rate_out",{"$f":"'T2-B(PP2)'!$H$78","v":0},"#'T2-B(PP2)'!$H$78"]
["pp2_bl4_3_4_total",{"$f":"'T2-B(PP2)'!$J$78","v":0},"#'T2-B(PP2)'!$J$78"]
["pp2_bl4_3_4_total_in",{"$f":"'T2-B(PP2)'!$F$78","v":0},"#'T2-B(PP2)'!$F$78"]
["pp2_bl4_3_4_total_out",{"$f":"'T2-B(PP2)'!$I$78","v":0},"#'T2-B(PP2)'!$I$78"]
["pp2_bl4_3_4_unit",{"$f":"'T2-B(PP2)'!$C$78","v":0},"#'T2-B(PP2)'!$C$78"]
["pp2_bl4_3_4_unit_in",{"$f":"'T2-B(PP2)'!$D$78","v":0},"#'T2-B(PP2)'!$D$78"]
["pp2_bl4_3_4_units_out",{"$f":"'T2-B(PP2)'!$G$78","v":0},"#'T2-B(PP2)'!$G$78"]
["pp2_bl4_3_5_name",{"$f":"'T2-B(PP2)'!$B$79","v":0},"#'T2-B(PP2)'!$B$79"]
["pp2_bl4_3_5_rate_in",{"$f":"'T2-B(PP2)'!$E$79","v":0},"#'T2-B(PP2)'!$E$79"]
["pp2_bl4_3_5_rate_out",{"$f":"'T2-B(PP2)'!$H$79","v":0},"#'T2-B(PP2)'!$H$79"]
["pp2_bl4_3_5_total",{"$f":"'T2-B(PP2)'!$J$79","v":0},"#'T2-B(PP2)'!$J$79"]
["pp2_bl4_3_5_total_in",{"$f":"'T2-B(PP2)'!$F$79","v":0},"#'T2-B(PP2)'!$F$79"]
["pp2_bl4_3_5_total_out",{"$f":"'T2-B(PP2)'!$I$79","v":0},"#'T2-B(PP2)'!$I$79"]
["pp2_bl4_3_5_unit",{"$f":"'T2-B(PP2)'!$C$79","v":0},"#'T2-B(PP2)'!$C$79"]
["pp2_bl4_3_5_unit_in",{"$f":"'T2-B(PP2)'!$D$79","v":0},"#'T2-B(PP2)'!$D$79"]
["pp2_bl4_3_5_units_out",{"$f":"'T2-B(PP2)'!$G$79","v":0},"#'T2-B(PP2)'!$G$79"]
["pp2_bl4_3_6_name",{"$f":"'T2-B(PP2)'!$B$80","v":0},"#'T2-B(PP2)'!$B$80"]
["pp2_bl4_3_6_rate_in",{"$f":"'T2-B(PP2)'!$E$80","v":0},"#'T2-B(PP2)'!$E$80"]
["pp2_bl4_3_6_rate_out",{"$f":"'T2-B(PP2)'!$H$80","v":0},"#'T2-B(PP2)'!$H$80"]
["pp2_bl4_3_6_total",{"$f":"'T2-B(PP2)'!$J$80","v":0},"#'T2-B(PP2)'!$J$80"]
["pp2_bl4_3_6_total_in",{"$f":"'T2-B(PP2)'!$F$80","v":0},"#'T2-B(PP2)'!$F$80"]
["pp2_bl4_3_6_total_out",{"$f":"'T2-B(PP2)'!$I$80","v":0},"#'T2-B(PP2)'!$I$80"]
["pp2_bl4_3_6_unit",{"$f":"'T2-B(PP2)'!$C$80","v":0},"#'T2-B(PP2)'!$C$80"]
["pp2_bl4_3_6_unit_in",{"$f":"'T2-B(PP2)'!$D$80","v":0},"#'T2-B(PP2)'!$D$80"]
["pp2_bl4_3_6_units_out",{"$f":"'T2-B(PP2)'!$G$80","v":0},"#'T2-B(PP2)'!$G$80"]
["pp2_bl4_3_7_name",{"$f":"'T2-B(PP2)'!$B$81","v":0},"#'T2-B(PP2)'!$B$81"]
["pp2_bl4_3_7_rate_in",{"$f":"'T2-B(PP2)'!$E$81","v":0},"#'T2-B(PP2)'!$E$81"]
["pp2_bl4_3_7_rate_out",{"$f":"'T2-B(PP2)'!$H$81","v":0},"#'T2-B(PP2)'!$H$81"]
["pp2_bl4_3_7_total",{"$f":"'T2-B(PP2)'!$J$81","v":0},"#'T2-B(PP2)'!$J$81"]
["pp2_bl4_3_7_total_in",{"$f":"'T2-B(PP2)'!$F$81","v":0},"#'T2-B(PP2)'!$F$81"]
["pp2_bl4_3_7_total_out",{"$f":"'T2-B(PP2)'!$I$81","v":0},"#'T2-B(PP2)'!$I$81"]
["pp2_bl4_3_7_unit",{"$f":"'T2-B(PP2)'!$C$81","v":0},"#'T2-B(PP2)'!$C$81"]
["pp2_bl4_3_7_unit_in",{"$f":"'T2-B(PP2)'!$D$81","v":0},"#'T2-B(PP2)'!$D$81"]
["pp2_bl4_3_7_units_out",{"$f":"'T2-B(PP2)'!$G$81","v":0},"#'T2-B(PP2)'!$G$81"]
["pp2_bl4_3_8_name",{"$f":"'T2-B(PP2)'!$B$82","v":0},"#'T2-B(PP2)'!$B$82"]
["pp2_bl4_3_8_rate_in",{"$f":"'T2-B(PP2)'!$E$82","v":0},"#'T2-B(PP2)'!$E$82"]
["pp2_bl4_3_8_rate_out",{"$f":"'T2-B(PP2)'!$H$82","v":0},"#'T2-B(PP2)'!$H$82"]
["pp2_bl4_3_8_total",{"$f":"'T2-B(PP2)'!$J$82","v":0},"#'T2-B(PP2)'!$J$82"]
["pp2_bl4_3_8_total_in",{"$f":"'T2-B(PP2)'!$F$82","v":0},"#'T2-B(PP2)'!$F$82"]
["pp2_bl4_3_8_total_out",{"$f":"'T2-B(PP2)'!$I$82","v":0},"#'T2-B(PP2)'!$I$82"]
["pp2_bl4_3_8_unit",{"$f":"'T2-B(PP2)'!$C$82","v":0},"#'T2-B(PP2)'!$C$82"]
["pp2_bl4_3_8_unit_in",{"$f":"'T2-B(PP2)'!$D$82","v":0},"#'T2-B(PP2)'!$D$82"]
["pp2_bl4_3_8_units_out",{"$f":"'T2-B(PP2)'!$G$82","v":0},"#'T2-B(PP2)'!$G$82"]
["pp2_bl4_3_9_name",{"$f":"'T2-B(PP2)'!$B$83","v":0},"#'T2-B(PP2)'!$B$83"]
["pp2_bl4_3_9_rate_in",{"$f":"'T2-B(PP2)'!$E$83","v":0},"#'T2-B(PP2)'!$E$83"]
["pp2_bl4_3_9_rate_out",{"$f":"'T2-B(PP2)'!$H$83","v":0},"#'T2-B(PP2)'!$H$83"]
["pp2_bl4_3_9_total",{"$f":"'T2-B(PP2)'!$J$83","v":0},"#'T2-B(PP2)'!$J$83"]
["pp2_bl4_3_9_total_in",{"$f":"'T2-B(PP2)'!$F$83","v":0},"#'T2-B(PP2)'!$F$83"]
["pp2_bl4_3_9_total_out",{"$f":"'T2-B(PP2)'!$I$83","v":0},"#'T2-B(PP2)'!$I$83"]
["pp2_bl4_3_9_unit",{"$f":"'T2-B(PP2)'!$C$83","v":0},"#'T2-B(PP2)'!$C$83"]
["pp2_bl4_3_9_unit_in",{"$f":"'T2-B(PP2)'!$D$83","v":0},"#'T2-B(PP2)'!$D$83"]
["pp2_bl4_3_9_units_out",{"$f":"'T2-B(PP2)'!$G$83","v":0},"#'T2-B(PP2)'!$G$83"]
["pp2_bl4_3_total",{"$f":"'T2-B(PP2)'!$J$74","v":0},"#'T2-B(PP2)'!$J$74"]
["pp2_bl4_3_total_in",{"$f":"'T2-B(PP2)'!$F$74","v":0},"#'T2-B(PP2)'!$F$74"]
["pp2_bl4_3_total_out",{"$f":"'T2-B(PP2)'!$I$74","v":0},"#'T2-B(PP2)'!$I$74"]
["pp2_bl4_4_1_name",{"$f":"'T2-B(PP2)'!$B$86","v":0},"#'T2-B(PP2)'!$B$86"]
["pp2_bl4_4_1_rate_in",{"$f":"'T2-B(PP2)'!$E$86","v":0},"#'T2-B(PP2)'!$E$86"]
["pp2_bl4_4_1_rate_out",{"$f":"'T2-B(PP2)'!$H$86","v":0},"#'T2-B(PP2)'!$H$86"]
["pp2_bl4_4_1_total",{"$f":"'T2-B(PP2)'!$J$86","v":0},"#'T2-B(PP2)'!$J$86"]
["pp2_bl4_4_1_total_in",{"$f":"'T2-B(PP2)'!$F$86","v":0},"#'T2-B(PP2)'!$F$86"]
["pp2_bl4_4_1_total_out",{"$f":"'T2-B(PP2)'!$I$86","v":0},"#'T2-B(PP2)'!$I$86"]
["pp2_bl4_4_1_unit",{"$f":"'T2-B(PP2)'!$C$86","v":0},"#'T2-B(PP2)'!$C$86"]
["pp2_bl4_4_1_unit_in",{"$f":"'T2-B(PP2)'!$D$86","v":0},"#'T2-B(PP2)'!$D$86"]
["pp2_bl4_4_1_units_out",{"$f":"'T2-B(PP2)'!$G$86","v":0},"#'T2-B(PP2)'!$G$86"]
["pp2_bl4_4_10_name",{"$f":"'T2-B(PP2)'!$B$95","v":0},"#'T2-B(PP2)'!$B$95"]
["pp2_bl4_4_10_rate_in",{"$f":"'T2-B(PP2)'!$E$95","v":0},"#'T2-B(PP2)'!$E$95"]
["pp2_bl4_4_10_rate_out",{"$f":"'T2-B(PP2)'!$H$95","v":0},"#'T2-B(PP2)'!$H$95"]
["pp2_bl4_4_10_total",{"$f":"'T2-B(PP2)'!$J$95","v":0},"#'T2-B(PP2)'!$J$95"]
["pp2_bl4_4_10_total_in",{"$f":"'T2-B(PP2)'!$F$95","v":0},"#'T2-B(PP2)'!$F$95"]
["pp2_bl4_4_10_total_out",{"$f":"'T2-B(PP2)'!$I$95","v":0},"#'T2-B(PP2)'!$I$95"]
["pp2_bl4_4_10_unit",{"$f":"'T2-B(PP2)'!$C$95","v":0},"#'T2-B(PP2)'!$C$95"]
["pp2_bl4_4_10_unit_in",{"$f":"'T2-B(PP2)'!$D$95","v":0},"#'T2-B(PP2)'!$D$95"]
["pp2_bl4_4_10_units_out",{"$f":"'T2-B(PP2)'!$G$95","v":0},"#'T2-B(PP2)'!$G$95"]
["pp2_bl4_4_2_name",{"$f":"'T2-B(PP2)'!$B$87","v":0},"#'T2-B(PP2)'!$B$87"]
["pp2_bl4_4_2_rate_in",{"$f":"'T2-B(PP2)'!$E$87","v":0},"#'T2-B(PP2)'!$E$87"]
["pp2_bl4_4_2_rate_out",{"$f":"'T2-B(PP2)'!$H$87","v":0},"#'T2-B(PP2)'!$H$87"]
["pp2_bl4_4_2_total",{"$f":"'T2-B(PP2)'!$J$87","v":0},"#'T2-B(PP2)'!$J$87"]
["pp2_bl4_4_2_total_in",{"$f":"'T2-B(PP2)'!$F$87","v":0},"#'T2-B(PP2)'!$F$87"]
["pp2_bl4_4_2_total_out",{"$f":"'T2-B(PP2)'!$I$87","v":0},"#'T2-B(PP2)'!$I$87"]
["pp2_bl4_4_2_unit",{"$f":"'T2-B(PP2)'!$C$87","v":0},"#'T2-B(PP2)'!$C$87"]
["pp2_bl4_4_2_unit_in",{"$f":"'T2-B(PP2)'!$D$87","v":0},"#'T2-B(PP2)'!$D$87"]
["pp2_bl4_4_2_units_out",{"$f":"'T2-B(PP2)'!$G$87","v":0},"#'T2-B(PP2)'!$G$87"]
["pp2_bl4_4_3_name",{"$f":"'T2-B(PP2)'!$B$88","v":0},"#'T2-B(PP2)'!$B$88"]
["pp2_bl4_4_3_rate_in",{"$f":"'T2-B(PP2)'!$E$88","v":0},"#'T2-B(PP2)'!$E$88"]
["pp2_bl4_4_3_rate_out",{"$f":"'T2-B(PP2)'!$H$88","v":0},"#'T2-B(PP2)'!$H$88"]
["pp2_bl4_4_3_total",{"$f":"'T2-B(PP2)'!$J$88","v":0},"#'T2-B(PP2)'!$J$88"]
["pp2_bl4_4_3_total_in",{"$f":"'T2-B(PP2)'!$F$88","v":0},"#'T2-B(PP2)'!$F$88"]
["pp2_bl4_4_3_total_out",{"$f":"'T2-B(PP2)'!$I$88","v":0},"#'T2-B(PP2)'!$I$88"]
["pp2_bl4_4_3_unit",{"$f":"'T2-B(PP2)'!$C$88","v":0},"#'T2-B(PP2)'!$C$88"]
["pp2_bl4_4_3_unit_in",{"$f":"'T2-B(PP2)'!$D$88","v":0},"#'T2-B(PP2)'!$D$88"]
["pp2_bl4_4_3_units_out",{"$f":"'T2-B(PP2)'!$G$88","v":0},"#'T2-B(PP2)'!$G$88"]
["pp2_bl4_4_4_name",{"$f":"'T2-B(PP2)'!$B$89","v":0},"#'T2-B(PP2)'!$B$89"]
["pp2_bl4_4_4_rate_in",{"$f":"'T2-B(PP2)'!$E$89","v":0},"#'T2-B(PP2)'!$E$89"]
["pp2_bl4_4_4_rate_out",{"$f":"'T2-B(PP2)'!$H$89","v":0},"#'T2-B(PP2)'!$H$89"]
["pp2_bl4_4_4_total",{"$f":"'T2-B(PP2)'!$J$89","v":0},"#'T2-B(PP2)'!$J$89"]
["pp2_bl4_4_4_total_in",{"$f":"'T2-B(PP2)'!$F$89","v":0},"#'T2-B(PP2)'!$F$89"]
["pp2_bl4_4_4_total_out",{"$f":"'T2-B(PP2)'!$I$89","v":0},"#'T2-B(PP2)'!$I$89"]
["pp2_bl4_4_4_unit",{"$f":"'T2-B(PP2)'!$C$89","v":0},"#'T2-B(PP2)'!$C$89"]
["pp2_bl4_4_4_unit_in",{"$f":"'T2-B(PP2)'!$D$89","v":0},"#'T2-B(PP2)'!$D$89"]
["pp2_bl4_4_4_units_out",{"$f":"'T2-B(PP2)'!$G$89","v":0},"#'T2-B(PP2)'!$G$89"]
["pp2_bl4_4_5_name",{"$f":"'T2-B(PP2)'!$B$90","v":0},"#'T2-B(PP2)'!$B$90"]
["pp2_bl4_4_5_rate_in",{"$f":"'T2-B(PP2)'!$E$90","v":0},"#'T2-B(PP2)'!$E$90"]
["pp2_bl4_4_5_rate_out",{"$f":"'T2-B(PP2)'!$H$90","v":0},"#'T2-B(PP2)'!$H$90"]
["pp2_bl4_4_5_total",{"$f":"'T2-B(PP2)'!$J$90","v":0},"#'T2-B(PP2)'!$J$90"]
["pp2_bl4_4_5_total_in",{"$f":"'T2-B(PP2)'!$F$90","v":0},"#'T2-B(PP2)'!$F$90"]
["pp2_bl4_4_5_total_out",{"$f":"'T2-B(PP2)'!$I$90","v":0},"#'T2-B(PP2)'!$I$90"]
["pp2_bl4_4_5_unit",{"$f":"'T2-B(PP2)'!$C$90","v":0},"#'T2-B(PP2)'!$C$90"]
["pp2_bl4_4_5_unit_in",{"$f":"'T2-B(PP2)'!$D$90","v":0},"#'T2-B(PP2)'!$D$90"]
["pp2_bl4_4_5_units_out",{"$f":"'T2-B(PP2)'!$G$90","v":0},"#'T2-B(PP2)'!$G$90"]
["pp2_bl4_4_6_name",{"$f":"'T2-B(PP2)'!$B$91","v":0},"#'T2-B(PP2)'!$B$91"]
["pp2_bl4_4_6_rate_in",{"$f":"'T2-B(PP2)'!$E$91","v":0},"#'T2-B(PP2)'!$E$91"]
["pp2_bl4_4_6_rate_out",{"$f":"'T2-B(PP2)'!$H$91","v":0},"#'T2-B(PP2)'!$H$91"]
["pp2_bl4_4_6_total",{"$f":"'T2-B(PP2)'!$J$91","v":0},"#'T2-B(PP2)'!$J$91"]
["pp2_bl4_4_6_total_in",{"$f":"'T2-B(PP2)'!$F$91","v":0},"#'T2-B(PP2)'!$F$91"]
["pp2_bl4_4_6_total_out",{"$f":"'T2-B(PP2)'!$I$91","v":0},"#'T2-B(PP2)'!$I$91"]
["pp2_bl4_4_6_unit",{"$f":"'T2-B(PP2)'!$C$91","v":0},"#'T2-B(PP2)'!$C$91"]
["pp2_bl4_4_6_unit_in",{"$f":"'T2-B(PP2)'!$D$91","v":0},"#'T2-B(PP2)'!$D$91"]
["pp2_bl4_4_6_units_out",{"$f":"'T2-B(PP2)'!$G$91","v":0},"#'T2-B(PP2)'!$G$91"]
["pp2_bl4_4_7_name",{"$f":"'T2-B(PP2)'!$B$92","v":0},"#'T2-B(PP2)'!$B$92"]
["pp2_bl4_4_7_rate_in",{"$f":"'T2-B(PP2)'!$E$92","v":0},"#'T2-B(PP2)'!$E$92"]
["pp2_bl4_4_7_rate_out",{"$f":"'T2-B(PP2)'!$H$92","v":0},"#'T2-B(PP2)'!$H$92"]
["pp2_bl4_4_7_total",{"$f":"'T2-B(PP2)'!$J$92","v":0},"#'T2-B(PP2)'!$J$92"]
["pp2_bl4_4_7_total_in",{"$f":"'T2-B(PP2)'!$F$92","v":0},"#'T2-B(PP2)'!$F$92"]
["pp2_bl4_4_7_total_out",{"$f":"'T2-B(PP2)'!$I$92","v":0},"#'T2-B(PP2)'!$I$92"]
["pp2_bl4_4_7_unit",{"$f":"'T2-B(PP2)'!$C$92","v":0},"#'T2-B(PP2)'!$C$92"]
["pp2_bl4_4_7_unit_in",{"$f":"'T2-B(PP2)'!$D$92","v":0},"#'T2-B(PP2)'!$D$92"]
["pp2_bl4_4_7_units_out",{"$f":"'T2-B(PP2)'!$G$92","v":0},"#'T2-B(PP2)'!$G$92"]
["pp2_bl4_4_8_name",{"$f":"'T2-B(PP2)'!$B$93","v":0},"#'T2-B(PP2)'!$B$93"]
["pp2_bl4_4_8_rate_in",{"$f":"'T2-B(PP2)'!$E$93","v":0},"#'T2-B(PP2)'!$E$93"]
["pp2_bl4_4_8_rate_out",{"$f":"'T2-B(PP2)'!$H$93","v":0},"#'T2-B(PP2)'!$H$93"]
["pp2_bl4_4_8_total",{"$f":"'T2-B(PP2)'!$J$93","v":0},"#'T2-B(PP2)'!$J$93"]
["pp2_bl4_4_8_total_in",{"$f":"'T2-B(PP2)'!$F$93","v":0},"#'T2-B(PP2)'!$F$93"]
["pp2_bl4_4_8_total_out",{"$f":"'T2-B(PP2)'!$I$93","v":0},"#'T2-B(PP2)'!$I$93"]
["pp2_bl4_4_8_unit",{"$f":"'T2-B(PP2)'!$C$93","v":0},"#'T2-B(PP2)'!$C$93"]
["pp2_bl4_4_8_unit_in",{"$f":"'T2-B(PP2)'!$D$93","v":0},"#'T2-B(PP2)'!$D$93"]
["pp2_bl4_4_8_units_out",{"$f":"'T2-B(PP2)'!$G$93","v":0},"#'T2-B(PP2)'!$G$93"]
["pp2_bl4_4_9_name",{"$f":"'T2-B(PP2)'!$B$94","v":0},"#'T2-B(PP2)'!$B$94"]
["pp2_bl4_4_9_rate_in",{"$f":"'T2-B(PP2)'!$E$94","v":0},"#'T2-B(PP2)'!$E$94"]
["pp2_bl4_4_9_rate_out",{"$f":"'T2-B(PP2)'!$H$94","v":0},"#'T2-B(PP2)'!$H$94"]
["pp2_bl4_4_9_total",{"$f":"'T2-B(PP2)'!$J$94","v":0},"#'T2-B(PP2)'!$J$94"]
["pp2_bl4_4_9_total_in",{"$f":"'T2-B(PP2)'!$F$94","v":0},"#'T2-B(PP2)'!$F$94"]
["pp2_bl4_4_9_total_out",{"$f":"'T2-B(PP2)'!$I$94","v":0},"#'T2-B(PP2)'!$I$94"]
["pp2_bl4_4_9_unit",{"$f":"'T2-B(PP2)'!$C$94","v":0},"#'T2-B(PP2)'!$C$94"]
["pp2_bl4_4_9_unit_in",{"$f":"'T2-B(PP2)'!$D$94","v":0},"#'T2-B(PP2)'!$D$94"]
["pp2_bl4_4_9_units_out",{"$f":"'T2-B(PP2)'!$G$94","v":0},"#'T2-B(PP2)'!$G$94"]
["pp2_bl4_4_total",{"$f":"'T2-B(PP2)'!$J$85","v":0},"#'T2-B(PP2)'!$J$85"]
["pp2_bl4_4_total_in",{"$f":"'T2-B(PP2)'!$F$85","v":0},"#'T2-B(PP2)'!$F$85"]
["pp2_bl4_4_total_out",{"$f":"'T2-B(PP2)'!$I$85","v":0},"#'T2-B(PP2)'!$I$85"]
["pp2_bl4_5_1_name",{"$f":"'T2-B(PP2)'!$B$97","v":0},"#'T2-B(PP2)'!$B$97"]
["pp2_bl4_5_1_rate_in",{"$f":"'T2-B(PP2)'!$E$97","v":0},"#'T2-B(PP2)'!$E$97"]
["pp2_bl4_5_1_rate_out",{"$f":"'T2-B(PP2)'!$H$97","v":0},"#'T2-B(PP2)'!$H$97"]
["pp2_bl4_5_1_total",{"$f":"'T2-B(PP2)'!$J$97","v":0},"#'T2-B(PP2)'!$J$97"]
["pp2_bl4_5_1_total_in",{"$f":"'T2-B(PP2)'!$F$97","v":0},"#'T2-B(PP2)'!$F$97"]
["pp2_bl4_5_1_total_out",{"$f":"'T2-B(PP2)'!$I$97","v":0},"#'T2-B(PP2)'!$I$97"]
["pp2_bl4_5_1_unit",{"$f":"'T2-B(PP2)'!$C$97","v":0},"#'T2-B(PP2)'!$C$97"]
["pp2_bl4_5_1_unit_in",{"$f":"'T2-B(PP2)'!$D$97","v":0},"#'T2-B(PP2)'!$D$97"]
["pp2_bl4_5_1_units_out",{"$f":"'T2-B(PP2)'!$G$97","v":0},"#'T2-B(PP2)'!$G$97"]
["pp2_bl4_5_10_name",{"$f":"'T2-B(PP2)'!$B$106","v":0},"#'T2-B(PP2)'!$B$106"]
["pp2_bl4_5_10_rate_in",{"$f":"'T2-B(PP2)'!$E$106","v":0},"#'T2-B(PP2)'!$E$106"]
["pp2_bl4_5_10_rate_out",{"$f":"'T2-B(PP2)'!$H$106","v":0},"#'T2-B(PP2)'!$H$106"]
["pp2_bl4_5_10_total",{"$f":"'T2-B(PP2)'!$J$106","v":0},"#'T2-B(PP2)'!$J$106"]
["pp2_bl4_5_10_total_in",{"$f":"'T2-B(PP2)'!$F$106","v":0},"#'T2-B(PP2)'!$F$106"]
["pp2_bl4_5_10_total_out",{"$f":"'T2-B(PP2)'!$I$106","v":0},"#'T2-B(PP2)'!$I$106"]
["pp2_bl4_5_10_unit",{"$f":"'T2-B(PP2)'!$C$106","v":0},"#'T2-B(PP2)'!$C$106"]
["pp2_bl4_5_10_unit_in",{"$f":"'T2-B(PP2)'!$D$106","v":0},"#'T2-B(PP2)'!$D$106"]
["pp2_bl4_5_10_units_out",{"$f":"'T2-B(PP2)'!$G$106","v":0},"#'T2-B(PP2)'!$G$106"]
["pp2_bl4_5_2_name",{"$f":"'T2-B(PP2)'!$B$98","v":0},"#'T2-B(PP2)'!$B$98"]
["pp2_bl4_5_2_rate_in",{"$f":"'T2-B(PP2)'!$E$98","v":0},"#'T2-B(PP2)'!$E$98"]
["pp2_bl4_5_2_rate_out",{"$f":"'T2-B(PP2)'!$H$98","v":0},"#'T2-B(PP2)'!$H$98"]
["pp2_bl4_5_2_total",{"$f":"'T2-B(PP2)'!$J$98","v":0},"#'T2-B(PP2)'!$J$98"]
["pp2_bl4_5_2_total_in",{"$f":"'T2-B(PP2)'!$F$98","v":0},"#'T2-B(PP2)'!$F$98"]
["pp2_bl4_5_2_total_out",{"$f":"'T2-B(PP2)'!$I$98","v":0},"#'T2-B(PP2)'!$I$98"]
["pp2_bl4_5_2_unit",{"$f":"'T2-B(PP2)'!$C$98","v":0},"#'T2-B(PP2)'!$C$98"]
["pp2_bl4_5_2_unit_in",{"$f":"'T2-B(PP2)'!$D$98","v":0},"#'T2-B(PP2)'!$D$98"]
["pp2_bl4_5_2_units_out",{"$f":"'T2-B(PP2)'!$G$98","v":0},"#'T2-B(PP2)'!$G$98"]
["pp2_bl4_5_3_name",{"$f":"'T2-B(PP2)'!$B$99","v":0},"#'T2-B(PP2)'!$B$99"]
["pp2_bl4_5_3_rate_in",{"$f":"'T2-B(PP2)'!$E$99","v":0},"#'T2-B(PP2)'!$E$99"]
["pp2_bl4_5_3_rate_out",{"$f":"'T2-B(PP2)'!$H$99","v":0},"#'T2-B(PP2)'!$H$99"]
["pp2_bl4_5_3_total",{"$f":"'T2-B(PP2)'!$J$99","v":0},"#'T2-B(PP2)'!$J$99"]
["pp2_bl4_5_3_total_in",{"$f":"'T2-B(PP2)'!$F$99","v":0},"#'T2-B(PP2)'!$F$99"]
["pp2_bl4_5_3_total_out",{"$f":"'T2-B(PP2)'!$I$99","v":0},"#'T2-B(PP2)'!$I$99"]
["pp2_bl4_5_3_unit",{"$f":"'T2-B(PP2)'!$C$99","v":0},"#'T2-B(PP2)'!$C$99"]
["pp2_bl4_5_3_unit_in",{"$f":"'T2-B(PP2)'!$D$99","v":0},"#'T2-B(PP2)'!$D$99"]
["pp2_bl4_5_3_units_out",{"$f":"'T2-B(PP2)'!$G$99","v":0},"#'T2-B(PP2)'!$G$99"]
["pp2_bl4_5_4_name",{"$f":"'T2-B(PP2)'!$B$100","v":0},"#'T2-B(PP2)'!$B$100"]
["pp2_bl4_5_4_rate_in",{"$f":"'T2-B(PP2)'!$E$100","v":0},"#'T2-B(PP2)'!$E$100"]
["pp2_bl4_5_4_rate_out",{"$f":"'T2-B(PP2)'!$H$100","v":0},"#'T2-B(PP2)'!$H$100"]
["pp2_bl4_5_4_total",{"$f":"'T2-B(PP2)'!$J$100","v":0},"#'T2-B(PP2)'!$J$100"]
["pp2_bl4_5_4_total_in",{"$f":"'T2-B(PP2)'!$F$100","v":0},"#'T2-B(PP2)'!$F$100"]
["pp2_bl4_5_4_total_out",{"$f":"'T2-B(PP2)'!$I$100","v":0},"#'T2-B(PP2)'!$I$100"]
["pp2_bl4_5_4_unit",{"$f":"'T2-B(PP2)'!$C$100","v":0},"#'T2-B(PP2)'!$C$100"]
["pp2_bl4_5_4_unit_in",{"$f":"'T2-B(PP2)'!$D$100","v":0},"#'T2-B(PP2)'!$D$100"]
["pp2_bl4_5_4_units_out",{"$f":"'T2-B(PP2)'!$G$100","v":0},"#'T2-B(PP2)'!$G$100"]
["pp2_bl4_5_5_name",{"$f":"'T2-B(PP2)'!$B$101","v":0},"#'T2-B(PP2)'!$B$101"]
["pp2_bl4_5_5_rate_in",{"$f":"'T2-B(PP2)'!$E$101","v":0},"#'T2-B(PP2)'!$E$101"]
["pp2_bl4_5_5_rate_out",{"$f":"'T2-B(PP2)'!$H$101","v":0},"#'T2-B(PP2)'!$H$101"]
["pp2_bl4_5_5_total",{"$f":"'T2-B(PP2)'!$J$101","v":0},"#'T2-B(PP2)'!$J$101"]
["pp2_bl4_5_5_total_in",{"$f":"'T2-B(PP2)'!$F$101","v":0},"#'T2-B(PP2)'!$F$101"]
["pp2_bl4_5_5_total_out",{"$f":"'T2-B(PP2)'!$I$101","v":0},"#'T2-B(PP2)'!$I$101"]
["pp2_bl4_5_5_unit",{"$f":"'T2-B(PP2)'!$C$101","v":0},"#'T2-B(PP2)'!$C$101"]
["pp2_bl4_5_5_unit_in",{"$f":"'T2-B(PP2)'!$D$101","v":0},"#'T2-B(PP2)'!$D$101"]
["pp2_bl4_5_5_units_out",{"$f":"'T2-B(PP2)'!$G$101","v":0},"#'T2-B(PP2)'!$G$101"]
["pp2_bl4_5_6_name",{"$f":"'T2-B(PP2)'!$B$102","v":0},"#'T2-B(PP2)'!$B$102"]
["pp2_bl4_5_6_rate_in",{"$f":"'T2-B(PP2)'!$E$102","v":0},"#'T2-B(PP2)'!$E$102"]
["pp2_bl4_5_6_rate_out",{"$f":"'T2-B(PP2)'!$H$102","v":0},"#'T2-B(PP2)'!$H$102"]
["pp2_bl4_5_6_total",{"$f":"'T2-B(PP2)'!$J$102","v":0},"#'T2-B(PP2)'!$J$102"]
["pp2_bl4_5_6_total_in",{"$f":"'T2-B(PP2)'!$F$102","v":0},"#'T2-B(PP2)'!$F$102"]
["pp2_bl4_5_6_total_out",{"$f":"'T2-B(PP2)'!$I$102","v":0},"#'T2-B(PP2)'!$I$102"]
["pp2_bl4_5_6_unit",{"$f":"'T2-B(PP2)'!$C$102","v":0},"#'T2-B(PP2)'!$C$102"]
["pp2_bl4_5_6_unit_in",{"$f":"'T2-B(PP2)'!$D$102","v":0},"#'T2-B(PP2)'!$D$102"]
["pp2_bl4_5_6_units_out",{"$f":"'T2-B(PP2)'!$G$102","v":0},"#'T2-B(PP2)'!$G$102"]
["pp2_bl4_5_7_name",{"$f":"'T2-B(PP2)'!$B$103","v":0},"#'T2-B(PP2)'!$B$103"]
["pp2_bl4_5_7_rate_in",{"$f":"'T2-B(PP2)'!$E$103","v":0},"#'T2-B(PP2)'!$E$103"]
["pp2_bl4_5_7_rate_out",{"$f":"'T2-B(PP2)'!$H$103","v":0},"#'T2-B(PP2)'!$H$103"]
["pp2_bl4_5_7_total",{"$f":"'T2-B(PP2)'!$J$103","v":0},"#'T2-B(PP2)'!$J$103"]
["pp2_bl4_5_7_total_in",{"$f":"'T2-B(PP2)'!$F$103","v":0},"#'T2-B(PP2)'!$F$103"]
["pp2_bl4_5_7_total_out",{"$f":"'T2-B(PP2)'!$I$103","v":0},"#'T2-B(PP2)'!$I$103"]
["pp2_bl4_5_7_unit",{"$f":"'T2-B(PP2)'!$C$103","v":0},"#'T2-B(PP2)'!$C$103"]
["pp2_bl4_5_7_unit_in",{"$f":"'T2-B(PP2)'!$D$103","v":0},"#'T2-B(PP2)'!$D$103"]
["pp2_bl4_5_7_units_out",{"$f":"'T2-B(PP2)'!$G$103","v":0},"#'T2-B(PP2)'!$G$103"]
["pp2_bl4_5_8_name",{"$f":"'T2-B(PP2)'!$B$104","v":0},"#'T2-B(PP2)'!$B$104"]
["pp2_bl4_5_8_rate_in",{"$f":"'T2-B(PP2)'!$E$104","v":0},"#'T2-B(PP2)'!$E$104"]
["pp2_bl4_5_8_rate_out",{"$f":"'T2-B(PP2)'!$H$104","v":0},"#'T2-B(PP2)'!$H$104"]
["pp2_bl4_5_8_total",{"$f":"'T2-B(PP2)'!$J$104","v":0},"#'T2-B(PP2)'!$J$104"]
["pp2_bl4_5_8_total_in",{"$f":"'T2-B(PP2)'!$F$104","v":0},"#'T2-B(PP2)'!$F$104"]
["pp2_bl4_5_8_total_out",{"$f":"'T2-B(PP2)'!$I$104","v":0},"#'T2-B(PP2)'!$I$104"]
["pp2_bl4_5_8_unit",{"$f":"'T2-B(PP2)'!$C$104","v":0},"#'T2-B(PP2)'!$C$104"]
["pp2_bl4_5_8_unit_in",{"$f":"'T2-B(PP2)'!$D$104","v":0},"#'T2-B(PP2)'!$D$104"]
["pp2_bl4_5_8_units_out",{"$f":"'T2-B(PP2)'!$G$104","v":0},"#'T2-B(PP2)'!$G$104"]
["pp2_bl4_5_9_name",{"$f":"'T2-B(PP2)'!$B$105","v":0},"#'T2-B(PP2)'!$B$105"]
["pp2_bl4_5_9_rate_in",{"$f":"'T2-B(PP2)'!$E$105","v":0},"#'T2-B(PP2)'!$E$105"]
["pp2_bl4_5_9_rate_out",{"$f":"'T2-B(PP2)'!$H$105","v":0},"#'T2-B(PP2)'!$H$105"]
["pp2_bl4_5_9_total",{"$f":"'T2-B(PP2)'!$J$105","v":0},"#'T2-B(PP2)'!$J$105"]
["pp2_bl4_5_9_total_in",{"$f":"'T2-B(PP2)'!$F$105","v":0},"#'T2-B(PP2)'!$F$105"]
["pp2_bl4_5_9_total_out",{"$f":"'T2-B(PP2)'!$I$105","v":0},"#'T2-B(PP2)'!$I$105"]
["pp2_bl4_5_9_unit",{"$f":"'T2-B(PP2)'!$C$105","v":0},"#'T2-B(PP2)'!$C$105"]
["pp2_bl4_5_9_unit_in",{"$f":"'T2-B(PP2)'!$D$105","v":0},"#'T2-B(PP2)'!$D$105"]
["pp2_bl4_5_9_units_out",{"$f":"'T2-B(PP2)'!$G$105","v":0},"#'T2-B(PP2)'!$G$105"]
["pp2_bl4_5_total",{"$f":"'T2-B(PP2)'!$J$96","v":0},"#'T2-B(PP2)'!$J$96"]
["pp2_bl4_5_total_in",{"$f":"'T2-B(PP2)'!$F$96","v":0},"#'T2-B(PP2)'!$F$96"]
["pp2_bl4_5_total_out",{"$f":"'T2-B(PP2)'!$I$96","v":0},"#'T2-B(PP2)'!$I$96"]
["pp2_bl4_6_1_name",{"$f":"'T2-B(PP2)'!$B$108","v":0},"#'T2-B(PP2)'!$B$108"]
["pp2_bl4_6_1_rate_in",{"$f":"'T2-B(PP2)'!$E$108","v":0},"#'T2-B(PP2)'!$E$108"]
["pp2_bl4_6_1_rate_out",{"$f":"'T2-B(PP2)'!$H$108","v":0},"#'T2-B(PP2)'!$H$108"]
["pp2_bl4_6_1_total",{"$f":"'T2-B(PP2)'!$J$108","v":0},"#'T2-B(PP2)'!$J$108"]
["pp2_bl4_6_1_total_in",{"$f":"'T2-B(PP2)'!$F$108","v":0},"#'T2-B(PP2)'!$F$108"]
["pp2_bl4_6_1_total_out",{"$f":"'T2-B(PP2)'!$I$108","v":0},"#'T2-B(PP2)'!$I$108"]
["pp2_bl4_6_1_unit",{"$f":"'T2-B(PP2)'!$C$108","v":0},"#'T2-B(PP2)'!$C$108"]
["pp2_bl4_6_1_unit_in",{"$f":"'T2-B(PP2)'!$D$108","v":0},"#'T2-B(PP2)'!$D$108"]
["pp2_bl4_6_1_units_out",{"$f":"'T2-B(PP2)'!$G$108","v":0},"#'T2-B(PP2)'!$G$108"]
["pp2_bl4_6_10_name",{"$f":"'T2-B(PP2)'!$B$117","v":0},"#'T2-B(PP2)'!$B$117"]
["pp2_bl4_6_10_rate_in",{"$f":"'T2-B(PP2)'!$E$117","v":0},"#'T2-B(PP2)'!$E$117"]
["pp2_bl4_6_10_rate_out",{"$f":"'T2-B(PP2)'!$H$117","v":0},"#'T2-B(PP2)'!$H$117"]
["pp2_bl4_6_10_total",{"$f":"'T2-B(PP2)'!$J$117","v":0},"#'T2-B(PP2)'!$J$117"]
["pp2_bl4_6_10_total_in",{"$f":"'T2-B(PP2)'!$F$117","v":0},"#'T2-B(PP2)'!$F$117"]
["pp2_bl4_6_10_total_out",{"$f":"'T2-B(PP2)'!$I$117","v":0},"#'T2-B(PP2)'!$I$117"]
["pp2_bl4_6_10_unit",{"$f":"'T2-B(PP2)'!$C$117","v":0},"#'T2-B(PP2)'!$C$117"]
["pp2_bl4_6_10_unit_in",{"$f":"'T2-B(PP2)'!$D$117","v":0},"#'T2-B(PP2)'!$D$117"]
["pp2_bl4_6_10_units_out",{"$f":"'T2-B(PP2)'!$G$117","v":0},"#'T2-B(PP2)'!$G$117"]
["pp2_bl4_6_2_name",{"$f":"'T2-B(PP2)'!$B$109","v":0},"#'T2-B(PP2)'!$B$109"]
["pp2_bl4_6_2_rate_in",{"$f":"'T2-B(PP2)'!$E$109","v":0},"#'T2-B(PP2)'!$E$109"]
["pp2_bl4_6_2_rate_out",{"$f":"'T2-B(PP2)'!$H$109","v":0},"#'T2-B(PP2)'!$H$109"]
["pp2_bl4_6_2_total",{"$f":"'T2-B(PP2)'!$J$109","v":0},"#'T2-B(PP2)'!$J$109"]
["pp2_bl4_6_2_total_in",{"$f":"'T2-B(PP2)'!$F$109","v":0},"#'T2-B(PP2)'!$F$109"]
["pp2_bl4_6_2_total_out",{"$f":"'T2-B(PP2)'!$I$109","v":0},"#'T2-B(PP2)'!$I$109"]
["pp2_bl4_6_2_unit",{"$f":"'T2-B(PP2)'!$C$109","v":0},"#'T2-B(PP2)'!$C$109"]
["pp2_bl4_6_2_unit_in",{"$f":"'T2-B(PP2)'!$D$109","v":0},"#'T2-B(PP2)'!$D$109"]
["pp2_bl4_6_2_units_out",{"$f":"'T2-B(PP2)'!$G$109","v":0},"#'T2-B(PP2)'!$G$109"]
["pp2_bl4_6_3_name",{"$f":"'T2-B(PP2)'!$B$110","v":0},"#'T2-B(PP2)'!$B$110"]
["pp2_bl4_6_3_rate_in",{"$f":"'T2-B(PP2)'!$E$110","v":0},"#'T2-B(PP2)'!$E$110"]
["pp2_bl4_6_3_rate_out",{"$f":"'T2-B(PP2)'!$H$110","v":0},"#'T2-B(PP2)'!$H$110"]
["pp2_bl4_6_3_total",{"$f":"'T2-B(PP2)'!$J$110","v":0},"#'T2-B(PP2)'!$J$110"]
["pp2_bl4_6_3_total_in",{"$f":"'T2-B(PP2)'!$F$110","v":0},"#'T2-B(PP2)'!$F$110"]
["pp2_bl4_6_3_total_out",{"$f":"'T2-B(PP2)'!$I$110","v":0},"#'T2-B(PP2)'!$I$110"]
["pp2_bl4_6_3_unit",{"$f":"'T2-B(PP2)'!$C$110","v":0},"#'T2-B(PP2)'!$C$110"]
["pp2_bl4_6_3_unit_in",{"$f":"'T2-B(PP2)'!$D$110","v":0},"#'T2-B(PP2)'!$D$110"]
["pp2_bl4_6_3_units_out",{"$f":"'T2-B(PP2)'!$G$110","v":0},"#'T2-B(PP2)'!$G$110"]
["pp2_bl4_6_4_name",{"$f":"'T2-B(PP2)'!$B$111","v":0},"#'T2-B(PP2)'!$B$111"]
["pp2_bl4_6_4_rate_in",{"$f":"'T2-B(PP2)'!$E$111","v":0},"#'T2-B(PP2)'!$E$111"]
["pp2_bl4_6_4_rate_out",{"$f":"'T2-B(PP2)'!$H$111","v":0},"#'T2-B(PP2)'!$H$111"]
["pp2_bl4_6_4_total",{"$f":"'T2-B(PP2)'!$J$111","v":0},"#'T2-B(PP2)'!$J$111"]
["pp2_bl4_6_4_total_in",{"$f":"'T2-B(PP2)'!$F$111","v":0},"#'T2-B(PP2)'!$F$111"]
["pp2_bl4_6_4_total_out",{"$f":"'T2-B(PP2)'!$I$111","v":0},"#'T2-B(PP2)'!$I$111"]
["pp2_bl4_6_4_unit",{"$f":"'T2-B(PP2)'!$C$111","v":0},"#'T2-B(PP2)'!$C$111"]
["pp2_bl4_6_4_unit_in",{"$f":"'T2-B(PP2)'!$D$111","v":0},"#'T2-B(PP2)'!$D$111"]
["pp2_bl4_6_4_units_out",{"$f":"'T2-B(PP2)'!$G$111","v":0},"#'T2-B(PP2)'!$G$111"]
["pp2_bl4_6_5_name",{"$f":"'T2-B(PP2)'!$B$112","v":0},"#'T2-B(PP2)'!$B$112"]
["pp2_bl4_6_5_rate_in",{"$f":"'T2-B(PP2)'!$E$112","v":0},"#'T2-B(PP2)'!$E$112"]
["pp2_bl4_6_5_rate_out",{"$f":"'T2-B(PP2)'!$H$112","v":0},"#'T2-B(PP2)'!$H$112"]
["pp2_bl4_6_5_total",{"$f":"'T2-B(PP2)'!$J$112","v":0},"#'T2-B(PP2)'!$J$112"]
["pp2_bl4_6_5_total_in",{"$f":"'T2-B(PP2)'!$F$112","v":0},"#'T2-B(PP2)'!$F$112"]
["pp2_bl4_6_5_total_out",{"$f":"'T2-B(PP2)'!$I$112","v":0},"#'T2-B(PP2)'!$I$112"]
["pp2_bl4_6_5_unit",{"$f":"'T2-B(PP2)'!$C$112","v":0},"#'T2-B(PP2)'!$C$112"]
["pp2_bl4_6_5_unit_in",{"$f":"'T2-B(PP2)'!$D$112","v":0},"#'T2-B(PP2)'!$D$112"]
["pp2_bl4_6_5_units_out",{"$f":"'T2-B(PP2)'!$G$112","v":0},"#'T2-B(PP2)'!$G$112"]
["pp2_bl4_6_6_name",{"$f":"'T2-B(PP2)'!$B$113","v":0},"#'T2-B(PP2)'!$B$113"]
["pp2_bl4_6_6_rate_in",{"$f":"'T2-B(PP2)'!$E$113","v":0},"#'T2-B(PP2)'!$E$113"]
["pp2_bl4_6_6_rate_out",{"$f":"'T2-B(PP2)'!$H$113","v":0},"#'T2-B(PP2)'!$H$113"]
["pp2_bl4_6_6_total",{"$f":"'T2-B(PP2)'!$J$113","v":0},"#'T2-B(PP2)'!$J$113"]
["pp2_bl4_6_6_total_in",{"$f":"'T2-B(PP2)'!$F$113","v":0},"#'T2-B(PP2)'!$F$113"]
["pp2_bl4_6_6_total_out",{"$f":"'T2-B(PP2)'!$I$113","v":0},"#'T2-B(PP2)'!$I$113"]
["pp2_bl4_6_6_unit",{"$f":"'T2-B(PP2)'!$C$113","v":0},"#'T2-B(PP2)'!$C$113"]
["pp2_bl4_6_6_unit_in",{"$f":"'T2-B(PP2)'!$D$113","v":0},"#'T2-B(PP2)'!$D$113"]
["pp2_bl4_6_6_units_out",{"$f":"'T2-B(PP2)'!$G$113","v":0},"#'T2-B(PP2)'!$G$113"]
["pp2_bl4_6_7_name",{"$f":"'T2-B(PP2)'!$B$114","v":0},"#'T2-B(PP2)'!$B$114"]
["pp2_bl4_6_7_rate_in",{"$f":"'T2-B(PP2)'!$E$114","v":0},"#'T2-B(PP2)'!$E$114"]
["pp2_bl4_6_7_rate_out",{"$f":"'T2-B(PP2)'!$H$114","v":0},"#'T2-B(PP2)'!$H$114"]
["pp2_bl4_6_7_total",{"$f":"'T2-B(PP2)'!$J$114","v":0},"#'T2-B(PP2)'!$J$114"]
["pp2_bl4_6_7_total_in",{"$f":"'T2-B(PP2)'!$F$114","v":0},"#'T2-B(PP2)'!$F$114"]
["pp2_bl4_6_7_total_out",{"$f":"'T2-B(PP2)'!$I$114","v":0},"#'T2-B(PP2)'!$I$114"]
["pp2_bl4_6_7_unit",{"$f":"'T2-B(PP2)'!$C$114","v":0},"#'T2-B(PP2)'!$C$114"]
["pp2_bl4_6_7_unit_in",{"$f":"'T2-B(PP2)'!$D$114","v":0},"#'T2-B(PP2)'!$D$114"]
["pp2_bl4_6_7_units_out",{"$f":"'T2-B(PP2)'!$G$114","v":0},"#'T2-B(PP2)'!$G$114"]
["pp2_bl4_6_8_name",{"$f":"'T2-B(PP2)'!$B$115","v":0},"#'T2-B(PP2)'!$B$115"]
["pp2_bl4_6_8_rate_in",{"$f":"'T2-B(PP2)'!$E$115","v":0},"#'T2-B(PP2)'!$E$115"]
["pp2_bl4_6_8_rate_out",{"$f":"'T2-B(PP2)'!$H$115","v":0},"#'T2-B(PP2)'!$H$115"]
["pp2_bl4_6_8_total",{"$f":"'T2-B(PP2)'!$J$115","v":0},"#'T2-B(PP2)'!$J$115"]
["pp2_bl4_6_8_total_in",{"$f":"'T2-B(PP2)'!$F$115","v":0},"#'T2-B(PP2)'!$F$115"]
["pp2_bl4_6_8_total_out",{"$f":"'T2-B(PP2)'!$I$115","v":0},"#'T2-B(PP2)'!$I$115"]
["pp2_bl4_6_8_unit",{"$f":"'T2-B(PP2)'!$C$115","v":0},"#'T2-B(PP2)'!$C$115"]
["pp2_bl4_6_8_unit_in",{"$f":"'T2-B(PP2)'!$D$115","v":0},"#'T2-B(PP2)'!$D$115"]
["pp2_bl4_6_8_units_out",{"$f":"'T2-B(PP2)'!$G$115","v":0},"#'T2-B(PP2)'!$G$115"]
["pp2_bl4_6_9_name",{"$f":"'T2-B(PP2)'!$B$116","v":0},"#'T2-B(PP2)'!$B$116"]
["pp2_bl4_6_9_rate_in",{"$f":"'T2-B(PP2)'!$E$116","v":0},"#'T2-B(PP2)'!$E$116"]
["pp2_bl4_6_9_rate_out",{"$f":"'T2-B(PP2)'!$H$116","v":0},"#'T2-B(PP2)'!$H$116"]
["pp2_bl4_6_9_total",{"$f":"'T2-B(PP2)'!$J$116","v":0},"#'T2-B(PP2)'!$J$116"]
["pp2_bl4_6_9_total_in",{"$f":"'T2-B(PP2)'!$F$116","v":0},"#'T2-B(PP2)'!$F$116"]
["pp2_bl4_6_9_total_out",{"$f":"'T2-B(PP2)'!$I$116","v":0},"#'T2-B(PP2)'!$I$116"]
["pp2_bl4_6_9_unit",{"$f":"'T2-B(PP2)'!$C$116","v":0},"#'T2-B(PP2)'!$C$116"]
["pp2_bl4_6_9_unit_in",{"$f":"'T2-B(PP2)'!$D$116","v":0},"#'T2-B(PP2)'!$D$116"]
["pp2_bl4_6_9_units_out",{"$f":"'T2-B(PP2)'!$G$116","v":0},"#'T2-B(PP2)'!$G$116"]
["pp2_bl4_6_total",{"$f":"'T2-B(PP2)'!$J$107","v":0},"#'T2-B(PP2)'!$J$107"]
["pp2_bl4_6_total_in",{"$f":"'T2-B(PP2)'!$F$107","v":0},"#'T2-B(PP2)'!$F$107"]
["pp2_bl4_6_total_out",{"$f":"'T2-B(PP2)'!$I$107","v":0},"#'T2-B(PP2)'!$I$107"]
["pp2_bl4_7_1_name",{"$f":"'T2-B(PP2)'!$B$119","v":0},"#'T2-B(PP2)'!$B$119"]
["pp2_bl4_7_1_rate_in",{"$f":"'T2-B(PP2)'!$E$119","v":0},"#'T2-B(PP2)'!$E$119"]
["pp2_bl4_7_1_rate_out",{"$f":"'T2-B(PP2)'!$H$119","v":0},"#'T2-B(PP2)'!$H$119"]
["pp2_bl4_7_1_total",{"$f":"'T2-B(PP2)'!$J$119","v":0},"#'T2-B(PP2)'!$J$119"]
["pp2_bl4_7_1_total_in",{"$f":"'T2-B(PP2)'!$F$119","v":0},"#'T2-B(PP2)'!$F$119"]
["pp2_bl4_7_1_total_out",{"$f":"'T2-B(PP2)'!$I$119","v":0},"#'T2-B(PP2)'!$I$119"]
["pp2_bl4_7_1_unit",{"$f":"'T2-B(PP2)'!$C$119","v":0},"#'T2-B(PP2)'!$C$119"]
["pp2_bl4_7_1_unit_in",{"$f":"'T2-B(PP2)'!$D$119","v":0},"#'T2-B(PP2)'!$D$119"]
["pp2_bl4_7_1_units_out",{"$f":"'T2-B(PP2)'!$G$119","v":0},"#'T2-B(PP2)'!$G$119"]
["pp2_bl4_7_10_name",{"$f":"'T2-B(PP2)'!$B$128","v":0},"#'T2-B(PP2)'!$B$128"]
["pp2_bl4_7_10_rate_in",{"$f":"'T2-B(PP2)'!$E$128","v":0},"#'T2-B(PP2)'!$E$128"]
["pp2_bl4_7_10_rate_out",{"$f":"'T2-B(PP2)'!$H$128","v":0},"#'T2-B(PP2)'!$H$128"]
["pp2_bl4_7_10_total",{"$f":"'T2-B(PP2)'!$J$128","v":0},"#'T2-B(PP2)'!$J$128"]
["pp2_bl4_7_10_total_in",{"$f":"'T2-B(PP2)'!$F$128","v":0},"#'T2-B(PP2)'!$F$128"]
["pp2_bl4_7_10_total_out",{"$f":"'T2-B(PP2)'!$I$128","v":0},"#'T2-B(PP2)'!$I$128"]
["pp2_bl4_7_10_unit",{"$f":"'T2-B(PP2)'!$C$128","v":0},"#'T2-B(PP2)'!$C$128"]
["pp2_bl4_7_10_unit_in",{"$f":"'T2-B(PP2)'!$D$128","v":0},"#'T2-B(PP2)'!$D$128"]
["pp2_bl4_7_10_units_out",{"$f":"'T2-B(PP2)'!$G$128","v":0},"#'T2-B(PP2)'!$G$128"]
["pp2_bl4_7_2_name",{"$f":"'T2-B(PP2)'!$B$120","v":0},"#'T2-B(PP2)'!$B$120"]
["pp2_bl4_7_2_rate_in",{"$f":"'T2-B(PP2)'!$E$120","v":0},"#'T2-B(PP2)'!$E$120"]
["pp2_bl4_7_2_rate_out",{"$f":"'T2-B(PP2)'!$H$120","v":0},"#'T2-B(PP2)'!$H$120"]
["pp2_bl4_7_2_total",{"$f":"'T2-B(PP2)'!$J$120","v":0},"#'T2-B(PP2)'!$J$120"]
["pp2_bl4_7_2_total_in",{"$f":"'T2-B(PP2)'!$F$120","v":0},"#'T2-B(PP2)'!$F$120"]
["pp2_bl4_7_2_total_out",{"$f":"'T2-B(PP2)'!$I$120","v":0},"#'T2-B(PP2)'!$I$120"]
["pp2_bl4_7_2_unit",{"$f":"'T2-B(PP2)'!$C$120","v":0},"#'T2-B(PP2)'!$C$120"]
["pp2_bl4_7_2_unit_in",{"$f":"'T2-B(PP2)'!$D$120","v":0},"#'T2-B(PP2)'!$D$120"]
["pp2_bl4_7_2_units_out",{"$f":"'T2-B(PP2)'!$G$120","v":0},"#'T2-B(PP2)'!$G$120"]
["pp2_bl4_7_3_name",{"$f":"'T2-B(PP2)'!$B$121","v":0},"#'T2-B(PP2)'!$B$121"]
["pp2_bl4_7_3_rate_in",{"$f":"'T2-B(PP2)'!$E$121","v":0},"#'T2-B(PP2)'!$E$121"]
["pp2_bl4_7_3_rate_out",{"$f":"'T2-B(PP2)'!$H$121","v":0},"#'T2-B(PP2)'!$H$121"]
["pp2_bl4_7_3_total",{"$f":"'T2-B(PP2)'!$J$121","v":0},"#'T2-B(PP2)'!$J$121"]
["pp2_bl4_7_3_total_in",{"$f":"'T2-B(PP2)'!$F$121","v":0},"#'T2-B(PP2)'!$F$121"]
["pp2_bl4_7_3_total_out",{"$f":"'T2-B(PP2)'!$I$121","v":0},"#'T2-B(PP2)'!$I$121"]
["pp2_bl4_7_3_unit",{"$f":"'T2-B(PP2)'!$C$121","v":0},"#'T2-B(PP2)'!$C$121"]
["pp2_bl4_7_3_unit_in",{"$f":"'T2-B(PP2)'!$D$121","v":0},"#'T2-B(PP2)'!$D$121"]
["pp2_bl4_7_3_units_out",{"$f":"'T2-B(PP2)'!$G$121","v":0},"#'T2-B(PP2)'!$G$121"]
["pp2_bl4_7_4_name",{"$f":"'T2-B(PP2)'!$B$122","v":0},"#'T2-B(PP2)'!$B$122"]
["pp2_bl4_7_4_rate_in",{"$f":"'T2-B(PP2)'!$E$122","v":0},"#'T2-B(PP2)'!$E$122"]
["pp2_bl4_7_4_rate_out",{"$f":"'T2-B(PP2)'!$H$122","v":0},"#'T2-B(PP2)'!$H$122"]
["pp2_bl4_7_4_total",{"$f":"'T2-B(PP2)'!$J$122","v":0},"#'T2-B(PP2)'!$J$122"]
["pp2_bl4_7_4_total_in",{"$f":"'T2-B(PP2)'!$F$122","v":0},"#'T2-B(PP2)'!$F$122"]
["pp2_bl4_7_4_total_out",{"$f":"'T2-B(PP2)'!$I$122","v":0},"#'T2-B(PP2)'!$I$122"]
["pp2_bl4_7_4_unit",{"$f":"'T2-B(PP2)'!$C$122","v":0},"#'T2-B(PP2)'!$C$122"]
["pp2_bl4_7_4_unit_in",{"$f":"'T2-B(PP2)'!$D$122","v":0},"#'T2-B(PP2)'!$D$122"]
["pp2_bl4_7_4_units_out",{"$f":"'T2-B(PP2)'!$G$122","v":0},"#'T2-B(PP2)'!$G$122"]
["pp2_bl4_7_5_name",{"$f":"'T2-B(PP2)'!$B$123","v":0},"#'T2-B(PP2)'!$B$123"]
["pp2_bl4_7_5_rate_in",{"$f":"'T2-B(PP2)'!$E$123","v":0},"#'T2-B(PP2)'!$E$123"]
["pp2_bl4_7_5_rate_out",{"$f":"'T2-B(PP2)'!$H$123","v":0},"#'T2-B(PP2)'!$H$123"]
["pp2_bl4_7_5_total",{"$f":"'T2-B(PP2)'!$J$123","v":0},"#'T2-B(PP2)'!$J$123"]
["pp2_bl4_7_5_total_in",{"$f":"'T2-B(PP2)'!$F$123","v":0},"#'T2-B(PP2)'!$F$123"]
["pp2_bl4_7_5_total_out",{"$f":"'T2-B(PP2)'!$I$123","v":0},"#'T2-B(PP2)'!$I$123"]
["pp2_bl4_7_5_unit",{"$f":"'T2-B(PP2)'!$C$123","v":0},"#'T2-B(PP2)'!$C$123"]
["pp2_bl4_7_5_unit_in",{"$f":"'T2-B(PP2)'!$D$123","v":0},"#'T2-B(PP2)'!$D$123"]
["pp2_bl4_7_5_units_out",{"$f":"'T2-B(PP2)'!$G$123","v":0},"#'T2-B(PP2)'!$G$123"]
["pp2_bl4_7_6_name",{"$f":"'T2-B(PP2)'!$B$124","v":0},"#'T2-B(PP2)'!$B$124"]
["pp2_bl4_7_6_rate_in",{"$f":"'T2-B(PP2)'!$E$124","v":0},"#'T2-B(PP2)'!$E$124"]
["pp2_bl4_7_6_rate_out",{"$f":"'T2-B(PP2)'!$H$124","v":0},"#'T2-B(PP2)'!$H$124"]
["pp2_bl4_7_6_total",{"$f":"'T2-B(PP2)'!$J$124","v":0},"#'T2-B(PP2)'!$J$124"]
["pp2_bl4_7_6_total_in",{"$f":"'T2-B(PP2)'!$F$124","v":0},"#'T2-B(PP2)'!$F$124"]
["pp2_bl4_7_6_total_out",{"$f":"'T2-B(PP2)'!$I$124","v":0},"#'T2-B(PP2)'!$I$124"]
["pp2_bl4_7_6_unit",{"$f":"'T2-B(PP2)'!$C$124","v":0},"#'T2-B(PP2)'!$C$124"]
["pp2_bl4_7_6_unit_in",{"$f":"'T2-B(PP2)'!$D$124","v":0},"#'T2-B(PP2)'!$D$124"]
["pp2_bl4_7_6_units_out",{"$f":"'T2-B(PP2)'!$G$124","v":0},"#'T2-B(PP2)'!$G$124"]
["pp2_bl4_7_7_name",{"$f":"'T2-B(PP2)'!$B$125","v":0},"#'T2-B(PP2)'!$B$125"]
["pp2_bl4_7_7_rate_in",{"$f":"'T2-B(PP2)'!$E$125","v":0},"#'T2-B(PP2)'!$E$125"]
["pp2_bl4_7_7_rate_out",{"$f":"'T2-B(PP2)'!$H$125","v":0},"#'T2-B(PP2)'!$H$125"]
["pp2_bl4_7_7_total",{"$f":"'T2-B(PP2)'!$J$125","v":0},"#'T2-B(PP2)'!$J$125"]
["pp2_bl4_7_7_total_in",{"$f":"'T2-B(PP2)'!$F$125","v":0},"#'T2-B(PP2)'!$F$125"]
["pp2_bl4_7_7_total_out",{"$f":"'T2-B(PP2)'!$I$125","v":0},"#'T2-B(PP2)'!$I$125"]
["pp2_bl4_7_7_unit",{"$f":"'T2-B(PP2)'!$C$125","v":0},"#'T2-B(PP2)'!$C$125"]
["pp2_bl4_7_7_unit_in",{"$f":"'T2-B(PP2)'!$D$125","v":0},"#'T2-B(PP2)'!$D$125"]
["pp2_bl4_7_7_units_out",{"$f":"'T2-B(PP2)'!$G$125","v":0},"#'T2-B(PP2)'!$G$125"]
["pp2_bl4_7_8_name",{"$f":"'T2-B(PP2)'!$B$126","v":0},"#'T2-B(PP2)'!$B$126"]
["pp2_bl4_7_8_rate_in",{"$f":"'T2-B(PP2)'!$E$126","v":0},"#'T2-B(PP2)'!$E$126"]
["pp2_bl4_7_8_rate_out",{"$f":"'T2-B(PP2)'!$H$126","v":0},"#'T2-B(PP2)'!$H$126"]
["pp2_bl4_7_8_total",{"$f":"'T2-B(PP2)'!$J$126","v":0},"#'T2-B(PP2)'!$J$126"]
["pp2_bl4_7_8_total_in",{"$f":"'T2-B(PP2)'!$F$126","v":0},"#'T2-B(PP2)'!$F$126"]
["pp2_bl4_7_8_total_out",{"$f":"'T2-B(PP2)'!$I$126","v":0},"#'T2-B(PP2)'!$I$126"]
["pp2_bl4_7_8_unit",{"$f":"'T2-B(PP2)'!$C$126","v":0},"#'T2-B(PP2)'!$C$126"]
["pp2_bl4_7_8_unit_in",{"$f":"'T2-B(PP2)'!$D$126","v":0},"#'T2-B(PP2)'!$D$126"]
["pp2_bl4_7_8_units_out",{"$f":"'T2-B(PP2)'!$G$126","v":0},"#'T2-B(PP2)'!$G$126"]
["pp2_bl4_7_9_name",{"$f":"'T2-B(PP2)'!$B$127","v":0},"#'T2-B(PP2)'!$B$127"]
["pp2_bl4_7_9_rate_in",{"$f":"'T2-B(PP2)'!$E$127","v":0},"#'T2-B(PP2)'!$E$127"]
["pp2_bl4_7_9_rate_out",{"$f":"'T2-B(PP2)'!$H$127","v":0},"#'T2-B(PP2)'!$H$127"]
["pp2_bl4_7_9_total",{"$f":"'T2-B(PP2)'!$J$127","v":0},"#'T2-B(PP2)'!$J$127"]
["pp2_bl4_7_9_total_in",{"$f":"'T2-B(PP2)'!$F$127","v":0},"#'T2-B(PP2)'!$F$127"]
["pp2_bl4_7_9_total_out",{"$f":"'T2-B(PP2)'!$I$127","v":0},"#'T2-B(PP2)'!$I$127"]
["pp2_bl4_7_9_unit",{"$f":"'T2-B(PP2)'!$C$127","v":0},"#'T2-B(PP2)'!$C$127"]
["pp2_bl4_7_9_unit_in",{"$f":"'T2-B(PP2)'!$D$127","v":0},"#'T2-B(PP2)'!$D$127"]
["pp2_bl4_7_9_units_out",{"$f":"'T2-B(PP2)'!$G$127","v":0},"#'T2-B(PP2)'!$G$127"]
["pp2_bl4_7_total",{"$f":"'T2-B(PP2)'!$J$118","v":0},"#'T2-B(PP2)'!$J$118"]
["pp2_bl4_7_total_in",{"$f":"'T2-B(PP2)'!$F$118","v":0},"#'T2-B(PP2)'!$F$118"]
["pp2_bl4_7_total_out",{"$f":"'T2-B(PP2)'!$I$118","v":0},"#'T2-B(PP2)'!$I$118"]
["pp2_bl4_8_1_name",{"$f":"'T2-B(PP2)'!$B$130","v":0},"#'T2-B(PP2)'!$B$130"]
["pp2_bl4_8_1_rate_in",{"$f":"'T2-B(PP2)'!$E$130","v":0},"#'T2-B(PP2)'!$E$130"]
["pp2_bl4_8_1_rate_out",{"$f":"'T2-B(PP2)'!$H$130","v":0},"#'T2-B(PP2)'!$H$130"]
["pp2_bl4_8_1_total",{"$f":"'T2-B(PP2)'!$J$130","v":0},"#'T2-B(PP2)'!$J$130"]
["pp2_bl4_8_1_total_in",{"$f":"'T2-B(PP2)'!$F$130","v":0},"#'T2-B(PP2)'!$F$130"]
["pp2_bl4_8_1_total_out",{"$f":"'T2-B(PP2)'!$I$130","v":0},"#'T2-B(PP2)'!$I$130"]
["pp2_bl4_8_1_unit",{"$f":"'T2-B(PP2)'!$C$130","v":0},"#'T2-B(PP2)'!$C$130"]
["pp2_bl4_8_1_unit_in",{"$f":"'T2-B(PP2)'!$D$130","v":0},"#'T2-B(PP2)'!$D$130"]
["pp2_bl4_8_1_units_out",{"$f":"'T2-B(PP2)'!$G$130","v":0},"#'T2-B(PP2)'!$G$130"]
["pp2_bl4_8_10_name",{"$f":"'T2-B(PP2)'!$B$139","v":0},"#'T2-B(PP2)'!$B$139"]
["pp2_bl4_8_10_rate_in",{"$f":"'T2-B(PP2)'!$E$139","v":0},"#'T2-B(PP2)'!$E$139"]
["pp2_bl4_8_10_rate_out",{"$f":"'T2-B(PP2)'!$H$139","v":0},"#'T2-B(PP2)'!$H$139"]
["pp2_bl4_8_10_total",{"$f":"'T2-B(PP2)'!$J$139","v":0},"#'T2-B(PP2)'!$J$139"]
["pp2_bl4_8_10_total_in",{"$f":"'T2-B(PP2)'!$F$139","v":0},"#'T2-B(PP2)'!$F$139"]
["pp2_bl4_8_10_total_out",{"$f":"'T2-B(PP2)'!$I$139","v":0},"#'T2-B(PP2)'!$I$139"]
["pp2_bl4_8_10_unit",{"$f":"'T2-B(PP2)'!$C$139","v":0},"#'T2-B(PP2)'!$C$139"]
["pp2_bl4_8_10_unit_in",{"$f":"'T2-B(PP2)'!$D$139","v":0},"#'T2-B(PP2)'!$D$139"]
["pp2_bl4_8_10_units_out",{"$f":"'T2-B(PP2)'!$G$139","v":0},"#'T2-B(PP2)'!$G$139"]
["pp2_bl4_8_2_name",{"$f":"'T2-B(PP2)'!$B$131","v":0},"#'T2-B(PP2)'!$B$131"]
["pp2_bl4_8_2_rate_in",{"$f":"'T2-B(PP2)'!$E$131","v":0},"#'T2-B(PP2)'!$E$131"]
["pp2_bl4_8_2_rate_out",{"$f":"'T2-B(PP2)'!$H$131","v":0},"#'T2-B(PP2)'!$H$131"]
["pp2_bl4_8_2_total",{"$f":"'T2-B(PP2)'!$J$131","v":0},"#'T2-B(PP2)'!$J$131"]
["pp2_bl4_8_2_total_in",{"$f":"'T2-B(PP2)'!$F$131","v":0},"#'T2-B(PP2)'!$F$131"]
["pp2_bl4_8_2_total_out",{"$f":"'T2-B(PP2)'!$I$131","v":0},"#'T2-B(PP2)'!$I$131"]
["pp2_bl4_8_2_unit",{"$f":"'T2-B(PP2)'!$C$131","v":0},"#'T2-B(PP2)'!$C$131"]
["pp2_bl4_8_2_unit_in",{"$f":"'T2-B(PP2)'!$D$131","v":0},"#'T2-B(PP2)'!$D$131"]
["pp2_bl4_8_2_units_out",{"$f":"'T2-B(PP2)'!$G$131","v":0},"#'T2-B(PP2)'!$G$131"]
["pp2_bl4_8_3_name",{"$f":"'T2-B(PP2)'!$B$132","v":0},"#'T2-B(PP2)'!$B$132"]
["pp2_bl4_8_3_rate_in",{"$f":"'T2-B(PP2)'!$E$132","v":0},"#'T2-B(PP2)'!$E$132"]
["pp2_bl4_8_3_rate_out",{"$f":"'T2-B(PP2)'!$H$132","v":0},"#'T2-B(PP2)'!$H$132"]
["pp2_bl4_8_3_total",{"$f":"'T2-B(PP2)'!$J$132","v":0},"#'T2-B(PP2)'!$J$132"]
["pp2_bl4_8_3_total_in",{"$f":"'T2-B(PP2)'!$F$132","v":0},"#'T2-B(PP2)'!$F$132"]
["pp2_bl4_8_3_total_out",{"$f":"'T2-B(PP2)'!$I$132","v":0},"#'T2-B(PP2)'!$I$132"]
["pp2_bl4_8_3_unit",{"$f":"'T2-B(PP2)'!$C$132","v":0},"#'T2-B(PP2)'!$C$132"]
["pp2_bl4_8_3_unit_in",{"$f":"'T2-B(PP2)'!$D$132","v":0},"#'T2-B(PP2)'!$D$132"]
["pp2_bl4_8_3_units_out",{"$f":"'T2-B(PP2)'!$G$132","v":0},"#'T2-B(PP2)'!$G$132"]
["pp2_bl4_8_4_name",{"$f":"'T2-B(PP2)'!$B$133","v":0},"#'T2-B(PP2)'!$B$133"]
["pp2_bl4_8_4_rate_in",{"$f":"'T2-B(PP2)'!$E$133","v":0},"#'T2-B(PP2)'!$E$133"]
["pp2_bl4_8_4_rate_out",{"$f":"'T2-B(PP2)'!$H$133","v":0},"#'T2-B(PP2)'!$H$133"]
["pp2_bl4_8_4_total",{"$f":"'T2-B(PP2)'!$J$133","v":0},"#'T2-B(PP2)'!$J$133"]
["pp2_bl4_8_4_total_in",{"$f":"'T2-B(PP2)'!$F$133","v":0},"#'T2-B(PP2)'!$F$133"]
["pp2_bl4_8_4_total_out",{"$f":"'T2-B(PP2)'!$I$133","v":0},"#'T2-B(PP2)'!$I$133"]
["pp2_bl4_8_4_unit",{"$f":"'T2-B(PP2)'!$C$133","v":0},"#'T2-B(PP2)'!$C$133"]
["pp2_bl4_8_4_unit_in",{"$f":"'T2-B(PP2)'!$D$133","v":0},"#'T2-B(PP2)'!$D$133"]
["pp2_bl4_8_4_units_out",{"$f":"'T2-B(PP2)'!$G$133","v":0},"#'T2-B(PP2)'!$G$133"]
["pp2_bl4_8_5_name",{"$f":"'T2-B(PP2)'!$B$134","v":0},"#'T2-B(PP2)'!$B$134"]
["pp2_bl4_8_5_rate_in",{"$f":"'T2-B(PP2)'!$E$134","v":0},"#'T2-B(PP2)'!$E$134"]
["pp2_bl4_8_5_rate_out",{"$f":"'T2-B(PP2)'!$H$134","v":0},"#'T2-B(PP2)'!$H$134"]
["pp2_bl4_8_5_total",{"$f":"'T2-B(PP2)'!$J$134","v":0},"#'T2-B(PP2)'!$J$134"]
["pp2_bl4_8_5_total_in",{"$f":"'T2-B(PP2)'!$F$134","v":0},"#'T2-B(PP2)'!$F$134"]
["pp2_bl4_8_5_total_out",{"$f":"'T2-B(PP2)'!$I$134","v":0},"#'T2-B(PP2)'!$I$134"]
["pp2_bl4_8_5_unit",{"$f":"'T2-B(PP2)'!$C$134","v":0},"#'T2-B(PP2)'!$C$134"]
["pp2_bl4_8_5_unit_in",{"$f":"'T2-B(PP2)'!$D$134","v":0},"#'T2-B(PP2)'!$D$134"]
["pp2_bl4_8_5_units_out",{"$f":"'T2-B(PP2)'!$G$134","v":0},"#'T2-B(PP2)'!$G$134"]
["pp2_bl4_8_6_name",{"$f":"'T2-B(PP2)'!$B$135","v":0},"#'T2-B(PP2)'!$B$135"]
["pp2_bl4_8_6_rate_in",{"$f":"'T2-B(PP2)'!$E$135","v":0},"#'T2-B(PP2)'!$E$135"]
["pp2_bl4_8_6_rate_out",{"$f":"'T2-B(PP2)'!$H$135","v":0},"#'T2-B(PP2)'!$H$135"]
["pp2_bl4_8_6_total",{"$f":"'T2-B(PP2)'!$J$135","v":0},"#'T2-B(PP2)'!$J$135"]
["pp2_bl4_8_6_total_in",{"$f":"'T2-B(PP2)'!$F$135","v":0},"#'T2-B(PP2)'!$F$135"]
["pp2_bl4_8_6_total_out",{"$f":"'T2-B(PP2)'!$I$135","v":0},"#'T2-B(PP2)'!$I$135"]
["pp2_bl4_8_6_unit",{"$f":"'T2-B(PP2)'!$C$135","v":0},"#'T2-B(PP2)'!$C$135"]
["pp2_bl4_8_6_unit_in",{"$f":"'T2-B(PP2)'!$D$135","v":0},"#'T2-B(PP2)'!$D$135"]
["pp2_bl4_8_6_units_out",{"$f":"'T2-B(PP2)'!$G$135","v":0},"#'T2-B(PP2)'!$G$135"]
["pp2_bl4_8_7_name",{"$f":"'T2-B(PP2)'!$B$136","v":0},"#'T2-B(PP2)'!$B$136"]
["pp2_bl4_8_7_rate_in",{"$f":"'T2-B(PP2)'!$E$136","v":0},"#'T2-B(PP2)'!$E$136"]
["pp2_bl4_8_7_rate_out",{"$f":"'T2-B(PP2)'!$H$136","v":0},"#'T2-B(PP2)'!$H$136"]
["pp2_bl4_8_7_total",{"$f":"'T2-B(PP2)'!$J$136","v":0},"#'T2-B(PP2)'!$J$136"]
["pp2_bl4_8_7_total_in",{"$f":"'T2-B(PP2)'!$F$136","v":0},"#'T2-B(PP2)'!$F$136"]
["pp2_bl4_8_7_total_out",{"$f":"'T2-B(PP2)'!$I$136","v":0},"#'T2-B(PP2)'!$I$136"]
["pp2_bl4_8_7_unit",{"$f":"'T2-B(PP2)'!$C$136","v":0},"#'T2-B(PP2)'!$C$136"]
["pp2_bl4_8_7_unit_in",{"$f":"'T2-B(PP2)'!$D$136","v":0},"#'T2-B(PP2)'!$D$136"]
["pp2_bl4_8_7_units_out",{"$f":"'T2-B(PP2)'!$G$136","v":0},"#'T2-B(PP2)'!$G$136"]
["pp2_bl4_8_8_name",{"$f":"'T2-B(PP2)'!$B$137","v":0},"#'T2-B(PP2)'!$B$137"]
["pp2_bl4_8_8_rate_in",{"$f":"'T2-B(PP2)'!$E$137","v":0},"#'T2-B(PP2)'!$E$137"]
["pp2_bl4_8_8_rate_out",{"$f":"'T2-B(PP2)'!$H$137","v":0},"#'T2-B(PP2)'!$H$137"]
["pp2_bl4_8_8_total",{"$f":"'T2-B(PP2)'!$J$137","v":0},"#'T2-B(PP2)'!$J$137"]
["pp2_bl4_8_8_total_in",{"$f":"'T2-B(PP2)'!$F$137","v":0},"#'T2-B(PP2)'!$F$137"]
["pp2_bl4_8_8_total_out",{"$f":"'T2-B(PP2)'!$I$137","v":0},"#'T2-B(PP2)'!$I$137"]
["pp2_bl4_8_8_unit",{"$f":"'T2-B(PP2)'!$C$137","v":0},"#'T2-B(PP2)'!$C$137"]
["pp2_bl4_8_8_unit_in",{"$f":"'T2-B(PP2)'!$D$137","v":0},"#'T2-B(PP2)'!$D$137"]
["pp2_bl4_8_8_units_out",{"$f":"'T2-B(PP2)'!$G$137","v":0},"#'T2-B(PP2)'!$G$137"]
["pp2_bl4_8_9_name",{"$f":"'T2-B(PP2)'!$B$138","v":0},"#'T2-B(PP2)'!$B$138"]
["pp2_bl4_8_9_rate_in",{"$f":"'T2-B(PP2)'!$E$138","v":0},"#'T2-B(PP2)'!$E$138"]
["pp2_bl4_8_9_rate_out",{"$f":"'T2-B(PP2)'!$H$138","v":0},"#'T2-B(PP2)'!$H$138"]
["pp2_bl4_8_9_total",{"$f":"'T2-B(PP2)'!$J$138","v":0},"#'T2-B(PP2)'!$J$138"]
["pp2_bl4_8_9_total_in",{"$f":"'T2-B(PP2)'!$F$138","v":0},"#'T2-B(PP2)'!$F$138"]
["pp2_bl4_8_9_total_out",{"$f":"'T2-B(PP2)'!$I$138","v":0},"#'T2-B(PP2)'!$I$138"]
["pp2_bl4_8_9_unit",{"$f":"'T2-B(PP2)'!$C$138","v":0},"#'T2-B(PP2)'!$C$138"]
["pp2_bl4_8_9_unit_in",{"$f":"'T2-B(PP2)'!$D$138","v":0},"#'T2-B(PP2)'!$D$138"]
["pp2_bl4_8_9_units_out",{"$f":"'T2-B(PP2)'!$G$138","v":0},"#'T2-B(PP2)'!$G$138"]
["pp2_bl4_8_total",{"$f":"'T2-B(PP2)'!$J$129","v":0},"#'T2-B(PP2)'!$J$129"]
["pp2_bl4_8_total_in",{"$f":"'T2-B(PP2)'!$F$129","v":0},"#'T2-B(PP2)'!$F$129"]
["pp2_bl4_8_total_out",{"$f":"'T2-B(PP2)'!$I$129","v":0},"#'T2-B(PP2)'!$I$129"]
["pp2_bl4_9_1_name",{"$f":"'T2-B(PP2)'!$B$141","v":0},"#'T2-B(PP2)'!$B$141"]
["pp2_bl4_9_1_rate_in",{"$f":"'T2-B(PP2)'!$E$141","v":0},"#'T2-B(PP2)'!$E$141"]
["pp2_bl4_9_1_rate_out",{"$f":"'T2-B(PP2)'!$H$141","v":0},"#'T2-B(PP2)'!$H$141"]
["pp2_bl4_9_1_total",{"$f":"'T2-B(PP2)'!$J$141","v":0},"#'T2-B(PP2)'!$J$141"]
["pp2_bl4_9_1_total_in",{"$f":"'T2-B(PP2)'!$F$141","v":0},"#'T2-B(PP2)'!$F$141"]
["pp2_bl4_9_1_total_out",{"$f":"'T2-B(PP2)'!$I$141","v":0},"#'T2-B(PP2)'!$I$141"]
["pp2_bl4_9_1_unit",{"$f":"'T2-B(PP2)'!$C$141","v":0},"#'T2-B(PP2)'!$C$141"]
["pp2_bl4_9_1_unit_in",{"$f":"'T2-B(PP2)'!$D$141","v":0},"#'T2-B(PP2)'!$D$141"]
["pp2_bl4_9_1_units_out",{"$f":"'T2-B(PP2)'!$G$141","v":0},"#'T2-B(PP2)'!$G$141"]
["pp2_bl4_9_10_name",{"$f":"'T2-B(PP2)'!$B$150","v":0},"#'T2-B(PP2)'!$B$150"]
["pp2_bl4_9_10_rate_in",{"$f":"'T2-B(PP2)'!$E$150","v":0},"#'T2-B(PP2)'!$E$150"]
["pp2_bl4_9_10_rate_out",{"$f":"'T2-B(PP2)'!$H$150","v":0},"#'T2-B(PP2)'!$H$150"]
["pp2_bl4_9_10_total",{"$f":"'T2-B(PP2)'!$J$150","v":0},"#'T2-B(PP2)'!$J$150"]
["pp2_bl4_9_10_total_in",{"$f":"'T2-B(PP2)'!$F$150","v":0},"#'T2-B(PP2)'!$F$150"]
["pp2_bl4_9_10_total_out",{"$f":"'T2-B(PP2)'!$I$150","v":0},"#'T2-B(PP2)'!$I$150"]
["pp2_bl4_9_10_unit",{"$f":"'T2-B(PP2)'!$C$150","v":0},"#'T2-B(PP2)'!$C$150"]
["pp2_bl4_9_10_unit_in",{"$f":"'T2-B(PP2)'!$D$150","v":0},"#'T2-B(PP2)'!$D$150"]
["pp2_bl4_9_10_units_out",{"$f":"'T2-B(PP2)'!$G$150","v":0},"#'T2-B(PP2)'!$G$150"]
["pp2_bl4_9_2_name",{"$f":"'T2-B(PP2)'!$B$142","v":0},"#'T2-B(PP2)'!$B$142"]
["pp2_bl4_9_2_rate_in",{"$f":"'T2-B(PP2)'!$E$142","v":0},"#'T2-B(PP2)'!$E$142"]
["pp2_bl4_9_2_rate_out",{"$f":"'T2-B(PP2)'!$H$142","v":0},"#'T2-B(PP2)'!$H$142"]
["pp2_bl4_9_2_total",{"$f":"'T2-B(PP2)'!$J$142","v":0},"#'T2-B(PP2)'!$J$142"]
["pp2_bl4_9_2_total_in",{"$f":"'T2-B(PP2)'!$F$142","v":0},"#'T2-B(PP2)'!$F$142"]
["pp2_bl4_9_2_total_out",{"$f":"'T2-B(PP2)'!$I$142","v":0},"#'T2-B(PP2)'!$I$142"]
["pp2_bl4_9_2_unit",{"$f":"'T2-B(PP2)'!$C$142","v":0},"#'T2-B(PP2)'!$C$142"]
["pp2_bl4_9_2_unit_in",{"$f":"'T2-B(PP2)'!$D$142","v":0},"#'T2-B(PP2)'!$D$142"]
["pp2_bl4_9_2_units_out",{"$f":"'T2-B(PP2)'!$G$142","v":0},"#'T2-B(PP2)'!$G$142"]
["pp2_bl4_9_3_name",{"$f":"'T2-B(PP2)'!$B$143","v":0},"#'T2-B(PP2)'!$B$143"]
["pp2_bl4_9_3_rate_in",{"$f":"'T2-B(PP2)'!$E$143","v":0},"#'T2-B(PP2)'!$E$143"]
["pp2_bl4_9_3_rate_out",{"$f":"'T2-B(PP2)'!$H$143","v":0},"#'T2-B(PP2)'!$H$143"]
["pp2_bl4_9_3_total",{"$f":"'T2-B(PP2)'!$J$143","v":0},"#'T2-B(PP2)'!$J$143"]
["pp2_bl4_9_3_total_in",{"$f":"'T2-B(PP2)'!$F$143","v":0},"#'T2-B(PP2)'!$F$143"]
["pp2_bl4_9_3_total_out",{"$f":"'T2-B(PP2)'!$I$143","v":0},"#'T2-B(PP2)'!$I$143"]
["pp2_bl4_9_3_unit",{"$f":"'T2-B(PP2)'!$C$143","v":0},"#'T2-B(PP2)'!$C$143"]
["pp2_bl4_9_3_unit_in",{"$f":"'T2-B(PP2)'!$D$143","v":0},"#'T2-B(PP2)'!$D$143"]
["pp2_bl4_9_3_units_out",{"$f":"'T2-B(PP2)'!$G$143","v":0},"#'T2-B(PP2)'!$G$143"]
["pp2_bl4_9_4_name",{"$f":"'T2-B(PP2)'!$B$144","v":0},"#'T2-B(PP2)'!$B$144"]
["pp2_bl4_9_4_rate_in",{"$f":"'T2-B(PP2)'!$E$144","v":0},"#'T2-B(PP2)'!$E$144"]
["pp2_bl4_9_4_rate_out",{"$f":"'T2-B(PP2)'!$H$144","v":0},"#'T2-B(PP2)'!$H$144"]
["pp2_bl4_9_4_total",{"$f":"'T2-B(PP2)'!$J$144","v":0},"#'T2-B(PP2)'!$J$144"]
["pp2_bl4_9_4_total_in",{"$f":"'T2-B(PP2)'!$F$144","v":0},"#'T2-B(PP2)'!$F$144"]
["pp2_bl4_9_4_total_out",{"$f":"'T2-B(PP2)'!$I$144","v":0},"#'T2-B(PP2)'!$I$144"]
["pp2_bl4_9_4_unit",{"$f":"'T2-B(PP2)'!$C$144","v":0},"#'T2-B(PP2)'!$C$144"]
["pp2_bl4_9_4_unit_in",{"$f":"'T2-B(PP2)'!$D$144","v":0},"#'T2-B(PP2)'!$D$144"]
["pp2_bl4_9_4_units_out",{"$f":"'T2-B(PP2)'!$G$144","v":0},"#'T2-B(PP2)'!$G$144"]
["pp2_bl4_9_5_name",{"$f":"'T2-B(PP2)'!$B$145","v":0},"#'T2-B(PP2)'!$B$145"]
["pp2_bl4_9_5_rate_in",{"$f":"'T2-B(PP2)'!$E$145","v":0},"#'T2-B(PP2)'!$E$145"]
["pp2_bl4_9_5_rate_out",{"$f":"'T2-B(PP2)'!$H$145","v":0},"#'T2-B(PP2)'!$H$145"]
["pp2_bl4_9_5_total",{"$f":"'T2-B(PP2)'!$J$145","v":0},"#'T2-B(PP2)'!$J$145"]
["pp2_bl4_9_5_total_in",{"$f":"'T2-B(PP2)'!$F$145","v":0},"#'T2-B(PP2)'!$F$145"]
["pp2_bl4_9_5_total_out",{"$f":"'T2-B(PP2)'!$I$145","v":0},"#'T2-B(PP2)'!$I$145"]
["pp2_bl4_9_5_unit",{"$f":"'T2-B(PP2)'!$C$145","v":0},"#'T2-B(PP2)'!$C$145"]
["pp2_bl4_9_5_unit_in",{"$f":"'T2-B(PP2)'!$D$145","v":0},"#'T2-B(PP2)'!$D$145"]
["pp2_bl4_9_5_units_out",{"$f":"'T2-B(PP2)'!$G$145","v":0},"#'T2-B(PP2)'!$G$145"]
["pp2_bl4_9_6_name",{"$f":"'T2-B(PP2)'!$B$146","v":0},"#'T2-B(PP2)'!$B$146"]
["pp2_bl4_9_6_rate_in",{"$f":"'T2-B(PP2)'!$E$146","v":0},"#'T2-B(PP2)'!$E$146"]
["pp2_bl4_9_6_rate_out",{"$f":"'T2-B(PP2)'!$H$146","v":0},"#'T2-B(PP2)'!$H$146"]
["pp2_bl4_9_6_total",{"$f":"'T2-B(PP2)'!$J$146","v":0},"#'T2-B(PP2)'!$J$146"]
["pp2_bl4_9_6_total_in",{"$f":"'T2-B(PP2)'!$F$146","v":0},"#'T2-B(PP2)'!$F$146"]
["pp2_bl4_9_6_total_out",{"$f":"'T2-B(PP2)'!$I$146","v":0},"#'T2-B(PP2)'!$I$146"]
["pp2_bl4_9_6_unit",{"$f":"'T2-B(PP2)'!$C$146","v":0},"#'T2-B(PP2)'!$C$146"]
["pp2_bl4_9_6_unit_in",{"$f":"'T2-B(PP2)'!$D$146","v":0},"#'T2-B(PP2)'!$D$146"]
["pp2_bl4_9_6_units_out",{"$f":"'T2-B(PP2)'!$G$146","v":0},"#'T2-B(PP2)'!$G$146"]
["pp2_bl4_9_7_name",{"$f":"'T2-B(PP2)'!$B$147","v":0},"#'T2-B(PP2)'!$B$147"]
["pp2_bl4_9_7_rate_in",{"$f":"'T2-B(PP2)'!$E$147","v":0},"#'T2-B(PP2)'!$E$147"]
["pp2_bl4_9_7_rate_out",{"$f":"'T2-B(PP2)'!$H$147","v":0},"#'T2-B(PP2)'!$H$147"]
["pp2_bl4_9_7_total",{"$f":"'T2-B(PP2)'!$J$147","v":0},"#'T2-B(PP2)'!$J$147"]
["pp2_bl4_9_7_total_in",{"$f":"'T2-B(PP2)'!$F$147","v":0},"#'T2-B(PP2)'!$F$147"]
["pp2_bl4_9_7_total_out",{"$f":"'T2-B(PP2)'!$I$147","v":0},"#'T2-B(PP2)'!$I$147"]
["pp2_bl4_9_7_unit",{"$f":"'T2-B(PP2)'!$C$147","v":0},"#'T2-B(PP2)'!$C$147"]
["pp2_bl4_9_7_unit_in",{"$f":"'T2-B(PP2)'!$D$147","v":0},"#'T2-B(PP2)'!$D$147"]
["pp2_bl4_9_7_units_out",{"$f":"'T2-B(PP2)'!$G$147","v":0},"#'T2-B(PP2)'!$G$147"]
["pp2_bl4_9_8_name",{"$f":"'T2-B(PP2)'!$B$148","v":0},"#'T2-B(PP2)'!$B$148"]
["pp2_bl4_9_8_rate_in",{"$f":"'T2-B(PP2)'!$E$148","v":0},"#'T2-B(PP2)'!$E$148"]
["pp2_bl4_9_8_rate_out",{"$f":"'T2-B(PP2)'!$H$148","v":0},"#'T2-B(PP2)'!$H$148"]
["pp2_bl4_9_8_total",{"$f":"'T2-B(PP2)'!$J$148","v":0},"#'T2-B(PP2)'!$J$148"]
["pp2_bl4_9_8_total_in",{"$f":"'T2-B(PP2)'!$F$148","v":0},"#'T2-B(PP2)'!$F$148"]
["pp2_bl4_9_8_total_out",{"$f":"'T2-B(PP2)'!$I$148","v":0},"#'T2-B(PP2)'!$I$148"]
["pp2_bl4_9_8_unit",{"$f":"'T2-B(PP2)'!$C$148","v":0},"#'T2-B(PP2)'!$C$148"]
["pp2_bl4_9_8_unit_in",{"$f":"'T2-B(PP2)'!$D$148","v":0},"#'T2-B(PP2)'!$D$148"]
["pp2_bl4_9_8_units_out",{"$f":"'T2-B(PP2)'!$G$148","v":0},"#'T2-B(PP2)'!$G$148"]
["pp2_bl4_9_9_name",{"$f":"'T2-B(PP2)'!$B$149","v":0},"#'T2-B(PP2)'!$B$149"]
["pp2_bl4_9_9_rate_in",{"$f":"'T2-B(PP2)'!$E$149","v":0},"#'T2-B(PP2)'!$E$149"]
["pp2_bl4_9_9_rate_out",{"$f":"'T2-B(PP2)'!$H$149","v":0},"#'T2-B(PP2)'!$H$149"]
["pp2_bl4_9_9_total",{"$f":"'T2-B(PP2)'!$J$149","v":0},"#'T2-B(PP2)'!$J$149"]
["pp2_bl4_9_9_total_in",{"$f":"'T2-B(PP2)'!$F$149","v":0},"#'T2-B(PP2)'!$F$149"]
["pp2_bl4_9_9_total_out",{"$f":"'T2-B(PP2)'!$I$149","v":0},"#'T2-B(PP2)'!$I$149"]
["pp2_bl4_9_9_unit",{"$f":"'T2-B(PP2)'!$C$149","v":0},"#'T2-B(PP2)'!$C$149"]
["pp2_bl4_9_9_unit_in",{"$f":"'T2-B(PP2)'!$D$149","v":0},"#'T2-B(PP2)'!$D$149"]
["pp2_bl4_9_9_units_out",{"$f":"'T2-B(PP2)'!$G$149","v":0},"#'T2-B(PP2)'!$G$149"]
["pp2_bl4_9_total",{"$f":"'T2-B(PP2)'!$J$140","v":0},"#'T2-B(PP2)'!$J$140"]
["pp2_bl4_9_total_in",{"$f":"'T2-B(PP2)'!$F$140","v":0},"#'T2-B(PP2)'!$F$140"]
["pp2_bl4_9_total_out",{"$f":"'T2-B(PP2)'!$I$140","v":0},"#'T2-B(PP2)'!$I$140"]
["pp2_bl4_total",{"$f":"'T2-B(PP2)'!$J$206","v":0},"#'T2-B(PP2)'!$J$206"]
["pp2_bl4_total_in",{"$f":"'T2-B(PP2)'!$F$206","v":0},"#'T2-B(PP2)'!$F$206"]
["pp2_bl4_total_out",{"$f":"'T2-B(PP2)'!$I$206","v":0},"#'T2-B(PP2)'!$I$206"]
["pp2_bl5_1_1_name",{"$f":"'T2-B(PP2)'!$B$211","v":0},"#'T2-B(PP2)'!$B$211"]
["pp2_bl5_1_1_rate_in",{"$f":"'T2-B(PP2)'!$E$211","v":0},"#'T2-B(PP2)'!$E$211"]
["pp2_bl5_1_1_rate_out",{"$f":"'T2-B(PP2)'!$H$211","v":0},"#'T2-B(PP2)'!$H$211"]
["pp2_bl5_1_1_total",{"$f":"'T2-B(PP2)'!$J$211","v":0},"#'T2-B(PP2)'!$J$211"]
["pp2_bl5_1_1_total_in",{"$f":"'T2-B(PP2)'!$F$211","v":0},"#'T2-B(PP2)'!$F$211"]
["pp2_bl5_1_1_total_out",{"$f":"'T2-B(PP2)'!$I$211","v":0},"#'T2-B(PP2)'!$I$211"]
["pp2_bl5_1_1_unit",{"$f":"'T2-B(PP2)'!$C$211","v":0},"#'T2-B(PP2)'!$C$211"]
["pp2_bl5_1_1_unit_in",{"$f":"'T2-B(PP2)'!$D$211","v":0},"#'T2-B(PP2)'!$D$211"]
["pp2_bl5_1_1_units_out",{"$f":"'T2-B(PP2)'!$G$211","v":0},"#'T2-B(PP2)'!$G$211"]
["pp2_bl5_1_10_name",{"$f":"'T2-B(PP2)'!$B$220","v":0},"#'T2-B(PP2)'!$B$220"]
["pp2_bl5_1_10_rate_in",{"$f":"'T2-B(PP2)'!$E$220","v":0},"#'T2-B(PP2)'!$E$220"]
["pp2_bl5_1_10_rate_out",{"$f":"'T2-B(PP2)'!$H$220","v":0},"#'T2-B(PP2)'!$H$220"]
["pp2_bl5_1_10_total",{"$f":"'T2-B(PP2)'!$J$220","v":0},"#'T2-B(PP2)'!$J$220"]
["pp2_bl5_1_10_total_in",{"$f":"'T2-B(PP2)'!$F$220","v":0},"#'T2-B(PP2)'!$F$220"]
["pp2_bl5_1_10_total_out",{"$f":"'T2-B(PP2)'!$I$220","v":0},"#'T2-B(PP2)'!$I$220"]
["pp2_bl5_1_10_unit",{"$f":"'T2-B(PP2)'!$C$220","v":0},"#'T2-B(PP2)'!$C$220"]
["pp2_bl5_1_10_unit_in",{"$f":"'T2-B(PP2)'!$D$220","v":0},"#'T2-B(PP2)'!$D$220"]
["pp2_bl5_1_10_units_out",{"$f":"'T2-B(PP2)'!$G$220","v":0},"#'T2-B(PP2)'!$G$220"]
["pp2_bl5_1_2_name",{"$f":"'T2-B(PP2)'!$B$212","v":0},"#'T2-B(PP2)'!$B$212"]
["pp2_bl5_1_2_rate_in",{"$f":"'T2-B(PP2)'!$E$212","v":0},"#'T2-B(PP2)'!$E$212"]
["pp2_bl5_1_2_rate_out",{"$f":"'T2-B(PP2)'!$H$212","v":0},"#'T2-B(PP2)'!$H$212"]
["pp2_bl5_1_2_total",{"$f":"'T2-B(PP2)'!$J$212","v":0},"#'T2-B(PP2)'!$J$212"]
["pp2_bl5_1_2_total_in",{"$f":"'T2-B(PP2)'!$F$212","v":0},"#'T2-B(PP2)'!$F$212"]
["pp2_bl5_1_2_total_out",{"$f":"'T2-B(PP2)'!$I$212","v":0},"#'T2-B(PP2)'!$I$212"]
["pp2_bl5_1_2_unit",{"$f":"'T2-B(PP2)'!$C$212","v":0},"#'T2-B(PP2)'!$C$212"]
["pp2_bl5_1_2_unit_in",{"$f":"'T2-B(PP2)'!$D$212","v":0},"#'T2-B(PP2)'!$D$212"]
["pp2_bl5_1_2_units_out",{"$f":"'T2-B(PP2)'!$G$212","v":0},"#'T2-B(PP2)'!$G$212"]
["pp2_bl5_1_3_name",{"$f":"'T2-B(PP2)'!$B$213","v":0},"#'T2-B(PP2)'!$B$213"]
["pp2_bl5_1_3_rate_in",{"$f":"'T2-B(PP2)'!$E$213","v":0},"#'T2-B(PP2)'!$E$213"]
["pp2_bl5_1_3_rate_out",{"$f":"'T2-B(PP2)'!$H$213","v":0},"#'T2-B(PP2)'!$H$213"]
["pp2_bl5_1_3_total",{"$f":"'T2-B(PP2)'!$J$213","v":0},"#'T2-B(PP2)'!$J$213"]
["pp2_bl5_1_3_total_in",{"$f":"'T2-B(PP2)'!$F$213","v":0},"#'T2-B(PP2)'!$F$213"]
["pp2_bl5_1_3_total_out",{"$f":"'T2-B(PP2)'!$I$213","v":0},"#'T2-B(PP2)'!$I$213"]
["pp2_bl5_1_3_unit",{"$f":"'T2-B(PP2)'!$C$213","v":0},"#'T2-B(PP2)'!$C$213"]
["pp2_bl5_1_3_unit_in",{"$f":"'T2-B(PP2)'!$D$213","v":0},"#'T2-B(PP2)'!$D$213"]
["pp2_bl5_1_3_units_out",{"$f":"'T2-B(PP2)'!$G$213","v":0},"#'T2-B(PP2)'!$G$213"]
["pp2_bl5_1_4_name",{"$f":"'T2-B(PP2)'!$B$214","v":0},"#'T2-B(PP2)'!$B$214"]
["pp2_bl5_1_4_rate_in",{"$f":"'T2-B(PP2)'!$E$214","v":0},"#'T2-B(PP2)'!$E$214"]
["pp2_bl5_1_4_rate_out",{"$f":"'T2-B(PP2)'!$H$214","v":0},"#'T2-B(PP2)'!$H$214"]
["pp2_bl5_1_4_total",{"$f":"'T2-B(PP2)'!$J$214","v":0},"#'T2-B(PP2)'!$J$214"]
["pp2_bl5_1_4_total_in",{"$f":"'T2-B(PP2)'!$F$214","v":0},"#'T2-B(PP2)'!$F$214"]
["pp2_bl5_1_4_total_out",{"$f":"'T2-B(PP2)'!$I$214","v":0},"#'T2-B(PP2)'!$I$214"]
["pp2_bl5_1_4_unit",{"$f":"'T2-B(PP2)'!$C$214","v":0},"#'T2-B(PP2)'!$C$214"]
["pp2_bl5_1_4_unit_in",{"$f":"'T2-B(PP2)'!$D$214","v":0},"#'T2-B(PP2)'!$D$214"]
["pp2_bl5_1_4_units_out",{"$f":"'T2-B(PP2)'!$G$214","v":0},"#'T2-B(PP2)'!$G$214"]
["pp2_bl5_1_5_name",{"$f":"'T2-B(PP2)'!$B$215","v":0},"#'T2-B(PP2)'!$B$215"]
["pp2_bl5_1_5_rate_in",{"$f":"'T2-B(PP2)'!$E$215","v":0},"#'T2-B(PP2)'!$E$215"]
["pp2_bl5_1_5_rate_out",{"$f":"'T2-B(PP2)'!$H$215","v":0},"#'T2-B(PP2)'!$H$215"]
["pp2_bl5_1_5_total",{"$f":"'T2-B(PP2)'!$J$215","v":0},"#'T2-B(PP2)'!$J$215"]
["pp2_bl5_1_5_total_in",{"$f":"'T2-B(PP2)'!$F$215","v":0},"#'T2-B(PP2)'!$F$215"]
["pp2_bl5_1_5_total_out",{"$f":"'T2-B(PP2)'!$I$215","v":0},"#'T2-B(PP2)'!$I$215"]
["pp2_bl5_1_5_unit",{"$f":"'T2-B(PP2)'!$C$215","v":0},"#'T2-B(PP2)'!$C$215"]
["pp2_bl5_1_5_unit_in",{"$f":"'T2-B(PP2)'!$D$215","v":0},"#'T2-B(PP2)'!$D$215"]
["pp2_bl5_1_5_units_out",{"$f":"'T2-B(PP2)'!$G$215","v":0},"#'T2-B(PP2)'!$G$215"]
["pp2_bl5_1_6_name",{"$f":"'T2-B(PP2)'!$B$216","v":0},"#'T2-B(PP2)'!$B$216"]
["pp2_bl5_1_6_rate_in",{"$f":"'T2-B(PP2)'!$E$216","v":0},"#'T2-B(PP2)'!$E$216"]
["pp2_bl5_1_6_rate_out",{"$f":"'T2-B(PP2)'!$H$216","v":0},"#'T2-B(PP2)'!$H$216"]
["pp2_bl5_1_6_total",{"$f":"'T2-B(PP2)'!$J$216","v":0},"#'T2-B(PP2)'!$J$216"]
["pp2_bl5_1_6_total_in",{"$f":"'T2-B(PP2)'!$F$216","v":0},"#'T2-B(PP2)'!$F$216"]
["pp2_bl5_1_6_total_out",{"$f":"'T2-B(PP2)'!$I$216","v":0},"#'T2-B(PP2)'!$I$216"]
["pp2_bl5_1_6_unit",{"$f":"'T2-B(PP2)'!$C$216","v":0},"#'T2-B(PP2)'!$C$216"]
["pp2_bl5_1_6_unit_in",{"$f":"'T2-B(PP2)'!$D$216","v":0},"#'T2-B(PP2)'!$D$216"]
["pp2_bl5_1_6_units_out",{"$f":"'T2-B(PP2)'!$G$216","v":0},"#'T2-B(PP2)'!$G$216"]
["pp2_bl5_1_7_name",{"$f":"'T2-B(PP2)'!$B$217","v":0},"#'T2-B(PP2)'!$B$217"]
["pp2_bl5_1_7_rate_in",{"$f":"'T2-B(PP2)'!$E$217","v":0},"#'T2-B(PP2)'!$E$217"]
["pp2_bl5_1_7_rate_out",{"$f":"'T2-B(PP2)'!$H$217","v":0},"#'T2-B(PP2)'!$H$217"]
["pp2_bl5_1_7_total",{"$f":"'T2-B(PP2)'!$J$217","v":0},"#'T2-B(PP2)'!$J$217"]
["pp2_bl5_1_7_total_in",{"$f":"'T2-B(PP2)'!$F$217","v":0},"#'T2-B(PP2)'!$F$217"]
["pp2_bl5_1_7_total_out",{"$f":"'T2-B(PP2)'!$I$217","v":0},"#'T2-B(PP2)'!$I$217"]
["pp2_bl5_1_7_unit",{"$f":"'T2-B(PP2)'!$C$217","v":0},"#'T2-B(PP2)'!$C$217"]
["pp2_bl5_1_7_unit_in",{"$f":"'T2-B(PP2)'!$D$217","v":0},"#'T2-B(PP2)'!$D$217"]
["pp2_bl5_1_7_units_out",{"$f":"'T2-B(PP2)'!$G$217","v":0},"#'T2-B(PP2)'!$G$217"]
["pp2_bl5_1_8_name",{"$f":"'T2-B(PP2)'!$B$218","v":0},"#'T2-B(PP2)'!$B$218"]
["pp2_bl5_1_8_rate_in",{"$f":"'T2-B(PP2)'!$E$218","v":0},"#'T2-B(PP2)'!$E$218"]
["pp2_bl5_1_8_rate_out",{"$f":"'T2-B(PP2)'!$H$218","v":0},"#'T2-B(PP2)'!$H$218"]
["pp2_bl5_1_8_total",{"$f":"'T2-B(PP2)'!$J$218","v":0},"#'T2-B(PP2)'!$J$218"]
["pp2_bl5_1_8_total_in",{"$f":"'T2-B(PP2)'!$F$218","v":0},"#'T2-B(PP2)'!$F$218"]
["pp2_bl5_1_8_total_out",{"$f":"'T2-B(PP2)'!$I$218","v":0},"#'T2-B(PP2)'!$I$218"]
["pp2_bl5_1_8_unit",{"$f":"'T2-B(PP2)'!$C$218","v":0},"#'T2-B(PP2)'!$C$218"]
["pp2_bl5_1_8_unit_in",{"$f":"'T2-B(PP2)'!$D$218","v":0},"#'T2-B(PP2)'!$D$218"]
["pp2_bl5_1_8_units_out",{"$f":"'T2-B(PP2)'!$G$218","v":0},"#'T2-B(PP2)'!$G$218"]
["pp2_bl5_1_9_name",{"$f":"'T2-B(PP2)'!$B$219","v":0},"#'T2-B(PP2)'!$B$219"]
["pp2_bl5_1_9_rate_in",{"$f":"'T2-B(PP2)'!$E$219","v":0},"#'T2-B(PP2)'!$E$219"]
["pp2_bl5_1_9_rate_out",{"$f":"'T2-B(PP2)'!$H$219","v":0},"#'T2-B(PP2)'!$H$219"]
["pp2_bl5_1_9_total",{"$f":"'T2-B(PP2)'!$J$219","v":0},"#'T2-B(PP2)'!$J$219"]
["pp2_bl5_1_9_total_in",{"$f":"'T2-B(PP2)'!$F$219","v":0},"#'T2-B(PP2)'!$F$219"]
["pp2_bl5_1_9_total_out",{"$f":"'T2-B(PP2)'!$I$219","v":0},"#'T2-B(PP2)'!$I$219"]
["pp2_bl5_1_9_unit",{"$f":"'T2-B(PP2)'!$C$219","v":0},"#'T2-B(PP2)'!$C$219"]
["pp2_bl5_1_9_unit_in",{"$f":"'T2-B(PP2)'!$D$219","v":0},"#'T2-B(PP2)'!$D$219"]
["pp2_bl5_1_9_units_out",{"$f":"'T2-B(PP2)'!$G$219","v":0},"#'T2-B(PP2)'!$G$219"]
["pp2_bl5_1_total",{"$f":"'T2-B(PP2)'!$J$210","v":0},"#'T2-B(PP2)'!$J$210"]
["pp2_bl5_1_total_in",{"$f":"'T2-B(PP2)'!$F$210","v":0},"#'T2-B(PP2)'!$F$210"]
["pp2_bl5_1_total_out",{"$f":"'T2-B(PP2)'!$I$210","v":0},"#'T2-B(PP2)'!$I$210"]
["pp2_bl5_2_1_name",{"$f":"'T2-B(PP2)'!$B$222","v":0},"#'T2-B(PP2)'!$B$222"]
["pp2_bl5_2_1_rate_in",{"$f":"'T2-B(PP2)'!$E$222","v":0},"#'T2-B(PP2)'!$E$222"]
["pp2_bl5_2_1_rate_out",{"$f":"'T2-B(PP2)'!$H$222","v":0},"#'T2-B(PP2)'!$H$222"]
["pp2_bl5_2_1_total",{"$f":"'T2-B(PP2)'!$J$222","v":0},"#'T2-B(PP2)'!$J$222"]
["pp2_bl5_2_1_total_in",{"$f":"'T2-B(PP2)'!$F$222","v":0},"#'T2-B(PP2)'!$F$222"]
["pp2_bl5_2_1_total_out",{"$f":"'T2-B(PP2)'!$I$222","v":0},"#'T2-B(PP2)'!$I$222"]
["pp2_bl5_2_1_unit",{"$f":"'T2-B(PP2)'!$C$222","v":0},"#'T2-B(PP2)'!$C$222"]
["pp2_bl5_2_1_unit_in",{"$f":"'T2-B(PP2)'!$D$222","v":0},"#'T2-B(PP2)'!$D$222"]
["pp2_bl5_2_1_units_out",{"$f":"'T2-B(PP2)'!$G$222","v":0},"#'T2-B(PP2)'!$G$222"]
["pp2_bl5_2_10_name",{"$f":"'T2-B(PP2)'!$B$231","v":0},"#'T2-B(PP2)'!$B$231"]
["pp2_bl5_2_10_rate_in",{"$f":"'T2-B(PP2)'!$E$231","v":0},"#'T2-B(PP2)'!$E$231"]
["pp2_bl5_2_10_rate_out",{"$f":"'T2-B(PP2)'!$H$231","v":0},"#'T2-B(PP2)'!$H$231"]
["pp2_bl5_2_10_total",{"$f":"'T2-B(PP2)'!$J$231","v":0},"#'T2-B(PP2)'!$J$231"]
["pp2_bl5_2_10_total_in",{"$f":"'T2-B(PP2)'!$F$231","v":0},"#'T2-B(PP2)'!$F$231"]
["pp2_bl5_2_10_total_out",{"$f":"'T2-B(PP2)'!$I$231","v":0},"#'T2-B(PP2)'!$I$231"]
["pp2_bl5_2_10_unit",{"$f":"'T2-B(PP2)'!$C$231","v":0},"#'T2-B(PP2)'!$C$231"]
["pp2_bl5_2_10_unit_in",{"$f":"'T2-B(PP2)'!$D$231","v":0},"#'T2-B(PP2)'!$D$231"]
["pp2_bl5_2_10_units_out",{"$f":"'T2-B(PP2)'!$G$231","v":0},"#'T2-B(PP2)'!$G$231"]
["pp2_bl5_2_2_name",{"$f":"'T2-B(PP2)'!$B$223","v":0},"#'T2-B(PP2)'!$B$223"]
["pp2_bl5_2_2_rate_in",{"$f":"'T2-B(PP2)'!$E$223","v":0},"#'T2-B(PP2)'!$E$223"]
["pp2_bl5_2_2_rate_out",{"$f":"'T2-B(PP2)'!$H$223","v":0},"#'T2-B(PP2)'!$H$223"]
["pp2_bl5_2_2_total",{"$f":"'T2-B(PP2)'!$J$223","v":0},"#'T2-B(PP2)'!$J$223"]
["pp2_bl5_2_2_total_in",{"$f":"'T2-B(PP2)'!$F$223","v":0},"#'T2-B(PP2)'!$F$223"]
["pp2_bl5_2_2_total_out",{"$f":"'T2-B(PP2)'!$I$223","v":0},"#'T2-B(PP2)'!$I$223"]
["pp2_bl5_2_2_unit",{"$f":"'T2-B(PP2)'!$C$223","v":0},"#'T2-B(PP2)'!$C$223"]
["pp2_bl5_2_2_unit_in",{"$f":"'T2-B(PP2)'!$D$223","v":0},"#'T2-B(PP2)'!$D$223"]
["pp2_bl5_2_2_units_out",{"$f":"'T2-B(PP2)'!$G$223","v":0},"#'T2-B(PP2)'!$G$223"]
["pp2_bl5_2_3_name",{"$f":"'T2-B(PP2)'!$B$224","v":0},"#'T2-B(PP2)'!$B$224"]
["pp2_bl5_2_3_rate_in",{"$f":"'T2-B(PP2)'!$E$224","v":0},"#'T2-B(PP2)'!$E$224"]
["pp2_bl5_2_3_rate_out",{"$f":"'T2-B(PP2)'!$H$224","v":0},"#'T2-B(PP2)'!$H$224"]
["pp2_bl5_2_3_total",{"$f":"'T2-B(PP2)'!$J$224","v":0},"#'T2-B(PP2)'!$J$224"]
["pp2_bl5_2_3_total_in",{"$f":"'T2-B(PP2)'!$F$224","v":0},"#'T2-B(PP2)'!$F$224"]
["pp2_bl5_2_3_total_out",{"$f":"'T2-B(PP2)'!$I$224","v":0},"#'T2-B(PP2)'!$I$224"]
["pp2_bl5_2_3_unit",{"$f":"'T2-B(PP2)'!$C$224","v":0},"#'T2-B(PP2)'!$C$224"]
["pp2_bl5_2_3_unit_in",{"$f":"'T2-B(PP2)'!$D$224","v":0},"#'T2-B(PP2)'!$D$224"]
["pp2_bl5_2_3_units_out",{"$f":"'T2-B(PP2)'!$G$224","v":0},"#'T2-B(PP2)'!$G$224"]
["pp2_bl5_2_4_name",{"$f":"'T2-B(PP2)'!$B$225","v":0},"#'T2-B(PP2)'!$B$225"]
["pp2_bl5_2_4_rate_in",{"$f":"'T2-B(PP2)'!$E$225","v":0},"#'T2-B(PP2)'!$E$225"]
["pp2_bl5_2_4_rate_out",{"$f":"'T2-B(PP2)'!$H$225","v":0},"#'T2-B(PP2)'!$H$225"]
["pp2_bl5_2_4_total",{"$f":"'T2-B(PP2)'!$J$225","v":0},"#'T2-B(PP2)'!$J$225"]
["pp2_bl5_2_4_total_in",{"$f":"'T2-B(PP2)'!$F$225","v":0},"#'T2-B(PP2)'!$F$225"]
["pp2_bl5_2_4_total_out",{"$f":"'T2-B(PP2)'!$I$225","v":0},"#'T2-B(PP2)'!$I$225"]
["pp2_bl5_2_4_unit",{"$f":"'T2-B(PP2)'!$C$225","v":0},"#'T2-B(PP2)'!$C$225"]
["pp2_bl5_2_4_unit_in",{"$f":"'T2-B(PP2)'!$D$225","v":0},"#'T2-B(PP2)'!$D$225"]
["pp2_bl5_2_4_units_out",{"$f":"'T2-B(PP2)'!$G$225","v":0},"#'T2-B(PP2)'!$G$225"]
["pp2_bl5_2_5_name",{"$f":"'T2-B(PP2)'!$B$226","v":0},"#'T2-B(PP2)'!$B$226"]
["pp2_bl5_2_5_rate_in",{"$f":"'T2-B(PP2)'!$E$226","v":0},"#'T2-B(PP2)'!$E$226"]
["pp2_bl5_2_5_rate_out",{"$f":"'T2-B(PP2)'!$H$226","v":0},"#'T2-B(PP2)'!$H$226"]
["pp2_bl5_2_5_total",{"$f":"'T2-B(PP2)'!$J$226","v":0},"#'T2-B(PP2)'!$J$226"]
["pp2_bl5_2_5_total_in",{"$f":"'T2-B(PP2)'!$F$226","v":0},"#'T2-B(PP2)'!$F$226"]
["pp2_bl5_2_5_total_out",{"$f":"'T2-B(PP2)'!$I$226","v":0},"#'T2-B(PP2)'!$I$226"]
["pp2_bl5_2_5_unit",{"$f":"'T2-B(PP2)'!$C$226","v":0},"#'T2-B(PP2)'!$C$226"]
["pp2_bl5_2_5_unit_in",{"$f":"'T2-B(PP2)'!$D$226","v":0},"#'T2-B(PP2)'!$D$226"]
["pp2_bl5_2_5_units_out",{"$f":"'T2-B(PP2)'!$G$226","v":0},"#'T2-B(PP2)'!$G$226"]
["pp2_bl5_2_6_name",{"$f":"'T2-B(PP2)'!$B$227","v":0},"#'T2-B(PP2)'!$B$227"]
["pp2_bl5_2_6_rate_in",{"$f":"'T2-B(PP2)'!$E$227","v":0},"#'T2-B(PP2)'!$E$227"]
["pp2_bl5_2_6_rate_out",{"$f":"'T2-B(PP2)'!$H$227","v":0},"#'T2-B(PP2)'!$H$227"]
["pp2_bl5_2_6_total",{"$f":"'T2-B(PP2)'!$J$227","v":0},"#'T2-B(PP2)'!$J$227"]
["pp2_bl5_2_6_total_in",{"$f":"'T2-B(PP2)'!$F$227","v":0},"#'T2-B(PP2)'!$F$227"]
["pp2_bl5_2_6_total_out",{"$f":"'T2-B(PP2)'!$I$227","v":0},"#'T2-B(PP2)'!$I$227"]
["pp2_bl5_2_6_unit",{"$f":"'T2-B(PP2)'!$C$227","v":0},"#'T2-B(PP2)'!$C$227"]
["pp2_bl5_2_6_unit_in",{"$f":"'T2-B(PP2)'!$D$227","v":0},"#'T2-B(PP2)'!$D$227"]
["pp2_bl5_2_6_units_out",{"$f":"'T2-B(PP2)'!$G$227","v":0},"#'T2-B(PP2)'!$G$227"]
["pp2_bl5_2_7_name",{"$f":"'T2-B(PP2)'!$B$228","v":0},"#'T2-B(PP2)'!$B$228"]
["pp2_bl5_2_7_rate_in",{"$f":"'T2-B(PP2)'!$E$228","v":0},"#'T2-B(PP2)'!$E$228"]
["pp2_bl5_2_7_rate_out",{"$f":"'T2-B(PP2)'!$H$228","v":0},"#'T2-B(PP2)'!$H$228"]
["pp2_bl5_2_7_total",{"$f":"'T2-B(PP2)'!$J$228","v":0},"#'T2-B(PP2)'!$J$228"]
["pp2_bl5_2_7_total_in",{"$f":"'T2-B(PP2)'!$F$228","v":0},"#'T2-B(PP2)'!$F$228"]
["pp2_bl5_2_7_total_out",{"$f":"'T2-B(PP2)'!$I$228","v":0},"#'T2-B(PP2)'!$I$228"]
["pp2_bl5_2_7_unit",{"$f":"'T2-B(PP2)'!$C$228","v":0},"#'T2-B(PP2)'!$C$228"]
["pp2_bl5_2_7_unit_in",{"$f":"'T2-B(PP2)'!$D$228","v":0},"#'T2-B(PP2)'!$D$228"]
["pp2_bl5_2_7_units_out",{"$f":"'T2-B(PP2)'!$G$228","v":0},"#'T2-B(PP2)'!$G$228"]
["pp2_bl5_2_8_name",{"$f":"'T2-B(PP2)'!$B$229","v":0},"#'T2-B(PP2)'!$B$229"]
["pp2_bl5_2_8_rate_in",{"$f":"'T2-B(PP2)'!$E$229","v":0},"#'T2-B(PP2)'!$E$229"]
["pp2_bl5_2_8_rate_out",{"$f":"'T2-B(PP2)'!$H$229","v":0},"#'T2-B(PP2)'!$H$229"]
["pp2_bl5_2_8_total",{"$f":"'T2-B(PP2)'!$J$229","v":0},"#'T2-B(PP2)'!$J$229"]
["pp2_bl5_2_8_total_in",{"$f":"'T2-B(PP2)'!$F$229","v":0},"#'T2-B(PP2)'!$F$229"]
["pp2_bl5_2_8_total_out",{"$f":"'T2-B(PP2)'!$I$229","v":0},"#'T2-B(PP2)'!$I$229"]
["pp2_bl5_2_8_unit",{"$f":"'T2-B(PP2)'!$C$229","v":0},"#'T2-B(PP2)'!$C$229"]
["pp2_bl5_2_8_unit_in",{"$f":"'T2-B(PP2)'!$D$229","v":0},"#'T2-B(PP2)'!$D$229"]
["pp2_bl5_2_8_units_out",{"$f":"'T2-B(PP2)'!$G$229","v":0},"#'T2-B(PP2)'!$G$229"]
["pp2_bl5_2_9_name",{"$f":"'T2-B(PP2)'!$B$230","v":0},"#'T2-B(PP2)'!$B$230"]
["pp2_bl5_2_9_rate_in",{"$f":"'T2-B(PP2)'!$E$230","v":0},"#'T2-B(PP2)'!$E$230"]
["pp2_bl5_2_9_rate_out",{"$f":"'T2-B(PP2)'!$H$230","v":0},"#'T2-B(PP2)'!$H$230"]
["pp2_bl5_2_9_total",{"$f":"'T2-B(PP2)'!$J$230","v":0},"#'T2-B(PP2)'!$J$230"]
["pp2_bl5_2_9_total_in",{"$f":"'T2-B(PP2)'!$F$230","v":0},"#'T2-B(PP2)'!$F$230"]
["pp2_bl5_2_9_total_out",{"$f":"'T2-B(PP2)'!$I$230","v":0},"#'T2-B(PP2)'!$I$230"]
["pp2_bl5_2_9_unit",{"$f":"'T2-B(PP2)'!$C$230","v":0},"#'T2-B(PP2)'!$C$230"]
["pp2_bl5_2_9_unit_in",{"$f":"'T2-B(PP2)'!$D$230","v":0},"#'T2-B(PP2)'!$D$230"]
["pp2_bl5_2_9_units_out",{"$f":"'T2-B(PP2)'!$G$230","v":0},"#'T2-B(PP2)'!$G$230"]
["pp2_bl5_2_total",{"$f":"'T2-B(PP2)'!$J$221","v":0},"#'T2-B(PP2)'!$J$221"]
["pp2_bl5_2_total_in",{"$f":"'T2-B(PP2)'!$F$221","v":0},"#'T2-B(PP2)'!$F$221"]
["pp2_bl5_2_total_out",{"$f":"'T2-B(PP2)'!$I$221","v":0},"#'T2-B(PP2)'!$I$221"]
["pp2_bl5_total",{"$f":"'T2-B(PP2)'!$J$232","v":0},"#'T2-B(PP2)'!$J$232"]
["pp2_bl5_total_in",{"$f":"'T2-B(PP2)'!$F$232","v":0},"#'T2-B(PP2)'!$F$232"]
["pp2_bl5_total_out",{"$f":"'T2-B(PP2)'!$I$232","v":0},"#'T2-B(PP2)'!$I$232"]
["pp2_bl6_1_1_name",{"$f":"'T2-B(PP2)'!$B$236","v":0},"#'T2-B(PP2)'!$B$236"]
["pp2_bl6_1_1_rate_in",{"$f":"'T2-B(PP2)'!$E$236","v":0},"#'T2-B(PP2)'!$E$236"]
["pp2_bl6_1_1_rate_out",{"$f":"'T2-B(PP2)'!$H$236","v":0},"#'T2-B(PP2)'!$H$236"]
["pp2_bl6_1_1_total",{"$f":"'T2-B(PP2)'!$J$236","v":0},"#'T2-B(PP2)'!$J$236"]
["pp2_bl6_1_1_total_in",{"$f":"'T2-B(PP2)'!$F$236","v":0},"#'T2-B(PP2)'!$F$236"]
["pp2_bl6_1_1_total_out",{"$f":"'T2-B(PP2)'!$I$236","v":0},"#'T2-B(PP2)'!$I$236"]
["pp2_bl6_1_1_unit",{"$f":"'T2-B(PP2)'!$C$236","v":0},"#'T2-B(PP2)'!$C$236"]
["pp2_bl6_1_1_unit_in",{"$f":"'T2-B(PP2)'!$D$236","v":0},"#'T2-B(PP2)'!$D$236"]
["pp2_bl6_1_1_units_out",{"$f":"'T2-B(PP2)'!$G$236","v":0},"#'T2-B(PP2)'!$G$236"]
["pp2_bl6_1_10_name",{"$f":"'T2-B(PP2)'!$B$245","v":0},"#'T2-B(PP2)'!$B$245"]
["pp2_bl6_1_10_rate_in",{"$f":"'T2-B(PP2)'!$E$245","v":0},"#'T2-B(PP2)'!$E$245"]
["pp2_bl6_1_10_rate_out",{"$f":"'T2-B(PP2)'!$H$245","v":0},"#'T2-B(PP2)'!$H$245"]
["pp2_bl6_1_10_total",{"$f":"'T2-B(PP2)'!$J$245","v":0},"#'T2-B(PP2)'!$J$245"]
["pp2_bl6_1_10_total_in",{"$f":"'T2-B(PP2)'!$F$245","v":0},"#'T2-B(PP2)'!$F$245"]
["pp2_bl6_1_10_total_out",{"$f":"'T2-B(PP2)'!$I$245","v":0},"#'T2-B(PP2)'!$I$245"]
["pp2_bl6_1_10_unit",{"$f":"'T2-B(PP2)'!$C$245","v":0},"#'T2-B(PP2)'!$C$245"]
["pp2_bl6_1_10_unit_in",{"$f":"'T2-B(PP2)'!$D$245","v":0},"#'T2-B(PP2)'!$D$245"]
["pp2_bl6_1_10_units_out",{"$f":"'T2-B(PP2)'!$G$245","v":0},"#'T2-B(PP2)'!$G$245"]
["pp2_bl6_1_2_name",{"$f":"'T2-B(PP2)'!$B$237","v":0},"#'T2-B(PP2)'!$B$237"]
["pp2_bl6_1_2_rate_in",{"$f":"'T2-B(PP2)'!$E$237","v":0},"#'T2-B(PP2)'!$E$237"]
["pp2_bl6_1_2_rate_out",{"$f":"'T2-B(PP2)'!$H$237","v":0},"#'T2-B(PP2)'!$H$237"]
["pp2_bl6_1_2_total",{"$f":"'T2-B(PP2)'!$J$237","v":0},"#'T2-B(PP2)'!$J$237"]
["pp2_bl6_1_2_total_in",{"$f":"'T2-B(PP2)'!$F$237","v":0},"#'T2-B(PP2)'!$F$237"]
["pp2_bl6_1_2_total_out",{"$f":"'T2-B(PP2)'!$I$237","v":0},"#'T2-B(PP2)'!$I$237"]
["pp2_bl6_1_2_unit",{"$f":"'T2-B(PP2)'!$C$237","v":0},"#'T2-B(PP2)'!$C$237"]
["pp2_bl6_1_2_unit_in",{"$f":"'T2-B(PP2)'!$D$237","v":0},"#'T2-B(PP2)'!$D$237"]
["pp2_bl6_1_2_units_out",{"$f":"'T2-B(PP2)'!$G$237","v":0},"#'T2-B(PP2)'!$G$237"]
["pp2_bl6_1_3_name",{"$f":"'T2-B(PP2)'!$B$238","v":0},"#'T2-B(PP2)'!$B$238"]
["pp2_bl6_1_3_rate_in",{"$f":"'T2-B(PP2)'!$E$238","v":0},"#'T2-B(PP2)'!$E$238"]
["pp2_bl6_1_3_rate_out",{"$f":"'T2-B(PP2)'!$H$238","v":0},"#'T2-B(PP2)'!$H$238"]
["pp2_bl6_1_3_total",{"$f":"'T2-B(PP2)'!$J$238","v":0},"#'T2-B(PP2)'!$J$238"]
["pp2_bl6_1_3_total_in",{"$f":"'T2-B(PP2)'!$F$238","v":0},"#'T2-B(PP2)'!$F$238"]
["pp2_bl6_1_3_total_out",{"$f":"'T2-B(PP2)'!$I$238","v":0},"#'T2-B(PP2)'!$I$238"]
["pp2_bl6_1_3_unit",{"$f":"'T2-B(PP2)'!$C$238","v":0},"#'T2-B(PP2)'!$C$238"]
["pp2_bl6_1_3_unit_in",{"$f":"'T2-B(PP2)'!$D$238","v":0},"#'T2-B(PP2)'!$D$238"]
["pp2_bl6_1_3_units_out",{"$f":"'T2-B(PP2)'!$G$238","v":0},"#'T2-B(PP2)'!$G$238"]
["pp2_bl6_1_4_name",{"$f":"'T2-B(PP2)'!$B$239","v":0},"#'T2-B(PP2)'!$B$239"]
["pp2_bl6_1_4_rate_in",{"$f":"'T2-B(PP2)'!$E$239","v":0},"#'T2-B(PP2)'!$E$239"]
["pp2_bl6_1_4_rate_out",{"$f":"'T2-B(PP2)'!$H$239","v":0},"#'T2-B(PP2)'!$H$239"]
["pp2_bl6_1_4_total",{"$f":"'T2-B(PP2)'!$J$239","v":0},"#'T2-B(PP2)'!$J$239"]
["pp2_bl6_1_4_total_in",{"$f":"'T2-B(PP2)'!$F$239","v":0},"#'T2-B(PP2)'!$F$239"]
["pp2_bl6_1_4_total_out",{"$f":"'T2-B(PP2)'!$I$239","v":0},"#'T2-B(PP2)'!$I$239"]
["pp2_bl6_1_4_unit",{"$f":"'T2-B(PP2)'!$C$239","v":0},"#'T2-B(PP2)'!$C$239"]
["pp2_bl6_1_4_unit_in",{"$f":"'T2-B(PP2)'!$D$239","v":0},"#'T2-B(PP2)'!$D$239"]
["pp2_bl6_1_4_units_out",{"$f":"'T2-B(PP2)'!$G$239","v":0},"#'T2-B(PP2)'!$G$239"]
["pp2_bl6_1_5_name",{"$f":"'T2-B(PP2)'!$B$240","v":0},"#'T2-B(PP2)'!$B$240"]
["pp2_bl6_1_5_rate_in",{"$f":"'T2-B(PP2)'!$E$240","v":0},"#'T2-B(PP2)'!$E$240"]
["pp2_bl6_1_5_rate_out",{"$f":"'T2-B(PP2)'!$H$240","v":0},"#'T2-B(PP2)'!$H$240"]
["pp2_bl6_1_5_total",{"$f":"'T2-B(PP2)'!$J$240","v":0},"#'T2-B(PP2)'!$J$240"]
["pp2_bl6_1_5_total_in",{"$f":"'T2-B(PP2)'!$F$240","v":0},"#'T2-B(PP2)'!$F$240"]
["pp2_bl6_1_5_total_out",{"$f":"'T2-B(PP2)'!$I$240","v":0},"#'T2-B(PP2)'!$I$240"]
["pp2_bl6_1_5_unit",{"$f":"'T2-B(PP2)'!$C$240","v":0},"#'T2-B(PP2)'!$C$240"]
["pp2_bl6_1_5_unit_in",{"$f":"'T2-B(PP2)'!$D$240","v":0},"#'T2-B(PP2)'!$D$240"]
["pp2_bl6_1_5_units_out",{"$f":"'T2-B(PP2)'!$G$240","v":0},"#'T2-B(PP2)'!$G$240"]
["pp2_bl6_1_6_name",{"$f":"'T2-B(PP2)'!$B$241","v":0},"#'T2-B(PP2)'!$B$241"]
["pp2_bl6_1_6_rate_in",{"$f":"'T2-B(PP2)'!$E$241","v":0},"#'T2-B(PP2)'!$E$241"]
["pp2_bl6_1_6_rate_out",{"$f":"'T2-B(PP2)'!$H$241","v":0},"#'T2-B(PP2)'!$H$241"]
["pp2_bl6_1_6_total",{"$f":"'T2-B(PP2)'!$J$241","v":0},"#'T2-B(PP2)'!$J$241"]
["pp2_bl6_1_6_total_in",{"$f":"'T2-B(PP2)'!$F$241","v":0},"#'T2-B(PP2)'!$F$241"]
["pp2_bl6_1_6_total_out",{"$f":"'T2-B(PP2)'!$I$241","v":0},"#'T2-B(PP2)'!$I$241"]
["pp2_bl6_1_6_unit",{"$f":"'T2-B(PP2)'!$C$241","v":0},"#'T2-B(PP2)'!$C$241"]
["pp2_bl6_1_6_unit_in",{"$f":"'T2-B(PP2)'!$D$241","v":0},"#'T2-B(PP2)'!$D$241"]
["pp2_bl6_1_6_units_out",{"$f":"'T2-B(PP2)'!$G$241","v":0},"#'T2-B(PP2)'!$G$241"]
["pp2_bl6_1_7_name",{"$f":"'T2-B(PP2)'!$B$242","v":0},"#'T2-B(PP2)'!$B$242"]
["pp2_bl6_1_7_rate_in",{"$f":"'T2-B(PP2)'!$E$242","v":0},"#'T2-B(PP2)'!$E$242"]
["pp2_bl6_1_7_rate_out",{"$f":"'T2-B(PP2)'!$H$242","v":0},"#'T2-B(PP2)'!$H$242"]
["pp2_bl6_1_7_total",{"$f":"'T2-B(PP2)'!$J$242","v":0},"#'T2-B(PP2)'!$J$242"]
["pp2_bl6_1_7_total_in",{"$f":"'T2-B(PP2)'!$F$242","v":0},"#'T2-B(PP2)'!$F$242"]
["pp2_bl6_1_7_total_out",{"$f":"'T2-B(PP2)'!$I$242","v":0},"#'T2-B(PP2)'!$I$242"]
["pp2_bl6_1_7_unit",{"$f":"'T2-B(PP2)'!$C$242","v":0},"#'T2-B(PP2)'!$C$242"]
["pp2_bl6_1_7_unit_in",{"$f":"'T2-B(PP2)'!$D$242","v":0},"#'T2-B(PP2)'!$D$242"]
["pp2_bl6_1_7_units_out",{"$f":"'T2-B(PP2)'!$G$242","v":0},"#'T2-B(PP2)'!$G$242"]
["pp2_bl6_1_8_name",{"$f":"'T2-B(PP2)'!$B$243","v":0},"#'T2-B(PP2)'!$B$243"]
["pp2_bl6_1_8_rate_in",{"$f":"'T2-B(PP2)'!$E$243","v":0},"#'T2-B(PP2)'!$E$243"]
["pp2_bl6_1_8_rate_out",{"$f":"'T2-B(PP2)'!$H$243","v":0},"#'T2-B(PP2)'!$H$243"]
["pp2_bl6_1_8_total",{"$f":"'T2-B(PP2)'!$J$243","v":0},"#'T2-B(PP2)'!$J$243"]
["pp2_bl6_1_8_total_in",{"$f":"'T2-B(PP2)'!$F$243","v":0},"#'T2-B(PP2)'!$F$243"]
["pp2_bl6_1_8_total_out",{"$f":"'T2-B(PP2)'!$I$243","v":0},"#'T2-B(PP2)'!$I$243"]
["pp2_bl6_1_8_unit",{"$f":"'T2-B(PP2)'!$C$243","v":0},"#'T2-B(PP2)'!$C$243"]
["pp2_bl6_1_8_unit_in",{"$f":"'T2-B(PP2)'!$D$243","v":0},"#'T2-B(PP2)'!$D$243"]
["pp2_bl6_1_8_units_out",{"$f":"'T2-B(PP2)'!$G$243","v":0},"#'T2-B(PP2)'!$G$243"]
["pp2_bl6_1_9_name",{"$f":"'T2-B(PP2)'!$B$244","v":0},"#'T2-B(PP2)'!$B$244"]
["pp2_bl6_1_9_rate_in",{"$f":"'T2-B(PP2)'!$E$244","v":0},"#'T2-B(PP2)'!$E$244"]
["pp2_bl6_1_9_rate_out",{"$f":"'T2-B(PP2)'!$H$244","v":0},"#'T2-B(PP2)'!$H$244"]
["pp2_bl6_1_9_total",{"$f":"'T2-B(PP2)'!$J$244","v":0},"#'T2-B(PP2)'!$J$244"]
["pp2_bl6_1_9_total_in",{"$f":"'T2-B(PP2)'!$F$244","v":0},"#'T2-B(PP2)'!$F$244"]
["pp2_bl6_1_9_total_out",{"$f":"'T2-B(PP2)'!$I$244","v":0},"#'T2-B(PP2)'!$I$244"]
["pp2_bl6_1_9_unit",{"$f":"'T2-B(PP2)'!$C$244","v":0},"#'T2-B(PP2)'!$C$244"]
["pp2_bl6_1_9_unit_in",{"$f":"'T2-B(PP2)'!$D$244","v":0},"#'T2-B(PP2)'!$D$244"]
["pp2_bl6_1_9_units_out",{"$f":"'T2-B(PP2)'!$G$244","v":0},"#'T2-B(PP2)'!$G$244"]
["pp2_bl6_1_total",{"$f":"'T2-B(PP2)'!$J$235","v":0},"#'T2-B(PP2)'!$J$235"]
["pp2_bl6_1_total_in",{"$f":"'T2-B(PP2)'!$F$235","v":"TOTAL"},"#'T2-B(PP2)'!$F$235"]
["pp2_bl6_1_total_out",{"$f":"'T2-B(PP2)'!$I$235","v":"TOTAL"},"#'T2-B(PP2)'!$I$235"]
["pp2_bl6_total",{"$f":"'T2-B(PP2)'!$J$246","v":0},"#'T2-B(PP2)'!$J$246"]
["pp2_bl6_total_in",{"$f":"'T2-B(PP2)'!$F$246","v":0},"#'T2-B(PP2)'!$F$246"]
["pp2_bl6_total_out",{"$f":"'T2-B(PP2)'!$I$246","v":0},"#'T2-B(PP2)'!$I$246"]
["pp2_country",{"$f":"'PP2'!$K$14","v":1},"#'PP2'!$K$14"]
["pp2_fax",{"$f":"'PP2'!$C$29","v":0},"#'PP2'!$C$29"]
["pp2_is_bg",{"$f":"'PP2'!$D$13","v":0},"#'PP2'!$D$13"]
["pp2_is_pc",{"$f":"'PP2'!$F$13","v":0},"#'PP2'!$F$13"]
["pp2_legal_representative",{"$f":"'PP2'!$C$23","v":0},"#'PP2'!$C$23"]
["pp2_legal_representative_position",{"$f":"'PP2'!$C$25","v":0},"#'PP2'!$C$25"]
["pp2_mail",{"$f":"'PP2'!$C$31","v":0},"#'PP2'!$C$31"]
["pp2_nat_code",{"$f":"'PP2'!$C$70","v":0},"#'PP2'!$C$70"]
["pp2_nuts3",{"$f":"'PP2'!$C$15","v":0},"#'PP2'!$C$15"]
["pp2_organisation_en",{"$f":"'PP2'!$C$7","v":0},"#'PP2'!$C$7"]
["pp2_organisation_native",{"$f":"'PP2'!$C$9","v":0},"#'PP2'!$C$9"]
["pp2_pe_date1",{"$f":"'PP2'!$G$47","v":0},"#'PP2'!$G$47"]
["pp2_pe_date2",{"$f":"'PP2'!$G$55","v":0},"#'PP2'!$G$55"]
["pp2_pe_date3",{"$f":"'PP2'!$G$63","v":0},"#'PP2'!$G$63"]
["pp2_pe_ga1",{"$f":"'PP2'!$G$46","v":0},"#'PP2'!$G$46"]
["pp2_pe_ga2",{"$f":"'PP2'!$G$54","v":0},"#'PP2'!$G$54"]
["pp2_pe_ga3",{"$f":"'PP2'!$G$62","v":0},"#'PP2'!$G$62"]
["pp2_pe_ip1",{"$f":"'PP2'!$C$43","v":0},"#'PP2'!$C$43"]
["pp2_pe_ip2",{"$f":"'PP2'!$C$51","v":0},"#'PP2'!$C$51"]
["pp2_pe_ip3",{"$f":"'PP2'!$C$59","v":0},"#'PP2'!$C$59"]
["pp2_pe_or1",{"$f":"'PP2'!$C$47","v":0},"#'PP2'!$C$47"]
["pp2_pe_or2",{"$f":"'PP2'!$C$55","v":0},"#'PP2'!$C$55"]
["pp2_pe_or3",{"$f":"'PP2'!$C$63","v":0},"#'PP2'!$C$63"]
["pp2_pe_pt1",{"$f":"'PP2'!$C$44","v":0},"#'PP2'!$C$44"]
["pp2_pe_pt2",{"$f":"'PP2'!$C$52","v":0},"#'PP2'!$C$52"]
["pp2_pe_pt3",{"$f":"'PP2'!$C$60","v":0},"#'PP2'!$C$60"]
["pp2_pe_sd1",{"$f":"'PP2'!$C$45","v":0},"#'PP2'!$C$45"]
["pp2_pe_sd2",{"$f":"'PP2'!$C$53","v":0},"#'PP2'!$C$53"]
["pp2_pe_sd3",{"$f":"'PP2'!$C$61","v":0},"#'PP2'!$C$61"]
["pp2_pe_tev1",{"$f":"'PP2'!$C$46","v":0},"#'PP2'!$C$46"]
["pp2_pe_tev2",{"$f":"'PP2'!$C$54","v":0},"#'PP2'!$C$54"]
["pp2_pe_tev3",{"$f":"'PP2'!$C$62","v":0},"#'PP2'!$C$62"]
["pp2_phone",{"$f":"'PP2'!$C$27","v":0},"#'PP2'!$C$27"]
["pp2_post_code",{"$f":"'PP2'!$C$21","v":0},"#'PP2'!$C$21"]
["pp2_profile",{"$f":"'PP2'!$B$38","v":0},"#'PP2'!$B$38"]
["pp2_proj_direct_total",{"$f":"'T2-B(PP2)'!$J$248","v":0},"#'T2-B(PP2)'!$J$248"]
["pp2_proj_direct_total_in",{"$f":"'T2-B(PP2)'!$F$248","v":0},"#'T2-B(PP2)'!$F$248"]
["pp2_proj_direct_total_out",{"$f":"'T2-B(PP2)'!$I$248","v":0},"#'T2-B(PP2)'!$I$248"]
["pp2_proj_total",{"$f":"'T2-B(PP2)'!$J$249","v":0},"#'T2-B(PP2)'!$J$249"]
["pp2_proj_total_in",{"$f":"'T2-B(PP2)'!$F$249","v":0},"#'T2-B(PP2)'!$F$249"]
["pp2_proj_total_out",{"$f":"'T2-B(PP2)'!$G$249","v":0},"#'T2-B(PP2)'!$G$249"]
["pp2_town",{"$f":"'PP2'!$C$17","v":0},"#'PP2'!$C$17"]
["pp2_type_org",{"$f":"'PP2'!$C$11","v":""},"#'PP2'!$C$11"]
["pp2_vat_code",{"$f":"'PP2'!$C$72","v":0},"#'PP2'!$C$72"]
["pp2_website",{"$f":"'PP2'!$C$33","v":0},"#'PP2'!$C$33"]
["pp3_2012_fulltime_staff",{"$f":"'PP3'!$D$79","v":0},"#'PP3'!$D$79"]
["pp3_2012_offices",{"$f":"'PP3'!$F$79","v":0},"#'PP3'!$F$79"]
["pp3_2012_parttime_staff",{"$f":"'PP3'!$E$79","v":0},"#'PP3'!$E$79"]
["pp3_2012_turnover",{"$f":"'PP3'!$C$79","v":0},"#'PP3'!$C$79"]
["pp3_2013_fulltime_staff",{"$f":"'PP3'!$D$78","v":0},"#'PP3'!$D$78"]
["pp3_2013_offices",{"$f":"'PP3'!$F$78","v":0},"#'PP3'!$F$78"]
["pp3_2013_parttime_staff",{"$f":"'PP3'!$E$78","v":0},"#'PP3'!$E$78"]
["pp3_2013_turnover",{"$f":"'PP3'!$C$78","v":0},"#'PP3'!$C$78"]
["pp3_2014_fulltime_staff",{"$f":"'PP3'!$D$77","v":0},"#'PP3'!$D$77"]
["pp3_2014_offices",{"$f":"'PP3'!$F$77","v":0},"#'PP3'!$F$77"]
["pp3_2014_parttime_staff",{"$f":"'PP3'!$E$77","v":0},"#'PP3'!$E$77"]
["pp3_2014_turnover",{"$f":"'PP3'!$C$77","v":0},"#'PP3'!$C$77"]
["pp3_address",{"$f":"'PP3'!$C$19","v":0},"#'PP3'!$C$19"]
["pp3_bl1_1_name",{"$f":"'T2-B(PP3)'!$B$5","v":"0 project"},"#'T2-B(PP3)'!$B$5"]
["pp3_bl1_1_perc",{"$f":"'T2-B(PP3)'!$G$5","v":10},"#'T2-B(PP3)'!$G$5"]
["pp3_bl1_1_total",{"$f":"'T2-B(PP3)'!$I$5","v":0},"#'T2-B(PP3)'!$I$5"]
["pp3_bl1_total",{"$f":"'T2-B(PP3)'!$I$6","v":0},"#'T2-B(PP3)'!$I$6"]
["pp3_bl2_1_name",{"$f":"'T2-B(PP3)'!$B$10","v":"0 project"},"#'T2-B(PP3)'!$B$10"]
["pp3_bl2_1_perc",{"$f":"'T2-B(PP3)'!$G$10","v":0},"#'T2-B(PP3)'!$G$10"]
["pp3_bl2_1_total",{"$f":"'T2-B(PP3)'!$I$10","v":0},"#'T2-B(PP3)'!$I$10"]
["pp3_bl2_total",{"$f":"'T2-B(PP3)'!$I$11","v":0},"#'T2-B(PP3)'!$I$11"]
["pp3_bl3_1_1_name",{"$f":"'T2-B(PP3)'!$B$16","v":0},"#'T2-B(PP3)'!$B$16"]
["pp3_bl3_1_1_rate_in",{"$f":"'T2-B(PP3)'!$E$16","v":0},"#'T2-B(PP3)'!$E$16"]
["pp3_bl3_1_1_rate_out",{"$f":"'T2-B(PP3)'!$H$16","v":0},"#'T2-B(PP3)'!$H$16"]
["pp3_bl3_1_1_total",{"$f":"'T2-B(PP3)'!$J$16","v":0},"#'T2-B(PP3)'!$J$16"]
["pp3_bl3_1_1_total_in",{"$f":"'T2-B(PP3)'!$F$16","v":0},"#'T2-B(PP3)'!$F$16"]
["pp3_bl3_1_1_total_out",{"$f":"'T2-B(PP3)'!$I$16","v":0},"#'T2-B(PP3)'!$I$16"]
["pp3_bl3_1_1_unit",{"$f":"'T2-B(PP3)'!$C$16","v":0},"#'T2-B(PP3)'!$C$16"]
["pp3_bl3_1_1_unit_in",{"$f":"'T2-B(PP3)'!$D$16","v":0},"#'T2-B(PP3)'!$D$16"]
["pp3_bl3_1_1_units_out",{"$f":"'T2-B(PP3)'!$G$16","v":0},"#'T2-B(PP3)'!$G$16"]
["pp3_bl3_1_10_name",{"$f":"'T2-B(PP3)'!$B$25","v":0},"#'T2-B(PP3)'!$B$25"]
["pp3_bl3_1_10_rate_in",{"$f":"'T2-B(PP3)'!$E$25","v":0},"#'T2-B(PP3)'!$E$25"]
["pp3_bl3_1_10_rate_out",{"$f":"'T2-B(PP3)'!$H$25","v":0},"#'T2-B(PP3)'!$H$25"]
["pp3_bl3_1_10_total",{"$f":"'T2-B(PP3)'!$J$25","v":0},"#'T2-B(PP3)'!$J$25"]
["pp3_bl3_1_10_total_in",{"$f":"'T2-B(PP3)'!$F$25","v":0},"#'T2-B(PP3)'!$F$25"]
["pp3_bl3_1_10_total_out",{"$f":"'T2-B(PP3)'!$I$25","v":0},"#'T2-B(PP3)'!$I$25"]
["pp3_bl3_1_10_unit",{"$f":"'T2-B(PP3)'!$C$25","v":0},"#'T2-B(PP3)'!$C$25"]
["pp3_bl3_1_10_unit_in",{"$f":"'T2-B(PP3)'!$D$25","v":0},"#'T2-B(PP3)'!$D$25"]
["pp3_bl3_1_10_units_out",{"$f":"'T2-B(PP3)'!$G$25","v":0},"#'T2-B(PP3)'!$G$25"]
["pp3_bl3_1_2_name",{"$f":"'T2-B(PP3)'!$B$17","v":0},"#'T2-B(PP3)'!$B$17"]
["pp3_bl3_1_2_rate_in",{"$f":"'T2-B(PP3)'!$E$17","v":0},"#'T2-B(PP3)'!$E$17"]
["pp3_bl3_1_2_rate_out",{"$f":"'T2-B(PP3)'!$H$17","v":0},"#'T2-B(PP3)'!$H$17"]
["pp3_bl3_1_2_total",{"$f":"'T2-B(PP3)'!$J$17","v":0},"#'T2-B(PP3)'!$J$17"]
["pp3_bl3_1_2_total_in",{"$f":"'T2-B(PP3)'!$F$17","v":0},"#'T2-B(PP3)'!$F$17"]
["pp3_bl3_1_2_total_out",{"$f":"'T2-B(PP3)'!$I$17","v":0},"#'T2-B(PP3)'!$I$17"]
["pp3_bl3_1_2_unit",{"$f":"'T2-B(PP3)'!$C$17","v":0},"#'T2-B(PP3)'!$C$17"]
["pp3_bl3_1_2_unit_in",{"$f":"'T2-B(PP3)'!$D$17","v":0},"#'T2-B(PP3)'!$D$17"]
["pp3_bl3_1_2_units_out",{"$f":"'T2-B(PP3)'!$G$17","v":0},"#'T2-B(PP3)'!$G$17"]
["pp3_bl3_1_3_name",{"$f":"'T2-B(PP3)'!$B$18","v":0},"#'T2-B(PP3)'!$B$18"]
["pp3_bl3_1_3_rate_in",{"$f":"'T2-B(PP3)'!$E$18","v":0},"#'T2-B(PP3)'!$E$18"]
["pp3_bl3_1_3_rate_out",{"$f":"'T2-B(PP3)'!$H$18","v":0},"#'T2-B(PP3)'!$H$18"]
["pp3_bl3_1_3_total",{"$f":"'T2-B(PP3)'!$J$18","v":0},"#'T2-B(PP3)'!$J$18"]
["pp3_bl3_1_3_total_in",{"$f":"'T2-B(PP3)'!$F$18","v":0},"#'T2-B(PP3)'!$F$18"]
["pp3_bl3_1_3_total_out",{"$f":"'T2-B(PP3)'!$I$18","v":0},"#'T2-B(PP3)'!$I$18"]
["pp3_bl3_1_3_unit",{"$f":"'T2-B(PP3)'!$C$18","v":0},"#'T2-B(PP3)'!$C$18"]
["pp3_bl3_1_3_unit_in",{"$f":"'T2-B(PP3)'!$D$18","v":0},"#'T2-B(PP3)'!$D$18"]
["pp3_bl3_1_3_units_out",{"$f":"'T2-B(PP3)'!$G$18","v":0},"#'T2-B(PP3)'!$G$18"]
["pp3_bl3_1_4_name",{"$f":"'T2-B(PP3)'!$B$19","v":0},"#'T2-B(PP3)'!$B$19"]
["pp3_bl3_1_4_rate_in",{"$f":"'T2-B(PP3)'!$E$19","v":0},"#'T2-B(PP3)'!$E$19"]
["pp3_bl3_1_4_rate_out",{"$f":"'T2-B(PP3)'!$H$19","v":0},"#'T2-B(PP3)'!$H$19"]
["pp3_bl3_1_4_total",{"$f":"'T2-B(PP3)'!$J$19","v":0},"#'T2-B(PP3)'!$J$19"]
["pp3_bl3_1_4_total_in",{"$f":"'T2-B(PP3)'!$F$19","v":0},"#'T2-B(PP3)'!$F$19"]
["pp3_bl3_1_4_total_out",{"$f":"'T2-B(PP3)'!$I$19","v":0},"#'T2-B(PP3)'!$I$19"]
["pp3_bl3_1_4_unit",{"$f":"'T2-B(PP3)'!$C$19","v":0},"#'T2-B(PP3)'!$C$19"]
["pp3_bl3_1_4_unit_in",{"$f":"'T2-B(PP3)'!$D$19","v":0},"#'T2-B(PP3)'!$D$19"]
["pp3_bl3_1_4_units_out",{"$f":"'T2-B(PP3)'!$G$19","v":0},"#'T2-B(PP3)'!$G$19"]
["pp3_bl3_1_5_name",{"$f":"'T2-B(PP3)'!$B$20","v":0},"#'T2-B(PP3)'!$B$20"]
["pp3_bl3_1_5_rate_in",{"$f":"'T2-B(PP3)'!$E$20","v":0},"#'T2-B(PP3)'!$E$20"]
["pp3_bl3_1_5_rate_out",{"$f":"'T2-B(PP3)'!$H$20","v":0},"#'T2-B(PP3)'!$H$20"]
["pp3_bl3_1_5_total",{"$f":"'T2-B(PP3)'!$J$20","v":0},"#'T2-B(PP3)'!$J$20"]
["pp3_bl3_1_5_total_in",{"$f":"'T2-B(PP3)'!$F$20","v":0},"#'T2-B(PP3)'!$F$20"]
["pp3_bl3_1_5_total_out",{"$f":"'T2-B(PP3)'!$I$20","v":0},"#'T2-B(PP3)'!$I$20"]
["pp3_bl3_1_5_unit",{"$f":"'T2-B(PP3)'!$C$20","v":0},"#'T2-B(PP3)'!$C$20"]
["pp3_bl3_1_5_unit_in",{"$f":"'T2-B(PP3)'!$D$20","v":0},"#'T2-B(PP3)'!$D$20"]
["pp3_bl3_1_5_units_out",{"$f":"'T2-B(PP3)'!$G$20","v":0},"#'T2-B(PP3)'!$G$20"]
["pp3_bl3_1_6_name",{"$f":"'T2-B(PP3)'!$B$21","v":0},"#'T2-B(PP3)'!$B$21"]
["pp3_bl3_1_6_rate_in",{"$f":"'T2-B(PP3)'!$E$21","v":0},"#'T2-B(PP3)'!$E$21"]
["pp3_bl3_1_6_rate_out",{"$f":"'T2-B(PP3)'!$H$21","v":0},"#'T2-B(PP3)'!$H$21"]
["pp3_bl3_1_6_total",{"$f":"'T2-B(PP3)'!$J$21","v":0},"#'T2-B(PP3)'!$J$21"]
["pp3_bl3_1_6_total_in",{"$f":"'T2-B(PP3)'!$F$21","v":0},"#'T2-B(PP3)'!$F$21"]
["pp3_bl3_1_6_total_out",{"$f":"'T2-B(PP3)'!$I$21","v":0},"#'T2-B(PP3)'!$I$21"]
["pp3_bl3_1_6_unit",{"$f":"'T2-B(PP3)'!$C$21","v":0},"#'T2-B(PP3)'!$C$21"]
["pp3_bl3_1_6_unit_in",{"$f":"'T2-B(PP3)'!$D$21","v":0},"#'T2-B(PP3)'!$D$21"]
["pp3_bl3_1_6_units_out",{"$f":"'T2-B(PP3)'!$G$21","v":0},"#'T2-B(PP3)'!$G$21"]
["pp3_bl3_1_7_name",{"$f":"'T2-B(PP3)'!$B$22","v":0},"#'T2-B(PP3)'!$B$22"]
["pp3_bl3_1_7_rate_in",{"$f":"'T2-B(PP3)'!$E$22","v":0},"#'T2-B(PP3)'!$E$22"]
["pp3_bl3_1_7_rate_out",{"$f":"'T2-B(PP3)'!$H$22","v":0},"#'T2-B(PP3)'!$H$22"]
["pp3_bl3_1_7_total",{"$f":"'T2-B(PP3)'!$J$22","v":0},"#'T2-B(PP3)'!$J$22"]
["pp3_bl3_1_7_total_in",{"$f":"'T2-B(PP3)'!$F$22","v":0},"#'T2-B(PP3)'!$F$22"]
["pp3_bl3_1_7_total_out",{"$f":"'T2-B(PP3)'!$I$22","v":0},"#'T2-B(PP3)'!$I$22"]
["pp3_bl3_1_7_unit",{"$f":"'T2-B(PP3)'!$C$22","v":0},"#'T2-B(PP3)'!$C$22"]
["pp3_bl3_1_7_unit_in",{"$f":"'T2-B(PP3)'!$D$22","v":0},"#'T2-B(PP3)'!$D$22"]
["pp3_bl3_1_7_units_out",{"$f":"'T2-B(PP3)'!$G$22","v":0},"#'T2-B(PP3)'!$G$22"]
["pp3_bl3_1_8_name",{"$f":"'T2-B(PP3)'!$B$23","v":0},"#'T2-B(PP3)'!$B$23"]
["pp3_bl3_1_8_rate_in",{"$f":"'T2-B(PP3)'!$E$23","v":0},"#'T2-B(PP3)'!$E$23"]
["pp3_bl3_1_8_rate_out",{"$f":"'T2-B(PP3)'!$H$23","v":0},"#'T2-B(PP3)'!$H$23"]
["pp3_bl3_1_8_total",{"$f":"'T2-B(PP3)'!$J$23","v":0},"#'T2-B(PP3)'!$J$23"]
["pp3_bl3_1_8_total_in",{"$f":"'T2-B(PP3)'!$F$23","v":0},"#'T2-B(PP3)'!$F$23"]
["pp3_bl3_1_8_total_out",{"$f":"'T2-B(PP3)'!$I$23","v":0},"#'T2-B(PP3)'!$I$23"]
["pp3_bl3_1_8_unit",{"$f":"'T2-B(PP3)'!$C$23","v":0},"#'T2-B(PP3)'!$C$23"]
["pp3_bl3_1_8_unit_in",{"$f":"'T2-B(PP3)'!$D$23","v":0},"#'T2-B(PP3)'!$D$23"]
["pp3_bl3_1_8_units_out",{"$f":"'T2-B(PP3)'!$G$23","v":0},"#'T2-B(PP3)'!$G$23"]
["pp3_bl3_1_9_name",{"$f":"'T2-B(PP3)'!$B$24","v":0},"#'T2-B(PP3)'!$B$24"]
["pp3_bl3_1_9_rate_in",{"$f":"'T2-B(PP3)'!$E$24","v":0},"#'T2-B(PP3)'!$E$24"]
["pp3_bl3_1_9_rate_out",{"$f":"'T2-B(PP3)'!$H$24","v":0},"#'T2-B(PP3)'!$H$24"]
["pp3_bl3_1_9_total",{"$f":"'T2-B(PP3)'!$J$24","v":0},"#'T2-B(PP3)'!$J$24"]
["pp3_bl3_1_9_total_in",{"$f":"'T2-B(PP3)'!$F$24","v":0},"#'T2-B(PP3)'!$F$24"]
["pp3_bl3_1_9_total_out",{"$f":"'T2-B(PP3)'!$I$24","v":0},"#'T2-B(PP3)'!$I$24"]
["pp3_bl3_1_9_unit",{"$f":"'T2-B(PP3)'!$C$24","v":0},"#'T2-B(PP3)'!$C$24"]
["pp3_bl3_1_9_unit_in",{"$f":"'T2-B(PP3)'!$D$24","v":0},"#'T2-B(PP3)'!$D$24"]
["pp3_bl3_1_9_units_out",{"$f":"'T2-B(PP3)'!$G$24","v":0},"#'T2-B(PP3)'!$G$24"]
["pp3_bl3_1_total",{"$f":"'T2-B(PP3)'!$J$15","v":0},"#'T2-B(PP3)'!$J$15"]
["pp3_bl3_1_total_in",{"$f":"'T2-B(PP3)'!$F$15","v":0},"#'T2-B(PP3)'!$F$15"]
["pp3_bl3_1_total_out",{"$f":"'T2-B(PP3)'!$I$15","v":0},"#'T2-B(PP3)'!$I$15"]
["pp3_bl3_2_1_name",{"$f":"'T2-B(PP3)'!$B$27","v":0},"#'T2-B(PP3)'!$B$27"]
["pp3_bl3_2_1_rate_in",{"$f":"'T2-B(PP3)'!$E$27","v":0},"#'T2-B(PP3)'!$E$27"]
["pp3_bl3_2_1_rate_out",{"$f":"'T2-B(PP3)'!$H$27","v":0},"#'T2-B(PP3)'!$H$27"]
["pp3_bl3_2_1_total",{"$f":"'T2-B(PP3)'!$J$27","v":0},"#'T2-B(PP3)'!$J$27"]
["pp3_bl3_2_1_total_in",{"$f":"'T2-B(PP3)'!$F$27","v":0},"#'T2-B(PP3)'!$F$27"]
["pp3_bl3_2_1_total_out",{"$f":"'T2-B(PP3)'!$I$27","v":0},"#'T2-B(PP3)'!$I$27"]
["pp3_bl3_2_1_unit",{"$f":"'T2-B(PP3)'!$C$27","v":0},"#'T2-B(PP3)'!$C$27"]
["pp3_bl3_2_1_unit_in",{"$f":"'T2-B(PP3)'!$D$27","v":0},"#'T2-B(PP3)'!$D$27"]
["pp3_bl3_2_1_units_out",{"$f":"'T2-B(PP3)'!$G$27","v":0},"#'T2-B(PP3)'!$G$27"]
["pp3_bl3_2_10_name",{"$f":"'T2-B(PP3)'!$B$36","v":0},"#'T2-B(PP3)'!$B$36"]
["pp3_bl3_2_10_rate_in",{"$f":"'T2-B(PP3)'!$E$36","v":0},"#'T2-B(PP3)'!$E$36"]
["pp3_bl3_2_10_rate_out",{"$f":"'T2-B(PP3)'!$H$36","v":0},"#'T2-B(PP3)'!$H$36"]
["pp3_bl3_2_10_total",{"$f":"'T2-B(PP3)'!$J$36","v":0},"#'T2-B(PP3)'!$J$36"]
["pp3_bl3_2_10_total_in",{"$f":"'T2-B(PP3)'!$F$36","v":0},"#'T2-B(PP3)'!$F$36"]
["pp3_bl3_2_10_total_out",{"$f":"'T2-B(PP3)'!$I$36","v":0},"#'T2-B(PP3)'!$I$36"]
["pp3_bl3_2_10_unit",{"$f":"'T2-B(PP3)'!$C$36","v":0},"#'T2-B(PP3)'!$C$36"]
["pp3_bl3_2_10_unit_in",{"$f":"'T2-B(PP3)'!$D$36","v":0},"#'T2-B(PP3)'!$D$36"]
["pp3_bl3_2_10_units_out",{"$f":"'T2-B(PP3)'!$G$36","v":0},"#'T2-B(PP3)'!$G$36"]
["pp3_bl3_2_2_name",{"$f":"'T2-B(PP3)'!$B$28","v":0},"#'T2-B(PP3)'!$B$28"]
["pp3_bl3_2_2_rate_in",{"$f":"'T2-B(PP3)'!$E$28","v":0},"#'T2-B(PP3)'!$E$28"]
["pp3_bl3_2_2_rate_out",{"$f":"'T2-B(PP3)'!$H$28","v":0},"#'T2-B(PP3)'!$H$28"]
["pp3_bl3_2_2_total",{"$f":"'T2-B(PP3)'!$J$28","v":0},"#'T2-B(PP3)'!$J$28"]
["pp3_bl3_2_2_total_in",{"$f":"'T2-B(PP3)'!$F$28","v":0},"#'T2-B(PP3)'!$F$28"]
["pp3_bl3_2_2_total_out",{"$f":"'T2-B(PP3)'!$I$28","v":0},"#'T2-B(PP3)'!$I$28"]
["pp3_bl3_2_2_unit",{"$f":"'T2-B(PP3)'!$C$28","v":0},"#'T2-B(PP3)'!$C$28"]
["pp3_bl3_2_2_unit_in",{"$f":"'T2-B(PP3)'!$D$28","v":0},"#'T2-B(PP3)'!$D$28"]
["pp3_bl3_2_2_units_out",{"$f":"'T2-B(PP3)'!$G$28","v":0},"#'T2-B(PP3)'!$G$28"]
["pp3_bl3_2_3_name",{"$f":"'T2-B(PP3)'!$B$29","v":0},"#'T2-B(PP3)'!$B$29"]
["pp3_bl3_2_3_rate_in",{"$f":"'T2-B(PP3)'!$E$29","v":0},"#'T2-B(PP3)'!$E$29"]
["pp3_bl3_2_3_rate_out",{"$f":"'T2-B(PP3)'!$H$29","v":0},"#'T2-B(PP3)'!$H$29"]
["pp3_bl3_2_3_total",{"$f":"'T2-B(PP3)'!$J$29","v":0},"#'T2-B(PP3)'!$J$29"]
["pp3_bl3_2_3_total_in",{"$f":"'T2-B(PP3)'!$F$29","v":0},"#'T2-B(PP3)'!$F$29"]
["pp3_bl3_2_3_total_out",{"$f":"'T2-B(PP3)'!$I$29","v":0},"#'T2-B(PP3)'!$I$29"]
["pp3_bl3_2_3_unit",{"$f":"'T2-B(PP3)'!$C$29","v":0},"#'T2-B(PP3)'!$C$29"]
["pp3_bl3_2_3_unit_in",{"$f":"'T2-B(PP3)'!$D$29","v":0},"#'T2-B(PP3)'!$D$29"]
["pp3_bl3_2_3_units_out",{"$f":"'T2-B(PP3)'!$G$29","v":0},"#'T2-B(PP3)'!$G$29"]
["pp3_bl3_2_4_name",{"$f":"'T2-B(PP3)'!$B$30","v":0},"#'T2-B(PP3)'!$B$30"]
["pp3_bl3_2_4_rate_in",{"$f":"'T2-B(PP3)'!$E$30","v":0},"#'T2-B(PP3)'!$E$30"]
["pp3_bl3_2_4_rate_out",{"$f":"'T2-B(PP3)'!$H$30","v":0},"#'T2-B(PP3)'!$H$30"]
["pp3_bl3_2_4_total",{"$f":"'T2-B(PP3)'!$J$30","v":0},"#'T2-B(PP3)'!$J$30"]
["pp3_bl3_2_4_total_in",{"$f":"'T2-B(PP3)'!$F$30","v":0},"#'T2-B(PP3)'!$F$30"]
["pp3_bl3_2_4_total_out",{"$f":"'T2-B(PP3)'!$I$30","v":0},"#'T2-B(PP3)'!$I$30"]
["pp3_bl3_2_4_unit",{"$f":"'T2-B(PP3)'!$C$30","v":0},"#'T2-B(PP3)'!$C$30"]
["pp3_bl3_2_4_unit_in",{"$f":"'T2-B(PP3)'!$D$30","v":0},"#'T2-B(PP3)'!$D$30"]
["pp3_bl3_2_4_units_out",{"$f":"'T2-B(PP3)'!$G$30","v":0},"#'T2-B(PP3)'!$G$30"]
["pp3_bl3_2_5_name",{"$f":"'T2-B(PP3)'!$B$31","v":0},"#'T2-B(PP3)'!$B$31"]
["pp3_bl3_2_5_rate_in",{"$f":"'T2-B(PP3)'!$E$31","v":0},"#'T2-B(PP3)'!$E$31"]
["pp3_bl3_2_5_rate_out",{"$f":"'T2-B(PP3)'!$H$31","v":0},"#'T2-B(PP3)'!$H$31"]
["pp3_bl3_2_5_total",{"$f":"'T2-B(PP3)'!$J$31","v":0},"#'T2-B(PP3)'!$J$31"]
["pp3_bl3_2_5_total_in",{"$f":"'T2-B(PP3)'!$F$31","v":0},"#'T2-B(PP3)'!$F$31"]
["pp3_bl3_2_5_total_out",{"$f":"'T2-B(PP3)'!$I$31","v":0},"#'T2-B(PP3)'!$I$31"]
["pp3_bl3_2_5_unit",{"$f":"'T2-B(PP3)'!$C$31","v":0},"#'T2-B(PP3)'!$C$31"]
["pp3_bl3_2_5_unit_in",{"$f":"'T2-B(PP3)'!$D$31","v":0},"#'T2-B(PP3)'!$D$31"]
["pp3_bl3_2_5_units_out",{"$f":"'T2-B(PP3)'!$G$31","v":0},"#'T2-B(PP3)'!$G$31"]
["pp3_bl3_2_6_name",{"$f":"'T2-B(PP3)'!$B$32","v":0},"#'T2-B(PP3)'!$B$32"]
["pp3_bl3_2_6_rate_in",{"$f":"'T2-B(PP3)'!$E$32","v":0},"#'T2-B(PP3)'!$E$32"]
["pp3_bl3_2_6_rate_out",{"$f":"'T2-B(PP3)'!$H$32","v":0},"#'T2-B(PP3)'!$H$32"]
["pp3_bl3_2_6_total",{"$f":"'T2-B(PP3)'!$J$32","v":0},"#'T2-B(PP3)'!$J$32"]
["pp3_bl3_2_6_total_in",{"$f":"'T2-B(PP3)'!$F$32","v":0},"#'T2-B(PP3)'!$F$32"]
["pp3_bl3_2_6_total_out",{"$f":"'T2-B(PP3)'!$I$32","v":0},"#'T2-B(PP3)'!$I$32"]
["pp3_bl3_2_6_unit",{"$f":"'T2-B(PP3)'!$C$32","v":0},"#'T2-B(PP3)'!$C$32"]
["pp3_bl3_2_6_unit_in",{"$f":"'T2-B(PP3)'!$D$32","v":0},"#'T2-B(PP3)'!$D$32"]
["pp3_bl3_2_6_units_out",{"$f":"'T2-B(PP3)'!$G$32","v":0},"#'T2-B(PP3)'!$G$32"]
["pp3_bl3_2_7_name",{"$f":"'T2-B(PP3)'!$B$33","v":0},"#'T2-B(PP3)'!$B$33"]
["pp3_bl3_2_7_rate_in",{"$f":"'T2-B(PP3)'!$E$33","v":0},"#'T2-B(PP3)'!$E$33"]
["pp3_bl3_2_7_rate_out",{"$f":"'T2-B(PP3)'!$H$33","v":0},"#'T2-B(PP3)'!$H$33"]
["pp3_bl3_2_7_total",{"$f":"'T2-B(PP3)'!$J$33","v":0},"#'T2-B(PP3)'!$J$33"]
["pp3_bl3_2_7_total_in",{"$f":"'T2-B(PP3)'!$F$33","v":0},"#'T2-B(PP3)'!$F$33"]
["pp3_bl3_2_7_total_out",{"$f":"'T2-B(PP3)'!$I$33","v":0},"#'T2-B(PP3)'!$I$33"]
["pp3_bl3_2_7_unit",{"$f":"'T2-B(PP3)'!$C$33","v":0},"#'T2-B(PP3)'!$C$33"]
["pp3_bl3_2_7_unit_in",{"$f":"'T2-B(PP3)'!$D$33","v":0},"#'T2-B(PP3)'!$D$33"]
["pp3_bl3_2_7_units_out",{"$f":"'T2-B(PP3)'!$G$33","v":0},"#'T2-B(PP3)'!$G$33"]
["pp3_bl3_2_8_name",{"$f":"'T2-B(PP3)'!$B$34","v":0},"#'T2-B(PP3)'!$B$34"]
["pp3_bl3_2_8_rate_in",{"$f":"'T2-B(PP3)'!$E$34","v":0},"#'T2-B(PP3)'!$E$34"]
["pp3_bl3_2_8_rate_out",{"$f":"'T2-B(PP3)'!$H$34","v":0},"#'T2-B(PP3)'!$H$34"]
["pp3_bl3_2_8_total",{"$f":"'T2-B(PP3)'!$J$34","v":0},"#'T2-B(PP3)'!$J$34"]
["pp3_bl3_2_8_total_in",{"$f":"'T2-B(PP3)'!$F$34","v":0},"#'T2-B(PP3)'!$F$34"]
["pp3_bl3_2_8_total_out",{"$f":"'T2-B(PP3)'!$I$34","v":0},"#'T2-B(PP3)'!$I$34"]
["pp3_bl3_2_8_unit",{"$f":"'T2-B(PP3)'!$C$34","v":0},"#'T2-B(PP3)'!$C$34"]
["pp3_bl3_2_8_unit_in",{"$f":"'T2-B(PP3)'!$D$34","v":0},"#'T2-B(PP3)'!$D$34"]
["pp3_bl3_2_8_units_out",{"$f":"'T2-B(PP3)'!$G$34","v":0},"#'T2-B(PP3)'!$G$34"]
["pp3_bl3_2_9_name",{"$f":"'T2-B(PP3)'!$B$35","v":0},"#'T2-B(PP3)'!$B$35"]
["pp3_bl3_2_9_rate_in",{"$f":"'T2-B(PP3)'!$E$35","v":0},"#'T2-B(PP3)'!$E$35"]
["pp3_bl3_2_9_rate_out",{"$f":"'T2-B(PP3)'!$H$35","v":0},"#'T2-B(PP3)'!$H$35"]
["pp3_bl3_2_9_total",{"$f":"'T2-B(PP3)'!$J$35","v":0},"#'T2-B(PP3)'!$J$35"]
["pp3_bl3_2_9_total_in",{"$f":"'T2-B(PP3)'!$F$35","v":0},"#'T2-B(PP3)'!$F$35"]
["pp3_bl3_2_9_total_out",{"$f":"'T2-B(PP3)'!$I$35","v":0},"#'T2-B(PP3)'!$I$35"]
["pp3_bl3_2_9_unit",{"$f":"'T2-B(PP3)'!$C$35","v":0},"#'T2-B(PP3)'!$C$35"]
["pp3_bl3_2_9_unit_in",{"$f":"'T2-B(PP3)'!$D$35","v":0},"#'T2-B(PP3)'!$D$35"]
["pp3_bl3_2_9_units_out",{"$f":"'T2-B(PP3)'!$G$35","v":0},"#'T2-B(PP3)'!$G$35"]
["pp3_bl3_2_total",{"$f":"'T2-B(PP3)'!$J$26","v":0},"#'T2-B(PP3)'!$J$26"]
["pp3_bl3_2_total_in",{"$f":"'T2-B(PP3)'!$F$26","v":0},"#'T2-B(PP3)'!$F$26"]
["pp3_bl3_2_total_out",{"$f":"'T2-B(PP3)'!$I$26","v":0},"#'T2-B(PP3)'!$I$26"]
["pp3_bl3_3_1_name",{"$f":"'T2-B(PP3)'!$B$38","v":0},"#'T2-B(PP3)'!$B$38"]
["pp3_bl3_3_1_rate_in",{"$f":"'T2-B(PP3)'!$E$38","v":0},"#'T2-B(PP3)'!$E$38"]
["pp3_bl3_3_1_rate_out",{"$f":"'T2-B(PP3)'!$H$38","v":0},"#'T2-B(PP3)'!$H$38"]
["pp3_bl3_3_1_total",{"$f":"'T2-B(PP3)'!$J$38","v":0},"#'T2-B(PP3)'!$J$38"]
["pp3_bl3_3_1_total_in",{"$f":"'T2-B(PP3)'!$F$38","v":0},"#'T2-B(PP3)'!$F$38"]
["pp3_bl3_3_1_total_out",{"$f":"'T2-B(PP3)'!$I$38","v":0},"#'T2-B(PP3)'!$I$38"]
["pp3_bl3_3_1_unit",{"$f":"'T2-B(PP3)'!$C$38","v":0},"#'T2-B(PP3)'!$C$38"]
["pp3_bl3_3_1_unit_in",{"$f":"'T2-B(PP3)'!$D$38","v":0},"#'T2-B(PP3)'!$D$38"]
["pp3_bl3_3_1_units_out",{"$f":"'T2-B(PP3)'!$G$38","v":0},"#'T2-B(PP3)'!$G$38"]
["pp3_bl3_3_10_name",{"$f":"'T2-B(PP3)'!$B$47","v":0},"#'T2-B(PP3)'!$B$47"]
["pp3_bl3_3_10_rate_in",{"$f":"'T2-B(PP3)'!$E$47","v":0},"#'T2-B(PP3)'!$E$47"]
["pp3_bl3_3_10_rate_out",{"$f":"'T2-B(PP3)'!$H$47","v":0},"#'T2-B(PP3)'!$H$47"]
["pp3_bl3_3_10_total",{"$f":"'T2-B(PP3)'!$J$47","v":0},"#'T2-B(PP3)'!$J$47"]
["pp3_bl3_3_10_total_in",{"$f":"'T2-B(PP3)'!$F$47","v":0},"#'T2-B(PP3)'!$F$47"]
["pp3_bl3_3_10_total_out",{"$f":"'T2-B(PP3)'!$I$47","v":0},"#'T2-B(PP3)'!$I$47"]
["pp3_bl3_3_10_unit",{"$f":"'T2-B(PP3)'!$C$47","v":0},"#'T2-B(PP3)'!$C$47"]
["pp3_bl3_3_10_unit_in",{"$f":"'T2-B(PP3)'!$D$47","v":0},"#'T2-B(PP3)'!$D$47"]
["pp3_bl3_3_10_units_out",{"$f":"'T2-B(PP3)'!$G$47","v":0},"#'T2-B(PP3)'!$G$47"]
["pp3_bl3_3_2_name",{"$f":"'T2-B(PP3)'!$B$39","v":0},"#'T2-B(PP3)'!$B$39"]
["pp3_bl3_3_2_rate_in",{"$f":"'T2-B(PP3)'!$E$39","v":0},"#'T2-B(PP3)'!$E$39"]
["pp3_bl3_3_2_rate_out",{"$f":"'T2-B(PP3)'!$H$39","v":0},"#'T2-B(PP3)'!$H$39"]
["pp3_bl3_3_2_total",{"$f":"'T2-B(PP3)'!$J$39","v":0},"#'T2-B(PP3)'!$J$39"]
["pp3_bl3_3_2_total_in",{"$f":"'T2-B(PP3)'!$F$39","v":0},"#'T2-B(PP3)'!$F$39"]
["pp3_bl3_3_2_total_out",{"$f":"'T2-B(PP3)'!$I$39","v":0},"#'T2-B(PP3)'!$I$39"]
["pp3_bl3_3_2_unit",{"$f":"'T2-B(PP3)'!$C$39","v":0},"#'T2-B(PP3)'!$C$39"]
["pp3_bl3_3_2_unit_in",{"$f":"'T2-B(PP3)'!$D$39","v":0},"#'T2-B(PP3)'!$D$39"]
["pp3_bl3_3_2_units_out",{"$f":"'T2-B(PP3)'!$G$39","v":0},"#'T2-B(PP3)'!$G$39"]
["pp3_bl3_3_3_name",{"$f":"'T2-B(PP3)'!$B$40","v":0},"#'T2-B(PP3)'!$B$40"]
["pp3_bl3_3_3_rate_in",{"$f":"'T2-B(PP3)'!$E$40","v":0},"#'T2-B(PP3)'!$E$40"]
["pp3_bl3_3_3_rate_out",{"$f":"'T2-B(PP3)'!$H$40","v":0},"#'T2-B(PP3)'!$H$40"]
["pp3_bl3_3_3_total",{"$f":"'T2-B(PP3)'!$J$40","v":0},"#'T2-B(PP3)'!$J$40"]
["pp3_bl3_3_3_total_in",{"$f":"'T2-B(PP3)'!$F$40","v":0},"#'T2-B(PP3)'!$F$40"]
["pp3_bl3_3_3_total_out",{"$f":"'T2-B(PP3)'!$I$40","v":0},"#'T2-B(PP3)'!$I$40"]
["pp3_bl3_3_3_unit",{"$f":"'T2-B(PP3)'!$C$40","v":0},"#'T2-B(PP3)'!$C$40"]
["pp3_bl3_3_3_unit_in",{"$f":"'T2-B(PP3)'!$D$40","v":0},"#'T2-B(PP3)'!$D$40"]
["pp3_bl3_3_3_units_out",{"$f":"'T2-B(PP3)'!$G$40","v":0},"#'T2-B(PP3)'!$G$40"]
["pp3_bl3_3_4_name",{"$f":"'T2-B(PP3)'!$B$41","v":0},"#'T2-B(PP3)'!$B$41"]
["pp3_bl3_3_4_rate_in",{"$f":"'T2-B(PP3)'!$E$41","v":0},"#'T2-B(PP3)'!$E$41"]
["pp3_bl3_3_4_rate_out",{"$f":"'T2-B(PP3)'!$H$41","v":0},"#'T2-B(PP3)'!$H$41"]
["pp3_bl3_3_4_total",{"$f":"'T2-B(PP3)'!$J$41","v":0},"#'T2-B(PP3)'!$J$41"]
["pp3_bl3_3_4_total_in",{"$f":"'T2-B(PP3)'!$F$41","v":0},"#'T2-B(PP3)'!$F$41"]
["pp3_bl3_3_4_total_out",{"$f":"'T2-B(PP3)'!$I$41","v":0},"#'T2-B(PP3)'!$I$41"]
["pp3_bl3_3_4_unit",{"$f":"'T2-B(PP3)'!$C$41","v":0},"#'T2-B(PP3)'!$C$41"]
["pp3_bl3_3_4_unit_in",{"$f":"'T2-B(PP3)'!$D$41","v":0},"#'T2-B(PP3)'!$D$41"]
["pp3_bl3_3_4_units_out",{"$f":"'T2-B(PP3)'!$G$41","v":0},"#'T2-B(PP3)'!$G$41"]
["pp3_bl3_3_5_name",{"$f":"'T2-B(PP3)'!$B$42","v":0},"#'T2-B(PP3)'!$B$42"]
["pp3_bl3_3_5_rate_in",{"$f":"'T2-B(PP3)'!$E$42","v":0},"#'T2-B(PP3)'!$E$42"]
["pp3_bl3_3_5_rate_out",{"$f":"'T2-B(PP3)'!$H$42","v":0},"#'T2-B(PP3)'!$H$42"]
["pp3_bl3_3_5_total",{"$f":"'T2-B(PP3)'!$J$42","v":0},"#'T2-B(PP3)'!$J$42"]
["pp3_bl3_3_5_total_in",{"$f":"'T2-B(PP3)'!$F$42","v":0},"#'T2-B(PP3)'!$F$42"]
["pp3_bl3_3_5_total_out",{"$f":"'T2-B(PP3)'!$I$42","v":0},"#'T2-B(PP3)'!$I$42"]
["pp3_bl3_3_5_unit",{"$f":"'T2-B(PP3)'!$C$42","v":0},"#'T2-B(PP3)'!$C$42"]
["pp3_bl3_3_5_unit_in",{"$f":"'T2-B(PP3)'!$D$42","v":0},"#'T2-B(PP3)'!$D$42"]
["pp3_bl3_3_5_units_out",{"$f":"'T2-B(PP3)'!$G$42","v":0},"#'T2-B(PP3)'!$G$42"]
["pp3_bl3_3_6_name",{"$f":"'T2-B(PP3)'!$B$43","v":0},"#'T2-B(PP3)'!$B$43"]
["pp3_bl3_3_6_rate_in",{"$f":"'T2-B(PP3)'!$E$43","v":0},"#'T2-B(PP3)'!$E$43"]
["pp3_bl3_3_6_rate_out",{"$f":"'T2-B(PP3)'!$H$43","v":0},"#'T2-B(PP3)'!$H$43"]
["pp3_bl3_3_6_total",{"$f":"'T2-B(PP3)'!$J$43","v":0},"#'T2-B(PP3)'!$J$43"]
["pp3_bl3_3_6_total_in",{"$f":"'T2-B(PP3)'!$F$43","v":0},"#'T2-B(PP3)'!$F$43"]
["pp3_bl3_3_6_total_out",{"$f":"'T2-B(PP3)'!$I$43","v":0},"#'T2-B(PP3)'!$I$43"]
["pp3_bl3_3_6_unit",{"$f":"'T2-B(PP3)'!$C$43","v":0},"#'T2-B(PP3)'!$C$43"]
["pp3_bl3_3_6_unit_in",{"$f":"'T2-B(PP3)'!$D$43","v":0},"#'T2-B(PP3)'!$D$43"]
["pp3_bl3_3_6_units_out",{"$f":"'T2-B(PP3)'!$G$43","v":0},"#'T2-B(PP3)'!$G$43"]
["pp3_bl3_3_7_name",{"$f":"'T2-B(PP3)'!$B$44","v":0},"#'T2-B(PP3)'!$B$44"]
["pp3_bl3_3_7_rate_in",{"$f":"'T2-B(PP3)'!$E$44","v":0},"#'T2-B(PP3)'!$E$44"]
["pp3_bl3_3_7_rate_out",{"$f":"'T2-B(PP3)'!$H$44","v":0},"#'T2-B(PP3)'!$H$44"]
["pp3_bl3_3_7_total",{"$f":"'T2-B(PP3)'!$J$44","v":0},"#'T2-B(PP3)'!$J$44"]
["pp3_bl3_3_7_total_in",{"$f":"'T2-B(PP3)'!$F$44","v":0},"#'T2-B(PP3)'!$F$44"]
["pp3_bl3_3_7_total_out",{"$f":"'T2-B(PP3)'!$I$44","v":0},"#'T2-B(PP3)'!$I$44"]
["pp3_bl3_3_7_unit",{"$f":"'T2-B(PP3)'!$C$44","v":0},"#'T2-B(PP3)'!$C$44"]
["pp3_bl3_3_7_unit_in",{"$f":"'T2-B(PP3)'!$D$44","v":0},"#'T2-B(PP3)'!$D$44"]
["pp3_bl3_3_7_units_out",{"$f":"'T2-B(PP3)'!$G$44","v":0},"#'T2-B(PP3)'!$G$44"]
["pp3_bl3_3_8_name",{"$f":"'T2-B(PP3)'!$B$45","v":0},"#'T2-B(PP3)'!$B$45"]
["pp3_bl3_3_8_rate_in",{"$f":"'T2-B(PP3)'!$E$45","v":0},"#'T2-B(PP3)'!$E$45"]
["pp3_bl3_3_8_rate_out",{"$f":"'T2-B(PP3)'!$H$45","v":0},"#'T2-B(PP3)'!$H$45"]
["pp3_bl3_3_8_total",{"$f":"'T2-B(PP3)'!$J$45","v":0},"#'T2-B(PP3)'!$J$45"]
["pp3_bl3_3_8_total_in",{"$f":"'T2-B(PP3)'!$F$45","v":0},"#'T2-B(PP3)'!$F$45"]
["pp3_bl3_3_8_total_out",{"$f":"'T2-B(PP3)'!$I$45","v":0},"#'T2-B(PP3)'!$I$45"]
["pp3_bl3_3_8_unit",{"$f":"'T2-B(PP3)'!$C$45","v":0},"#'T2-B(PP3)'!$C$45"]
["pp3_bl3_3_8_unit_in",{"$f":"'T2-B(PP3)'!$D$45","v":0},"#'T2-B(PP3)'!$D$45"]
["pp3_bl3_3_8_units_out",{"$f":"'T2-B(PP3)'!$G$45","v":0},"#'T2-B(PP3)'!$G$45"]
["pp3_bl3_3_9_name",{"$f":"'T2-B(PP3)'!$B$46","v":0},"#'T2-B(PP3)'!$B$46"]
["pp3_bl3_3_9_rate_in",{"$f":"'T2-B(PP3)'!$E$46","v":0},"#'T2-B(PP3)'!$E$46"]
["pp3_bl3_3_9_rate_out",{"$f":"'T2-B(PP3)'!$H$46","v":0},"#'T2-B(PP3)'!$H$46"]
["pp3_bl3_3_9_total",{"$f":"'T2-B(PP3)'!$J$46","v":0},"#'T2-B(PP3)'!$J$46"]
["pp3_bl3_3_9_total_in",{"$f":"'T2-B(PP3)'!$F$46","v":0},"#'T2-B(PP3)'!$F$46"]
["pp3_bl3_3_9_total_out",{"$f":"'T2-B(PP3)'!$I$46","v":0},"#'T2-B(PP3)'!$I$46"]
["pp3_bl3_3_9_unit",{"$f":"'T2-B(PP3)'!$C$46","v":0},"#'T2-B(PP3)'!$C$46"]
["pp3_bl3_3_9_unit_in",{"$f":"'T2-B(PP3)'!$D$46","v":0},"#'T2-B(PP3)'!$D$46"]
["pp3_bl3_3_9_units_out",{"$f":"'T2-B(PP3)'!$G$46","v":0},"#'T2-B(PP3)'!$G$46"]
["pp3_bl3_3_total",{"$f":"'T2-B(PP3)'!$J$37","v":0},"#'T2-B(PP3)'!$J$37"]
["pp3_bl3_3_total_in",{"$f":"'T2-B(PP3)'!$F$37","v":0},"#'T2-B(PP3)'!$F$37"]
["pp3_bl3_3_total_out",{"$f":"'T2-B(PP3)'!$I$37","v":0},"#'T2-B(PP3)'!$I$37"]
["pp3_bl3_total",{"$f":"'T2-B(PP3)'!$J$48","v":0},"#'T2-B(PP3)'!$J$48"]
["pp3_bl3_total_in",{"$f":"'T2-B(PP3)'!$F$48","v":0},"#'T2-B(PP3)'!$F$48"]
["pp3_bl3_total_out",{"$f":"'T2-B(PP3)'!$I$48","v":0},"#'T2-B(PP3)'!$I$48"]
["pp3_bl4_1_1_name",{"$f":"'T2-B(PP3)'!$B$53","v":0},"#'T2-B(PP3)'!$B$53"]
["pp3_bl4_1_1_rate_in",{"$f":"'T2-B(PP3)'!$E$53","v":0},"#'T2-B(PP3)'!$E$53"]
["pp3_bl4_1_1_rate_out",{"$f":"'T2-B(PP3)'!$H$53","v":0},"#'T2-B(PP3)'!$H$53"]
["pp3_bl4_1_1_total",{"$f":"'T2-B(PP3)'!$J$53","v":0},"#'T2-B(PP3)'!$J$53"]
["pp3_bl4_1_1_total_in",{"$f":"'T2-B(PP3)'!$F$53","v":0},"#'T2-B(PP3)'!$F$53"]
["pp3_bl4_1_1_total_out",{"$f":"'T2-B(PP3)'!$I$53","v":0},"#'T2-B(PP3)'!$I$53"]
["pp3_bl4_1_1_unit",{"$f":"'T2-B(PP3)'!$C$53","v":0},"#'T2-B(PP3)'!$C$53"]
["pp3_bl4_1_1_unit_in",{"$f":"'T2-B(PP3)'!$D$53","v":0},"#'T2-B(PP3)'!$D$53"]
["pp3_bl4_1_1_units_out",{"$f":"'T2-B(PP3)'!$G$53","v":0},"#'T2-B(PP3)'!$G$53"]
["pp3_bl4_1_10_name",{"$f":"'T2-B(PP3)'!$B$62","v":0},"#'T2-B(PP3)'!$B$62"]
["pp3_bl4_1_10_rate_in",{"$f":"'T2-B(PP3)'!$E$62","v":0},"#'T2-B(PP3)'!$E$62"]
["pp3_bl4_1_10_rate_out",{"$f":"'T2-B(PP3)'!$H$62","v":0},"#'T2-B(PP3)'!$H$62"]
["pp3_bl4_1_10_total",{"$f":"'T2-B(PP3)'!$J$62","v":0},"#'T2-B(PP3)'!$J$62"]
["pp3_bl4_1_10_total_in",{"$f":"'T2-B(PP3)'!$F$62","v":0},"#'T2-B(PP3)'!$F$62"]
["pp3_bl4_1_10_total_out",{"$f":"'T2-B(PP3)'!$I$62","v":0},"#'T2-B(PP3)'!$I$62"]
["pp3_bl4_1_10_unit",{"$f":"'T2-B(PP3)'!$C$62","v":0},"#'T2-B(PP3)'!$C$62"]
["pp3_bl4_1_10_unit_in",{"$f":"'T2-B(PP3)'!$D$62","v":0},"#'T2-B(PP3)'!$D$62"]
["pp3_bl4_1_10_units_out",{"$f":"'T2-B(PP3)'!$G$62","v":0},"#'T2-B(PP3)'!$G$62"]
["pp3_bl4_1_2_name",{"$f":"'T2-B(PP3)'!$B$54","v":0},"#'T2-B(PP3)'!$B$54"]
["pp3_bl4_1_2_rate_in",{"$f":"'T2-B(PP3)'!$E$54","v":0},"#'T2-B(PP3)'!$E$54"]
["pp3_bl4_1_2_rate_out",{"$f":"'T2-B(PP3)'!$H$54","v":0},"#'T2-B(PP3)'!$H$54"]
["pp3_bl4_1_2_total",{"$f":"'T2-B(PP3)'!$J$54","v":0},"#'T2-B(PP3)'!$J$54"]
["pp3_bl4_1_2_total_in",{"$f":"'T2-B(PP3)'!$F$54","v":0},"#'T2-B(PP3)'!$F$54"]
["pp3_bl4_1_2_total_out",{"$f":"'T2-B(PP3)'!$I$54","v":0},"#'T2-B(PP3)'!$I$54"]
["pp3_bl4_1_2_unit",{"$f":"'T2-B(PP3)'!$C$54","v":0},"#'T2-B(PP3)'!$C$54"]
["pp3_bl4_1_2_unit_in",{"$f":"'T2-B(PP3)'!$D$54","v":0},"#'T2-B(PP3)'!$D$54"]
["pp3_bl4_1_2_units_out",{"$f":"'T2-B(PP3)'!$G$54","v":0},"#'T2-B(PP3)'!$G$54"]
["pp3_bl4_1_3_name",{"$f":"'T2-B(PP3)'!$B$55","v":0},"#'T2-B(PP3)'!$B$55"]
["pp3_bl4_1_3_rate_in",{"$f":"'T2-B(PP3)'!$E$55","v":0},"#'T2-B(PP3)'!$E$55"]
["pp3_bl4_1_3_rate_out",{"$f":"'T2-B(PP3)'!$H$55","v":0},"#'T2-B(PP3)'!$H$55"]
["pp3_bl4_1_3_total",{"$f":"'T2-B(PP3)'!$J$55","v":0},"#'T2-B(PP3)'!$J$55"]
["pp3_bl4_1_3_total_in",{"$f":"'T2-B(PP3)'!$F$55","v":0},"#'T2-B(PP3)'!$F$55"]
["pp3_bl4_1_3_total_out",{"$f":"'T2-B(PP3)'!$I$55","v":0},"#'T2-B(PP3)'!$I$55"]
["pp3_bl4_1_3_unit",{"$f":"'T2-B(PP3)'!$C$55","v":0},"#'T2-B(PP3)'!$C$55"]
["pp3_bl4_1_3_unit_in",{"$f":"'T2-B(PP3)'!$D$55","v":0},"#'T2-B(PP3)'!$D$55"]
["pp3_bl4_1_3_units_out",{"$f":"'T2-B(PP3)'!$G$55","v":0},"#'T2-B(PP3)'!$G$55"]
["pp3_bl4_1_4_name",{"$f":"'T2-B(PP3)'!$B$56","v":0},"#'T2-B(PP3)'!$B$56"]
["pp3_bl4_1_4_rate_in",{"$f":"'T2-B(PP3)'!$E$56","v":0},"#'T2-B(PP3)'!$E$56"]
["pp3_bl4_1_4_rate_out",{"$f":"'T2-B(PP3)'!$H$56","v":0},"#'T2-B(PP3)'!$H$56"]
["pp3_bl4_1_4_total",{"$f":"'T2-B(PP3)'!$J$56","v":0},"#'T2-B(PP3)'!$J$56"]
["pp3_bl4_1_4_total_in",{"$f":"'T2-B(PP3)'!$F$56","v":0},"#'T2-B(PP3)'!$F$56"]
["pp3_bl4_1_4_total_out",{"$f":"'T2-B(PP3)'!$I$56","v":0},"#'T2-B(PP3)'!$I$56"]
["pp3_bl4_1_4_unit",{"$f":"'T2-B(PP3)'!$C$56","v":0},"#'T2-B(PP3)'!$C$56"]
["pp3_bl4_1_4_unit_in",{"$f":"'T2-B(PP3)'!$D$56","v":0},"#'T2-B(PP3)'!$D$56"]
["pp3_bl4_1_4_units_out",{"$f":"'T2-B(PP3)'!$G$56","v":0},"#'T2-B(PP3)'!$G$56"]
["pp3_bl4_1_5_name",{"$f":"'T2-B(PP3)'!$B$57","v":0},"#'T2-B(PP3)'!$B$57"]
["pp3_bl4_1_5_rate_in",{"$f":"'T2-B(PP3)'!$E$57","v":0},"#'T2-B(PP3)'!$E$57"]
["pp3_bl4_1_5_rate_out",{"$f":"'T2-B(PP3)'!$H$57","v":0},"#'T2-B(PP3)'!$H$57"]
["pp3_bl4_1_5_total",{"$f":"'T2-B(PP3)'!$J$57","v":0},"#'T2-B(PP3)'!$J$57"]
["pp3_bl4_1_5_total_in",{"$f":"'T2-B(PP3)'!$F$57","v":0},"#'T2-B(PP3)'!$F$57"]
["pp3_bl4_1_5_total_out",{"$f":"'T2-B(PP3)'!$I$57","v":0},"#'T2-B(PP3)'!$I$57"]
["pp3_bl4_1_5_unit",{"$f":"'T2-B(PP3)'!$C$57","v":0},"#'T2-B(PP3)'!$C$57"]
["pp3_bl4_1_5_unit_in",{"$f":"'T2-B(PP3)'!$D$57","v":0},"#'T2-B(PP3)'!$D$57"]
["pp3_bl4_1_5_units_out",{"$f":"'T2-B(PP3)'!$G$57","v":0},"#'T2-B(PP3)'!$G$57"]
["pp3_bl4_1_6_name",{"$f":"'T2-B(PP3)'!$B$58","v":0},"#'T2-B(PP3)'!$B$58"]
["pp3_bl4_1_6_rate_in",{"$f":"'T2-B(PP3)'!$E$58","v":0},"#'T2-B(PP3)'!$E$58"]
["pp3_bl4_1_6_rate_out",{"$f":"'T2-B(PP3)'!$H$58","v":0},"#'T2-B(PP3)'!$H$58"]
["pp3_bl4_1_6_total",{"$f":"'T2-B(PP3)'!$J$58","v":0},"#'T2-B(PP3)'!$J$58"]
["pp3_bl4_1_6_total_in",{"$f":"'T2-B(PP3)'!$F$58","v":0},"#'T2-B(PP3)'!$F$58"]
["pp3_bl4_1_6_total_out",{"$f":"'T2-B(PP3)'!$I$58","v":0},"#'T2-B(PP3)'!$I$58"]
["pp3_bl4_1_6_unit",{"$f":"'T2-B(PP3)'!$C$58","v":0},"#'T2-B(PP3)'!$C$58"]
["pp3_bl4_1_6_unit_in",{"$f":"'T2-B(PP3)'!$D$58","v":0},"#'T2-B(PP3)'!$D$58"]
["pp3_bl4_1_6_units_out",{"$f":"'T2-B(PP3)'!$G$58","v":0},"#'T2-B(PP3)'!$G$58"]
["pp3_bl4_1_7_name",{"$f":"'T2-B(PP3)'!$B$59","v":0},"#'T2-B(PP3)'!$B$59"]
["pp3_bl4_1_7_rate_in",{"$f":"'T2-B(PP3)'!$E$59","v":0},"#'T2-B(PP3)'!$E$59"]
["pp3_bl4_1_7_rate_out",{"$f":"'T2-B(PP3)'!$H$59","v":0},"#'T2-B(PP3)'!$H$59"]
["pp3_bl4_1_7_total",{"$f":"'T2-B(PP3)'!$J$59","v":0},"#'T2-B(PP3)'!$J$59"]
["pp3_bl4_1_7_total_in",{"$f":"'T2-B(PP3)'!$F$59","v":0},"#'T2-B(PP3)'!$F$59"]
["pp3_bl4_1_7_total_out",{"$f":"'T2-B(PP3)'!$I$59","v":0},"#'T2-B(PP3)'!$I$59"]
["pp3_bl4_1_7_unit",{"$f":"'T2-B(PP3)'!$C$59","v":0},"#'T2-B(PP3)'!$C$59"]
["pp3_bl4_1_7_unit_in",{"$f":"'T2-B(PP3)'!$D$59","v":0},"#'T2-B(PP3)'!$D$59"]
["pp3_bl4_1_7_units_out",{"$f":"'T2-B(PP3)'!$G$59","v":0},"#'T2-B(PP3)'!$G$59"]
["pp3_bl4_1_8_name",{"$f":"'T2-B(PP3)'!$B$60","v":0},"#'T2-B(PP3)'!$B$60"]
["pp3_bl4_1_8_rate_in",{"$f":"'T2-B(PP3)'!$E$60","v":0},"#'T2-B(PP3)'!$E$60"]
["pp3_bl4_1_8_rate_out",{"$f":"'T2-B(PP3)'!$H$60","v":0},"#'T2-B(PP3)'!$H$60"]
["pp3_bl4_1_8_total",{"$f":"'T2-B(PP3)'!$J$60","v":0},"#'T2-B(PP3)'!$J$60"]
["pp3_bl4_1_8_total_in",{"$f":"'T2-B(PP3)'!$F$60","v":0},"#'T2-B(PP3)'!$F$60"]
["pp3_bl4_1_8_total_out",{"$f":"'T2-B(PP3)'!$I$60","v":0},"#'T2-B(PP3)'!$I$60"]
["pp3_bl4_1_8_unit",{"$f":"'T2-B(PP3)'!$C$60","v":0},"#'T2-B(PP3)'!$C$60"]
["pp3_bl4_1_8_unit_in",{"$f":"'T2-B(PP3)'!$D$60","v":0},"#'T2-B(PP3)'!$D$60"]
["pp3_bl4_1_8_units_out",{"$f":"'T2-B(PP3)'!$G$60","v":0},"#'T2-B(PP3)'!$G$60"]
["pp3_bl4_1_9_name",{"$f":"'T2-B(PP3)'!$B$61","v":0},"#'T2-B(PP3)'!$B$61"]
["pp3_bl4_1_9_rate_in",{"$f":"'T2-B(PP3)'!$E$61","v":0},"#'T2-B(PP3)'!$E$61"]
["pp3_bl4_1_9_rate_out",{"$f":"'T2-B(PP3)'!$H$61","v":0},"#'T2-B(PP3)'!$H$61"]
["pp3_bl4_1_9_total",{"$f":"'T2-B(PP3)'!$J$61","v":0},"#'T2-B(PP3)'!$J$61"]
["pp3_bl4_1_9_total_in",{"$f":"'T2-B(PP3)'!$F$61","v":0},"#'T2-B(PP3)'!$F$61"]
["pp3_bl4_1_9_total_out",{"$f":"'T2-B(PP3)'!$I$61","v":0},"#'T2-B(PP3)'!$I$61"]
["pp3_bl4_1_9_unit",{"$f":"'T2-B(PP3)'!$C$61","v":0},"#'T2-B(PP3)'!$C$61"]
["pp3_bl4_1_9_unit_in",{"$f":"'T2-B(PP3)'!$D$61","v":0},"#'T2-B(PP3)'!$D$61"]
["pp3_bl4_1_9_units_out",{"$f":"'T2-B(PP3)'!$G$61","v":0},"#'T2-B(PP3)'!$G$61"]
["pp3_bl4_1_total",{"$f":"'T2-B(PP3)'!$J$52","v":0},"#'T2-B(PP3)'!$J$52"]
["pp3_bl4_1_total_in",{"$f":"'T2-B(PP3)'!$F$52","v":0},"#'T2-B(PP3)'!$F$52"]
["pp3_bl4_1_total_out",{"$f":"'T2-B(PP3)'!$I$52","v":0},"#'T2-B(PP3)'!$I$52"]
["pp3_bl4_10_1_name",{"$f":"'T2-B(PP3)'!$B$152","v":0},"#'T2-B(PP3)'!$B$152"]
["pp3_bl4_10_1_rate_in",{"$f":"'T2-B(PP3)'!$E$152","v":0},"#'T2-B(PP3)'!$E$152"]
["pp3_bl4_10_1_rate_out",{"$f":"'T2-B(PP3)'!$H$152","v":0},"#'T2-B(PP3)'!$H$152"]
["pp3_bl4_10_1_total",{"$f":"'T2-B(PP3)'!$J$152","v":0},"#'T2-B(PP3)'!$J$152"]
["pp3_bl4_10_1_total_in",{"$f":"'T2-B(PP3)'!$F$152","v":0},"#'T2-B(PP3)'!$F$152"]
["pp3_bl4_10_1_total_out",{"$f":"'T2-B(PP3)'!$I$152","v":0},"#'T2-B(PP3)'!$I$152"]
["pp3_bl4_10_1_unit",{"$f":"'T2-B(PP3)'!$C$152","v":0},"#'T2-B(PP3)'!$C$152"]
["pp3_bl4_10_1_unit_in",{"$f":"'T2-B(PP3)'!$D$152","v":0},"#'T2-B(PP3)'!$D$152"]
["pp3_bl4_10_1_units_out",{"$f":"'T2-B(PP3)'!$G$152","v":0},"#'T2-B(PP3)'!$G$152"]
["pp3_bl4_10_10_name",{"$f":"'T2-B(PP3)'!$B$161","v":0},"#'T2-B(PP3)'!$B$161"]
["pp3_bl4_10_10_rate_in",{"$f":"'T2-B(PP3)'!$E$161","v":0},"#'T2-B(PP3)'!$E$161"]
["pp3_bl4_10_10_rate_out",{"$f":"'T2-B(PP3)'!$H$161","v":0},"#'T2-B(PP3)'!$H$161"]
["pp3_bl4_10_10_total",{"$f":"'T2-B(PP3)'!$J$161","v":0},"#'T2-B(PP3)'!$J$161"]
["pp3_bl4_10_10_total_in",{"$f":"'T2-B(PP3)'!$F$161","v":0},"#'T2-B(PP3)'!$F$161"]
["pp3_bl4_10_10_total_out",{"$f":"'T2-B(PP3)'!$I$161","v":0},"#'T2-B(PP3)'!$I$161"]
["pp3_bl4_10_10_unit",{"$f":"'T2-B(PP3)'!$C$161","v":0},"#'T2-B(PP3)'!$C$161"]
["pp3_bl4_10_10_unit_in",{"$f":"'T2-B(PP3)'!$D$161","v":0},"#'T2-B(PP3)'!$D$161"]
["pp3_bl4_10_10_units_out",{"$f":"'T2-B(PP3)'!$G$161","v":0},"#'T2-B(PP3)'!$G$161"]
["pp3_bl4_10_2_name",{"$f":"'T2-B(PP3)'!$B$153","v":0},"#'T2-B(PP3)'!$B$153"]
["pp3_bl4_10_2_rate_in",{"$f":"'T2-B(PP3)'!$E$153","v":0},"#'T2-B(PP3)'!$E$153"]
["pp3_bl4_10_2_rate_out",{"$f":"'T2-B(PP3)'!$H$153","v":0},"#'T2-B(PP3)'!$H$153"]
["pp3_bl4_10_2_total",{"$f":"'T2-B(PP3)'!$J$153","v":0},"#'T2-B(PP3)'!$J$153"]
["pp3_bl4_10_2_total_in",{"$f":"'T2-B(PP3)'!$F$153","v":0},"#'T2-B(PP3)'!$F$153"]
["pp3_bl4_10_2_total_out",{"$f":"'T2-B(PP3)'!$I$153","v":0},"#'T2-B(PP3)'!$I$153"]
["pp3_bl4_10_2_unit",{"$f":"'T2-B(PP3)'!$C$153","v":0},"#'T2-B(PP3)'!$C$153"]
["pp3_bl4_10_2_unit_in",{"$f":"'T2-B(PP3)'!$D$153","v":0},"#'T2-B(PP3)'!$D$153"]
["pp3_bl4_10_2_units_out",{"$f":"'T2-B(PP3)'!$G$153","v":0},"#'T2-B(PP3)'!$G$153"]
["pp3_bl4_10_3_name",{"$f":"'T2-B(PP3)'!$B$154","v":0},"#'T2-B(PP3)'!$B$154"]
["pp3_bl4_10_3_rate_in",{"$f":"'T2-B(PP3)'!$E$154","v":0},"#'T2-B(PP3)'!$E$154"]
["pp3_bl4_10_3_rate_out",{"$f":"'T2-B(PP3)'!$H$154","v":0},"#'T2-B(PP3)'!$H$154"]
["pp3_bl4_10_3_total",{"$f":"'T2-B(PP3)'!$J$154","v":0},"#'T2-B(PP3)'!$J$154"]
["pp3_bl4_10_3_total_in",{"$f":"'T2-B(PP3)'!$F$154","v":0},"#'T2-B(PP3)'!$F$154"]
["pp3_bl4_10_3_total_out",{"$f":"'T2-B(PP3)'!$I$154","v":0},"#'T2-B(PP3)'!$I$154"]
["pp3_bl4_10_3_unit",{"$f":"'T2-B(PP3)'!$C$154","v":0},"#'T2-B(PP3)'!$C$154"]
["pp3_bl4_10_3_unit_in",{"$f":"'T2-B(PP3)'!$D$154","v":0},"#'T2-B(PP3)'!$D$154"]
["pp3_bl4_10_3_units_out",{"$f":"'T2-B(PP3)'!$G$154","v":0},"#'T2-B(PP3)'!$G$154"]
["pp3_bl4_10_4_name",{"$f":"'T2-B(PP3)'!$B$155","v":0},"#'T2-B(PP3)'!$B$155"]
["pp3_bl4_10_4_rate_in",{"$f":"'T2-B(PP3)'!$E$155","v":0},"#'T2-B(PP3)'!$E$155"]
["pp3_bl4_10_4_rate_out",{"$f":"'T2-B(PP3)'!$H$155","v":0},"#'T2-B(PP3)'!$H$155"]
["pp3_bl4_10_4_total",{"$f":"'T2-B(PP3)'!$J$155","v":0},"#'T2-B(PP3)'!$J$155"]
["pp3_bl4_10_4_total_in",{"$f":"'T2-B(PP3)'!$F$155","v":0},"#'T2-B(PP3)'!$F$155"]
["pp3_bl4_10_4_total_out",{"$f":"'T2-B(PP3)'!$I$155","v":0},"#'T2-B(PP3)'!$I$155"]
["pp3_bl4_10_4_unit",{"$f":"'T2-B(PP3)'!$C$155","v":0},"#'T2-B(PP3)'!$C$155"]
["pp3_bl4_10_4_unit_in",{"$f":"'T2-B(PP3)'!$D$155","v":0},"#'T2-B(PP3)'!$D$155"]
["pp3_bl4_10_4_units_out",{"$f":"'T2-B(PP3)'!$G$155","v":0},"#'T2-B(PP3)'!$G$155"]
["pp3_bl4_10_5_name",{"$f":"'T2-B(PP3)'!$B$156","v":0},"#'T2-B(PP3)'!$B$156"]
["pp3_bl4_10_5_rate_in",{"$f":"'T2-B(PP3)'!$E$156","v":0},"#'T2-B(PP3)'!$E$156"]
["pp3_bl4_10_5_rate_out",{"$f":"'T2-B(PP3)'!$H$156","v":0},"#'T2-B(PP3)'!$H$156"]
["pp3_bl4_10_5_total",{"$f":"'T2-B(PP3)'!$J$156","v":0},"#'T2-B(PP3)'!$J$156"]
["pp3_bl4_10_5_total_in",{"$f":"'T2-B(PP3)'!$F$156","v":0},"#'T2-B(PP3)'!$F$156"]
["pp3_bl4_10_5_total_out",{"$f":"'T2-B(PP3)'!$I$156","v":0},"#'T2-B(PP3)'!$I$156"]
["pp3_bl4_10_5_unit",{"$f":"'T2-B(PP3)'!$C$156","v":0},"#'T2-B(PP3)'!$C$156"]
["pp3_bl4_10_5_unit_in",{"$f":"'T2-B(PP3)'!$D$156","v":0},"#'T2-B(PP3)'!$D$156"]
["pp3_bl4_10_5_units_out",{"$f":"'T2-B(PP3)'!$G$156","v":0},"#'T2-B(PP3)'!$G$156"]
["pp3_bl4_10_6_name",{"$f":"'T2-B(PP3)'!$B$157","v":0},"#'T2-B(PP3)'!$B$157"]
["pp3_bl4_10_6_rate_in",{"$f":"'T2-B(PP3)'!$E$157","v":0},"#'T2-B(PP3)'!$E$157"]
["pp3_bl4_10_6_rate_out",{"$f":"'T2-B(PP3)'!$H$157","v":0},"#'T2-B(PP3)'!$H$157"]
["pp3_bl4_10_6_total",{"$f":"'T2-B(PP3)'!$J$157","v":0},"#'T2-B(PP3)'!$J$157"]
["pp3_bl4_10_6_total_in",{"$f":"'T2-B(PP3)'!$F$157","v":0},"#'T2-B(PP3)'!$F$157"]
["pp3_bl4_10_6_total_out",{"$f":"'T2-B(PP3)'!$I$157","v":0},"#'T2-B(PP3)'!$I$157"]
["pp3_bl4_10_6_unit",{"$f":"'T2-B(PP3)'!$C$157","v":0},"#'T2-B(PP3)'!$C$157"]
["pp3_bl4_10_6_unit_in",{"$f":"'T2-B(PP3)'!$D$157","v":0},"#'T2-B(PP3)'!$D$157"]
["pp3_bl4_10_6_units_out",{"$f":"'T2-B(PP3)'!$G$157","v":0},"#'T2-B(PP3)'!$G$157"]
["pp3_bl4_10_7_name",{"$f":"'T2-B(PP3)'!$B$158","v":0},"#'T2-B(PP3)'!$B$158"]
["pp3_bl4_10_7_rate_in",{"$f":"'T2-B(PP3)'!$E$158","v":0},"#'T2-B(PP3)'!$E$158"]
["pp3_bl4_10_7_rate_out",{"$f":"'T2-B(PP3)'!$H$158","v":0},"#'T2-B(PP3)'!$H$158"]
["pp3_bl4_10_7_total",{"$f":"'T2-B(PP3)'!$J$158","v":0},"#'T2-B(PP3)'!$J$158"]
["pp3_bl4_10_7_total_in",{"$f":"'T2-B(PP3)'!$F$158","v":0},"#'T2-B(PP3)'!$F$158"]
["pp3_bl4_10_7_total_out",{"$f":"'T2-B(PP3)'!$I$158","v":0},"#'T2-B(PP3)'!$I$158"]
["pp3_bl4_10_7_unit",{"$f":"'T2-B(PP3)'!$C$158","v":0},"#'T2-B(PP3)'!$C$158"]
["pp3_bl4_10_7_unit_in",{"$f":"'T2-B(PP3)'!$D$158","v":0},"#'T2-B(PP3)'!$D$158"]
["pp3_bl4_10_7_units_out",{"$f":"'T2-B(PP3)'!$G$158","v":0},"#'T2-B(PP3)'!$G$158"]
["pp3_bl4_10_8_name",{"$f":"'T2-B(PP3)'!$B$159","v":0},"#'T2-B(PP3)'!$B$159"]
["pp3_bl4_10_8_rate_in",{"$f":"'T2-B(PP3)'!$E$159","v":0},"#'T2-B(PP3)'!$E$159"]
["pp3_bl4_10_8_rate_out",{"$f":"'T2-B(PP3)'!$H$159","v":0},"#'T2-B(PP3)'!$H$159"]
["pp3_bl4_10_8_total",{"$f":"'T2-B(PP3)'!$J$159","v":0},"#'T2-B(PP3)'!$J$159"]
["pp3_bl4_10_8_total_in",{"$f":"'T2-B(PP3)'!$F$159","v":0},"#'T2-B(PP3)'!$F$159"]
["pp3_bl4_10_8_total_out",{"$f":"'T2-B(PP3)'!$I$159","v":0},"#'T2-B(PP3)'!$I$159"]
["pp3_bl4_10_8_unit",{"$f":"'T2-B(PP3)'!$C$159","v":0},"#'T2-B(PP3)'!$C$159"]
["pp3_bl4_10_8_unit_in",{"$f":"'T2-B(PP3)'!$D$159","v":0},"#'T2-B(PP3)'!$D$159"]
["pp3_bl4_10_8_units_out",{"$f":"'T2-B(PP3)'!$G$159","v":0},"#'T2-B(PP3)'!$G$159"]
["pp3_bl4_10_9_name",{"$f":"'T2-B(PP3)'!$B$160","v":0},"#'T2-B(PP3)'!$B$160"]
["pp3_bl4_10_9_rate_in",{"$f":"'T2-B(PP3)'!$E$160","v":0},"#'T2-B(PP3)'!$E$160"]
["pp3_bl4_10_9_rate_out",{"$f":"'T2-B(PP3)'!$H$160","v":0},"#'T2-B(PP3)'!$H$160"]
["pp3_bl4_10_9_total",{"$f":"'T2-B(PP3)'!$J$160","v":0},"#'T2-B(PP3)'!$J$160"]
["pp3_bl4_10_9_total_in",{"$f":"'T2-B(PP3)'!$F$160","v":0},"#'T2-B(PP3)'!$F$160"]
["pp3_bl4_10_9_total_out",{"$f":"'T2-B(PP3)'!$I$160","v":0},"#'T2-B(PP3)'!$I$160"]
["pp3_bl4_10_9_unit",{"$f":"'T2-B(PP3)'!$C$160","v":0},"#'T2-B(PP3)'!$C$160"]
["pp3_bl4_10_9_unit_in",{"$f":"'T2-B(PP3)'!$D$160","v":0},"#'T2-B(PP3)'!$D$160"]
["pp3_bl4_10_9_units_out",{"$f":"'T2-B(PP3)'!$G$160","v":0},"#'T2-B(PP3)'!$G$160"]
["pp3_bl4_10_total",{"$f":"'T2-B(PP3)'!$J$151","v":0},"#'T2-B(PP3)'!$J$151"]
["pp3_bl4_10_total_in",{"$f":"'T2-B(PP3)'!$F$151","v":0},"#'T2-B(PP3)'!$F$151"]
["pp3_bl4_10_total_out",{"$f":"'T2-B(PP3)'!$I$151","v":0},"#'T2-B(PP3)'!$I$151"]
["pp3_bl4_11_1_name",{"$f":"'T2-B(PP3)'!$B$163","v":0},"#'T2-B(PP3)'!$B$163"]
["pp3_bl4_11_1_rate_in",{"$f":"'T2-B(PP3)'!$E$163","v":0},"#'T2-B(PP3)'!$E$163"]
["pp3_bl4_11_1_rate_out",{"$f":"'T2-B(PP3)'!$H$163","v":0},"#'T2-B(PP3)'!$H$163"]
["pp3_bl4_11_1_total",{"$f":"'T2-B(PP3)'!$J$163","v":0},"#'T2-B(PP3)'!$J$163"]
["pp3_bl4_11_1_total_in",{"$f":"'T2-B(PP3)'!$F$163","v":0},"#'T2-B(PP3)'!$F$163"]
["pp3_bl4_11_1_total_out",{"$f":"'T2-B(PP3)'!$I$163","v":0},"#'T2-B(PP3)'!$I$163"]
["pp3_bl4_11_1_unit",{"$f":"'T2-B(PP3)'!$C$163","v":0},"#'T2-B(PP3)'!$C$163"]
["pp3_bl4_11_1_unit_in",{"$f":"'T2-B(PP3)'!$D$163","v":0},"#'T2-B(PP3)'!$D$163"]
["pp3_bl4_11_1_units_out",{"$f":"'T2-B(PP3)'!$G$163","v":0},"#'T2-B(PP3)'!$G$163"]
["pp3_bl4_11_10_name",{"$f":"'T2-B(PP3)'!$B$172","v":0},"#'T2-B(PP3)'!$B$172"]
["pp3_bl4_11_10_rate_in",{"$f":"'T2-B(PP3)'!$E$172","v":0},"#'T2-B(PP3)'!$E$172"]
["pp3_bl4_11_10_rate_out",{"$f":"'T2-B(PP3)'!$H$172","v":0},"#'T2-B(PP3)'!$H$172"]
["pp3_bl4_11_10_total",{"$f":"'T2-B(PP3)'!$J$172","v":0},"#'T2-B(PP3)'!$J$172"]
["pp3_bl4_11_10_total_in",{"$f":"'T2-B(PP3)'!$F$172","v":0},"#'T2-B(PP3)'!$F$172"]
["pp3_bl4_11_10_total_out",{"$f":"'T2-B(PP3)'!$I$172","v":0},"#'T2-B(PP3)'!$I$172"]
["pp3_bl4_11_10_unit",{"$f":"'T2-B(PP3)'!$C$172","v":0},"#'T2-B(PP3)'!$C$172"]
["pp3_bl4_11_10_unit_in",{"$f":"'T2-B(PP3)'!$D$172","v":0},"#'T2-B(PP3)'!$D$172"]
["pp3_bl4_11_10_units_out",{"$f":"'T2-B(PP3)'!$G$172","v":0},"#'T2-B(PP3)'!$G$172"]
["pp3_bl4_11_2_name",{"$f":"'T2-B(PP3)'!$B$164","v":0},"#'T2-B(PP3)'!$B$164"]
["pp3_bl4_11_2_rate_in",{"$f":"'T2-B(PP3)'!$E$164","v":0},"#'T2-B(PP3)'!$E$164"]
["pp3_bl4_11_2_rate_out",{"$f":"'T2-B(PP3)'!$H$164","v":0},"#'T2-B(PP3)'!$H$164"]
["pp3_bl4_11_2_total",{"$f":"'T2-B(PP3)'!$J$164","v":0},"#'T2-B(PP3)'!$J$164"]
["pp3_bl4_11_2_total_in",{"$f":"'T2-B(PP3)'!$F$164","v":0},"#'T2-B(PP3)'!$F$164"]
["pp3_bl4_11_2_total_out",{"$f":"'T2-B(PP3)'!$I$164","v":0},"#'T2-B(PP3)'!$I$164"]
["pp3_bl4_11_2_unit",{"$f":"'T2-B(PP3)'!$C$164","v":0},"#'T2-B(PP3)'!$C$164"]
["pp3_bl4_11_2_unit_in",{"$f":"'T2-B(PP3)'!$D$164","v":0},"#'T2-B(PP3)'!$D$164"]
["pp3_bl4_11_2_units_out",{"$f":"'T2-B(PP3)'!$G$164","v":0},"#'T2-B(PP3)'!$G$164"]
["pp3_bl4_11_3_name",{"$f":"'T2-B(PP3)'!$B$165","v":0},"#'T2-B(PP3)'!$B$165"]
["pp3_bl4_11_3_rate_in",{"$f":"'T2-B(PP3)'!$E$165","v":0},"#'T2-B(PP3)'!$E$165"]
["pp3_bl4_11_3_rate_out",{"$f":"'T2-B(PP3)'!$H$165","v":0},"#'T2-B(PP3)'!$H$165"]
["pp3_bl4_11_3_total",{"$f":"'T2-B(PP3)'!$J$165","v":0},"#'T2-B(PP3)'!$J$165"]
["pp3_bl4_11_3_total_in",{"$f":"'T2-B(PP3)'!$F$165","v":0},"#'T2-B(PP3)'!$F$165"]
["pp3_bl4_11_3_total_out",{"$f":"'T2-B(PP3)'!$I$165","v":0},"#'T2-B(PP3)'!$I$165"]
["pp3_bl4_11_3_unit",{"$f":"'T2-B(PP3)'!$C$165","v":0},"#'T2-B(PP3)'!$C$165"]
["pp3_bl4_11_3_unit_in",{"$f":"'T2-B(PP3)'!$D$165","v":0},"#'T2-B(PP3)'!$D$165"]
["pp3_bl4_11_3_units_out",{"$f":"'T2-B(PP3)'!$G$165","v":0},"#'T2-B(PP3)'!$G$165"]
["pp3_bl4_11_4_name",{"$f":"'T2-B(PP3)'!$B$166","v":0},"#'T2-B(PP3)'!$B$166"]
["pp3_bl4_11_4_rate_in",{"$f":"'T2-B(PP3)'!$E$166","v":0},"#'T2-B(PP3)'!$E$166"]
["pp3_bl4_11_4_rate_out",{"$f":"'T2-B(PP3)'!$H$166","v":0},"#'T2-B(PP3)'!$H$166"]
["pp3_bl4_11_4_total",{"$f":"'T2-B(PP3)'!$J$166","v":0},"#'T2-B(PP3)'!$J$166"]
["pp3_bl4_11_4_total_in",{"$f":"'T2-B(PP3)'!$F$166","v":0},"#'T2-B(PP3)'!$F$166"]
["pp3_bl4_11_4_total_out",{"$f":"'T2-B(PP3)'!$I$166","v":0},"#'T2-B(PP3)'!$I$166"]
["pp3_bl4_11_4_unit",{"$f":"'T2-B(PP3)'!$C$166","v":0},"#'T2-B(PP3)'!$C$166"]
["pp3_bl4_11_4_unit_in",{"$f":"'T2-B(PP3)'!$D$166","v":0},"#'T2-B(PP3)'!$D$166"]
["pp3_bl4_11_4_units_out",{"$f":"'T2-B(PP3)'!$G$166","v":0},"#'T2-B(PP3)'!$G$166"]
["pp3_bl4_11_5_name",{"$f":"'T2-B(PP3)'!$B$167","v":0},"#'T2-B(PP3)'!$B$167"]
["pp3_bl4_11_5_rate_in",{"$f":"'T2-B(PP3)'!$E$167","v":0},"#'T2-B(PP3)'!$E$167"]
["pp3_bl4_11_5_rate_out",{"$f":"'T2-B(PP3)'!$H$167","v":0},"#'T2-B(PP3)'!$H$167"]
["pp3_bl4_11_5_total",{"$f":"'T2-B(PP3)'!$J$167","v":0},"#'T2-B(PP3)'!$J$167"]
["pp3_bl4_11_5_total_in",{"$f":"'T2-B(PP3)'!$F$167","v":0},"#'T2-B(PP3)'!$F$167"]
["pp3_bl4_11_5_total_out",{"$f":"'T2-B(PP3)'!$I$167","v":0},"#'T2-B(PP3)'!$I$167"]
["pp3_bl4_11_5_unit",{"$f":"'T2-B(PP3)'!$C$167","v":0},"#'T2-B(PP3)'!$C$167"]
["pp3_bl4_11_5_unit_in",{"$f":"'T2-B(PP3)'!$D$167","v":0},"#'T2-B(PP3)'!$D$167"]
["pp3_bl4_11_5_units_out",{"$f":"'T2-B(PP3)'!$G$167","v":0},"#'T2-B(PP3)'!$G$167"]
["pp3_bl4_11_6_name",{"$f":"'T2-B(PP3)'!$B$168","v":0},"#'T2-B(PP3)'!$B$168"]
["pp3_bl4_11_6_rate_in",{"$f":"'T2-B(PP3)'!$E$168","v":0},"#'T2-B(PP3)'!$E$168"]
["pp3_bl4_11_6_rate_out",{"$f":"'T2-B(PP3)'!$H$168","v":0},"#'T2-B(PP3)'!$H$168"]
["pp3_bl4_11_6_total",{"$f":"'T2-B(PP3)'!$J$168","v":0},"#'T2-B(PP3)'!$J$168"]
["pp3_bl4_11_6_total_in",{"$f":"'T2-B(PP3)'!$F$168","v":0},"#'T2-B(PP3)'!$F$168"]
["pp3_bl4_11_6_total_out",{"$f":"'T2-B(PP3)'!$I$168","v":0},"#'T2-B(PP3)'!$I$168"]
["pp3_bl4_11_6_unit",{"$f":"'T2-B(PP3)'!$C$168","v":0},"#'T2-B(PP3)'!$C$168"]
["pp3_bl4_11_6_unit_in",{"$f":"'T2-B(PP3)'!$D$168","v":0},"#'T2-B(PP3)'!$D$168"]
["pp3_bl4_11_6_units_out",{"$f":"'T2-B(PP3)'!$G$168","v":0},"#'T2-B(PP3)'!$G$168"]
["pp3_bl4_11_7_name",{"$f":"'T2-B(PP3)'!$B$169","v":0},"#'T2-B(PP3)'!$B$169"]
["pp3_bl4_11_7_rate_in",{"$f":"'T2-B(PP3)'!$E$169","v":0},"#'T2-B(PP3)'!$E$169"]
["pp3_bl4_11_7_rate_out",{"$f":"'T2-B(PP3)'!$H$169","v":0},"#'T2-B(PP3)'!$H$169"]
["pp3_bl4_11_7_total",{"$f":"'T2-B(PP3)'!$J$169","v":0},"#'T2-B(PP3)'!$J$169"]
["pp3_bl4_11_7_total_in",{"$f":"'T2-B(PP3)'!$F$169","v":0},"#'T2-B(PP3)'!$F$169"]
["pp3_bl4_11_7_total_out",{"$f":"'T2-B(PP3)'!$I$169","v":0},"#'T2-B(PP3)'!$I$169"]
["pp3_bl4_11_7_unit",{"$f":"'T2-B(PP3)'!$C$169","v":0},"#'T2-B(PP3)'!$C$169"]
["pp3_bl4_11_7_unit_in",{"$f":"'T2-B(PP3)'!$D$169","v":0},"#'T2-B(PP3)'!$D$169"]
["pp3_bl4_11_7_units_out",{"$f":"'T2-B(PP3)'!$G$169","v":0},"#'T2-B(PP3)'!$G$169"]
["pp3_bl4_11_8_name",{"$f":"'T2-B(PP3)'!$B$170","v":0},"#'T2-B(PP3)'!$B$170"]
["pp3_bl4_11_8_rate_in",{"$f":"'T2-B(PP3)'!$E$170","v":0},"#'T2-B(PP3)'!$E$170"]
["pp3_bl4_11_8_rate_out",{"$f":"'T2-B(PP3)'!$H$170","v":0},"#'T2-B(PP3)'!$H$170"]
["pp3_bl4_11_8_total",{"$f":"'T2-B(PP3)'!$J$170","v":0},"#'T2-B(PP3)'!$J$170"]
["pp3_bl4_11_8_total_in",{"$f":"'T2-B(PP3)'!$F$170","v":0},"#'T2-B(PP3)'!$F$170"]
["pp3_bl4_11_8_total_out",{"$f":"'T2-B(PP3)'!$I$170","v":0},"#'T2-B(PP3)'!$I$170"]
["pp3_bl4_11_8_unit",{"$f":"'T2-B(PP3)'!$C$170","v":0},"#'T2-B(PP3)'!$C$170"]
["pp3_bl4_11_8_unit_in",{"$f":"'T2-B(PP3)'!$D$170","v":0},"#'T2-B(PP3)'!$D$170"]
["pp3_bl4_11_8_units_out",{"$f":"'T2-B(PP3)'!$G$170","v":0},"#'T2-B(PP3)'!$G$170"]
["pp3_bl4_11_9_name",{"$f":"'T2-B(PP3)'!$B$171","v":0},"#'T2-B(PP3)'!$B$171"]
["pp3_bl4_11_9_rate_in",{"$f":"'T2-B(PP3)'!$E$171","v":0},"#'T2-B(PP3)'!$E$171"]
["pp3_bl4_11_9_rate_out",{"$f":"'T2-B(PP3)'!$H$171","v":0},"#'T2-B(PP3)'!$H$171"]
["pp3_bl4_11_9_total",{"$f":"'T2-B(PP3)'!$J$171","v":0},"#'T2-B(PP3)'!$J$171"]
["pp3_bl4_11_9_total_in",{"$f":"'T2-B(PP3)'!$F$171","v":0},"#'T2-B(PP3)'!$F$171"]
["pp3_bl4_11_9_total_out",{"$f":"'T2-B(PP3)'!$I$171","v":0},"#'T2-B(PP3)'!$I$171"]
["pp3_bl4_11_9_unit",{"$f":"'T2-B(PP3)'!$C$171","v":0},"#'T2-B(PP3)'!$C$171"]
["pp3_bl4_11_9_unit_in",{"$f":"'T2-B(PP3)'!$D$171","v":0},"#'T2-B(PP3)'!$D$171"]
["pp3_bl4_11_9_units_out",{"$f":"'T2-B(PP3)'!$G$171","v":0},"#'T2-B(PP3)'!$G$171"]
["pp3_bl4_11_total",{"$f":"'T2-B(PP3)'!$J$162","v":0},"#'T2-B(PP3)'!$J$162"]
["pp3_bl4_11_total_in",{"$f":"'T2-B(PP3)'!$F$162","v":0},"#'T2-B(PP3)'!$F$162"]
["pp3_bl4_11_total_out",{"$f":"'T2-B(PP3)'!$I$162","v":0},"#'T2-B(PP3)'!$I$162"]
["pp3_bl4_12_1_name",{"$f":"'T2-B(PP3)'!$B$174","v":0},"#'T2-B(PP3)'!$B$174"]
["pp3_bl4_12_1_rate_in",{"$f":"'T2-B(PP3)'!$E$174","v":0},"#'T2-B(PP3)'!$E$174"]
["pp3_bl4_12_1_rate_out",{"$f":"'T2-B(PP3)'!$H$174","v":0},"#'T2-B(PP3)'!$H$174"]
["pp3_bl4_12_1_total",{"$f":"'T2-B(PP3)'!$J$174","v":0},"#'T2-B(PP3)'!$J$174"]
["pp3_bl4_12_1_total_in",{"$f":"'T2-B(PP3)'!$F$174","v":0},"#'T2-B(PP3)'!$F$174"]
["pp3_bl4_12_1_total_out",{"$f":"'T2-B(PP3)'!$I$174","v":0},"#'T2-B(PP3)'!$I$174"]
["pp3_bl4_12_1_unit",{"$f":"'T2-B(PP3)'!$C$174","v":0},"#'T2-B(PP3)'!$C$174"]
["pp3_bl4_12_1_unit_in",{"$f":"'T2-B(PP3)'!$D$174","v":0},"#'T2-B(PP3)'!$D$174"]
["pp3_bl4_12_1_units_out",{"$f":"'T2-B(PP3)'!$G$174","v":0},"#'T2-B(PP3)'!$G$174"]
["pp3_bl4_12_10_name",{"$f":"'T2-B(PP3)'!$B$183","v":0},"#'T2-B(PP3)'!$B$183"]
["pp3_bl4_12_10_rate_in",{"$f":"'T2-B(PP3)'!$E$183","v":0},"#'T2-B(PP3)'!$E$183"]
["pp3_bl4_12_10_rate_out",{"$f":"'T2-B(PP3)'!$H$183","v":0},"#'T2-B(PP3)'!$H$183"]
["pp3_bl4_12_10_total",{"$f":"'T2-B(PP3)'!$J$183","v":0},"#'T2-B(PP3)'!$J$183"]
["pp3_bl4_12_10_total_in",{"$f":"'T2-B(PP3)'!$F$183","v":0},"#'T2-B(PP3)'!$F$183"]
["pp3_bl4_12_10_total_out",{"$f":"'T2-B(PP3)'!$I$183","v":0},"#'T2-B(PP3)'!$I$183"]
["pp3_bl4_12_10_unit",{"$f":"'T2-B(PP3)'!$C$183","v":0},"#'T2-B(PP3)'!$C$183"]
["pp3_bl4_12_10_unit_in",{"$f":"'T2-B(PP3)'!$D$183","v":0},"#'T2-B(PP3)'!$D$183"]
["pp3_bl4_12_10_units_out",{"$f":"'T2-B(PP3)'!$G$183","v":0},"#'T2-B(PP3)'!$G$183"]
["pp3_bl4_12_2_name",{"$f":"'T2-B(PP3)'!$B$175","v":0},"#'T2-B(PP3)'!$B$175"]
["pp3_bl4_12_2_rate_in",{"$f":"'T2-B(PP3)'!$E$175","v":0},"#'T2-B(PP3)'!$E$175"]
["pp3_bl4_12_2_rate_out",{"$f":"'T2-B(PP3)'!$H$175","v":0},"#'T2-B(PP3)'!$H$175"]
["pp3_bl4_12_2_total",{"$f":"'T2-B(PP3)'!$J$175","v":0},"#'T2-B(PP3)'!$J$175"]
["pp3_bl4_12_2_total_in",{"$f":"'T2-B(PP3)'!$F$175","v":0},"#'T2-B(PP3)'!$F$175"]
["pp3_bl4_12_2_total_out",{"$f":"'T2-B(PP3)'!$I$175","v":0},"#'T2-B(PP3)'!$I$175"]
["pp3_bl4_12_2_unit",{"$f":"'T2-B(PP3)'!$C$175","v":0},"#'T2-B(PP3)'!$C$175"]
["pp3_bl4_12_2_unit_in",{"$f":"'T2-B(PP3)'!$D$175","v":0},"#'T2-B(PP3)'!$D$175"]
["pp3_bl4_12_2_units_out",{"$f":"'T2-B(PP3)'!$G$175","v":0},"#'T2-B(PP3)'!$G$175"]
["pp3_bl4_12_3_name",{"$f":"'T2-B(PP3)'!$B$176","v":0},"#'T2-B(PP3)'!$B$176"]
["pp3_bl4_12_3_rate_in",{"$f":"'T2-B(PP3)'!$E$176","v":0},"#'T2-B(PP3)'!$E$176"]
["pp3_bl4_12_3_rate_out",{"$f":"'T2-B(PP3)'!$H$176","v":0},"#'T2-B(PP3)'!$H$176"]
["pp3_bl4_12_3_total",{"$f":"'T2-B(PP3)'!$J$176","v":0},"#'T2-B(PP3)'!$J$176"]
["pp3_bl4_12_3_total_in",{"$f":"'T2-B(PP3)'!$F$176","v":0},"#'T2-B(PP3)'!$F$176"]
["pp3_bl4_12_3_total_out",{"$f":"'T2-B(PP3)'!$I$176","v":0},"#'T2-B(PP3)'!$I$176"]
["pp3_bl4_12_3_unit",{"$f":"'T2-B(PP3)'!$C$176","v":0},"#'T2-B(PP3)'!$C$176"]
["pp3_bl4_12_3_unit_in",{"$f":"'T2-B(PP3)'!$D$176","v":0},"#'T2-B(PP3)'!$D$176"]
["pp3_bl4_12_3_units_out",{"$f":"'T2-B(PP3)'!$G$176","v":0},"#'T2-B(PP3)'!$G$176"]
["pp3_bl4_12_4_name",{"$f":"'T2-B(PP3)'!$B$177","v":0},"#'T2-B(PP3)'!$B$177"]
["pp3_bl4_12_4_rate_in",{"$f":"'T2-B(PP3)'!$E$177","v":0},"#'T2-B(PP3)'!$E$177"]
["pp3_bl4_12_4_rate_out",{"$f":"'T2-B(PP3)'!$H$177","v":0},"#'T2-B(PP3)'!$H$177"]
["pp3_bl4_12_4_total",{"$f":"'T2-B(PP3)'!$J$177","v":0},"#'T2-B(PP3)'!$J$177"]
["pp3_bl4_12_4_total_in",{"$f":"'T2-B(PP3)'!$F$177","v":0},"#'T2-B(PP3)'!$F$177"]
["pp3_bl4_12_4_total_out",{"$f":"'T2-B(PP3)'!$I$177","v":0},"#'T2-B(PP3)'!$I$177"]
["pp3_bl4_12_4_unit",{"$f":"'T2-B(PP3)'!$C$177","v":0},"#'T2-B(PP3)'!$C$177"]
["pp3_bl4_12_4_unit_in",{"$f":"'T2-B(PP3)'!$D$177","v":0},"#'T2-B(PP3)'!$D$177"]
["pp3_bl4_12_4_units_out",{"$f":"'T2-B(PP3)'!$G$177","v":0},"#'T2-B(PP3)'!$G$177"]
["pp3_bl4_12_5_name",{"$f":"'T2-B(PP3)'!$B$178","v":0},"#'T2-B(PP3)'!$B$178"]
["pp3_bl4_12_5_rate_in",{"$f":"'T2-B(PP3)'!$E$178","v":0},"#'T2-B(PP3)'!$E$178"]
["pp3_bl4_12_5_rate_out",{"$f":"'T2-B(PP3)'!$H$178","v":0},"#'T2-B(PP3)'!$H$178"]
["pp3_bl4_12_5_total",{"$f":"'T2-B(PP3)'!$J$178","v":0},"#'T2-B(PP3)'!$J$178"]
["pp3_bl4_12_5_total_in",{"$f":"'T2-B(PP3)'!$F$178","v":0},"#'T2-B(PP3)'!$F$178"]
["pp3_bl4_12_5_total_out",{"$f":"'T2-B(PP3)'!$I$178","v":0},"#'T2-B(PP3)'!$I$178"]
["pp3_bl4_12_5_unit",{"$f":"'T2-B(PP3)'!$C$178","v":0},"#'T2-B(PP3)'!$C$178"]
["pp3_bl4_12_5_unit_in",{"$f":"'T2-B(PP3)'!$D$178","v":0},"#'T2-B(PP3)'!$D$178"]
["pp3_bl4_12_5_units_out",{"$f":"'T2-B(PP3)'!$G$178","v":0},"#'T2-B(PP3)'!$G$178"]
["pp3_bl4_12_6_name",{"$f":"'T2-B(PP3)'!$B$179","v":0},"#'T2-B(PP3)'!$B$179"]
["pp3_bl4_12_6_rate_in",{"$f":"'T2-B(PP3)'!$E$179","v":0},"#'T2-B(PP3)'!$E$179"]
["pp3_bl4_12_6_rate_out",{"$f":"'T2-B(PP3)'!$H$179","v":0},"#'T2-B(PP3)'!$H$179"]
["pp3_bl4_12_6_total",{"$f":"'T2-B(PP3)'!$J$179","v":0},"#'T2-B(PP3)'!$J$179"]
["pp3_bl4_12_6_total_in",{"$f":"'T2-B(PP3)'!$F$179","v":0},"#'T2-B(PP3)'!$F$179"]
["pp3_bl4_12_6_total_out",{"$f":"'T2-B(PP3)'!$I$179","v":0},"#'T2-B(PP3)'!$I$179"]
["pp3_bl4_12_6_unit",{"$f":"'T2-B(PP3)'!$C$179","v":0},"#'T2-B(PP3)'!$C$179"]
["pp3_bl4_12_6_unit_in",{"$f":"'T2-B(PP3)'!$D$179","v":0},"#'T2-B(PP3)'!$D$179"]
["pp3_bl4_12_6_units_out",{"$f":"'T2-B(PP3)'!$G$179","v":0},"#'T2-B(PP3)'!$G$179"]
["pp3_bl4_12_7_name",{"$f":"'T2-B(PP3)'!$B$180","v":0},"#'T2-B(PP3)'!$B$180"]
["pp3_bl4_12_7_rate_in",{"$f":"'T2-B(PP3)'!$E$180","v":0},"#'T2-B(PP3)'!$E$180"]
["pp3_bl4_12_7_rate_out",{"$f":"'T2-B(PP3)'!$H$180","v":0},"#'T2-B(PP3)'!$H$180"]
["pp3_bl4_12_7_total",{"$f":"'T2-B(PP3)'!$J$180","v":0},"#'T2-B(PP3)'!$J$180"]
["pp3_bl4_12_7_total_in",{"$f":"'T2-B(PP3)'!$F$180","v":0},"#'T2-B(PP3)'!$F$180"]
["pp3_bl4_12_7_total_out",{"$f":"'T2-B(PP3)'!$I$180","v":0},"#'T2-B(PP3)'!$I$180"]
["pp3_bl4_12_7_unit",{"$f":"'T2-B(PP3)'!$C$180","v":0},"#'T2-B(PP3)'!$C$180"]
["pp3_bl4_12_7_unit_in",{"$f":"'T2-B(PP3)'!$D$180","v":0},"#'T2-B(PP3)'!$D$180"]
["pp3_bl4_12_7_units_out",{"$f":"'T2-B(PP3)'!$G$180","v":0},"#'T2-B(PP3)'!$G$180"]
["pp3_bl4_12_8_name",{"$f":"'T2-B(PP3)'!$B$181","v":0},"#'T2-B(PP3)'!$B$181"]
["pp3_bl4_12_8_rate_in",{"$f":"'T2-B(PP3)'!$E$181","v":0},"#'T2-B(PP3)'!$E$181"]
["pp3_bl4_12_8_rate_out",{"$f":"'T2-B(PP3)'!$H$181","v":0},"#'T2-B(PP3)'!$H$181"]
["pp3_bl4_12_8_total",{"$f":"'T2-B(PP3)'!$J$181","v":0},"#'T2-B(PP3)'!$J$181"]
["pp3_bl4_12_8_total_in",{"$f":"'T2-B(PP3)'!$F$181","v":0},"#'T2-B(PP3)'!$F$181"]
["pp3_bl4_12_8_total_out",{"$f":"'T2-B(PP3)'!$I$181","v":0},"#'T2-B(PP3)'!$I$181"]
["pp3_bl4_12_8_unit",{"$f":"'T2-B(PP3)'!$C$181","v":0},"#'T2-B(PP3)'!$C$181"]
["pp3_bl4_12_8_unit_in",{"$f":"'T2-B(PP3)'!$D$181","v":0},"#'T2-B(PP3)'!$D$181"]
["pp3_bl4_12_8_units_out",{"$f":"'T2-B(PP3)'!$G$181","v":0},"#'T2-B(PP3)'!$G$181"]
["pp3_bl4_12_9_name",{"$f":"'T2-B(PP3)'!$B$182","v":0},"#'T2-B(PP3)'!$B$182"]
["pp3_bl4_12_9_rate_in",{"$f":"'T2-B(PP3)'!$E$182","v":0},"#'T2-B(PP3)'!$E$182"]
["pp3_bl4_12_9_rate_out",{"$f":"'T2-B(PP3)'!$H$182","v":0},"#'T2-B(PP3)'!$H$182"]
["pp3_bl4_12_9_total",{"$f":"'T2-B(PP3)'!$J$182","v":0},"#'T2-B(PP3)'!$J$182"]
["pp3_bl4_12_9_total_in",{"$f":"'T2-B(PP3)'!$F$182","v":0},"#'T2-B(PP3)'!$F$182"]
["pp3_bl4_12_9_total_out",{"$f":"'T2-B(PP3)'!$I$182","v":0},"#'T2-B(PP3)'!$I$182"]
["pp3_bl4_12_9_unit",{"$f":"'T2-B(PP3)'!$C$182","v":0},"#'T2-B(PP3)'!$C$182"]
["pp3_bl4_12_9_unit_in",{"$f":"'T2-B(PP3)'!$D$182","v":0},"#'T2-B(PP3)'!$D$182"]
["pp3_bl4_12_9_units_out",{"$f":"'T2-B(PP3)'!$G$182","v":0},"#'T2-B(PP3)'!$G$182"]
["pp3_bl4_12_total",{"$f":"'T2-B(PP3)'!$J$173","v":0},"#'T2-B(PP3)'!$J$173"]
["pp3_bl4_12_total_in",{"$f":"'T2-B(PP3)'!$F$173","v":0},"#'T2-B(PP3)'!$F$173"]
["pp3_bl4_12_total_out",{"$f":"'T2-B(PP3)'!$I$173","v":0},"#'T2-B(PP3)'!$I$173"]
["pp3_bl4_13_1_name",{"$f":"'T2-B(PP3)'!$B$185","v":0},"#'T2-B(PP3)'!$B$185"]
["pp3_bl4_13_1_rate_in",{"$f":"'T2-B(PP3)'!$E$185","v":0},"#'T2-B(PP3)'!$E$185"]
["pp3_bl4_13_1_rate_out",{"$f":"'T2-B(PP3)'!$H$185","v":0},"#'T2-B(PP3)'!$H$185"]
["pp3_bl4_13_1_total",{"$f":"'T2-B(PP3)'!$J$185","v":0},"#'T2-B(PP3)'!$J$185"]
["pp3_bl4_13_1_total_in",{"$f":"'T2-B(PP3)'!$F$185","v":0},"#'T2-B(PP3)'!$F$185"]
["pp3_bl4_13_1_total_out",{"$f":"'T2-B(PP3)'!$I$185","v":0},"#'T2-B(PP3)'!$I$185"]
["pp3_bl4_13_1_unit",{"$f":"'T2-B(PP3)'!$C$185","v":0},"#'T2-B(PP3)'!$C$185"]
["pp3_bl4_13_1_unit_in",{"$f":"'T2-B(PP3)'!$D$185","v":0},"#'T2-B(PP3)'!$D$185"]
["pp3_bl4_13_1_units_out",{"$f":"'T2-B(PP3)'!$G$185","v":0},"#'T2-B(PP3)'!$G$185"]
["pp3_bl4_13_10_name",{"$f":"'T2-B(PP3)'!$B$194","v":0},"#'T2-B(PP3)'!$B$194"]
["pp3_bl4_13_10_rate_in",{"$f":"'T2-B(PP3)'!$E$194","v":0},"#'T2-B(PP3)'!$E$194"]
["pp3_bl4_13_10_rate_out",{"$f":"'T2-B(PP3)'!$H$194","v":0},"#'T2-B(PP3)'!$H$194"]
["pp3_bl4_13_10_total",{"$f":"'T2-B(PP3)'!$J$194","v":0},"#'T2-B(PP3)'!$J$194"]
["pp3_bl4_13_10_total_in",{"$f":"'T2-B(PP3)'!$F$194","v":0},"#'T2-B(PP3)'!$F$194"]
["pp3_bl4_13_10_total_out",{"$f":"'T2-B(PP3)'!$I$194","v":0},"#'T2-B(PP3)'!$I$194"]
["pp3_bl4_13_10_unit",{"$f":"'T2-B(PP3)'!$C$194","v":0},"#'T2-B(PP3)'!$C$194"]
["pp3_bl4_13_10_unit_in",{"$f":"'T2-B(PP3)'!$D$194","v":0},"#'T2-B(PP3)'!$D$194"]
["pp3_bl4_13_10_units_out",{"$f":"'T2-B(PP3)'!$G$194","v":0},"#'T2-B(PP3)'!$G$194"]
["pp3_bl4_13_2_name",{"$f":"'T2-B(PP3)'!$B$186","v":0},"#'T2-B(PP3)'!$B$186"]
["pp3_bl4_13_2_rate_in",{"$f":"'T2-B(PP3)'!$E$186","v":0},"#'T2-B(PP3)'!$E$186"]
["pp3_bl4_13_2_rate_out",{"$f":"'T2-B(PP3)'!$H$186","v":0},"#'T2-B(PP3)'!$H$186"]
["pp3_bl4_13_2_total",{"$f":"'T2-B(PP3)'!$J$186","v":0},"#'T2-B(PP3)'!$J$186"]
["pp3_bl4_13_2_total_in",{"$f":"'T2-B(PP3)'!$F$186","v":0},"#'T2-B(PP3)'!$F$186"]
["pp3_bl4_13_2_total_out",{"$f":"'T2-B(PP3)'!$I$186","v":0},"#'T2-B(PP3)'!$I$186"]
["pp3_bl4_13_2_unit",{"$f":"'T2-B(PP3)'!$C$186","v":0},"#'T2-B(PP3)'!$C$186"]
["pp3_bl4_13_2_unit_in",{"$f":"'T2-B(PP3)'!$D$186","v":0},"#'T2-B(PP3)'!$D$186"]
["pp3_bl4_13_2_units_out",{"$f":"'T2-B(PP3)'!$G$186","v":0},"#'T2-B(PP3)'!$G$186"]
["pp3_bl4_13_3_name",{"$f":"'T2-B(PP3)'!$B$187","v":0},"#'T2-B(PP3)'!$B$187"]
["pp3_bl4_13_3_rate_in",{"$f":"'T2-B(PP3)'!$E$187","v":0},"#'T2-B(PP3)'!$E$187"]
["pp3_bl4_13_3_rate_out",{"$f":"'T2-B(PP3)'!$H$187","v":0},"#'T2-B(PP3)'!$H$187"]
["pp3_bl4_13_3_total",{"$f":"'T2-B(PP3)'!$J$187","v":0},"#'T2-B(PP3)'!$J$187"]
["pp3_bl4_13_3_total_in",{"$f":"'T2-B(PP3)'!$F$187","v":0},"#'T2-B(PP3)'!$F$187"]
["pp3_bl4_13_3_total_out",{"$f":"'T2-B(PP3)'!$I$187","v":0},"#'T2-B(PP3)'!$I$187"]
["pp3_bl4_13_3_unit",{"$f":"'T2-B(PP3)'!$C$187","v":0},"#'T2-B(PP3)'!$C$187"]
["pp3_bl4_13_3_unit_in",{"$f":"'T2-B(PP3)'!$D$187","v":0},"#'T2-B(PP3)'!$D$187"]
["pp3_bl4_13_3_units_out",{"$f":"'T2-B(PP3)'!$G$187","v":0},"#'T2-B(PP3)'!$G$187"]
["pp3_bl4_13_4_name",{"$f":"'T2-B(PP3)'!$B$188","v":0},"#'T2-B(PP3)'!$B$188"]
["pp3_bl4_13_4_rate_in",{"$f":"'T2-B(PP3)'!$E$188","v":0},"#'T2-B(PP3)'!$E$188"]
["pp3_bl4_13_4_rate_out",{"$f":"'T2-B(PP3)'!$H$188","v":0},"#'T2-B(PP3)'!$H$188"]
["pp3_bl4_13_4_total",{"$f":"'T2-B(PP3)'!$J$188","v":0},"#'T2-B(PP3)'!$J$188"]
["pp3_bl4_13_4_total_in",{"$f":"'T2-B(PP3)'!$F$188","v":0},"#'T2-B(PP3)'!$F$188"]
["pp3_bl4_13_4_total_out",{"$f":"'T2-B(PP3)'!$I$188","v":0},"#'T2-B(PP3)'!$I$188"]
["pp3_bl4_13_4_unit",{"$f":"'T2-B(PP3)'!$C$188","v":0},"#'T2-B(PP3)'!$C$188"]
["pp3_bl4_13_4_unit_in",{"$f":"'T2-B(PP3)'!$D$188","v":0},"#'T2-B(PP3)'!$D$188"]
["pp3_bl4_13_4_units_out",{"$f":"'T2-B(PP3)'!$G$188","v":0},"#'T2-B(PP3)'!$G$188"]
["pp3_bl4_13_5_name",{"$f":"'T2-B(PP3)'!$B$189","v":0},"#'T2-B(PP3)'!$B$189"]
["pp3_bl4_13_5_rate_in",{"$f":"'T2-B(PP3)'!$E$189","v":0},"#'T2-B(PP3)'!$E$189"]
["pp3_bl4_13_5_rate_out",{"$f":"'T2-B(PP3)'!$H$189","v":0},"#'T2-B(PP3)'!$H$189"]
["pp3_bl4_13_5_total",{"$f":"'T2-B(PP3)'!$J$189","v":0},"#'T2-B(PP3)'!$J$189"]
["pp3_bl4_13_5_total_in",{"$f":"'T2-B(PP3)'!$F$189","v":0},"#'T2-B(PP3)'!$F$189"]
["pp3_bl4_13_5_total_out",{"$f":"'T2-B(PP3)'!$I$189","v":0},"#'T2-B(PP3)'!$I$189"]
["pp3_bl4_13_5_unit",{"$f":"'T2-B(PP3)'!$C$189","v":0},"#'T2-B(PP3)'!$C$189"]
["pp3_bl4_13_5_unit_in",{"$f":"'T2-B(PP3)'!$D$189","v":0},"#'T2-B(PP3)'!$D$189"]
["pp3_bl4_13_5_units_out",{"$f":"'T2-B(PP3)'!$G$189","v":0},"#'T2-B(PP3)'!$G$189"]
["pp3_bl4_13_6_name",{"$f":"'T2-B(PP3)'!$B$190","v":0},"#'T2-B(PP3)'!$B$190"]
["pp3_bl4_13_6_rate_in",{"$f":"'T2-B(PP3)'!$E$190","v":0},"#'T2-B(PP3)'!$E$190"]
["pp3_bl4_13_6_rate_out",{"$f":"'T2-B(PP3)'!$H$190","v":0},"#'T2-B(PP3)'!$H$190"]
["pp3_bl4_13_6_total",{"$f":"'T2-B(PP3)'!$J$190","v":0},"#'T2-B(PP3)'!$J$190"]
["pp3_bl4_13_6_total_in",{"$f":"'T2-B(PP3)'!$F$190","v":0},"#'T2-B(PP3)'!$F$190"]
["pp3_bl4_13_6_total_out",{"$f":"'T2-B(PP3)'!$I$190","v":0},"#'T2-B(PP3)'!$I$190"]
["pp3_bl4_13_6_unit",{"$f":"'T2-B(PP3)'!$C$190","v":0},"#'T2-B(PP3)'!$C$190"]
["pp3_bl4_13_6_unit_in",{"$f":"'T2-B(PP3)'!$D$190","v":0},"#'T2-B(PP3)'!$D$190"]
["pp3_bl4_13_6_units_out",{"$f":"'T2-B(PP3)'!$G$190","v":0},"#'T2-B(PP3)'!$G$190"]
["pp3_bl4_13_7_name",{"$f":"'T2-B(PP3)'!$B$191","v":0},"#'T2-B(PP3)'!$B$191"]
["pp3_bl4_13_7_rate_in",{"$f":"'T2-B(PP3)'!$E$191","v":0},"#'T2-B(PP3)'!$E$191"]
["pp3_bl4_13_7_rate_out",{"$f":"'T2-B(PP3)'!$H$191","v":0},"#'T2-B(PP3)'!$H$191"]
["pp3_bl4_13_7_total",{"$f":"'T2-B(PP3)'!$J$191","v":0},"#'T2-B(PP3)'!$J$191"]
["pp3_bl4_13_7_total_in",{"$f":"'T2-B(PP3)'!$F$191","v":0},"#'T2-B(PP3)'!$F$191"]
["pp3_bl4_13_7_total_out",{"$f":"'T2-B(PP3)'!$I$191","v":0},"#'T2-B(PP3)'!$I$191"]
["pp3_bl4_13_7_unit",{"$f":"'T2-B(PP3)'!$C$191","v":0},"#'T2-B(PP3)'!$C$191"]
["pp3_bl4_13_7_unit_in",{"$f":"'T2-B(PP3)'!$D$191","v":0},"#'T2-B(PP3)'!$D$191"]
["pp3_bl4_13_7_units_out",{"$f":"'T2-B(PP3)'!$G$191","v":0},"#'T2-B(PP3)'!$G$191"]
["pp3_bl4_13_8_name",{"$f":"'T2-B(PP3)'!$B$192","v":0},"#'T2-B(PP3)'!$B$192"]
["pp3_bl4_13_8_rate_in",{"$f":"'T2-B(PP3)'!$E$192","v":0},"#'T2-B(PP3)'!$E$192"]
["pp3_bl4_13_8_rate_out",{"$f":"'T2-B(PP3)'!$H$192","v":0},"#'T2-B(PP3)'!$H$192"]
["pp3_bl4_13_8_total",{"$f":"'T2-B(PP3)'!$J$192","v":0},"#'T2-B(PP3)'!$J$192"]
["pp3_bl4_13_8_total_in",{"$f":"'T2-B(PP3)'!$F$192","v":0},"#'T2-B(PP3)'!$F$192"]
["pp3_bl4_13_8_total_out",{"$f":"'T2-B(PP3)'!$I$192","v":0},"#'T2-B(PP3)'!$I$192"]
["pp3_bl4_13_8_unit",{"$f":"'T2-B(PP3)'!$C$192","v":0},"#'T2-B(PP3)'!$C$192"]
["pp3_bl4_13_8_unit_in",{"$f":"'T2-B(PP3)'!$D$192","v":0},"#'T2-B(PP3)'!$D$192"]
["pp3_bl4_13_8_units_out",{"$f":"'T2-B(PP3)'!$G$192","v":0},"#'T2-B(PP3)'!$G$192"]
["pp3_bl4_13_9_name",{"$f":"'T2-B(PP3)'!$B$193","v":0},"#'T2-B(PP3)'!$B$193"]
["pp3_bl4_13_9_rate_in",{"$f":"'T2-B(PP3)'!$E$193","v":0},"#'T2-B(PP3)'!$E$193"]
["pp3_bl4_13_9_rate_out",{"$f":"'T2-B(PP3)'!$H$193","v":0},"#'T2-B(PP3)'!$H$193"]
["pp3_bl4_13_9_total",{"$f":"'T2-B(PP3)'!$J$193","v":0},"#'T2-B(PP3)'!$J$193"]
["pp3_bl4_13_9_total_in",{"$f":"'T2-B(PP3)'!$F$193","v":0},"#'T2-B(PP3)'!$F$193"]
["pp3_bl4_13_9_total_out",{"$f":"'T2-B(PP3)'!$I$193","v":0},"#'T2-B(PP3)'!$I$193"]
["pp3_bl4_13_9_unit",{"$f":"'T2-B(PP3)'!$C$193","v":0},"#'T2-B(PP3)'!$C$193"]
["pp3_bl4_13_9_unit_in",{"$f":"'T2-B(PP3)'!$D$193","v":0},"#'T2-B(PP3)'!$D$193"]
["pp3_bl4_13_9_units_out",{"$f":"'T2-B(PP3)'!$G$193","v":0},"#'T2-B(PP3)'!$G$193"]
["pp3_bl4_13_total",{"$f":"'T2-B(PP3)'!$J$184","v":0},"#'T2-B(PP3)'!$J$184"]
["pp3_bl4_13_total_in",{"$f":"'T2-B(PP3)'!$F$184","v":0},"#'T2-B(PP3)'!$F$184"]
["pp3_bl4_13_total_out",{"$f":"'T2-B(PP3)'!$I$184","v":0},"#'T2-B(PP3)'!$I$184"]
["pp3_bl4_14_1_name",{"$f":"'T2-B(PP3)'!$B$196","v":0},"#'T2-B(PP3)'!$B$196"]
["pp3_bl4_14_1_rate_in",{"$f":"'T2-B(PP3)'!$E$196","v":0},"#'T2-B(PP3)'!$E$196"]
["pp3_bl4_14_1_rate_out",{"$f":"'T2-B(PP3)'!$H$196","v":0},"#'T2-B(PP3)'!$H$196"]
["pp3_bl4_14_1_total",{"$f":"'T2-B(PP3)'!$J$196","v":0},"#'T2-B(PP3)'!$J$196"]
["pp3_bl4_14_1_total_in",{"$f":"'T2-B(PP3)'!$F$196","v":0},"#'T2-B(PP3)'!$F$196"]
["pp3_bl4_14_1_total_out",{"$f":"'T2-B(PP3)'!$I$196","v":0},"#'T2-B(PP3)'!$I$196"]
["pp3_bl4_14_1_unit",{"$f":"'T2-B(PP3)'!$C$196","v":0},"#'T2-B(PP3)'!$C$196"]
["pp3_bl4_14_1_unit_in",{"$f":"'T2-B(PP3)'!$D$196","v":0},"#'T2-B(PP3)'!$D$196"]
["pp3_bl4_14_1_units_out",{"$f":"'T2-B(PP3)'!$G$196","v":0},"#'T2-B(PP3)'!$G$196"]
["pp3_bl4_14_10_name",{"$f":"'T2-B(PP3)'!$B$205","v":0},"#'T2-B(PP3)'!$B$205"]
["pp3_bl4_14_10_rate_in",{"$f":"'T2-B(PP3)'!$E$205","v":0},"#'T2-B(PP3)'!$E$205"]
["pp3_bl4_14_10_rate_out",{"$f":"'T2-B(PP3)'!$H$205","v":0},"#'T2-B(PP3)'!$H$205"]
["pp3_bl4_14_10_total",{"$f":"'T2-B(PP3)'!$J$205","v":0},"#'T2-B(PP3)'!$J$205"]
["pp3_bl4_14_10_total_in",{"$f":"'T2-B(PP3)'!$F$205","v":0},"#'T2-B(PP3)'!$F$205"]
["pp3_bl4_14_10_total_out",{"$f":"'T2-B(PP3)'!$I$205","v":0},"#'T2-B(PP3)'!$I$205"]
["pp3_bl4_14_10_unit",{"$f":"'T2-B(PP3)'!$C$205","v":0},"#'T2-B(PP3)'!$C$205"]
["pp3_bl4_14_10_unit_in",{"$f":"'T2-B(PP3)'!$D$205","v":0},"#'T2-B(PP3)'!$D$205"]
["pp3_bl4_14_10_units_out",{"$f":"'T2-B(PP3)'!$G$205","v":0},"#'T2-B(PP3)'!$G$205"]
["pp3_bl4_14_2_name",{"$f":"'T2-B(PP3)'!$B$197","v":0},"#'T2-B(PP3)'!$B$197"]
["pp3_bl4_14_2_rate_in",{"$f":"'T2-B(PP3)'!$E$197","v":0},"#'T2-B(PP3)'!$E$197"]
["pp3_bl4_14_2_rate_out",{"$f":"'T2-B(PP3)'!$H$197","v":0},"#'T2-B(PP3)'!$H$197"]
["pp3_bl4_14_2_total",{"$f":"'T2-B(PP3)'!$J$197","v":0},"#'T2-B(PP3)'!$J$197"]
["pp3_bl4_14_2_total_in",{"$f":"'T2-B(PP3)'!$F$197","v":0},"#'T2-B(PP3)'!$F$197"]
["pp3_bl4_14_2_total_out",{"$f":"'T2-B(PP3)'!$I$197","v":0},"#'T2-B(PP3)'!$I$197"]
["pp3_bl4_14_2_unit",{"$f":"'T2-B(PP3)'!$C$197","v":0},"#'T2-B(PP3)'!$C$197"]
["pp3_bl4_14_2_unit_in",{"$f":"'T2-B(PP3)'!$D$197","v":0},"#'T2-B(PP3)'!$D$197"]
["pp3_bl4_14_2_units_out",{"$f":"'T2-B(PP3)'!$G$197","v":0},"#'T2-B(PP3)'!$G$197"]
["pp3_bl4_14_3_name",{"$f":"'T2-B(PP3)'!$B$198","v":0},"#'T2-B(PP3)'!$B$198"]
["pp3_bl4_14_3_rate_in",{"$f":"'T2-B(PP3)'!$E$198","v":0},"#'T2-B(PP3)'!$E$198"]
["pp3_bl4_14_3_rate_out",{"$f":"'T2-B(PP3)'!$H$198","v":0},"#'T2-B(PP3)'!$H$198"]
["pp3_bl4_14_3_total",{"$f":"'T2-B(PP3)'!$J$198","v":0},"#'T2-B(PP3)'!$J$198"]
["pp3_bl4_14_3_total_in",{"$f":"'T2-B(PP3)'!$F$198","v":0},"#'T2-B(PP3)'!$F$198"]
["pp3_bl4_14_3_total_out",{"$f":"'T2-B(PP3)'!$I$198","v":0},"#'T2-B(PP3)'!$I$198"]
["pp3_bl4_14_3_unit",{"$f":"'T2-B(PP3)'!$C$198","v":0},"#'T2-B(PP3)'!$C$198"]
["pp3_bl4_14_3_unit_in",{"$f":"'T2-B(PP3)'!$D$198","v":0},"#'T2-B(PP3)'!$D$198"]
["pp3_bl4_14_3_units_out",{"$f":"'T2-B(PP3)'!$G$198","v":0},"#'T2-B(PP3)'!$G$198"]
["pp3_bl4_14_4_name",{"$f":"'T2-B(PP3)'!$B$199","v":0},"#'T2-B(PP3)'!$B$199"]
["pp3_bl4_14_4_rate_in",{"$f":"'T2-B(PP3)'!$E$199","v":0},"#'T2-B(PP3)'!$E$199"]
["pp3_bl4_14_4_rate_out",{"$f":"'T2-B(PP3)'!$H$199","v":0},"#'T2-B(PP3)'!$H$199"]
["pp3_bl4_14_4_total",{"$f":"'T2-B(PP3)'!$J$199","v":0},"#'T2-B(PP3)'!$J$199"]
["pp3_bl4_14_4_total_in",{"$f":"'T2-B(PP3)'!$F$199","v":0},"#'T2-B(PP3)'!$F$199"]
["pp3_bl4_14_4_total_out",{"$f":"'T2-B(PP3)'!$I$199","v":0},"#'T2-B(PP3)'!$I$199"]
["pp3_bl4_14_4_unit",{"$f":"'T2-B(PP3)'!$C$199","v":0},"#'T2-B(PP3)'!$C$199"]
["pp3_bl4_14_4_unit_in",{"$f":"'T2-B(PP3)'!$D$199","v":0},"#'T2-B(PP3)'!$D$199"]
["pp3_bl4_14_4_units_out",{"$f":"'T2-B(PP3)'!$G$199","v":0},"#'T2-B(PP3)'!$G$199"]
["pp3_bl4_14_5_name",{"$f":"'T2-B(PP3)'!$B$200","v":0},"#'T2-B(PP3)'!$B$200"]
["pp3_bl4_14_5_rate_in",{"$f":"'T2-B(PP3)'!$E$200","v":0},"#'T2-B(PP3)'!$E$200"]
["pp3_bl4_14_5_rate_out",{"$f":"'T2-B(PP3)'!$H$200","v":0},"#'T2-B(PP3)'!$H$200"]
["pp3_bl4_14_5_total",{"$f":"'T2-B(PP3)'!$J$200","v":0},"#'T2-B(PP3)'!$J$200"]
["pp3_bl4_14_5_total_in",{"$f":"'T2-B(PP3)'!$F$200","v":0},"#'T2-B(PP3)'!$F$200"]
["pp3_bl4_14_5_total_out",{"$f":"'T2-B(PP3)'!$I$200","v":0},"#'T2-B(PP3)'!$I$200"]
["pp3_bl4_14_5_unit",{"$f":"'T2-B(PP3)'!$C$200","v":0},"#'T2-B(PP3)'!$C$200"]
["pp3_bl4_14_5_unit_in",{"$f":"'T2-B(PP3)'!$D$200","v":0},"#'T2-B(PP3)'!$D$200"]
["pp3_bl4_14_5_units_out",{"$f":"'T2-B(PP3)'!$G$200","v":0},"#'T2-B(PP3)'!$G$200"]
["pp3_bl4_14_6_name",{"$f":"'T2-B(PP3)'!$B$201","v":0},"#'T2-B(PP3)'!$B$201"]
["pp3_bl4_14_6_rate_in",{"$f":"'T2-B(PP3)'!$E$201","v":0},"#'T2-B(PP3)'!$E$201"]
["pp3_bl4_14_6_rate_out",{"$f":"'T2-B(PP3)'!$H$201","v":0},"#'T2-B(PP3)'!$H$201"]
["pp3_bl4_14_6_total",{"$f":"'T2-B(PP3)'!$J$201","v":0},"#'T2-B(PP3)'!$J$201"]
["pp3_bl4_14_6_total_in",{"$f":"'T2-B(PP3)'!$F$201","v":0},"#'T2-B(PP3)'!$F$201"]
["pp3_bl4_14_6_total_out",{"$f":"'T2-B(PP3)'!$I$201","v":0},"#'T2-B(PP3)'!$I$201"]
["pp3_bl4_14_6_unit",{"$f":"'T2-B(PP3)'!$C$201","v":0},"#'T2-B(PP3)'!$C$201"]
["pp3_bl4_14_6_unit_in",{"$f":"'T2-B(PP3)'!$D$201","v":0},"#'T2-B(PP3)'!$D$201"]
["pp3_bl4_14_6_units_out",{"$f":"'T2-B(PP3)'!$G$201","v":0},"#'T2-B(PP3)'!$G$201"]
["pp3_bl4_14_7_name",{"$f":"'T2-B(PP3)'!$B$202","v":0},"#'T2-B(PP3)'!$B$202"]
["pp3_bl4_14_7_rate_in",{"$f":"'T2-B(PP3)'!$E$202","v":0},"#'T2-B(PP3)'!$E$202"]
["pp3_bl4_14_7_rate_out",{"$f":"'T2-B(PP3)'!$H$202","v":0},"#'T2-B(PP3)'!$H$202"]
["pp3_bl4_14_7_total",{"$f":"'T2-B(PP3)'!$J$202","v":0},"#'T2-B(PP3)'!$J$202"]
["pp3_bl4_14_7_total_in",{"$f":"'T2-B(PP3)'!$F$202","v":0},"#'T2-B(PP3)'!$F$202"]
["pp3_bl4_14_7_total_out",{"$f":"'T2-B(PP3)'!$I$202","v":0},"#'T2-B(PP3)'!$I$202"]
["pp3_bl4_14_7_unit",{"$f":"'T2-B(PP3)'!$C$202","v":0},"#'T2-B(PP3)'!$C$202"]
["pp3_bl4_14_7_unit_in",{"$f":"'T2-B(PP3)'!$D$202","v":0},"#'T2-B(PP3)'!$D$202"]
["pp3_bl4_14_7_units_out",{"$f":"'T2-B(PP3)'!$G$202","v":0},"#'T2-B(PP3)'!$G$202"]
["pp3_bl4_14_8_name",{"$f":"'T2-B(PP3)'!$B$203","v":0},"#'T2-B(PP3)'!$B$203"]
["pp3_bl4_14_8_rate_in",{"$f":"'T2-B(PP3)'!$E$203","v":0},"#'T2-B(PP3)'!$E$203"]
["pp3_bl4_14_8_rate_out",{"$f":"'T2-B(PP3)'!$H$203","v":0},"#'T2-B(PP3)'!$H$203"]
["pp3_bl4_14_8_total",{"$f":"'T2-B(PP3)'!$J$203","v":0},"#'T2-B(PP3)'!$J$203"]
["pp3_bl4_14_8_total_in",{"$f":"'T2-B(PP3)'!$F$203","v":0},"#'T2-B(PP3)'!$F$203"]
["pp3_bl4_14_8_total_out",{"$f":"'T2-B(PP3)'!$I$203","v":0},"#'T2-B(PP3)'!$I$203"]
["pp3_bl4_14_8_unit",{"$f":"'T2-B(PP3)'!$C$203","v":0},"#'T2-B(PP3)'!$C$203"]
["pp3_bl4_14_8_unit_in",{"$f":"'T2-B(PP3)'!$D$203","v":0},"#'T2-B(PP3)'!$D$203"]
["pp3_bl4_14_8_units_out",{"$f":"'T2-B(PP3)'!$G$203","v":0},"#'T2-B(PP3)'!$G$203"]
["pp3_bl4_14_9_name",{"$f":"'T2-B(PP3)'!$B$204","v":0},"#'T2-B(PP3)'!$B$204"]
["pp3_bl4_14_9_rate_in",{"$f":"'T2-B(PP3)'!$E$204","v":0},"#'T2-B(PP3)'!$E$204"]
["pp3_bl4_14_9_rate_out",{"$f":"'T2-B(PP3)'!$H$204","v":0},"#'T2-B(PP3)'!$H$204"]
["pp3_bl4_14_9_total",{"$f":"'T2-B(PP3)'!$J$204","v":0},"#'T2-B(PP3)'!$J$204"]
["pp3_bl4_14_9_total_in",{"$f":"'T2-B(PP3)'!$F$204","v":0},"#'T2-B(PP3)'!$F$204"]
["pp3_bl4_14_9_total_out",{"$f":"'T2-B(PP3)'!$I$204","v":0},"#'T2-B(PP3)'!$I$204"]
["pp3_bl4_14_9_unit",{"$f":"'T2-B(PP3)'!$C$204","v":0},"#'T2-B(PP3)'!$C$204"]
["pp3_bl4_14_9_unit_in",{"$f":"'T2-B(PP3)'!$D$204","v":0},"#'T2-B(PP3)'!$D$204"]
["pp3_bl4_14_9_units_out",{"$f":"'T2-B(PP3)'!$G$204","v":0},"#'T2-B(PP3)'!$G$204"]
["pp3_bl4_14_total",{"$f":"'T2-B(PP3)'!$J$195","v":0},"#'T2-B(PP3)'!$J$195"]
["pp3_bl4_14_total_in",{"$f":"'T2-B(PP3)'!$F$195","v":0},"#'T2-B(PP3)'!$F$195"]
["pp3_bl4_14_total_out",{"$f":"'T2-B(PP3)'!$I$195","v":0},"#'T2-B(PP3)'!$I$195"]
["pp3_bl4_2_1_name",{"$f":"'T2-B(PP3)'!$B$64","v":0},"#'T2-B(PP3)'!$B$64"]
["pp3_bl4_2_1_rate_in",{"$f":"'T2-B(PP3)'!$E$64","v":0},"#'T2-B(PP3)'!$E$64"]
["pp3_bl4_2_1_rate_out",{"$f":"'T2-B(PP3)'!$H$64","v":0},"#'T2-B(PP3)'!$H$64"]
["pp3_bl4_2_1_total",{"$f":"'T2-B(PP3)'!$J$64","v":0},"#'T2-B(PP3)'!$J$64"]
["pp3_bl4_2_1_total_in",{"$f":"'T2-B(PP3)'!$F$64","v":0},"#'T2-B(PP3)'!$F$64"]
["pp3_bl4_2_1_total_out",{"$f":"'T2-B(PP3)'!$I$64","v":0},"#'T2-B(PP3)'!$I$64"]
["pp3_bl4_2_1_unit",{"$f":"'T2-B(PP3)'!$C$64","v":0},"#'T2-B(PP3)'!$C$64"]
["pp3_bl4_2_1_unit_in",{"$f":"'T2-B(PP3)'!$D$64","v":0},"#'T2-B(PP3)'!$D$64"]
["pp3_bl4_2_1_units_out",{"$f":"'T2-B(PP3)'!$G$64","v":0},"#'T2-B(PP3)'!$G$64"]
["pp3_bl4_2_10_name",{"$f":"'T2-B(PP3)'!$B$73","v":0},"#'T2-B(PP3)'!$B$73"]
["pp3_bl4_2_10_rate_in",{"$f":"'T2-B(PP3)'!$E$73","v":0},"#'T2-B(PP3)'!$E$73"]
["pp3_bl4_2_10_rate_out",{"$f":"'T2-B(PP3)'!$H$73","v":0},"#'T2-B(PP3)'!$H$73"]
["pp3_bl4_2_10_total",{"$f":"'T2-B(PP3)'!$J$73","v":0},"#'T2-B(PP3)'!$J$73"]
["pp3_bl4_2_10_total_in",{"$f":"'T2-B(PP3)'!$F$73","v":0},"#'T2-B(PP3)'!$F$73"]
["pp3_bl4_2_10_total_out",{"$f":"'T2-B(PP3)'!$I$73","v":0},"#'T2-B(PP3)'!$I$73"]
["pp3_bl4_2_10_unit",{"$f":"'T2-B(PP3)'!$C$73","v":0},"#'T2-B(PP3)'!$C$73"]
["pp3_bl4_2_10_unit_in",{"$f":"'T2-B(PP3)'!$D$73","v":0},"#'T2-B(PP3)'!$D$73"]
["pp3_bl4_2_10_units_out",{"$f":"'T2-B(PP3)'!$G$73","v":0},"#'T2-B(PP3)'!$G$73"]
["pp3_bl4_2_2_name",{"$f":"'T2-B(PP3)'!$B$65","v":0},"#'T2-B(PP3)'!$B$65"]
["pp3_bl4_2_2_rate_in",{"$f":"'T2-B(PP3)'!$E$65","v":0},"#'T2-B(PP3)'!$E$65"]
["pp3_bl4_2_2_rate_out",{"$f":"'T2-B(PP3)'!$H$65","v":0},"#'T2-B(PP3)'!$H$65"]
["pp3_bl4_2_2_total",{"$f":"'T2-B(PP3)'!$J$65","v":0},"#'T2-B(PP3)'!$J$65"]
["pp3_bl4_2_2_total_in",{"$f":"'T2-B(PP3)'!$F$65","v":0},"#'T2-B(PP3)'!$F$65"]
["pp3_bl4_2_2_total_out",{"$f":"'T2-B(PP3)'!$I$65","v":0},"#'T2-B(PP3)'!$I$65"]
["pp3_bl4_2_2_unit",{"$f":"'T2-B(PP3)'!$C$65","v":0},"#'T2-B(PP3)'!$C$65"]
["pp3_bl4_2_2_unit_in",{"$f":"'T2-B(PP3)'!$D$65","v":0},"#'T2-B(PP3)'!$D$65"]
["pp3_bl4_2_2_units_out",{"$f":"'T2-B(PP3)'!$G$65","v":0},"#'T2-B(PP3)'!$G$65"]
["pp3_bl4_2_3_name",{"$f":"'T2-B(PP3)'!$B$66","v":0},"#'T2-B(PP3)'!$B$66"]
["pp3_bl4_2_3_rate_in",{"$f":"'T2-B(PP3)'!$E$66","v":0},"#'T2-B(PP3)'!$E$66"]
["pp3_bl4_2_3_rate_out",{"$f":"'T2-B(PP3)'!$H$66","v":0},"#'T2-B(PP3)'!$H$66"]
["pp3_bl4_2_3_total",{"$f":"'T2-B(PP3)'!$J$66","v":0},"#'T2-B(PP3)'!$J$66"]
["pp3_bl4_2_3_total_in",{"$f":"'T2-B(PP3)'!$F$66","v":0},"#'T2-B(PP3)'!$F$66"]
["pp3_bl4_2_3_total_out",{"$f":"'T2-B(PP3)'!$I$66","v":0},"#'T2-B(PP3)'!$I$66"]
["pp3_bl4_2_3_unit",{"$f":"'T2-B(PP3)'!$C$66","v":0},"#'T2-B(PP3)'!$C$66"]
["pp3_bl4_2_3_unit_in",{"$f":"'T2-B(PP3)'!$D$66","v":0},"#'T2-B(PP3)'!$D$66"]
["pp3_bl4_2_3_units_out",{"$f":"'T2-B(PP3)'!$G$66","v":0},"#'T2-B(PP3)'!$G$66"]
["pp3_bl4_2_4_name",{"$f":"'T2-B(PP3)'!$B$67","v":0},"#'T2-B(PP3)'!$B$67"]
["pp3_bl4_2_4_rate_in",{"$f":"'T2-B(PP3)'!$E$67","v":0},"#'T2-B(PP3)'!$E$67"]
["pp3_bl4_2_4_rate_out",{"$f":"'T2-B(PP3)'!$H$67","v":0},"#'T2-B(PP3)'!$H$67"]
["pp3_bl4_2_4_total",{"$f":"'T2-B(PP3)'!$J$67","v":0},"#'T2-B(PP3)'!$J$67"]
["pp3_bl4_2_4_total_in",{"$f":"'T2-B(PP3)'!$F$67","v":0},"#'T2-B(PP3)'!$F$67"]
["pp3_bl4_2_4_total_out",{"$f":"'T2-B(PP3)'!$I$67","v":0},"#'T2-B(PP3)'!$I$67"]
["pp3_bl4_2_4_unit",{"$f":"'T2-B(PP3)'!$C$67","v":0},"#'T2-B(PP3)'!$C$67"]
["pp3_bl4_2_4_unit_in",{"$f":"'T2-B(PP3)'!$D$67","v":0},"#'T2-B(PP3)'!$D$67"]
["pp3_bl4_2_4_units_out",{"$f":"'T2-B(PP3)'!$G$67","v":0},"#'T2-B(PP3)'!$G$67"]
["pp3_bl4_2_5_name",{"$f":"'T2-B(PP3)'!$B$68","v":0},"#'T2-B(PP3)'!$B$68"]
["pp3_bl4_2_5_rate_in",{"$f":"'T2-B(PP3)'!$E$68","v":0},"#'T2-B(PP3)'!$E$68"]
["pp3_bl4_2_5_rate_out",{"$f":"'T2-B(PP3)'!$H$68","v":0},"#'T2-B(PP3)'!$H$68"]
["pp3_bl4_2_5_total",{"$f":"'T2-B(PP3)'!$J$68","v":0},"#'T2-B(PP3)'!$J$68"]
["pp3_bl4_2_5_total_in",{"$f":"'T2-B(PP3)'!$F$68","v":0},"#'T2-B(PP3)'!$F$68"]
["pp3_bl4_2_5_total_out",{"$f":"'T2-B(PP3)'!$I$68","v":0},"#'T2-B(PP3)'!$I$68"]
["pp3_bl4_2_5_unit",{"$f":"'T2-B(PP3)'!$C$68","v":0},"#'T2-B(PP3)'!$C$68"]
["pp3_bl4_2_5_unit_in",{"$f":"'T2-B(PP3)'!$D$68","v":0},"#'T2-B(PP3)'!$D$68"]
["pp3_bl4_2_5_units_out",{"$f":"'T2-B(PP3)'!$G$68","v":0},"#'T2-B(PP3)'!$G$68"]
["pp3_bl4_2_6_name",{"$f":"'T2-B(PP3)'!$B$69","v":0},"#'T2-B(PP3)'!$B$69"]
["pp3_bl4_2_6_rate_in",{"$f":"'T2-B(PP3)'!$E$69","v":0},"#'T2-B(PP3)'!$E$69"]
["pp3_bl4_2_6_rate_out",{"$f":"'T2-B(PP3)'!$H$69","v":0},"#'T2-B(PP3)'!$H$69"]
["pp3_bl4_2_6_total",{"$f":"'T2-B(PP3)'!$J$69","v":0},"#'T2-B(PP3)'!$J$69"]
["pp3_bl4_2_6_total_in",{"$f":"'T2-B(PP3)'!$F$69","v":0},"#'T2-B(PP3)'!$F$69"]
["pp3_bl4_2_6_total_out",{"$f":"'T2-B(PP3)'!$I$69","v":0},"#'T2-B(PP3)'!$I$69"]
["pp3_bl4_2_6_unit",{"$f":"'T2-B(PP3)'!$C$69","v":0},"#'T2-B(PP3)'!$C$69"]
["pp3_bl4_2_6_unit_in",{"$f":"'T2-B(PP3)'!$D$69","v":0},"#'T2-B(PP3)'!$D$69"]
["pp3_bl4_2_6_units_out",{"$f":"'T2-B(PP3)'!$G$69","v":0},"#'T2-B(PP3)'!$G$69"]
["pp3_bl4_2_7_name",{"$f":"'T2-B(PP3)'!$B$70","v":0},"#'T2-B(PP3)'!$B$70"]
["pp3_bl4_2_7_rate_in",{"$f":"'T2-B(PP3)'!$E$70","v":0},"#'T2-B(PP3)'!$E$70"]
["pp3_bl4_2_7_rate_out",{"$f":"'T2-B(PP3)'!$H$70","v":0},"#'T2-B(PP3)'!$H$70"]
["pp3_bl4_2_7_total",{"$f":"'T2-B(PP3)'!$J$70","v":0},"#'T2-B(PP3)'!$J$70"]
["pp3_bl4_2_7_total_in",{"$f":"'T2-B(PP3)'!$F$70","v":0},"#'T2-B(PP3)'!$F$70"]
["pp3_bl4_2_7_total_out",{"$f":"'T2-B(PP3)'!$I$70","v":0},"#'T2-B(PP3)'!$I$70"]
["pp3_bl4_2_7_unit",{"$f":"'T2-B(PP3)'!$C$70","v":0},"#'T2-B(PP3)'!$C$70"]
["pp3_bl4_2_7_unit_in",{"$f":"'T2-B(PP3)'!$D$70","v":0},"#'T2-B(PP3)'!$D$70"]
["pp3_bl4_2_7_units_out",{"$f":"'T2-B(PP3)'!$G$70","v":0},"#'T2-B(PP3)'!$G$70"]
["pp3_bl4_2_8_name",{"$f":"'T2-B(PP3)'!$B$71","v":0},"#'T2-B(PP3)'!$B$71"]
["pp3_bl4_2_8_rate_in",{"$f":"'T2-B(PP3)'!$E$71","v":0},"#'T2-B(PP3)'!$E$71"]
["pp3_bl4_2_8_rate_out",{"$f":"'T2-B(PP3)'!$H$71","v":0},"#'T2-B(PP3)'!$H$71"]
["pp3_bl4_2_8_total",{"$f":"'T2-B(PP3)'!$J$71","v":0},"#'T2-B(PP3)'!$J$71"]
["pp3_bl4_2_8_total_in",{"$f":"'T2-B(PP3)'!$F$71","v":0},"#'T2-B(PP3)'!$F$71"]
["pp3_bl4_2_8_total_out",{"$f":"'T2-B(PP3)'!$I$71","v":0},"#'T2-B(PP3)'!$I$71"]
["pp3_bl4_2_8_unit",{"$f":"'T2-B(PP3)'!$C$71","v":0},"#'T2-B(PP3)'!$C$71"]
["pp3_bl4_2_8_unit_in",{"$f":"'T2-B(PP3)'!$D$71","v":0},"#'T2-B(PP3)'!$D$71"]
["pp3_bl4_2_8_units_out",{"$f":"'T2-B(PP3)'!$G$71","v":0},"#'T2-B(PP3)'!$G$71"]
["pp3_bl4_2_9_name",{"$f":"'T2-B(PP3)'!$B$72","v":0},"#'T2-B(PP3)'!$B$72"]
["pp3_bl4_2_9_rate_in",{"$f":"'T2-B(PP3)'!$E$72","v":0},"#'T2-B(PP3)'!$E$72"]
["pp3_bl4_2_9_rate_out",{"$f":"'T2-B(PP3)'!$H$72","v":0},"#'T2-B(PP3)'!$H$72"]
["pp3_bl4_2_9_total",{"$f":"'T2-B(PP3)'!$J$72","v":0},"#'T2-B(PP3)'!$J$72"]
["pp3_bl4_2_9_total_in",{"$f":"'T2-B(PP3)'!$F$72","v":0},"#'T2-B(PP3)'!$F$72"]
["pp3_bl4_2_9_total_out",{"$f":"'T2-B(PP3)'!$I$72","v":0},"#'T2-B(PP3)'!$I$72"]
["pp3_bl4_2_9_unit",{"$f":"'T2-B(PP3)'!$C$72","v":0},"#'T2-B(PP3)'!$C$72"]
["pp3_bl4_2_9_unit_in",{"$f":"'T2-B(PP3)'!$D$72","v":0},"#'T2-B(PP3)'!$D$72"]
["pp3_bl4_2_9_units_out",{"$f":"'T2-B(PP3)'!$G$72","v":0},"#'T2-B(PP3)'!$G$72"]
["pp3_bl4_2_total",{"$f":"'T2-B(PP3)'!$J$63","v":0},"#'T2-B(PP3)'!$J$63"]
["pp3_bl4_2_total_in",{"$f":"'T2-B(PP3)'!$F$63","v":0},"#'T2-B(PP3)'!$F$63"]
["pp3_bl4_2_total_out",{"$f":"'T2-B(PP3)'!$I$63","v":0},"#'T2-B(PP3)'!$I$63"]
["pp3_bl4_3_1_name",{"$f":"'T2-B(PP3)'!$B$75","v":0},"#'T2-B(PP3)'!$B$75"]
["pp3_bl4_3_1_rate_in",{"$f":"'T2-B(PP3)'!$E$75","v":0},"#'T2-B(PP3)'!$E$75"]
["pp3_bl4_3_1_rate_out",{"$f":"'T2-B(PP3)'!$H$75","v":0},"#'T2-B(PP3)'!$H$75"]
["pp3_bl4_3_1_total",{"$f":"'T2-B(PP3)'!$J$75","v":0},"#'T2-B(PP3)'!$J$75"]
["pp3_bl4_3_1_total_in",{"$f":"'T2-B(PP3)'!$F$75","v":0},"#'T2-B(PP3)'!$F$75"]
["pp3_bl4_3_1_total_out",{"$f":"'T2-B(PP3)'!$I$75","v":0},"#'T2-B(PP3)'!$I$75"]
["pp3_bl4_3_1_unit",{"$f":"'T2-B(PP3)'!$C$75","v":0},"#'T2-B(PP3)'!$C$75"]
["pp3_bl4_3_1_unit_in",{"$f":"'T2-B(PP3)'!$D$75","v":0},"#'T2-B(PP3)'!$D$75"]
["pp3_bl4_3_1_units_out",{"$f":"'T2-B(PP3)'!$G$75","v":0},"#'T2-B(PP3)'!$G$75"]
["pp3_bl4_3_10_name",{"$f":"'T2-B(PP3)'!$B$84","v":0},"#'T2-B(PP3)'!$B$84"]
["pp3_bl4_3_10_rate_in",{"$f":"'T2-B(PP3)'!$E$84","v":0},"#'T2-B(PP3)'!$E$84"]
["pp3_bl4_3_10_rate_out",{"$f":"'T2-B(PP3)'!$H$84","v":0},"#'T2-B(PP3)'!$H$84"]
["pp3_bl4_3_10_total",{"$f":"'T2-B(PP3)'!$J$84","v":0},"#'T2-B(PP3)'!$J$84"]
["pp3_bl4_3_10_total_in",{"$f":"'T2-B(PP3)'!$F$84","v":0},"#'T2-B(PP3)'!$F$84"]
["pp3_bl4_3_10_total_out",{"$f":"'T2-B(PP3)'!$I$84","v":0},"#'T2-B(PP3)'!$I$84"]
["pp3_bl4_3_10_unit",{"$f":"'T2-B(PP3)'!$C$84","v":0},"#'T2-B(PP3)'!$C$84"]
["pp3_bl4_3_10_unit_in",{"$f":"'T2-B(PP3)'!$D$84","v":0},"#'T2-B(PP3)'!$D$84"]
["pp3_bl4_3_10_units_out",{"$f":"'T2-B(PP3)'!$G$84","v":0},"#'T2-B(PP3)'!$G$84"]
["pp3_bl4_3_2_name",{"$f":"'T2-B(PP3)'!$B$76","v":0},"#'T2-B(PP3)'!$B$76"]
["pp3_bl4_3_2_rate_in",{"$f":"'T2-B(PP3)'!$E$76","v":0},"#'T2-B(PP3)'!$E$76"]
["pp3_bl4_3_2_rate_out",{"$f":"'T2-B(PP3)'!$H$76","v":0},"#'T2-B(PP3)'!$H$76"]
["pp3_bl4_3_2_total",{"$f":"'T2-B(PP3)'!$J$76","v":0},"#'T2-B(PP3)'!$J$76"]
["pp3_bl4_3_2_total_in",{"$f":"'T2-B(PP3)'!$F$76","v":0},"#'T2-B(PP3)'!$F$76"]
["pp3_bl4_3_2_total_out",{"$f":"'T2-B(PP3)'!$I$76","v":0},"#'T2-B(PP3)'!$I$76"]
["pp3_bl4_3_2_unit",{"$f":"'T2-B(PP3)'!$C$76","v":0},"#'T2-B(PP3)'!$C$76"]
["pp3_bl4_3_2_unit_in",{"$f":"'T2-B(PP3)'!$D$76","v":0},"#'T2-B(PP3)'!$D$76"]
["pp3_bl4_3_2_units_out",{"$f":"'T2-B(PP3)'!$G$76","v":0},"#'T2-B(PP3)'!$G$76"]
["pp3_bl4_3_3_name",{"$f":"'T2-B(PP3)'!$B$77","v":0},"#'T2-B(PP3)'!$B$77"]
["pp3_bl4_3_3_rate_in",{"$f":"'T2-B(PP3)'!$E$77","v":0},"#'T2-B(PP3)'!$E$77"]
["pp3_bl4_3_3_rate_out",{"$f":"'T2-B(PP3)'!$H$77","v":0},"#'T2-B(PP3)'!$H$77"]
["pp3_bl4_3_3_total",{"$f":"'T2-B(PP3)'!$J$77","v":0},"#'T2-B(PP3)'!$J$77"]
["pp3_bl4_3_3_total_in",{"$f":"'T2-B(PP3)'!$F$77","v":0},"#'T2-B(PP3)'!$F$77"]
["pp3_bl4_3_3_total_out",{"$f":"'T2-B(PP3)'!$I$77","v":0},"#'T2-B(PP3)'!$I$77"]
["pp3_bl4_3_3_unit",{"$f":"'T2-B(PP3)'!$C$77","v":0},"#'T2-B(PP3)'!$C$77"]
["pp3_bl4_3_3_unit_in",{"$f":"'T2-B(PP3)'!$D$77","v":0},"#'T2-B(PP3)'!$D$77"]
["pp3_bl4_3_3_units_out",{"$f":"'T2-B(PP3)'!$G$77","v":0},"#'T2-B(PP3)'!$G$77"]
["pp3_bl4_3_4_name",{"$f":"'T2-B(PP3)'!$B$78","v":0},"#'T2-B(PP3)'!$B$78"]
["pp3_bl4_3_4_rate_in",{"$f":"'T2-B(PP3)'!$E$78","v":0},"#'T2-B(PP3)'!$E$78"]
["pp3_bl4_3_4_rate_out",{"$f":"'T2-B(PP3)'!$H$78","v":0},"#'T2-B(PP3)'!$H$78"]
["pp3_bl4_3_4_total",{"$f":"'T2-B(PP3)'!$J$78","v":0},"#'T2-B(PP3)'!$J$78"]
["pp3_bl4_3_4_total_in",{"$f":"'T2-B(PP3)'!$F$78","v":0},"#'T2-B(PP3)'!$F$78"]
["pp3_bl4_3_4_total_out",{"$f":"'T2-B(PP3)'!$I$78","v":0},"#'T2-B(PP3)'!$I$78"]
["pp3_bl4_3_4_unit",{"$f":"'T2-B(PP3)'!$C$78","v":0},"#'T2-B(PP3)'!$C$78"]
["pp3_bl4_3_4_unit_in",{"$f":"'T2-B(PP3)'!$D$78","v":0},"#'T2-B(PP3)'!$D$78"]
["pp3_bl4_3_4_units_out",{"$f":"'T2-B(PP3)'!$G$78","v":0},"#'T2-B(PP3)'!$G$78"]
["pp3_bl4_3_5_name",{"$f":"'T2-B(PP3)'!$B$79","v":0},"#'T2-B(PP3)'!$B$79"]
["pp3_bl4_3_5_rate_in",{"$f":"'T2-B(PP3)'!$E$79","v":0},"#'T2-B(PP3)'!$E$79"]
["pp3_bl4_3_5_rate_out",{"$f":"'T2-B(PP3)'!$H$79","v":0},"#'T2-B(PP3)'!$H$79"]
["pp3_bl4_3_5_total",{"$f":"'T2-B(PP3)'!$J$79","v":0},"#'T2-B(PP3)'!$J$79"]
["pp3_bl4_3_5_total_in",{"$f":"'T2-B(PP3)'!$F$79","v":0},"#'T2-B(PP3)'!$F$79"]
["pp3_bl4_3_5_total_out",{"$f":"'T2-B(PP3)'!$I$79","v":0},"#'T2-B(PP3)'!$I$79"]
["pp3_bl4_3_5_unit",{"$f":"'T2-B(PP3)'!$C$79","v":0},"#'T2-B(PP3)'!$C$79"]
["pp3_bl4_3_5_unit_in",{"$f":"'T2-B(PP3)'!$D$79","v":0},"#'T2-B(PP3)'!$D$79"]
["pp3_bl4_3_5_units_out",{"$f":"'T2-B(PP3)'!$G$79","v":0},"#'T2-B(PP3)'!$G$79"]
["pp3_bl4_3_6_name",{"$f":"'T2-B(PP3)'!$B$80","v":0},"#'T2-B(PP3)'!$B$80"]
["pp3_bl4_3_6_rate_in",{"$f":"'T2-B(PP3)'!$E$80","v":0},"#'T2-B(PP3)'!$E$80"]
["pp3_bl4_3_6_rate_out",{"$f":"'T2-B(PP3)'!$H$80","v":0},"#'T2-B(PP3)'!$H$80"]
["pp3_bl4_3_6_total",{"$f":"'T2-B(PP3)'!$J$80","v":0},"#'T2-B(PP3)'!$J$80"]
["pp3_bl4_3_6_total_in",{"$f":"'T2-B(PP3)'!$F$80","v":0},"#'T2-B(PP3)'!$F$80"]
["pp3_bl4_3_6_total_out",{"$f":"'T2-B(PP3)'!$I$80","v":0},"#'T2-B(PP3)'!$I$80"]
["pp3_bl4_3_6_unit",{"$f":"'T2-B(PP3)'!$C$80","v":0},"#'T2-B(PP3)'!$C$80"]
["pp3_bl4_3_6_unit_in",{"$f":"'T2-B(PP3)'!$D$80","v":0},"#'T2-B(PP3)'!$D$80"]
["pp3_bl4_3_6_units_out",{"$f":"'T2-B(PP3)'!$G$80","v":0},"#'T2-B(PP3)'!$G$80"]
["pp3_bl4_3_7_name",{"$f":"'T2-B(PP3)'!$B$81","v":0},"#'T2-B(PP3)'!$B$81"]
["pp3_bl4_3_7_rate_in",{"$f":"'T2-B(PP3)'!$E$81","v":0},"#'T2-B(PP3)'!$E$81"]
["pp3_bl4_3_7_rate_out",{"$f":"'T2-B(PP3)'!$H$81","v":0},"#'T2-B(PP3)'!$H$81"]
["pp3_bl4_3_7_total",{"$f":"'T2-B(PP3)'!$J$81","v":0},"#'T2-B(PP3)'!$J$81"]
["pp3_bl4_3_7_total_in",{"$f":"'T2-B(PP3)'!$F$81","v":0},"#'T2-B(PP3)'!$F$81"]
["pp3_bl4_3_7_total_out",{"$f":"'T2-B(PP3)'!$I$81","v":0},"#'T2-B(PP3)'!$I$81"]
["pp3_bl4_3_7_unit",{"$f":"'T2-B(PP3)'!$C$81","v":0},"#'T2-B(PP3)'!$C$81"]
["pp3_bl4_3_7_unit_in",{"$f":"'T2-B(PP3)'!$D$81","v":0},"#'T2-B(PP3)'!$D$81"]
["pp3_bl4_3_7_units_out",{"$f":"'T2-B(PP3)'!$G$81","v":0},"#'T2-B(PP3)'!$G$81"]
["pp3_bl4_3_8_name",{"$f":"'T2-B(PP3)'!$B$82","v":0},"#'T2-B(PP3)'!$B$82"]
["pp3_bl4_3_8_rate_in",{"$f":"'T2-B(PP3)'!$E$82","v":0},"#'T2-B(PP3)'!$E$82"]
["pp3_bl4_3_8_rate_out",{"$f":"'T2-B(PP3)'!$H$82","v":0},"#'T2-B(PP3)'!$H$82"]
["pp3_bl4_3_8_total",{"$f":"'T2-B(PP3)'!$J$82","v":0},"#'T2-B(PP3)'!$J$82"]
["pp3_bl4_3_8_total_in",{"$f":"'T2-B(PP3)'!$F$82","v":0},"#'T2-B(PP3)'!$F$82"]
["pp3_bl4_3_8_total_out",{"$f":"'T2-B(PP3)'!$I$82","v":0},"#'T2-B(PP3)'!$I$82"]
["pp3_bl4_3_8_unit",{"$f":"'T2-B(PP3)'!$C$82","v":0},"#'T2-B(PP3)'!$C$82"]
["pp3_bl4_3_8_unit_in",{"$f":"'T2-B(PP3)'!$D$82","v":0},"#'T2-B(PP3)'!$D$82"]
["pp3_bl4_3_8_units_out",{"$f":"'T2-B(PP3)'!$G$82","v":0},"#'T2-B(PP3)'!$G$82"]
["pp3_bl4_3_9_name",{"$f":"'T2-B(PP3)'!$B$83","v":0},"#'T2-B(PP3)'!$B$83"]
["pp3_bl4_3_9_rate_in",{"$f":"'T2-B(PP3)'!$E$83","v":0},"#'T2-B(PP3)'!$E$83"]
["pp3_bl4_3_9_rate_out",{"$f":"'T2-B(PP3)'!$H$83","v":0},"#'T2-B(PP3)'!$H$83"]
["pp3_bl4_3_9_total",{"$f":"'T2-B(PP3)'!$J$83","v":0},"#'T2-B(PP3)'!$J$83"]
["pp3_bl4_3_9_total_in",{"$f":"'T2-B(PP3)'!$F$83","v":0},"#'T2-B(PP3)'!$F$83"]
["pp3_bl4_3_9_total_out",{"$f":"'T2-B(PP3)'!$I$83","v":0},"#'T2-B(PP3)'!$I$83"]
["pp3_bl4_3_9_unit",{"$f":"'T2-B(PP3)'!$C$83","v":0},"#'T2-B(PP3)'!$C$83"]
["pp3_bl4_3_9_unit_in",{"$f":"'T2-B(PP3)'!$D$83","v":0},"#'T2-B(PP3)'!$D$83"]
["pp3_bl4_3_9_units_out",{"$f":"'T2-B(PP3)'!$G$83","v":0},"#'T2-B(PP3)'!$G$83"]
["pp3_bl4_3_total",{"$f":"'T2-B(PP3)'!$J$74","v":0},"#'T2-B(PP3)'!$J$74"]
["pp3_bl4_3_total_in",{"$f":"'T2-B(PP3)'!$F$74","v":0},"#'T2-B(PP3)'!$F$74"]
["pp3_bl4_3_total_out",{"$f":"'T2-B(PP3)'!$I$74","v":0},"#'T2-B(PP3)'!$I$74"]
["pp3_bl4_4_1_name",{"$f":"'T2-B(PP3)'!$B$86","v":0},"#'T2-B(PP3)'!$B$86"]
["pp3_bl4_4_1_rate_in",{"$f":"'T2-B(PP3)'!$E$86","v":0},"#'T2-B(PP3)'!$E$86"]
["pp3_bl4_4_1_rate_out",{"$f":"'T2-B(PP3)'!$H$86","v":0},"#'T2-B(PP3)'!$H$86"]
["pp3_bl4_4_1_total",{"$f":"'T2-B(PP3)'!$J$86","v":0},"#'T2-B(PP3)'!$J$86"]
["pp3_bl4_4_1_total_in",{"$f":"'T2-B(PP3)'!$F$86","v":0},"#'T2-B(PP3)'!$F$86"]
["pp3_bl4_4_1_total_out",{"$f":"'T2-B(PP3)'!$I$86","v":0},"#'T2-B(PP3)'!$I$86"]
["pp3_bl4_4_1_unit",{"$f":"'T2-B(PP3)'!$C$86","v":0},"#'T2-B(PP3)'!$C$86"]
["pp3_bl4_4_1_unit_in",{"$f":"'T2-B(PP3)'!$D$86","v":0},"#'T2-B(PP3)'!$D$86"]
["pp3_bl4_4_1_units_out",{"$f":"'T2-B(PP3)'!$G$86","v":0},"#'T2-B(PP3)'!$G$86"]
["pp3_bl4_4_10_name",{"$f":"'T2-B(PP3)'!$B$95","v":0},"#'T2-B(PP3)'!$B$95"]
["pp3_bl4_4_10_rate_in",{"$f":"'T2-B(PP3)'!$E$95","v":0},"#'T2-B(PP3)'!$E$95"]
["pp3_bl4_4_10_rate_out",{"$f":"'T2-B(PP3)'!$H$95","v":0},"#'T2-B(PP3)'!$H$95"]
["pp3_bl4_4_10_total",{"$f":"'T2-B(PP3)'!$J$95","v":0},"#'T2-B(PP3)'!$J$95"]
["pp3_bl4_4_10_total_in",{"$f":"'T2-B(PP3)'!$F$95","v":0},"#'T2-B(PP3)'!$F$95"]
["pp3_bl4_4_10_total_out",{"$f":"'T2-B(PP3)'!$I$95","v":0},"#'T2-B(PP3)'!$I$95"]
["pp3_bl4_4_10_unit",{"$f":"'T2-B(PP3)'!$C$95","v":0},"#'T2-B(PP3)'!$C$95"]
["pp3_bl4_4_10_unit_in",{"$f":"'T2-B(PP3)'!$D$95","v":0},"#'T2-B(PP3)'!$D$95"]
["pp3_bl4_4_10_units_out",{"$f":"'T2-B(PP3)'!$G$95","v":0},"#'T2-B(PP3)'!$G$95"]
["pp3_bl4_4_2_name",{"$f":"'T2-B(PP3)'!$B$87","v":0},"#'T2-B(PP3)'!$B$87"]
["pp3_bl4_4_2_rate_in",{"$f":"'T2-B(PP3)'!$E$87","v":0},"#'T2-B(PP3)'!$E$87"]
["pp3_bl4_4_2_rate_out",{"$f":"'T2-B(PP3)'!$H$87","v":0},"#'T2-B(PP3)'!$H$87"]
["pp3_bl4_4_2_total",{"$f":"'T2-B(PP3)'!$J$87","v":0},"#'T2-B(PP3)'!$J$87"]
["pp3_bl4_4_2_total_in",{"$f":"'T2-B(PP3)'!$F$87","v":0},"#'T2-B(PP3)'!$F$87"]
["pp3_bl4_4_2_total_out",{"$f":"'T2-B(PP3)'!$I$87","v":0},"#'T2-B(PP3)'!$I$87"]
["pp3_bl4_4_2_unit",{"$f":"'T2-B(PP3)'!$C$87","v":0},"#'T2-B(PP3)'!$C$87"]
["pp3_bl4_4_2_unit_in",{"$f":"'T2-B(PP3)'!$D$87","v":0},"#'T2-B(PP3)'!$D$87"]
["pp3_bl4_4_2_units_out",{"$f":"'T2-B(PP3)'!$G$87","v":0},"#'T2-B(PP3)'!$G$87"]
["pp3_bl4_4_3_name",{"$f":"'T2-B(PP3)'!$B$88","v":0},"#'T2-B(PP3)'!$B$88"]
["pp3_bl4_4_3_rate_in",{"$f":"'T2-B(PP3)'!$E$88","v":0},"#'T2-B(PP3)'!$E$88"]
["pp3_bl4_4_3_rate_out",{"$f":"'T2-B(PP3)'!$H$88","v":0},"#'T2-B(PP3)'!$H$88"]
["pp3_bl4_4_3_total",{"$f":"'T2-B(PP3)'!$J$88","v":0},"#'T2-B(PP3)'!$J$88"]
["pp3_bl4_4_3_total_in",{"$f":"'T2-B(PP3)'!$F$88","v":0},"#'T2-B(PP3)'!$F$88"]
["pp3_bl4_4_3_total_out",{"$f":"'T2-B(PP3)'!$I$88","v":0},"#'T2-B(PP3)'!$I$88"]
["pp3_bl4_4_3_unit",{"$f":"'T2-B(PP3)'!$C$88","v":0},"#'T2-B(PP3)'!$C$88"]
["pp3_bl4_4_3_unit_in",{"$f":"'T2-B(PP3)'!$D$88","v":0},"#'T2-B(PP3)'!$D$88"]
["pp3_bl4_4_3_units_out",{"$f":"'T2-B(PP3)'!$G$88","v":0},"#'T2-B(PP3)'!$G$88"]
["pp3_bl4_4_4_name",{"$f":"'T2-B(PP3)'!$B$89","v":0},"#'T2-B(PP3)'!$B$89"]
["pp3_bl4_4_4_rate_in",{"$f":"'T2-B(PP3)'!$E$89","v":0},"#'T2-B(PP3)'!$E$89"]
["pp3_bl4_4_4_rate_out",{"$f":"'T2-B(PP3)'!$H$89","v":0},"#'T2-B(PP3)'!$H$89"]
["pp3_bl4_4_4_total",{"$f":"'T2-B(PP3)'!$J$89","v":0},"#'T2-B(PP3)'!$J$89"]
["pp3_bl4_4_4_total_in",{"$f":"'T2-B(PP3)'!$F$89","v":0},"#'T2-B(PP3)'!$F$89"]
["pp3_bl4_4_4_total_out",{"$f":"'T2-B(PP3)'!$I$89","v":0},"#'T2-B(PP3)'!$I$89"]
["pp3_bl4_4_4_unit",{"$f":"'T2-B(PP3)'!$C$89","v":0},"#'T2-B(PP3)'!$C$89"]
["pp3_bl4_4_4_unit_in",{"$f":"'T2-B(PP3)'!$D$89","v":0},"#'T2-B(PP3)'!$D$89"]
["pp3_bl4_4_4_units_out",{"$f":"'T2-B(PP3)'!$G$89","v":0},"#'T2-B(PP3)'!$G$89"]
["pp3_bl4_4_5_name",{"$f":"'T2-B(PP3)'!$B$90","v":0},"#'T2-B(PP3)'!$B$90"]
["pp3_bl4_4_5_rate_in",{"$f":"'T2-B(PP3)'!$E$90","v":0},"#'T2-B(PP3)'!$E$90"]
["pp3_bl4_4_5_rate_out",{"$f":"'T2-B(PP3)'!$H$90","v":0},"#'T2-B(PP3)'!$H$90"]
["pp3_bl4_4_5_total",{"$f":"'T2-B(PP3)'!$J$90","v":0},"#'T2-B(PP3)'!$J$90"]
["pp3_bl4_4_5_total_in",{"$f":"'T2-B(PP3)'!$F$90","v":0},"#'T2-B(PP3)'!$F$90"]
["pp3_bl4_4_5_total_out",{"$f":"'T2-B(PP3)'!$I$90","v":0},"#'T2-B(PP3)'!$I$90"]
["pp3_bl4_4_5_unit",{"$f":"'T2-B(PP3)'!$C$90","v":0},"#'T2-B(PP3)'!$C$90"]
["pp3_bl4_4_5_unit_in",{"$f":"'T2-B(PP3)'!$D$90","v":0},"#'T2-B(PP3)'!$D$90"]
["pp3_bl4_4_5_units_out",{"$f":"'T2-B(PP3)'!$G$90","v":0},"#'T2-B(PP3)'!$G$90"]
["pp3_bl4_4_6_name",{"$f":"'T2-B(PP3)'!$B$91","v":0},"#'T2-B(PP3)'!$B$91"]
["pp3_bl4_4_6_rate_in",{"$f":"'T2-B(PP3)'!$E$91","v":0},"#'T2-B(PP3)'!$E$91"]
["pp3_bl4_4_6_rate_out",{"$f":"'T2-B(PP3)'!$H$91","v":0},"#'T2-B(PP3)'!$H$91"]
["pp3_bl4_4_6_total",{"$f":"'T2-B(PP3)'!$J$91","v":0},"#'T2-B(PP3)'!$J$91"]
["pp3_bl4_4_6_total_in",{"$f":"'T2-B(PP3)'!$F$91","v":0},"#'T2-B(PP3)'!$F$91"]
["pp3_bl4_4_6_total_out",{"$f":"'T2-B(PP3)'!$I$91","v":0},"#'T2-B(PP3)'!$I$91"]
["pp3_bl4_4_6_unit",{"$f":"'T2-B(PP3)'!$C$91","v":0},"#'T2-B(PP3)'!$C$91"]
["pp3_bl4_4_6_unit_in",{"$f":"'T2-B(PP3)'!$D$91","v":0},"#'T2-B(PP3)'!$D$91"]
["pp3_bl4_4_6_units_out",{"$f":"'T2-B(PP3)'!$G$91","v":0},"#'T2-B(PP3)'!$G$91"]
["pp3_bl4_4_7_name",{"$f":"'T2-B(PP3)'!$B$92","v":0},"#'T2-B(PP3)'!$B$92"]
["pp3_bl4_4_7_rate_in",{"$f":"'T2-B(PP3)'!$E$92","v":0},"#'T2-B(PP3)'!$E$92"]
["pp3_bl4_4_7_rate_out",{"$f":"'T2-B(PP3)'!$H$92","v":0},"#'T2-B(PP3)'!$H$92"]
["pp3_bl4_4_7_total",{"$f":"'T2-B(PP3)'!$J$92","v":0},"#'T2-B(PP3)'!$J$92"]
["pp3_bl4_4_7_total_in",{"$f":"'T2-B(PP3)'!$F$92","v":0},"#'T2-B(PP3)'!$F$92"]
["pp3_bl4_4_7_total_out",{"$f":"'T2-B(PP3)'!$I$92","v":0},"#'T2-B(PP3)'!$I$92"]
["pp3_bl4_4_7_unit",{"$f":"'T2-B(PP3)'!$C$92","v":0},"#'T2-B(PP3)'!$C$92"]
["pp3_bl4_4_7_unit_in",{"$f":"'T2-B(PP3)'!$D$92","v":0},"#'T2-B(PP3)'!$D$92"]
["pp3_bl4_4_7_units_out",{"$f":"'T2-B(PP3)'!$G$92","v":0},"#'T2-B(PP3)'!$G$92"]
["pp3_bl4_4_8_name",{"$f":"'T2-B(PP3)'!$B$93","v":0},"#'T2-B(PP3)'!$B$93"]
["pp3_bl4_4_8_rate_in",{"$f":"'T2-B(PP3)'!$E$93","v":0},"#'T2-B(PP3)'!$E$93"]
["pp3_bl4_4_8_rate_out",{"$f":"'T2-B(PP3)'!$H$93","v":0},"#'T2-B(PP3)'!$H$93"]
["pp3_bl4_4_8_total",{"$f":"'T2-B(PP3)'!$J$93","v":0},"#'T2-B(PP3)'!$J$93"]
["pp3_bl4_4_8_total_in",{"$f":"'T2-B(PP3)'!$F$93","v":0},"#'T2-B(PP3)'!$F$93"]
["pp3_bl4_4_8_total_out",{"$f":"'T2-B(PP3)'!$I$93","v":0},"#'T2-B(PP3)'!$I$93"]
["pp3_bl4_4_8_unit",{"$f":"'T2-B(PP3)'!$C$93","v":0},"#'T2-B(PP3)'!$C$93"]
["pp3_bl4_4_8_unit_in",{"$f":"'T2-B(PP3)'!$D$93","v":0},"#'T2-B(PP3)'!$D$93"]
["pp3_bl4_4_8_units_out",{"$f":"'T2-B(PP3)'!$G$93","v":0},"#'T2-B(PP3)'!$G$93"]
["pp3_bl4_4_9_name",{"$f":"'T2-B(PP3)'!$B$94","v":0},"#'T2-B(PP3)'!$B$94"]
["pp3_bl4_4_9_rate_in",{"$f":"'T2-B(PP3)'!$E$94","v":0},"#'T2-B(PP3)'!$E$94"]
["pp3_bl4_4_9_rate_out",{"$f":"'T2-B(PP3)'!$H$94","v":0},"#'T2-B(PP3)'!$H$94"]
["pp3_bl4_4_9_total",{"$f":"'T2-B(PP3)'!$J$94","v":0},"#'T2-B(PP3)'!$J$94"]
["pp3_bl4_4_9_total_in",{"$f":"'T2-B(PP3)'!$F$94","v":0},"#'T2-B(PP3)'!$F$94"]
["pp3_bl4_4_9_total_out",{"$f":"'T2-B(PP3)'!$I$94","v":0},"#'T2-B(PP3)'!$I$94"]
["pp3_bl4_4_9_unit",{"$f":"'T2-B(PP3)'!$C$94","v":0},"#'T2-B(PP3)'!$C$94"]
["pp3_bl4_4_9_unit_in",{"$f":"'T2-B(PP3)'!$D$94","v":0},"#'T2-B(PP3)'!$D$94"]
["pp3_bl4_4_9_units_out",{"$f":"'T2-B(PP3)'!$G$94","v":0},"#'T2-B(PP3)'!$G$94"]
["pp3_bl4_4_total",{"$f":"'T2-B(PP3)'!$J$85","v":0},"#'T2-B(PP3)'!$J$85"]
["pp3_bl4_4_total_in",{"$f":"'T2-B(PP3)'!$F$85","v":0},"#'T2-B(PP3)'!$F$85"]
["pp3_bl4_4_total_out",{"$f":"'T2-B(PP3)'!$I$85","v":0},"#'T2-B(PP3)'!$I$85"]
["pp3_bl4_5_1_name",{"$f":"'T2-B(PP3)'!$B$97","v":0},"#'T2-B(PP3)'!$B$97"]
["pp3_bl4_5_1_rate_in",{"$f":"'T2-B(PP3)'!$E$97","v":0},"#'T2-B(PP3)'!$E$97"]
["pp3_bl4_5_1_rate_out",{"$f":"'T2-B(PP3)'!$H$97","v":0},"#'T2-B(PP3)'!$H$97"]
["pp3_bl4_5_1_total",{"$f":"'T2-B(PP3)'!$J$97","v":0},"#'T2-B(PP3)'!$J$97"]
["pp3_bl4_5_1_total_in",{"$f":"'T2-B(PP3)'!$F$97","v":0},"#'T2-B(PP3)'!$F$97"]
["pp3_bl4_5_1_total_out",{"$f":"'T2-B(PP3)'!$I$97","v":0},"#'T2-B(PP3)'!$I$97"]
["pp3_bl4_5_1_unit",{"$f":"'T2-B(PP3)'!$C$97","v":0},"#'T2-B(PP3)'!$C$97"]
["pp3_bl4_5_1_unit_in",{"$f":"'T2-B(PP3)'!$D$97","v":0},"#'T2-B(PP3)'!$D$97"]
["pp3_bl4_5_1_units_out",{"$f":"'T2-B(PP3)'!$G$97","v":0},"#'T2-B(PP3)'!$G$97"]
["pp3_bl4_5_10_name",{"$f":"'T2-B(PP3)'!$B$106","v":0},"#'T2-B(PP3)'!$B$106"]
["pp3_bl4_5_10_rate_in",{"$f":"'T2-B(PP3)'!$E$106","v":0},"#'T2-B(PP3)'!$E$106"]
["pp3_bl4_5_10_rate_out",{"$f":"'T2-B(PP3)'!$H$106","v":0},"#'T2-B(PP3)'!$H$106"]
["pp3_bl4_5_10_total",{"$f":"'T2-B(PP3)'!$J$106","v":0},"#'T2-B(PP3)'!$J$106"]
["pp3_bl4_5_10_total_in",{"$f":"'T2-B(PP3)'!$F$106","v":0},"#'T2-B(PP3)'!$F$106"]
["pp3_bl4_5_10_total_out",{"$f":"'T2-B(PP3)'!$I$106","v":0},"#'T2-B(PP3)'!$I$106"]
["pp3_bl4_5_10_unit",{"$f":"'T2-B(PP3)'!$C$106","v":0},"#'T2-B(PP3)'!$C$106"]
["pp3_bl4_5_10_unit_in",{"$f":"'T2-B(PP3)'!$D$106","v":0},"#'T2-B(PP3)'!$D$106"]
["pp3_bl4_5_10_units_out",{"$f":"'T2-B(PP3)'!$G$106","v":0},"#'T2-B(PP3)'!$G$106"]
["pp3_bl4_5_2_name",{"$f":"'T2-B(PP3)'!$B$98","v":0},"#'T2-B(PP3)'!$B$98"]
["pp3_bl4_5_2_rate_in",{"$f":"'T2-B(PP3)'!$E$98","v":0},"#'T2-B(PP3)'!$E$98"]
["pp3_bl4_5_2_rate_out",{"$f":"'T2-B(PP3)'!$H$98","v":0},"#'T2-B(PP3)'!$H$98"]
["pp3_bl4_5_2_total",{"$f":"'T2-B(PP3)'!$J$98","v":0},"#'T2-B(PP3)'!$J$98"]
["pp3_bl4_5_2_total_in",{"$f":"'T2-B(PP3)'!$F$98","v":0},"#'T2-B(PP3)'!$F$98"]
["pp3_bl4_5_2_total_out",{"$f":"'T2-B(PP3)'!$I$98","v":0},"#'T2-B(PP3)'!$I$98"]
["pp3_bl4_5_2_unit",{"$f":"'T2-B(PP3)'!$C$98","v":0},"#'T2-B(PP3)'!$C$98"]
["pp3_bl4_5_2_unit_in",{"$f":"'T2-B(PP3)'!$D$98","v":0},"#'T2-B(PP3)'!$D$98"]
["pp3_bl4_5_2_units_out",{"$f":"'T2-B(PP3)'!$G$98","v":0},"#'T2-B(PP3)'!$G$98"]
["pp3_bl4_5_3_name",{"$f":"'T2-B(PP3)'!$B$99","v":0},"#'T2-B(PP3)'!$B$99"]
["pp3_bl4_5_3_rate_in",{"$f":"'T2-B(PP3)'!$E$99","v":0},"#'T2-B(PP3)'!$E$99"]
["pp3_bl4_5_3_rate_out",{"$f":"'T2-B(PP3)'!$H$99","v":0},"#'T2-B(PP3)'!$H$99"]
["pp3_bl4_5_3_total",{"$f":"'T2-B(PP3)'!$J$99","v":0},"#'T2-B(PP3)'!$J$99"]
["pp3_bl4_5_3_total_in",{"$f":"'T2-B(PP3)'!$F$99","v":0},"#'T2-B(PP3)'!$F$99"]
["pp3_bl4_5_3_total_out",{"$f":"'T2-B(PP3)'!$I$99","v":0},"#'T2-B(PP3)'!$I$99"]
["pp3_bl4_5_3_unit",{"$f":"'T2-B(PP3)'!$C$99","v":0},"#'T2-B(PP3)'!$C$99"]
["pp3_bl4_5_3_unit_in",{"$f":"'T2-B(PP3)'!$D$99","v":0},"#'T2-B(PP3)'!$D$99"]
["pp3_bl4_5_3_units_out",{"$f":"'T2-B(PP3)'!$G$99","v":0},"#'T2-B(PP3)'!$G$99"]
["pp3_bl4_5_4_name",{"$f":"'T2-B(PP3)'!$B$100","v":0},"#'T2-B(PP3)'!$B$100"]
["pp3_bl4_5_4_rate_in",{"$f":"'T2-B(PP3)'!$E$100","v":0},"#'T2-B(PP3)'!$E$100"]
["pp3_bl4_5_4_rate_out",{"$f":"'T2-B(PP3)'!$H$100","v":0},"#'T2-B(PP3)'!$H$100"]
["pp3_bl4_5_4_total",{"$f":"'T2-B(PP3)'!$J$100","v":0},"#'T2-B(PP3)'!$J$100"]
["pp3_bl4_5_4_total_in",{"$f":"'T2-B(PP3)'!$F$100","v":0},"#'T2-B(PP3)'!$F$100"]
["pp3_bl4_5_4_total_out",{"$f":"'T2-B(PP3)'!$I$100","v":0},"#'T2-B(PP3)'!$I$100"]
["pp3_bl4_5_4_unit",{"$f":"'T2-B(PP3)'!$C$100","v":0},"#'T2-B(PP3)'!$C$100"]
["pp3_bl4_5_4_unit_in",{"$f":"'T2-B(PP3)'!$D$100","v":0},"#'T2-B(PP3)'!$D$100"]
["pp3_bl4_5_4_units_out",{"$f":"'T2-B(PP3)'!$G$100","v":0},"#'T2-B(PP3)'!$G$100"]
["pp3_bl4_5_5_name",{"$f":"'T2-B(PP3)'!$B$101","v":0},"#'T2-B(PP3)'!$B$101"]
["pp3_bl4_5_5_rate_in",{"$f":"'T2-B(PP3)'!$E$101","v":0},"#'T2-B(PP3)'!$E$101"]
["pp3_bl4_5_5_rate_out",{"$f":"'T2-B(PP3)'!$H$101","v":0},"#'T2-B(PP3)'!$H$101"]
["pp3_bl4_5_5_total",{"$f":"'T2-B(PP3)'!$J$101","v":0},"#'T2-B(PP3)'!$J$101"]
["pp3_bl4_5_5_total_in",{"$f":"'T2-B(PP3)'!$F$101","v":0},"#'T2-B(PP3)'!$F$101"]
["pp3_bl4_5_5_total_out",{"$f":"'T2-B(PP3)'!$I$101","v":0},"#'T2-B(PP3)'!$I$101"]
["pp3_bl4_5_5_unit",{"$f":"'T2-B(PP3)'!$C$101","v":0},"#'T2-B(PP3)'!$C$101"]
["pp3_bl4_5_5_unit_in",{"$f":"'T2-B(PP3)'!$D$101","v":0},"#'T2-B(PP3)'!$D$101"]
["pp3_bl4_5_5_units_out",{"$f":"'T2-B(PP3)'!$G$101","v":0},"#'T2-B(PP3)'!$G$101"]
["pp3_bl4_5_6_name",{"$f":"'T2-B(PP3)'!$B$102","v":0},"#'T2-B(PP3)'!$B$102"]
["pp3_bl4_5_6_rate_in",{"$f":"'T2-B(PP3)'!$E$102","v":0},"#'T2-B(PP3)'!$E$102"]
["pp3_bl4_5_6_rate_out",{"$f":"'T2-B(PP3)'!$H$102","v":0},"#'T2-B(PP3)'!$H$102"]
["pp3_bl4_5_6_total",{"$f":"'T2-B(PP3)'!$J$102","v":0},"#'T2-B(PP3)'!$J$102"]
["pp3_bl4_5_6_total_in",{"$f":"'T2-B(PP3)'!$F$102","v":0},"#'T2-B(PP3)'!$F$102"]
["pp3_bl4_5_6_total_out",{"$f":"'T2-B(PP3)'!$I$102","v":0},"#'T2-B(PP3)'!$I$102"]
["pp3_bl4_5_6_unit",{"$f":"'T2-B(PP3)'!$C$102","v":0},"#'T2-B(PP3)'!$C$102"]
["pp3_bl4_5_6_unit_in",{"$f":"'T2-B(PP3)'!$D$102","v":0},"#'T2-B(PP3)'!$D$102"]
["pp3_bl4_5_6_units_out",{"$f":"'T2-B(PP3)'!$G$102","v":0},"#'T2-B(PP3)'!$G$102"]
["pp3_bl4_5_7_name",{"$f":"'T2-B(PP3)'!$B$103","v":0},"#'T2-B(PP3)'!$B$103"]
["pp3_bl4_5_7_rate_in",{"$f":"'T2-B(PP3)'!$E$103","v":0},"#'T2-B(PP3)'!$E$103"]
["pp3_bl4_5_7_rate_out",{"$f":"'T2-B(PP3)'!$H$103","v":0},"#'T2-B(PP3)'!$H$103"]
["pp3_bl4_5_7_total",{"$f":"'T2-B(PP3)'!$J$103","v":0},"#'T2-B(PP3)'!$J$103"]
["pp3_bl4_5_7_total_in",{"$f":"'T2-B(PP3)'!$F$103","v":0},"#'T2-B(PP3)'!$F$103"]
["pp3_bl4_5_7_total_out",{"$f":"'T2-B(PP3)'!$I$103","v":0},"#'T2-B(PP3)'!$I$103"]
["pp3_bl4_5_7_unit",{"$f":"'T2-B(PP3)'!$C$103","v":0},"#'T2-B(PP3)'!$C$103"]
["pp3_bl4_5_7_unit_in",{"$f":"'T2-B(PP3)'!$D$103","v":0},"#'T2-B(PP3)'!$D$103"]
["pp3_bl4_5_7_units_out",{"$f":"'T2-B(PP3)'!$G$103","v":0},"#'T2-B(PP3)'!$G$103"]
["pp3_bl4_5_8_name",{"$f":"'T2-B(PP3)'!$B$104","v":0},"#'T2-B(PP3)'!$B$104"]
["pp3_bl4_5_8_rate_in",{"$f":"'T2-B(PP3)'!$E$104","v":0},"#'T2-B(PP3)'!$E$104"]
["pp3_bl4_5_8_rate_out",{"$f":"'T2-B(PP3)'!$H$104","v":0},"#'T2-B(PP3)'!$H$104"]
["pp3_bl4_5_8_total",{"$f":"'T2-B(PP3)'!$J$104","v":0},"#'T2-B(PP3)'!$J$104"]
["pp3_bl4_5_8_total_in",{"$f":"'T2-B(PP3)'!$F$104","v":0},"#'T2-B(PP3)'!$F$104"]
["pp3_bl4_5_8_total_out",{"$f":"'T2-B(PP3)'!$I$104","v":0},"#'T2-B(PP3)'!$I$104"]
["pp3_bl4_5_8_unit",{"$f":"'T2-B(PP3)'!$C$104","v":0},"#'T2-B(PP3)'!$C$104"]
["pp3_bl4_5_8_unit_in",{"$f":"'T2-B(PP3)'!$D$104","v":0},"#'T2-B(PP3)'!$D$104"]
["pp3_bl4_5_8_units_out",{"$f":"'T2-B(PP3)'!$G$104","v":0},"#'T2-B(PP3)'!$G$104"]
["pp3_bl4_5_9_name",{"$f":"'T2-B(PP3)'!$B$105","v":0},"#'T2-B(PP3)'!$B$105"]
["pp3_bl4_5_9_rate_in",{"$f":"'T2-B(PP3)'!$E$105","v":0},"#'T2-B(PP3)'!$E$105"]
["pp3_bl4_5_9_rate_out",{"$f":"'T2-B(PP3)'!$H$105","v":0},"#'T2-B(PP3)'!$H$105"]
["pp3_bl4_5_9_total",{"$f":"'T2-B(PP3)'!$J$105","v":0},"#'T2-B(PP3)'!$J$105"]
["pp3_bl4_5_9_total_in",{"$f":"'T2-B(PP3)'!$F$105","v":0},"#'T2-B(PP3)'!$F$105"]
["pp3_bl4_5_9_total_out",{"$f":"'T2-B(PP3)'!$I$105","v":0},"#'T2-B(PP3)'!$I$105"]
["pp3_bl4_5_9_unit",{"$f":"'T2-B(PP3)'!$C$105","v":0},"#'T2-B(PP3)'!$C$105"]
["pp3_bl4_5_9_unit_in",{"$f":"'T2-B(PP3)'!$D$105","v":0},"#'T2-B(PP3)'!$D$105"]
["pp3_bl4_5_9_units_out",{"$f":"'T2-B(PP3)'!$G$105","v":0},"#'T2-B(PP3)'!$G$105"]
["pp3_bl4_5_total",{"$f":"'T2-B(PP3)'!$J$96","v":0},"#'T2-B(PP3)'!$J$96"]
["pp3_bl4_5_total_in",{"$f":"'T2-B(PP3)'!$F$96","v":0},"#'T2-B(PP3)'!$F$96"]
["pp3_bl4_5_total_out",{"$f":"'T2-B(PP3)'!$I$96","v":0},"#'T2-B(PP3)'!$I$96"]
["pp3_bl4_6_1_name",{"$f":"'T2-B(PP3)'!$B$108","v":0},"#'T2-B(PP3)'!$B$108"]
["pp3_bl4_6_1_rate_in",{"$f":"'T2-B(PP3)'!$E$108","v":0},"#'T2-B(PP3)'!$E$108"]
["pp3_bl4_6_1_rate_out",{"$f":"'T2-B(PP3)'!$H$108","v":0},"#'T2-B(PP3)'!$H$108"]
["pp3_bl4_6_1_total",{"$f":"'T2-B(PP3)'!$J$108","v":0},"#'T2-B(PP3)'!$J$108"]
["pp3_bl4_6_1_total_in",{"$f":"'T2-B(PP3)'!$F$108","v":0},"#'T2-B(PP3)'!$F$108"]
["pp3_bl4_6_1_total_out",{"$f":"'T2-B(PP3)'!$I$108","v":0},"#'T2-B(PP3)'!$I$108"]
["pp3_bl4_6_1_unit",{"$f":"'T2-B(PP3)'!$C$108","v":0},"#'T2-B(PP3)'!$C$108"]
["pp3_bl4_6_1_unit_in",{"$f":"'T2-B(PP3)'!$D$108","v":0},"#'T2-B(PP3)'!$D$108"]
["pp3_bl4_6_1_units_out",{"$f":"'T2-B(PP3)'!$G$108","v":0},"#'T2-B(PP3)'!$G$108"]
["pp3_bl4_6_10_name",{"$f":"'T2-B(PP3)'!$B$117","v":0},"#'T2-B(PP3)'!$B$117"]
["pp3_bl4_6_10_rate_in",{"$f":"'T2-B(PP3)'!$E$117","v":0},"#'T2-B(PP3)'!$E$117"]
["pp3_bl4_6_10_rate_out",{"$f":"'T2-B(PP3)'!$H$117","v":0},"#'T2-B(PP3)'!$H$117"]
["pp3_bl4_6_10_total",{"$f":"'T2-B(PP3)'!$J$117","v":0},"#'T2-B(PP3)'!$J$117"]
["pp3_bl4_6_10_total_in",{"$f":"'T2-B(PP3)'!$F$117","v":0},"#'T2-B(PP3)'!$F$117"]
["pp3_bl4_6_10_total_out",{"$f":"'T2-B(PP3)'!$I$117","v":0},"#'T2-B(PP3)'!$I$117"]
["pp3_bl4_6_10_unit",{"$f":"'T2-B(PP3)'!$C$117","v":0},"#'T2-B(PP3)'!$C$117"]
["pp3_bl4_6_10_unit_in",{"$f":"'T2-B(PP3)'!$D$117","v":0},"#'T2-B(PP3)'!$D$117"]
["pp3_bl4_6_10_units_out",{"$f":"'T2-B(PP3)'!$G$117","v":0},"#'T2-B(PP3)'!$G$117"]
["pp3_bl4_6_2_name",{"$f":"'T2-B(PP3)'!$B$109","v":0},"#'T2-B(PP3)'!$B$109"]
["pp3_bl4_6_2_rate_in",{"$f":"'T2-B(PP3)'!$E$109","v":0},"#'T2-B(PP3)'!$E$109"]
["pp3_bl4_6_2_rate_out",{"$f":"'T2-B(PP3)'!$H$109","v":0},"#'T2-B(PP3)'!$H$109"]
["pp3_bl4_6_2_total",{"$f":"'T2-B(PP3)'!$J$109","v":0},"#'T2-B(PP3)'!$J$109"]
["pp3_bl4_6_2_total_in",{"$f":"'T2-B(PP3)'!$F$109","v":0},"#'T2-B(PP3)'!$F$109"]
["pp3_bl4_6_2_total_out",{"$f":"'T2-B(PP3)'!$I$109","v":0},"#'T2-B(PP3)'!$I$109"]
["pp3_bl4_6_2_unit",{"$f":"'T2-B(PP3)'!$C$109","v":0},"#'T2-B(PP3)'!$C$109"]
["pp3_bl4_6_2_unit_in",{"$f":"'T2-B(PP3)'!$D$109","v":0},"#'T2-B(PP3)'!$D$109"]
["pp3_bl4_6_2_units_out",{"$f":"'T2-B(PP3)'!$G$109","v":0},"#'T2-B(PP3)'!$G$109"]
["pp3_bl4_6_3_name",{"$f":"'T2-B(PP3)'!$B$110","v":0},"#'T2-B(PP3)'!$B$110"]
["pp3_bl4_6_3_rate_in",{"$f":"'T2-B(PP3)'!$E$110","v":0},"#'T2-B(PP3)'!$E$110"]
["pp3_bl4_6_3_rate_out",{"$f":"'T2-B(PP3)'!$H$110","v":0},"#'T2-B(PP3)'!$H$110"]
["pp3_bl4_6_3_total",{"$f":"'T2-B(PP3)'!$J$110","v":0},"#'T2-B(PP3)'!$J$110"]
["pp3_bl4_6_3_total_in",{"$f":"'T2-B(PP3)'!$F$110","v":0},"#'T2-B(PP3)'!$F$110"]
["pp3_bl4_6_3_total_out",{"$f":"'T2-B(PP3)'!$I$110","v":0},"#'T2-B(PP3)'!$I$110"]
["pp3_bl4_6_3_unit",{"$f":"'T2-B(PP3)'!$C$110","v":0},"#'T2-B(PP3)'!$C$110"]
["pp3_bl4_6_3_unit_in",{"$f":"'T2-B(PP3)'!$D$110","v":0},"#'T2-B(PP3)'!$D$110"]
["pp3_bl4_6_3_units_out",{"$f":"'T2-B(PP3)'!$G$110","v":0},"#'T2-B(PP3)'!$G$110"]
["pp3_bl4_6_4_name",{"$f":"'T2-B(PP3)'!$B$111","v":0},"#'T2-B(PP3)'!$B$111"]
["pp3_bl4_6_4_rate_in",{"$f":"'T2-B(PP3)'!$E$111","v":0},"#'T2-B(PP3)'!$E$111"]
["pp3_bl4_6_4_rate_out",{"$f":"'T2-B(PP3)'!$H$111","v":0},"#'T2-B(PP3)'!$H$111"]
["pp3_bl4_6_4_total",{"$f":"'T2-B(PP3)'!$J$111","v":0},"#'T2-B(PP3)'!$J$111"]
["pp3_bl4_6_4_total_in",{"$f":"'T2-B(PP3)'!$F$111","v":0},"#'T2-B(PP3)'!$F$111"]
["pp3_bl4_6_4_total_out",{"$f":"'T2-B(PP3)'!$I$111","v":0},"#'T2-B(PP3)'!$I$111"]
["pp3_bl4_6_4_unit",{"$f":"'T2-B(PP3)'!$C$111","v":0},"#'T2-B(PP3)'!$C$111"]
["pp3_bl4_6_4_unit_in",{"$f":"'T2-B(PP3)'!$D$111","v":0},"#'T2-B(PP3)'!$D$111"]
["pp3_bl4_6_4_units_out",{"$f":"'T2-B(PP3)'!$G$111","v":0},"#'T2-B(PP3)'!$G$111"]
["pp3_bl4_6_5_name",{"$f":"'T2-B(PP3)'!$B$112","v":0},"#'T2-B(PP3)'!$B$112"]
["pp3_bl4_6_5_rate_in",{"$f":"'T2-B(PP3)'!$E$112","v":0},"#'T2-B(PP3)'!$E$112"]
["pp3_bl4_6_5_rate_out",{"$f":"'T2-B(PP3)'!$H$112","v":0},"#'T2-B(PP3)'!$H$112"]
["pp3_bl4_6_5_total",{"$f":"'T2-B(PP3)'!$J$112","v":0},"#'T2-B(PP3)'!$J$112"]
["pp3_bl4_6_5_total_in",{"$f":"'T2-B(PP3)'!$F$112","v":0},"#'T2-B(PP3)'!$F$112"]
["pp3_bl4_6_5_total_out",{"$f":"'T2-B(PP3)'!$I$112","v":0},"#'T2-B(PP3)'!$I$112"]
["pp3_bl4_6_5_unit",{"$f":"'T2-B(PP3)'!$C$112","v":0},"#'T2-B(PP3)'!$C$112"]
["pp3_bl4_6_5_unit_in",{"$f":"'T2-B(PP3)'!$D$112","v":0},"#'T2-B(PP3)'!$D$112"]
["pp3_bl4_6_5_units_out",{"$f":"'T2-B(PP3)'!$G$112","v":0},"#'T2-B(PP3)'!$G$112"]
["pp3_bl4_6_6_name",{"$f":"'T2-B(PP3)'!$B$113","v":0},"#'T2-B(PP3)'!$B$113"]
["pp3_bl4_6_6_rate_in",{"$f":"'T2-B(PP3)'!$E$113","v":0},"#'T2-B(PP3)'!$E$113"]
["pp3_bl4_6_6_rate_out",{"$f":"'T2-B(PP3)'!$H$113","v":0},"#'T2-B(PP3)'!$H$113"]
["pp3_bl4_6_6_total",{"$f":"'T2-B(PP3)'!$J$113","v":0},"#'T2-B(PP3)'!$J$113"]
["pp3_bl4_6_6_total_in",{"$f":"'T2-B(PP3)'!$F$113","v":0},"#'T2-B(PP3)'!$F$113"]
["pp3_bl4_6_6_total_out",{"$f":"'T2-B(PP3)'!$I$113","v":0},"#'T2-B(PP3)'!$I$113"]
["pp3_bl4_6_6_unit",{"$f":"'T2-B(PP3)'!$C$113","v":0},"#'T2-B(PP3)'!$C$113"]
["pp3_bl4_6_6_unit_in",{"$f":"'T2-B(PP3)'!$D$113","v":0},"#'T2-B(PP3)'!$D$113"]
["pp3_bl4_6_6_units_out",{"$f":"'T2-B(PP3)'!$G$113","v":0},"#'T2-B(PP3)'!$G$113"]
["pp3_bl4_6_7_name",{"$f":"'T2-B(PP3)'!$B$114","v":0},"#'T2-B(PP3)'!$B$114"]
["pp3_bl4_6_7_rate_in",{"$f":"'T2-B(PP3)'!$E$114","v":0},"#'T2-B(PP3)'!$E$114"]
["pp3_bl4_6_7_rate_out",{"$f":"'T2-B(PP3)'!$H$114","v":0},"#'T2-B(PP3)'!$H$114"]
["pp3_bl4_6_7_total",{"$f":"'T2-B(PP3)'!$J$114","v":0},"#'T2-B(PP3)'!$J$114"]
["pp3_bl4_6_7_total_in",{"$f":"'T2-B(PP3)'!$F$114","v":0},"#'T2-B(PP3)'!$F$114"]
["pp3_bl4_6_7_total_out",{"$f":"'T2-B(PP3)'!$I$114","v":0},"#'T2-B(PP3)'!$I$114"]
["pp3_bl4_6_7_unit",{"$f":"'T2-B(PP3)'!$C$114","v":0},"#'T2-B(PP3)'!$C$114"]
["pp3_bl4_6_7_unit_in",{"$f":"'T2-B(PP3)'!$D$114","v":0},"#'T2-B(PP3)'!$D$114"]
["pp3_bl4_6_7_units_out",{"$f":"'T2-B(PP3)'!$G$114","v":0},"#'T2-B(PP3)'!$G$114"]
["pp3_bl4_6_8_name",{"$f":"'T2-B(PP3)'!$B$115","v":0},"#'T2-B(PP3)'!$B$115"]
["pp3_bl4_6_8_rate_in",{"$f":"'T2-B(PP3)'!$E$115","v":0},"#'T2-B(PP3)'!$E$115"]
["pp3_bl4_6_8_rate_out",{"$f":"'T2-B(PP3)'!$H$115","v":0},"#'T2-B(PP3)'!$H$115"]
["pp3_bl4_6_8_total",{"$f":"'T2-B(PP3)'!$J$115","v":0},"#'T2-B(PP3)'!$J$115"]
["pp3_bl4_6_8_total_in",{"$f":"'T2-B(PP3)'!$F$115","v":0},"#'T2-B(PP3)'!$F$115"]
["pp3_bl4_6_8_total_out",{"$f":"'T2-B(PP3)'!$I$115","v":0},"#'T2-B(PP3)'!$I$115"]
["pp3_bl4_6_8_unit",{"$f":"'T2-B(PP3)'!$C$115","v":0},"#'T2-B(PP3)'!$C$115"]
["pp3_bl4_6_8_unit_in",{"$f":"'T2-B(PP3)'!$D$115","v":0},"#'T2-B(PP3)'!$D$115"]
["pp3_bl4_6_8_units_out",{"$f":"'T2-B(PP3)'!$G$115","v":0},"#'T2-B(PP3)'!$G$115"]
["pp3_bl4_6_9_name",{"$f":"'T2-B(PP3)'!$B$116","v":0},"#'T2-B(PP3)'!$B$116"]
["pp3_bl4_6_9_rate_in",{"$f":"'T2-B(PP3)'!$E$116","v":0},"#'T2-B(PP3)'!$E$116"]
["pp3_bl4_6_9_rate_out",{"$f":"'T2-B(PP3)'!$H$116","v":0},"#'T2-B(PP3)'!$H$116"]
["pp3_bl4_6_9_total",{"$f":"'T2-B(PP3)'!$J$116","v":0},"#'T2-B(PP3)'!$J$116"]
["pp3_bl4_6_9_total_in",{"$f":"'T2-B(PP3)'!$F$116","v":0},"#'T2-B(PP3)'!$F$116"]
["pp3_bl4_6_9_total_out",{"$f":"'T2-B(PP3)'!$I$116","v":0},"#'T2-B(PP3)'!$I$116"]
["pp3_bl4_6_9_unit",{"$f":"'T2-B(PP3)'!$C$116","v":0},"#'T2-B(PP3)'!$C$116"]
["pp3_bl4_6_9_unit_in",{"$f":"'T2-B(PP3)'!$D$116","v":0},"#'T2-B(PP3)'!$D$116"]
["pp3_bl4_6_9_units_out",{"$f":"'T2-B(PP3)'!$G$116","v":0},"#'T2-B(PP3)'!$G$116"]
["pp3_bl4_6_total",{"$f":"'T2-B(PP3)'!$J$107","v":0},"#'T2-B(PP3)'!$J$107"]
["pp3_bl4_6_total_in",{"$f":"'T2-B(PP3)'!$F$107","v":0},"#'T2-B(PP3)'!$F$107"]
["pp3_bl4_6_total_out",{"$f":"'T2-B(PP3)'!$I$107","v":0},"#'T2-B(PP3)'!$I$107"]
["pp3_bl4_7_1_name",{"$f":"'T2-B(PP3)'!$B$119","v":0},"#'T2-B(PP3)'!$B$119"]
["pp3_bl4_7_1_rate_in",{"$f":"'T2-B(PP3)'!$E$119","v":0},"#'T2-B(PP3)'!$E$119"]
["pp3_bl4_7_1_rate_out",{"$f":"'T2-B(PP3)'!$H$119","v":0},"#'T2-B(PP3)'!$H$119"]
["pp3_bl4_7_1_total",{"$f":"'T2-B(PP3)'!$J$119","v":0},"#'T2-B(PP3)'!$J$119"]
["pp3_bl4_7_1_total_in",{"$f":"'T2-B(PP3)'!$F$119","v":0},"#'T2-B(PP3)'!$F$119"]
["pp3_bl4_7_1_total_out",{"$f":"'T2-B(PP3)'!$I$119","v":0},"#'T2-B(PP3)'!$I$119"]
["pp3_bl4_7_1_unit",{"$f":"'T2-B(PP3)'!$C$119","v":0},"#'T2-B(PP3)'!$C$119"]
["pp3_bl4_7_1_unit_in",{"$f":"'T2-B(PP3)'!$D$119","v":0},"#'T2-B(PP3)'!$D$119"]
["pp3_bl4_7_1_units_out",{"$f":"'T2-B(PP3)'!$G$119","v":0},"#'T2-B(PP3)'!$G$119"]
["pp3_bl4_7_10_name",{"$f":"'T2-B(PP3)'!$B$128","v":0},"#'T2-B(PP3)'!$B$128"]
["pp3_bl4_7_10_rate_in",{"$f":"'T2-B(PP3)'!$E$128","v":0},"#'T2-B(PP3)'!$E$128"]
["pp3_bl4_7_10_rate_out",{"$f":"'T2-B(PP3)'!$H$128","v":0},"#'T2-B(PP3)'!$H$128"]
["pp3_bl4_7_10_total",{"$f":"'T2-B(PP3)'!$J$128","v":0},"#'T2-B(PP3)'!$J$128"]
["pp3_bl4_7_10_total_in",{"$f":"'T2-B(PP3)'!$F$128","v":0},"#'T2-B(PP3)'!$F$128"]
["pp3_bl4_7_10_total_out",{"$f":"'T2-B(PP3)'!$I$128","v":0},"#'T2-B(PP3)'!$I$128"]
["pp3_bl4_7_10_unit",{"$f":"'T2-B(PP3)'!$C$128","v":0},"#'T2-B(PP3)'!$C$128"]
["pp3_bl4_7_10_unit_in",{"$f":"'T2-B(PP3)'!$D$128","v":0},"#'T2-B(PP3)'!$D$128"]
["pp3_bl4_7_10_units_out",{"$f":"'T2-B(PP3)'!$G$128","v":0},"#'T2-B(PP3)'!$G$128"]
["pp3_bl4_7_2_name",{"$f":"'T2-B(PP3)'!$B$120","v":0},"#'T2-B(PP3)'!$B$120"]
["pp3_bl4_7_2_rate_in",{"$f":"'T2-B(PP3)'!$E$120","v":0},"#'T2-B(PP3)'!$E$120"]
["pp3_bl4_7_2_rate_out",{"$f":"'T2-B(PP3)'!$H$120","v":0},"#'T2-B(PP3)'!$H$120"]
["pp3_bl4_7_2_total",{"$f":"'T2-B(PP3)'!$J$120","v":0},"#'T2-B(PP3)'!$J$120"]
["pp3_bl4_7_2_total_in",{"$f":"'T2-B(PP3)'!$F$120","v":0},"#'T2-B(PP3)'!$F$120"]
["pp3_bl4_7_2_total_out",{"$f":"'T2-B(PP3)'!$I$120","v":0},"#'T2-B(PP3)'!$I$120"]
["pp3_bl4_7_2_unit",{"$f":"'T2-B(PP3)'!$C$120","v":0},"#'T2-B(PP3)'!$C$120"]
["pp3_bl4_7_2_unit_in",{"$f":"'T2-B(PP3)'!$D$120","v":0},"#'T2-B(PP3)'!$D$120"]
["pp3_bl4_7_2_units_out",{"$f":"'T2-B(PP3)'!$G$120","v":0},"#'T2-B(PP3)'!$G$120"]
["pp3_bl4_7_3_name",{"$f":"'T2-B(PP3)'!$B$121","v":0},"#'T2-B(PP3)'!$B$121"]
["pp3_bl4_7_3_rate_in",{"$f":"'T2-B(PP3)'!$E$121","v":0},"#'T2-B(PP3)'!$E$121"]
["pp3_bl4_7_3_rate_out",{"$f":"'T2-B(PP3)'!$H$121","v":0},"#'T2-B(PP3)'!$H$121"]
["pp3_bl4_7_3_total",{"$f":"'T2-B(PP3)'!$J$121","v":0},"#'T2-B(PP3)'!$J$121"]
["pp3_bl4_7_3_total_in",{"$f":"'T2-B(PP3)'!$F$121","v":0},"#'T2-B(PP3)'!$F$121"]
["pp3_bl4_7_3_total_out",{"$f":"'T2-B(PP3)'!$I$121","v":0},"#'T2-B(PP3)'!$I$121"]
["pp3_bl4_7_3_unit",{"$f":"'T2-B(PP3)'!$C$121","v":0},"#'T2-B(PP3)'!$C$121"]
["pp3_bl4_7_3_unit_in",{"$f":"'T2-B(PP3)'!$D$121","v":0},"#'T2-B(PP3)'!$D$121"]
["pp3_bl4_7_3_units_out",{"$f":"'T2-B(PP3)'!$G$121","v":0},"#'T2-B(PP3)'!$G$121"]
["pp3_bl4_7_4_name",{"$f":"'T2-B(PP3)'!$B$122","v":0},"#'T2-B(PP3)'!$B$122"]
["pp3_bl4_7_4_rate_in",{"$f":"'T2-B(PP3)'!$E$122","v":0},"#'T2-B(PP3)'!$E$122"]
["pp3_bl4_7_4_rate_out",{"$f":"'T2-B(PP3)'!$H$122","v":0},"#'T2-B(PP3)'!$H$122"]
["pp3_bl4_7_4_total",{"$f":"'T2-B(PP3)'!$J$122","v":0},"#'T2-B(PP3)'!$J$122"]
["pp3_bl4_7_4_total_in",{"$f":"'T2-B(PP3)'!$F$122","v":0},"#'T2-B(PP3)'!$F$122"]
["pp3_bl4_7_4_total_out",{"$f":"'T2-B(PP3)'!$I$122","v":0},"#'T2-B(PP3)'!$I$122"]
["pp3_bl4_7_4_unit",{"$f":"'T2-B(PP3)'!$C$122","v":0},"#'T2-B(PP3)'!$C$122"]
["pp3_bl4_7_4_unit_in",{"$f":"'T2-B(PP3)'!$D$122","v":0},"#'T2-B(PP3)'!$D$122"]
["pp3_bl4_7_4_units_out",{"$f":"'T2-B(PP3)'!$G$122","v":0},"#'T2-B(PP3)'!$G$122"]
["pp3_bl4_7_5_name",{"$f":"'T2-B(PP3)'!$B$123","v":0},"#'T2-B(PP3)'!$B$123"]
["pp3_bl4_7_5_rate_in",{"$f":"'T2-B(PP3)'!$E$123","v":0},"#'T2-B(PP3)'!$E$123"]
["pp3_bl4_7_5_rate_out",{"$f":"'T2-B(PP3)'!$H$123","v":0},"#'T2-B(PP3)'!$H$123"]
["pp3_bl4_7_5_total",{"$f":"'T2-B(PP3)'!$J$123","v":0},"#'T2-B(PP3)'!$J$123"]
["pp3_bl4_7_5_total_in",{"$f":"'T2-B(PP3)'!$F$123","v":0},"#'T2-B(PP3)'!$F$123"]
["pp3_bl4_7_5_total_out",{"$f":"'T2-B(PP3)'!$I$123","v":0},"#'T2-B(PP3)'!$I$123"]
["pp3_bl4_7_5_unit",{"$f":"'T2-B(PP3)'!$C$123","v":0},"#'T2-B(PP3)'!$C$123"]
["pp3_bl4_7_5_unit_in",{"$f":"'T2-B(PP3)'!$D$123","v":0},"#'T2-B(PP3)'!$D$123"]
["pp3_bl4_7_5_units_out",{"$f":"'T2-B(PP3)'!$G$123","v":0},"#'T2-B(PP3)'!$G$123"]
["pp3_bl4_7_6_name",{"$f":"'T2-B(PP3)'!$B$124","v":0},"#'T2-B(PP3)'!$B$124"]
["pp3_bl4_7_6_rate_in",{"$f":"'T2-B(PP3)'!$E$124","v":0},"#'T2-B(PP3)'!$E$124"]
["pp3_bl4_7_6_rate_out",{"$f":"'T2-B(PP3)'!$H$124","v":0},"#'T2-B(PP3)'!$H$124"]
["pp3_bl4_7_6_total",{"$f":"'T2-B(PP3)'!$J$124","v":0},"#'T2-B(PP3)'!$J$124"]
["pp3_bl4_7_6_total_in",{"$f":"'T2-B(PP3)'!$F$124","v":0},"#'T2-B(PP3)'!$F$124"]
["pp3_bl4_7_6_total_out",{"$f":"'T2-B(PP3)'!$I$124","v":0},"#'T2-B(PP3)'!$I$124"]
["pp3_bl4_7_6_unit",{"$f":"'T2-B(PP3)'!$C$124","v":0},"#'T2-B(PP3)'!$C$124"]
["pp3_bl4_7_6_unit_in",{"$f":"'T2-B(PP3)'!$D$124","v":0},"#'T2-B(PP3)'!$D$124"]
["pp3_bl4_7_6_units_out",{"$f":"'T2-B(PP3)'!$G$124","v":0},"#'T2-B(PP3)'!$G$124"]
["pp3_bl4_7_7_name",{"$f":"'T2-B(PP3)'!$B$125","v":0},"#'T2-B(PP3)'!$B$125"]
["pp3_bl4_7_7_rate_in",{"$f":"'T2-B(PP3)'!$E$125","v":0},"#'T2-B(PP3)'!$E$125"]
["pp3_bl4_7_7_rate_out",{"$f":"'T2-B(PP3)'!$H$125","v":0},"#'T2-B(PP3)'!$H$125"]
["pp3_bl4_7_7_total",{"$f":"'T2-B(PP3)'!$J$125","v":0},"#'T2-B(PP3)'!$J$125"]
["pp3_bl4_7_7_total_in",{"$f":"'T2-B(PP3)'!$F$125","v":0},"#'T2-B(PP3)'!$F$125"]
["pp3_bl4_7_7_total_out",{"$f":"'T2-B(PP3)'!$I$125","v":0},"#'T2-B(PP3)'!$I$125"]
["pp3_bl4_7_7_unit",{"$f":"'T2-B(PP3)'!$C$125","v":0},"#'T2-B(PP3)'!$C$125"]
["pp3_bl4_7_7_unit_in",{"$f":"'T2-B(PP3)'!$D$125","v":0},"#'T2-B(PP3)'!$D$125"]
["pp3_bl4_7_7_units_out",{"$f":"'T2-B(PP3)'!$G$125","v":0},"#'T2-B(PP3)'!$G$125"]
["pp3_bl4_7_8_name",{"$f":"'T2-B(PP3)'!$B$126","v":0},"#'T2-B(PP3)'!$B$126"]
["pp3_bl4_7_8_rate_in",{"$f":"'T2-B(PP3)'!$E$126","v":0},"#'T2-B(PP3)'!$E$126"]
["pp3_bl4_7_8_rate_out",{"$f":"'T2-B(PP3)'!$H$126","v":0},"#'T2-B(PP3)'!$H$126"]
["pp3_bl4_7_8_total",{"$f":"'T2-B(PP3)'!$J$126","v":0},"#'T2-B(PP3)'!$J$126"]
["pp3_bl4_7_8_total_in",{"$f":"'T2-B(PP3)'!$F$126","v":0},"#'T2-B(PP3)'!$F$126"]
["pp3_bl4_7_8_total_out",{"$f":"'T2-B(PP3)'!$I$126","v":0},"#'T2-B(PP3)'!$I$126"]
["pp3_bl4_7_8_unit",{"$f":"'T2-B(PP3)'!$C$126","v":0},"#'T2-B(PP3)'!$C$126"]
["pp3_bl4_7_8_unit_in",{"$f":"'T2-B(PP3)'!$D$126","v":0},"#'T2-B(PP3)'!$D$126"]
["pp3_bl4_7_8_units_out",{"$f":"'T2-B(PP3)'!$G$126","v":0},"#'T2-B(PP3)'!$G$126"]
["pp3_bl4_7_9_name",{"$f":"'T2-B(PP3)'!$B$127","v":0},"#'T2-B(PP3)'!$B$127"]
["pp3_bl4_7_9_rate_in",{"$f":"'T2-B(PP3)'!$E$127","v":0},"#'T2-B(PP3)'!$E$127"]
["pp3_bl4_7_9_rate_out",{"$f":"'T2-B(PP3)'!$H$127","v":0},"#'T2-B(PP3)'!$H$127"]
["pp3_bl4_7_9_total",{"$f":"'T2-B(PP3)'!$J$127","v":0},"#'T2-B(PP3)'!$J$127"]
["pp3_bl4_7_9_total_in",{"$f":"'T2-B(PP3)'!$F$127","v":0},"#'T2-B(PP3)'!$F$127"]
["pp3_bl4_7_9_total_out",{"$f":"'T2-B(PP3)'!$I$127","v":0},"#'T2-B(PP3)'!$I$127"]
["pp3_bl4_7_9_unit",{"$f":"'T2-B(PP3)'!$C$127","v":0},"#'T2-B(PP3)'!$C$127"]
["pp3_bl4_7_9_unit_in",{"$f":"'T2-B(PP3)'!$D$127","v":0},"#'T2-B(PP3)'!$D$127"]
["pp3_bl4_7_9_units_out",{"$f":"'T2-B(PP3)'!$G$127","v":0},"#'T2-B(PP3)'!$G$127"]
["pp3_bl4_7_total",{"$f":"'T2-B(PP3)'!$J$118","v":0},"#'T2-B(PP3)'!$J$118"]
["pp3_bl4_7_total_in",{"$f":"'T2-B(PP3)'!$F$118","v":0},"#'T2-B(PP3)'!$F$118"]
["pp3_bl4_7_total_out",{"$f":"'T2-B(PP3)'!$I$118","v":0},"#'T2-B(PP3)'!$I$118"]
["pp3_bl4_8_1_name",{"$f":"'T2-B(PP3)'!$B$130","v":0},"#'T2-B(PP3)'!$B$130"]
["pp3_bl4_8_1_rate_in",{"$f":"'T2-B(PP3)'!$E$130","v":0},"#'T2-B(PP3)'!$E$130"]
["pp3_bl4_8_1_rate_out",{"$f":"'T2-B(PP3)'!$H$130","v":0},"#'T2-B(PP3)'!$H$130"]
["pp3_bl4_8_1_total",{"$f":"'T2-B(PP3)'!$J$130","v":0},"#'T2-B(PP3)'!$J$130"]
["pp3_bl4_8_1_total_in",{"$f":"'T2-B(PP3)'!$F$130","v":0},"#'T2-B(PP3)'!$F$130"]
["pp3_bl4_8_1_total_out",{"$f":"'T2-B(PP3)'!$I$130","v":0},"#'T2-B(PP3)'!$I$130"]
["pp3_bl4_8_1_unit",{"$f":"'T2-B(PP3)'!$C$130","v":0},"#'T2-B(PP3)'!$C$130"]
["pp3_bl4_8_1_unit_in",{"$f":"'T2-B(PP3)'!$D$130","v":0},"#'T2-B(PP3)'!$D$130"]
["pp3_bl4_8_1_units_out",{"$f":"'T2-B(PP3)'!$G$130","v":0},"#'T2-B(PP3)'!$G$130"]
["pp3_bl4_8_10_name",{"$f":"'T2-B(PP3)'!$B$139","v":0},"#'T2-B(PP3)'!$B$139"]
["pp3_bl4_8_10_rate_in",{"$f":"'T2-B(PP3)'!$E$139","v":0},"#'T2-B(PP3)'!$E$139"]
["pp3_bl4_8_10_rate_out",{"$f":"'T2-B(PP3)'!$H$139","v":0},"#'T2-B(PP3)'!$H$139"]
["pp3_bl4_8_10_total",{"$f":"'T2-B(PP3)'!$J$139","v":0},"#'T2-B(PP3)'!$J$139"]
["pp3_bl4_8_10_total_in",{"$f":"'T2-B(PP3)'!$F$139","v":0},"#'T2-B(PP3)'!$F$139"]
["pp3_bl4_8_10_total_out",{"$f":"'T2-B(PP3)'!$I$139","v":0},"#'T2-B(PP3)'!$I$139"]
["pp3_bl4_8_10_unit",{"$f":"'T2-B(PP3)'!$C$139","v":0},"#'T2-B(PP3)'!$C$139"]
["pp3_bl4_8_10_unit_in",{"$f":"'T2-B(PP3)'!$D$139","v":0},"#'T2-B(PP3)'!$D$139"]
["pp3_bl4_8_10_units_out",{"$f":"'T2-B(PP3)'!$G$139","v":0},"#'T2-B(PP3)'!$G$139"]
["pp3_bl4_8_2_name",{"$f":"'T2-B(PP3)'!$B$131","v":0},"#'T2-B(PP3)'!$B$131"]
["pp3_bl4_8_2_rate_in",{"$f":"'T2-B(PP3)'!$E$131","v":0},"#'T2-B(PP3)'!$E$131"]
["pp3_bl4_8_2_rate_out",{"$f":"'T2-B(PP3)'!$H$131","v":0},"#'T2-B(PP3)'!$H$131"]
["pp3_bl4_8_2_total",{"$f":"'T2-B(PP3)'!$J$131","v":0},"#'T2-B(PP3)'!$J$131"]
["pp3_bl4_8_2_total_in",{"$f":"'T2-B(PP3)'!$F$131","v":0},"#'T2-B(PP3)'!$F$131"]
["pp3_bl4_8_2_total_out",{"$f":"'T2-B(PP3)'!$I$131","v":0},"#'T2-B(PP3)'!$I$131"]
["pp3_bl4_8_2_unit",{"$f":"'T2-B(PP3)'!$C$131","v":0},"#'T2-B(PP3)'!$C$131"]
["pp3_bl4_8_2_unit_in",{"$f":"'T2-B(PP3)'!$D$131","v":0},"#'T2-B(PP3)'!$D$131"]
["pp3_bl4_8_2_units_out",{"$f":"'T2-B(PP3)'!$G$131","v":0},"#'T2-B(PP3)'!$G$131"]
["pp3_bl4_8_3_name",{"$f":"'T2-B(PP3)'!$B$132","v":0},"#'T2-B(PP3)'!$B$132"]
["pp3_bl4_8_3_rate_in",{"$f":"'T2-B(PP3)'!$E$132","v":0},"#'T2-B(PP3)'!$E$132"]
["pp3_bl4_8_3_rate_out",{"$f":"'T2-B(PP3)'!$H$132","v":0},"#'T2-B(PP3)'!$H$132"]
["pp3_bl4_8_3_total",{"$f":"'T2-B(PP3)'!$J$132","v":0},"#'T2-B(PP3)'!$J$132"]
["pp3_bl4_8_3_total_in",{"$f":"'T2-B(PP3)'!$F$132","v":0},"#'T2-B(PP3)'!$F$132"]
["pp3_bl4_8_3_total_out",{"$f":"'T2-B(PP3)'!$I$132","v":0},"#'T2-B(PP3)'!$I$132"]
["pp3_bl4_8_3_unit",{"$f":"'T2-B(PP3)'!$C$132","v":0},"#'T2-B(PP3)'!$C$132"]
["pp3_bl4_8_3_unit_in",{"$f":"'T2-B(PP3)'!$D$132","v":0},"#'T2-B(PP3)'!$D$132"]
["pp3_bl4_8_3_units_out",{"$f":"'T2-B(PP3)'!$G$132","v":0},"#'T2-B(PP3)'!$G$132"]
["pp3_bl4_8_4_name",{"$f":"'T2-B(PP3)'!$B$133","v":0},"#'T2-B(PP3)'!$B$133"]
["pp3_bl4_8_4_rate_in",{"$f":"'T2-B(PP3)'!$E$133","v":0},"#'T2-B(PP3)'!$E$133"]
["pp3_bl4_8_4_rate_out",{"$f":"'T2-B(PP3)'!$H$133","v":0},"#'T2-B(PP3)'!$H$133"]
["pp3_bl4_8_4_total",{"$f":"'T2-B(PP3)'!$J$133","v":0},"#'T2-B(PP3)'!$J$133"]
["pp3_bl4_8_4_total_in",{"$f":"'T2-B(PP3)'!$F$133","v":0},"#'T2-B(PP3)'!$F$133"]
["pp3_bl4_8_4_total_out",{"$f":"'T2-B(PP3)'!$I$133","v":0},"#'T2-B(PP3)'!$I$133"]
["pp3_bl4_8_4_unit",{"$f":"'T2-B(PP3)'!$C$133","v":0},"#'T2-B(PP3)'!$C$133"]
["pp3_bl4_8_4_unit_in",{"$f":"'T2-B(PP3)'!$D$133","v":0},"#'T2-B(PP3)'!$D$133"]
["pp3_bl4_8_4_units_out",{"$f":"'T2-B(PP3)'!$G$133","v":0},"#'T2-B(PP3)'!$G$133"]
["pp3_bl4_8_5_name",{"$f":"'T2-B(PP3)'!$B$134","v":0},"#'T2-B(PP3)'!$B$134"]
["pp3_bl4_8_5_rate_in",{"$f":"'T2-B(PP3)'!$E$134","v":0},"#'T2-B(PP3)'!$E$134"]
["pp3_bl4_8_5_rate_out",{"$f":"'T2-B(PP3)'!$H$134","v":0},"#'T2-B(PP3)'!$H$134"]
["pp3_bl4_8_5_total",{"$f":"'T2-B(PP3)'!$J$134","v":0},"#'T2-B(PP3)'!$J$134"]
["pp3_bl4_8_5_total_in",{"$f":"'T2-B(PP3)'!$F$134","v":0},"#'T2-B(PP3)'!$F$134"]
["pp3_bl4_8_5_total_out",{"$f":"'T2-B(PP3)'!$I$134","v":0},"#'T2-B(PP3)'!$I$134"]
["pp3_bl4_8_5_unit",{"$f":"'T2-B(PP3)'!$C$134","v":0},"#'T2-B(PP3)'!$C$134"]
["pp3_bl4_8_5_unit_in",{"$f":"'T2-B(PP3)'!$D$134","v":0},"#'T2-B(PP3)'!$D$134"]
["pp3_bl4_8_5_units_out",{"$f":"'T2-B(PP3)'!$G$134","v":0},"#'T2-B(PP3)'!$G$134"]
["pp3_bl4_8_6_name",{"$f":"'T2-B(PP3)'!$B$135","v":0},"#'T2-B(PP3)'!$B$135"]
["pp3_bl4_8_6_rate_in",{"$f":"'T2-B(PP3)'!$E$135","v":0},"#'T2-B(PP3)'!$E$135"]
["pp3_bl4_8_6_rate_out",{"$f":"'T2-B(PP3)'!$H$135","v":0},"#'T2-B(PP3)'!$H$135"]
["pp3_bl4_8_6_total",{"$f":"'T2-B(PP3)'!$J$135","v":0},"#'T2-B(PP3)'!$J$135"]
["pp3_bl4_8_6_total_in",{"$f":"'T2-B(PP3)'!$F$135","v":0},"#'T2-B(PP3)'!$F$135"]
["pp3_bl4_8_6_total_out",{"$f":"'T2-B(PP3)'!$I$135","v":0},"#'T2-B(PP3)'!$I$135"]
["pp3_bl4_8_6_unit",{"$f":"'T2-B(PP3)'!$C$135","v":0},"#'T2-B(PP3)'!$C$135"]
["pp3_bl4_8_6_unit_in",{"$f":"'T2-B(PP3)'!$D$135","v":0},"#'T2-B(PP3)'!$D$135"]
["pp3_bl4_8_6_units_out",{"$f":"'T2-B(PP3)'!$G$135","v":0},"#'T2-B(PP3)'!$G$135"]
["pp3_bl4_8_7_name",{"$f":"'T2-B(PP3)'!$B$136","v":0},"#'T2-B(PP3)'!$B$136"]
["pp3_bl4_8_7_rate_in",{"$f":"'T2-B(PP3)'!$E$136","v":0},"#'T2-B(PP3)'!$E$136"]
["pp3_bl4_8_7_rate_out",{"$f":"'T2-B(PP3)'!$H$136","v":0},"#'T2-B(PP3)'!$H$136"]
["pp3_bl4_8_7_total",{"$f":"'T2-B(PP3)'!$J$136","v":0},"#'T2-B(PP3)'!$J$136"]
["pp3_bl4_8_7_total_in",{"$f":"'T2-B(PP3)'!$F$136","v":0},"#'T2-B(PP3)'!$F$136"]
["pp3_bl4_8_7_total_out",{"$f":"'T2-B(PP3)'!$I$136","v":0},"#'T2-B(PP3)'!$I$136"]
["pp3_bl4_8_7_unit",{"$f":"'T2-B(PP3)'!$C$136","v":0},"#'T2-B(PP3)'!$C$136"]
["pp3_bl4_8_7_unit_in",{"$f":"'T2-B(PP3)'!$D$136","v":0},"#'T2-B(PP3)'!$D$136"]
["pp3_bl4_8_7_units_out",{"$f":"'T2-B(PP3)'!$G$136","v":0},"#'T2-B(PP3)'!$G$136"]
["pp3_bl4_8_8_name",{"$f":"'T2-B(PP3)'!$B$137","v":0},"#'T2-B(PP3)'!$B$137"]
["pp3_bl4_8_8_rate_in",{"$f":"'T2-B(PP3)'!$E$137","v":0},"#'T2-B(PP3)'!$E$137"]
["pp3_bl4_8_8_rate_out",{"$f":"'T2-B(PP3)'!$H$137","v":0},"#'T2-B(PP3)'!$H$137"]
["pp3_bl4_8_8_total",{"$f":"'T2-B(PP3)'!$J$137","v":0},"#'T2-B(PP3)'!$J$137"]
["pp3_bl4_8_8_total_in",{"$f":"'T2-B(PP3)'!$F$137","v":0},"#'T2-B(PP3)'!$F$137"]
["pp3_bl4_8_8_total_out",{"$f":"'T2-B(PP3)'!$I$137","v":0},"#'T2-B(PP3)'!$I$137"]
["pp3_bl4_8_8_unit",{"$f":"'T2-B(PP3)'!$C$137","v":0},"#'T2-B(PP3)'!$C$137"]
["pp3_bl4_8_8_unit_in",{"$f":"'T2-B(PP3)'!$D$137","v":0},"#'T2-B(PP3)'!$D$137"]
["pp3_bl4_8_8_units_out",{"$f":"'T2-B(PP3)'!$G$137","v":0},"#'T2-B(PP3)'!$G$137"]
["pp3_bl4_8_9_name",{"$f":"'T2-B(PP3)'!$B$138","v":0},"#'T2-B(PP3)'!$B$138"]
["pp3_bl4_8_9_rate_in",{"$f":"'T2-B(PP3)'!$E$138","v":0},"#'T2-B(PP3)'!$E$138"]
["pp3_bl4_8_9_rate_out",{"$f":"'T2-B(PP3)'!$H$138","v":0},"#'T2-B(PP3)'!$H$138"]
["pp3_bl4_8_9_total",{"$f":"'T2-B(PP3)'!$J$138","v":0},"#'T2-B(PP3)'!$J$138"]
["pp3_bl4_8_9_total_in",{"$f":"'T2-B(PP3)'!$F$138","v":0},"#'T2-B(PP3)'!$F$138"]
["pp3_bl4_8_9_total_out",{"$f":"'T2-B(PP3)'!$I$138","v":0},"#'T2-B(PP3)'!$I$138"]
["pp3_bl4_8_9_unit",{"$f":"'T2-B(PP3)'!$C$138","v":0},"#'T2-B(PP3)'!$C$138"]
["pp3_bl4_8_9_unit_in",{"$f":"'T2-B(PP3)'!$D$138","v":0},"#'T2-B(PP3)'!$D$138"]
["pp3_bl4_8_9_units_out",{"$f":"'T2-B(PP3)'!$G$138","v":0},"#'T2-B(PP3)'!$G$138"]
["pp3_bl4_8_total",{"$f":"'T2-B(PP3)'!$J$129","v":0},"#'T2-B(PP3)'!$J$129"]
["pp3_bl4_8_total_in",{"$f":"'T2-B(PP3)'!$F$129","v":0},"#'T2-B(PP3)'!$F$129"]
["pp3_bl4_8_total_out",{"$f":"'T2-B(PP3)'!$I$129","v":0},"#'T2-B(PP3)'!$I$129"]
["pp3_bl4_9_1_name",{"$f":"'T2-B(PP3)'!$B$141","v":0},"#'T2-B(PP3)'!$B$141"]
["pp3_bl4_9_1_rate_in",{"$f":"'T2-B(PP3)'!$E$141","v":0},"#'T2-B(PP3)'!$E$141"]
["pp3_bl4_9_1_rate_out",{"$f":"'T2-B(PP3)'!$H$141","v":0},"#'T2-B(PP3)'!$H$141"]
["pp3_bl4_9_1_total",{"$f":"'T2-B(PP3)'!$J$141","v":0},"#'T2-B(PP3)'!$J$141"]
["pp3_bl4_9_1_total_in",{"$f":"'T2-B(PP3)'!$F$141","v":0},"#'T2-B(PP3)'!$F$141"]
["pp3_bl4_9_1_total_out",{"$f":"'T2-B(PP3)'!$I$141","v":0},"#'T2-B(PP3)'!$I$141"]
["pp3_bl4_9_1_unit",{"$f":"'T2-B(PP3)'!$C$141","v":0},"#'T2-B(PP3)'!$C$141"]
["pp3_bl4_9_1_unit_in",{"$f":"'T2-B(PP3)'!$D$141","v":0},"#'T2-B(PP3)'!$D$141"]
["pp3_bl4_9_1_units_out",{"$f":"'T2-B(PP3)'!$G$141","v":0},"#'T2-B(PP3)'!$G$141"]
["pp3_bl4_9_10_name",{"$f":"'T2-B(PP3)'!$B$150","v":0},"#'T2-B(PP3)'!$B$150"]
["pp3_bl4_9_10_rate_in",{"$f":"'T2-B(PP3)'!$E$150","v":0},"#'T2-B(PP3)'!$E$150"]
["pp3_bl4_9_10_rate_out",{"$f":"'T2-B(PP3)'!$H$150","v":0},"#'T2-B(PP3)'!$H$150"]
["pp3_bl4_9_10_total",{"$f":"'T2-B(PP3)'!$J$150","v":0},"#'T2-B(PP3)'!$J$150"]
["pp3_bl4_9_10_total_in",{"$f":"'T2-B(PP3)'!$F$150","v":0},"#'T2-B(PP3)'!$F$150"]
["pp3_bl4_9_10_total_out",{"$f":"'T2-B(PP3)'!$I$150","v":0},"#'T2-B(PP3)'!$I$150"]
["pp3_bl4_9_10_unit",{"$f":"'T2-B(PP3)'!$C$150","v":0},"#'T2-B(PP3)'!$C$150"]
["pp3_bl4_9_10_unit_in",{"$f":"'T2-B(PP3)'!$D$150","v":0},"#'T2-B(PP3)'!$D$150"]
["pp3_bl4_9_10_units_out",{"$f":"'T2-B(PP3)'!$G$150","v":0},"#'T2-B(PP3)'!$G$150"]
["pp3_bl4_9_2_name",{"$f":"'T2-B(PP3)'!$B$142","v":0},"#'T2-B(PP3)'!$B$142"]
["pp3_bl4_9_2_rate_in",{"$f":"'T2-B(PP3)'!$E$142","v":0},"#'T2-B(PP3)'!$E$142"]
["pp3_bl4_9_2_rate_out",{"$f":"'T2-B(PP3)'!$H$142","v":0},"#'T2-B(PP3)'!$H$142"]
["pp3_bl4_9_2_total",{"$f":"'T2-B(PP3)'!$J$142","v":0},"#'T2-B(PP3)'!$J$142"]
["pp3_bl4_9_2_total_in",{"$f":"'T2-B(PP3)'!$F$142","v":0},"#'T2-B(PP3)'!$F$142"]
["pp3_bl4_9_2_total_out",{"$f":"'T2-B(PP3)'!$I$142","v":0},"#'T2-B(PP3)'!$I$142"]
["pp3_bl4_9_2_unit",{"$f":"'T2-B(PP3)'!$C$142","v":0},"#'T2-B(PP3)'!$C$142"]
["pp3_bl4_9_2_unit_in",{"$f":"'T2-B(PP3)'!$D$142","v":0},"#'T2-B(PP3)'!$D$142"]
["pp3_bl4_9_2_units_out",{"$f":"'T2-B(PP3)'!$G$142","v":0},"#'T2-B(PP3)'!$G$142"]
["pp3_bl4_9_3_name",{"$f":"'T2-B(PP3)'!$B$143","v":0},"#'T2-B(PP3)'!$B$143"]
["pp3_bl4_9_3_rate_in",{"$f":"'T2-B(PP3)'!$E$143","v":0},"#'T2-B(PP3)'!$E$143"]
["pp3_bl4_9_3_rate_out",{"$f":"'T2-B(PP3)'!$H$143","v":0},"#'T2-B(PP3)'!$H$143"]
["pp3_bl4_9_3_total",{"$f":"'T2-B(PP3)'!$J$143","v":0},"#'T2-B(PP3)'!$J$143"]
["pp3_bl4_9_3_total_in",{"$f":"'T2-B(PP3)'!$F$143","v":0},"#'T2-B(PP3)'!$F$143"]
["pp3_bl4_9_3_total_out",{"$f":"'T2-B(PP3)'!$I$143","v":0},"#'T2-B(PP3)'!$I$143"]
["pp3_bl4_9_3_unit",{"$f":"'T2-B(PP3)'!$C$143","v":0},"#'T2-B(PP3)'!$C$143"]
["pp3_bl4_9_3_unit_in",{"$f":"'T2-B(PP3)'!$D$143","v":0},"#'T2-B(PP3)'!$D$143"]
["pp3_bl4_9_3_units_out",{"$f":"'T2-B(PP3)'!$G$143","v":0},"#'T2-B(PP3)'!$G$143"]
["pp3_bl4_9_4_name",{"$f":"'T2-B(PP3)'!$B$144","v":0},"#'T2-B(PP3)'!$B$144"]
["pp3_bl4_9_4_rate_in",{"$f":"'T2-B(PP3)'!$E$144","v":0},"#'T2-B(PP3)'!$E$144"]
["pp3_bl4_9_4_rate_out",{"$f":"'T2-B(PP3)'!$H$144","v":0},"#'T2-B(PP3)'!$H$144"]
["pp3_bl4_9_4_total",{"$f":"'T2-B(PP3)'!$J$144","v":0},"#'T2-B(PP3)'!$J$144"]
["pp3_bl4_9_4_total_in",{"$f":"'T2-B(PP3)'!$F$144","v":0},"#'T2-B(PP3)'!$F$144"]
["pp3_bl4_9_4_total_out",{"$f":"'T2-B(PP3)'!$I$144","v":0},"#'T2-B(PP3)'!$I$144"]
["pp3_bl4_9_4_unit",{"$f":"'T2-B(PP3)'!$C$144","v":0},"#'T2-B(PP3)'!$C$144"]
["pp3_bl4_9_4_unit_in",{"$f":"'T2-B(PP3)'!$D$144","v":0},"#'T2-B(PP3)'!$D$144"]
["pp3_bl4_9_4_units_out",{"$f":"'T2-B(PP3)'!$G$144","v":0},"#'T2-B(PP3)'!$G$144"]
["pp3_bl4_9_5_name",{"$f":"'T2-B(PP3)'!$B$145","v":0},"#'T2-B(PP3)'!$B$145"]
["pp3_bl4_9_5_rate_in",{"$f":"'T2-B(PP3)'!$E$145","v":0},"#'T2-B(PP3)'!$E$145"]
["pp3_bl4_9_5_rate_out",{"$f":"'T2-B(PP3)'!$H$145","v":0},"#'T2-B(PP3)'!$H$145"]
["pp3_bl4_9_5_total",{"$f":"'T2-B(PP3)'!$J$145","v":0},"#'T2-B(PP3)'!$J$145"]
["pp3_bl4_9_5_total_in",{"$f":"'T2-B(PP3)'!$F$145","v":0},"#'T2-B(PP3)'!$F$145"]
["pp3_bl4_9_5_total_out",{"$f":"'T2-B(PP3)'!$I$145","v":0},"#'T2-B(PP3)'!$I$145"]
["pp3_bl4_9_5_unit",{"$f":"'T2-B(PP3)'!$C$145","v":0},"#'T2-B(PP3)'!$C$145"]
["pp3_bl4_9_5_unit_in",{"$f":"'T2-B(PP3)'!$D$145","v":0},"#'T2-B(PP3)'!$D$145"]
["pp3_bl4_9_5_units_out",{"$f":"'T2-B(PP3)'!$G$145","v":0},"#'T2-B(PP3)'!$G$145"]
["pp3_bl4_9_6_name",{"$f":"'T2-B(PP3)'!$B$146","v":0},"#'T2-B(PP3)'!$B$146"]
["pp3_bl4_9_6_rate_in",{"$f":"'T2-B(PP3)'!$E$146","v":0},"#'T2-B(PP3)'!$E$146"]
["pp3_bl4_9_6_rate_out",{"$f":"'T2-B(PP3)'!$H$146","v":0},"#'T2-B(PP3)'!$H$146"]
["pp3_bl4_9_6_total",{"$f":"'T2-B(PP3)'!$J$146","v":0},"#'T2-B(PP3)'!$J$146"]
["pp3_bl4_9_6_total_in",{"$f":"'T2-B(PP3)'!$F$146","v":0},"#'T2-B(PP3)'!$F$146"]
["pp3_bl4_9_6_total_out",{"$f":"'T2-B(PP3)'!$I$146","v":0},"#'T2-B(PP3)'!$I$146"]
["pp3_bl4_9_6_unit",{"$f":"'T2-B(PP3)'!$C$146","v":0},"#'T2-B(PP3)'!$C$146"]
["pp3_bl4_9_6_unit_in",{"$f":"'T2-B(PP3)'!$D$146","v":0},"#'T2-B(PP3)'!$D$146"]
["pp3_bl4_9_6_units_out",{"$f":"'T2-B(PP3)'!$G$146","v":0},"#'T2-B(PP3)'!$G$146"]
["pp3_bl4_9_7_name",{"$f":"'T2-B(PP3)'!$B$147","v":0},"#'T2-B(PP3)'!$B$147"]
["pp3_bl4_9_7_rate_in",{"$f":"'T2-B(PP3)'!$E$147","v":0},"#'T2-B(PP3)'!$E$147"]
["pp3_bl4_9_7_rate_out",{"$f":"'T2-B(PP3)'!$H$147","v":0},"#'T2-B(PP3)'!$H$147"]
["pp3_bl4_9_7_total",{"$f":"'T2-B(PP3)'!$J$147","v":0},"#'T2-B(PP3)'!$J$147"]
["pp3_bl4_9_7_total_in",{"$f":"'T2-B(PP3)'!$F$147","v":0},"#'T2-B(PP3)'!$F$147"]
["pp3_bl4_9_7_total_out",{"$f":"'T2-B(PP3)'!$I$147","v":0},"#'T2-B(PP3)'!$I$147"]
["pp3_bl4_9_7_unit",{"$f":"'T2-B(PP3)'!$C$147","v":0},"#'T2-B(PP3)'!$C$147"]
["pp3_bl4_9_7_unit_in",{"$f":"'T2-B(PP3)'!$D$147","v":0},"#'T2-B(PP3)'!$D$147"]
["pp3_bl4_9_7_units_out",{"$f":"'T2-B(PP3)'!$G$147","v":0},"#'T2-B(PP3)'!$G$147"]
["pp3_bl4_9_8_name",{"$f":"'T2-B(PP3)'!$B$148","v":0},"#'T2-B(PP3)'!$B$148"]
["pp3_bl4_9_8_rate_in",{"$f":"'T2-B(PP3)'!$E$148","v":0},"#'T2-B(PP3)'!$E$148"]
["pp3_bl4_9_8_rate_out",{"$f":"'T2-B(PP3)'!$H$148","v":0},"#'T2-B(PP3)'!$H$148"]
["pp3_bl4_9_8_total",{"$f":"'T2-B(PP3)'!$J$148","v":0},"#'T2-B(PP3)'!$J$148"]
["pp3_bl4_9_8_total_in",{"$f":"'T2-B(PP3)'!$F$148","v":0},"#'T2-B(PP3)'!$F$148"]
["pp3_bl4_9_8_total_out",{"$f":"'T2-B(PP3)'!$I$148","v":0},"#'T2-B(PP3)'!$I$148"]
["pp3_bl4_9_8_unit",{"$f":"'T2-B(PP3)'!$C$148","v":0},"#'T2-B(PP3)'!$C$148"]
["pp3_bl4_9_8_unit_in",{"$f":"'T2-B(PP3)'!$D$148","v":0},"#'T2-B(PP3)'!$D$148"]
["pp3_bl4_9_8_units_out",{"$f":"'T2-B(PP3)'!$G$148","v":0},"#'T2-B(PP3)'!$G$148"]
["pp3_bl4_9_9_name",{"$f":"'T2-B(PP3)'!$B$149","v":0},"#'T2-B(PP3)'!$B$149"]
["pp3_bl4_9_9_rate_in",{"$f":"'T2-B(PP3)'!$E$149","v":0},"#'T2-B(PP3)'!$E$149"]
["pp3_bl4_9_9_rate_out",{"$f":"'T2-B(PP3)'!$H$149","v":0},"#'T2-B(PP3)'!$H$149"]
["pp3_bl4_9_9_total",{"$f":"'T2-B(PP3)'!$J$149","v":0},"#'T2-B(PP3)'!$J$149"]
["pp3_bl4_9_9_total_in",{"$f":"'T2-B(PP3)'!$F$149","v":0},"#'T2-B(PP3)'!$F$149"]
["pp3_bl4_9_9_total_out",{"$f":"'T2-B(PP3)'!$I$149","v":0},"#'T2-B(PP3)'!$I$149"]
["pp3_bl4_9_9_unit",{"$f":"'T2-B(PP3)'!$C$149","v":0},"#'T2-B(PP3)'!$C$149"]
["pp3_bl4_9_9_unit_in",{"$f":"'T2-B(PP3)'!$D$149","v":0},"#'T2-B(PP3)'!$D$149"]
["pp3_bl4_9_9_units_out",{"$f":"'T2-B(PP3)'!$G$149","v":0},"#'T2-B(PP3)'!$G$149"]
["pp3_bl4_9_total",{"$f":"'T2-B(PP3)'!$J$140","v":0},"#'T2-B(PP3)'!$J$140"]
["pp3_bl4_9_total_in",{"$f":"'T2-B(PP3)'!$F$140","v":0},"#'T2-B(PP3)'!$F$140"]
["pp3_bl4_9_total_out",{"$f":"'T2-B(PP3)'!$I$140","v":0},"#'T2-B(PP3)'!$I$140"]
["pp3_bl4_total",{"$f":"'T2-B(PP3)'!$J$206","v":0},"#'T2-B(PP3)'!$J$206"]
["pp3_bl4_total_in",{"$f":"'T2-B(PP3)'!$F$206","v":0},"#'T2-B(PP3)'!$F$206"]
["pp3_bl4_total_out",{"$f":"'T2-B(PP3)'!$I$206","v":0},"#'T2-B(PP3)'!$I$206"]
["pp3_bl5_1_1_name",{"$f":"'T2-B(PP3)'!$B$211","v":0},"#'T2-B(PP3)'!$B$211"]
["pp3_bl5_1_1_rate_in",{"$f":"'T2-B(PP3)'!$E$211","v":0},"#'T2-B(PP3)'!$E$211"]
["pp3_bl5_1_1_rate_out",{"$f":"'T2-B(PP3)'!$H$211","v":0},"#'T2-B(PP3)'!$H$211"]
["pp3_bl5_1_1_total",{"$f":"'T2-B(PP3)'!$J$211","v":0},"#'T2-B(PP3)'!$J$211"]
["pp3_bl5_1_1_total_in",{"$f":"'T2-B(PP3)'!$F$211","v":0},"#'T2-B(PP3)'!$F$211"]
["pp3_bl5_1_1_total_out",{"$f":"'T2-B(PP3)'!$I$211","v":0},"#'T2-B(PP3)'!$I$211"]
["pp3_bl5_1_1_unit",{"$f":"'T2-B(PP3)'!$C$211","v":0},"#'T2-B(PP3)'!$C$211"]
["pp3_bl5_1_1_unit_in",{"$f":"'T2-B(PP3)'!$D$211","v":0},"#'T2-B(PP3)'!$D$211"]
["pp3_bl5_1_1_units_out",{"$f":"'T2-B(PP3)'!$G$211","v":0},"#'T2-B(PP3)'!$G$211"]
["pp3_bl5_1_10_name",{"$f":"'T2-B(PP3)'!$B$220","v":0},"#'T2-B(PP3)'!$B$220"]
["pp3_bl5_1_10_rate_in",{"$f":"'T2-B(PP3)'!$E$220","v":0},"#'T2-B(PP3)'!$E$220"]
["pp3_bl5_1_10_rate_out",{"$f":"'T2-B(PP3)'!$H$220","v":0},"#'T2-B(PP3)'!$H$220"]
["pp3_bl5_1_10_total",{"$f":"'T2-B(PP3)'!$J$220","v":0},"#'T2-B(PP3)'!$J$220"]
["pp3_bl5_1_10_total_in",{"$f":"'T2-B(PP3)'!$F$220","v":0},"#'T2-B(PP3)'!$F$220"]
["pp3_bl5_1_10_total_out",{"$f":"'T2-B(PP3)'!$I$220","v":0},"#'T2-B(PP3)'!$I$220"]
["pp3_bl5_1_10_unit",{"$f":"'T2-B(PP3)'!$C$220","v":0},"#'T2-B(PP3)'!$C$220"]
["pp3_bl5_1_10_unit_in",{"$f":"'T2-B(PP3)'!$D$220","v":0},"#'T2-B(PP3)'!$D$220"]
["pp3_bl5_1_10_units_out",{"$f":"'T2-B(PP3)'!$G$220","v":0},"#'T2-B(PP3)'!$G$220"]
["pp3_bl5_1_2_name",{"$f":"'T2-B(PP3)'!$B$212","v":0},"#'T2-B(PP3)'!$B$212"]
["pp3_bl5_1_2_rate_in",{"$f":"'T2-B(PP3)'!$E$212","v":0},"#'T2-B(PP3)'!$E$212"]
["pp3_bl5_1_2_rate_out",{"$f":"'T2-B(PP3)'!$H$212","v":0},"#'T2-B(PP3)'!$H$212"]
["pp3_bl5_1_2_total",{"$f":"'T2-B(PP3)'!$J$212","v":0},"#'T2-B(PP3)'!$J$212"]
["pp3_bl5_1_2_total_in",{"$f":"'T2-B(PP3)'!$F$212","v":0},"#'T2-B(PP3)'!$F$212"]
["pp3_bl5_1_2_total_out",{"$f":"'T2-B(PP3)'!$I$212","v":0},"#'T2-B(PP3)'!$I$212"]
["pp3_bl5_1_2_unit",{"$f":"'T2-B(PP3)'!$C$212","v":0},"#'T2-B(PP3)'!$C$212"]
["pp3_bl5_1_2_unit_in",{"$f":"'T2-B(PP3)'!$D$212","v":0},"#'T2-B(PP3)'!$D$212"]
["pp3_bl5_1_2_units_out",{"$f":"'T2-B(PP3)'!$G$212","v":0},"#'T2-B(PP3)'!$G$212"]
["pp3_bl5_1_3_name",{"$f":"'T2-B(PP3)'!$B$213","v":0},"#'T2-B(PP3)'!$B$213"]
["pp3_bl5_1_3_rate_in",{"$f":"'T2-B(PP3)'!$E$213","v":0},"#'T2-B(PP3)'!$E$213"]
["pp3_bl5_1_3_rate_out",{"$f":"'T2-B(PP3)'!$H$213","v":0},"#'T2-B(PP3)'!$H$213"]
["pp3_bl5_1_3_total",{"$f":"'T2-B(PP3)'!$J$213","v":0},"#'T2-B(PP3)'!$J$213"]
["pp3_bl5_1_3_total_in",{"$f":"'T2-B(PP3)'!$F$213","v":0},"#'T2-B(PP3)'!$F$213"]
["pp3_bl5_1_3_total_out",{"$f":"'T2-B(PP3)'!$I$213","v":0},"#'T2-B(PP3)'!$I$213"]
["pp3_bl5_1_3_unit",{"$f":"'T2-B(PP3)'!$C$213","v":0},"#'T2-B(PP3)'!$C$213"]
["pp3_bl5_1_3_unit_in",{"$f":"'T2-B(PP3)'!$D$213","v":0},"#'T2-B(PP3)'!$D$213"]
["pp3_bl5_1_3_units_out",{"$f":"'T2-B(PP3)'!$G$213","v":0},"#'T2-B(PP3)'!$G$213"]
["pp3_bl5_1_4_name",{"$f":"'T2-B(PP3)'!$B$214","v":0},"#'T2-B(PP3)'!$B$214"]
["pp3_bl5_1_4_rate_in",{"$f":"'T2-B(PP3)'!$E$214","v":0},"#'T2-B(PP3)'!$E$214"]
["pp3_bl5_1_4_rate_out",{"$f":"'T2-B(PP3)'!$H$214","v":0},"#'T2-B(PP3)'!$H$214"]
["pp3_bl5_1_4_total",{"$f":"'T2-B(PP3)'!$J$214","v":0},"#'T2-B(PP3)'!$J$214"]
["pp3_bl5_1_4_total_in",{"$f":"'T2-B(PP3)'!$F$214","v":0},"#'T2-B(PP3)'!$F$214"]
["pp3_bl5_1_4_total_out",{"$f":"'T2-B(PP3)'!$I$214","v":0},"#'T2-B(PP3)'!$I$214"]
["pp3_bl5_1_4_unit",{"$f":"'T2-B(PP3)'!$C$214","v":0},"#'T2-B(PP3)'!$C$214"]
["pp3_bl5_1_4_unit_in",{"$f":"'T2-B(PP3)'!$D$214","v":0},"#'T2-B(PP3)'!$D$214"]
["pp3_bl5_1_4_units_out",{"$f":"'T2-B(PP3)'!$G$214","v":0},"#'T2-B(PP3)'!$G$214"]
["pp3_bl5_1_5_name",{"$f":"'T2-B(PP3)'!$B$215","v":0},"#'T2-B(PP3)'!$B$215"]
["pp3_bl5_1_5_rate_in",{"$f":"'T2-B(PP3)'!$E$215","v":0},"#'T2-B(PP3)'!$E$215"]
["pp3_bl5_1_5_rate_out",{"$f":"'T2-B(PP3)'!$H$215","v":0},"#'T2-B(PP3)'!$H$215"]
["pp3_bl5_1_5_total",{"$f":"'T2-B(PP3)'!$J$215","v":0},"#'T2-B(PP3)'!$J$215"]
["pp3_bl5_1_5_total_in",{"$f":"'T2-B(PP3)'!$F$215","v":0},"#'T2-B(PP3)'!$F$215"]
["pp3_bl5_1_5_total_out",{"$f":"'T2-B(PP3)'!$I$215","v":0},"#'T2-B(PP3)'!$I$215"]
["pp3_bl5_1_5_unit",{"$f":"'T2-B(PP3)'!$C$215","v":0},"#'T2-B(PP3)'!$C$215"]
["pp3_bl5_1_5_unit_in",{"$f":"'T2-B(PP3)'!$D$215","v":0},"#'T2-B(PP3)'!$D$215"]
["pp3_bl5_1_5_units_out",{"$f":"'T2-B(PP3)'!$G$215","v":0},"#'T2-B(PP3)'!$G$215"]
["pp3_bl5_1_6_name",{"$f":"'T2-B(PP3)'!$B$216","v":0},"#'T2-B(PP3)'!$B$216"]
["pp3_bl5_1_6_rate_in",{"$f":"'T2-B(PP3)'!$E$216","v":0},"#'T2-B(PP3)'!$E$216"]
["pp3_bl5_1_6_rate_out",{"$f":"'T2-B(PP3)'!$H$216","v":0},"#'T2-B(PP3)'!$H$216"]
["pp3_bl5_1_6_total",{"$f":"'T2-B(PP3)'!$J$216","v":0},"#'T2-B(PP3)'!$J$216"]
["pp3_bl5_1_6_total_in",{"$f":"'T2-B(PP3)'!$F$216","v":0},"#'T2-B(PP3)'!$F$216"]
["pp3_bl5_1_6_total_out",{"$f":"'T2-B(PP3)'!$I$216","v":0},"#'T2-B(PP3)'!$I$216"]
["pp3_bl5_1_6_unit",{"$f":"'T2-B(PP3)'!$C$216","v":0},"#'T2-B(PP3)'!$C$216"]
["pp3_bl5_1_6_unit_in",{"$f":"'T2-B(PP3)'!$D$216","v":0},"#'T2-B(PP3)'!$D$216"]
["pp3_bl5_1_6_units_out",{"$f":"'T2-B(PP3)'!$G$216","v":0},"#'T2-B(PP3)'!$G$216"]
["pp3_bl5_1_7_name",{"$f":"'T2-B(PP3)'!$B$217","v":0},"#'T2-B(PP3)'!$B$217"]
["pp3_bl5_1_7_rate_in",{"$f":"'T2-B(PP3)'!$E$217","v":0},"#'T2-B(PP3)'!$E$217"]
["pp3_bl5_1_7_rate_out",{"$f":"'T2-B(PP3)'!$H$217","v":0},"#'T2-B(PP3)'!$H$217"]
["pp3_bl5_1_7_total",{"$f":"'T2-B(PP3)'!$J$217","v":0},"#'T2-B(PP3)'!$J$217"]
["pp3_bl5_1_7_total_in",{"$f":"'T2-B(PP3)'!$F$217","v":0},"#'T2-B(PP3)'!$F$217"]
["pp3_bl5_1_7_total_out",{"$f":"'T2-B(PP3)'!$I$217","v":0},"#'T2-B(PP3)'!$I$217"]
["pp3_bl5_1_7_unit",{"$f":"'T2-B(PP3)'!$C$217","v":0},"#'T2-B(PP3)'!$C$217"]
["pp3_bl5_1_7_unit_in",{"$f":"'T2-B(PP3)'!$D$217","v":0},"#'T2-B(PP3)'!$D$217"]
["pp3_bl5_1_7_units_out",{"$f":"'T2-B(PP3)'!$G$217","v":0},"#'T2-B(PP3)'!$G$217"]
["pp3_bl5_1_8_name",{"$f":"'T2-B(PP3)'!$B$218","v":0},"#'T2-B(PP3)'!$B$218"]
["pp3_bl5_1_8_rate_in",{"$f":"'T2-B(PP3)'!$E$218","v":0},"#'T2-B(PP3)'!$E$218"]
["pp3_bl5_1_8_rate_out",{"$f":"'T2-B(PP3)'!$H$218","v":0},"#'T2-B(PP3)'!$H$218"]
["pp3_bl5_1_8_total",{"$f":"'T2-B(PP3)'!$J$218","v":0},"#'T2-B(PP3)'!$J$218"]
["pp3_bl5_1_8_total_in",{"$f":"'T2-B(PP3)'!$F$218","v":0},"#'T2-B(PP3)'!$F$218"]
["pp3_bl5_1_8_total_out",{"$f":"'T2-B(PP3)'!$I$218","v":0},"#'T2-B(PP3)'!$I$218"]
["pp3_bl5_1_8_unit",{"$f":"'T2-B(PP3)'!$C$218","v":0},"#'T2-B(PP3)'!$C$218"]
["pp3_bl5_1_8_unit_in",{"$f":"'T2-B(PP3)'!$D$218","v":0},"#'T2-B(PP3)'!$D$218"]
["pp3_bl5_1_8_units_out",{"$f":"'T2-B(PP3)'!$G$218","v":0},"#'T2-B(PP3)'!$G$218"]
["pp3_bl5_1_9_name",{"$f":"'T2-B(PP3)'!$B$219","v":0},"#'T2-B(PP3)'!$B$219"]
["pp3_bl5_1_9_rate_in",{"$f":"'T2-B(PP3)'!$E$219","v":0},"#'T2-B(PP3)'!$E$219"]
["pp3_bl5_1_9_rate_out",{"$f":"'T2-B(PP3)'!$H$219","v":0},"#'T2-B(PP3)'!$H$219"]
["pp3_bl5_1_9_total",{"$f":"'T2-B(PP3)'!$J$219","v":0},"#'T2-B(PP3)'!$J$219"]
["pp3_bl5_1_9_total_in",{"$f":"'T2-B(PP3)'!$F$219","v":0},"#'T2-B(PP3)'!$F$219"]
["pp3_bl5_1_9_total_out",{"$f":"'T2-B(PP3)'!$I$219","v":0},"#'T2-B(PP3)'!$I$219"]
["pp3_bl5_1_9_unit",{"$f":"'T2-B(PP3)'!$C$219","v":0},"#'T2-B(PP3)'!$C$219"]
["pp3_bl5_1_9_unit_in",{"$f":"'T2-B(PP3)'!$D$219","v":0},"#'T2-B(PP3)'!$D$219"]
["pp3_bl5_1_9_units_out",{"$f":"'T2-B(PP3)'!$G$219","v":0},"#'T2-B(PP3)'!$G$219"]
["pp3_bl5_1_total",{"$f":"'T2-B(PP3)'!$J$210","v":0},"#'T2-B(PP3)'!$J$210"]
["pp3_bl5_1_total_in",{"$f":"'T2-B(PP3)'!$F$210","v":0},"#'T2-B(PP3)'!$F$210"]
["pp3_bl5_1_total_out",{"$f":"'T2-B(PP3)'!$I$210","v":0},"#'T2-B(PP3)'!$I$210"]
["pp3_bl5_2_1_name",{"$f":"'T2-B(PP3)'!$B$222","v":0},"#'T2-B(PP3)'!$B$222"]
["pp3_bl5_2_1_rate_in",{"$f":"'T2-B(PP3)'!$E$222","v":0},"#'T2-B(PP3)'!$E$222"]
["pp3_bl5_2_1_rate_out",{"$f":"'T2-B(PP3)'!$H$222","v":0},"#'T2-B(PP3)'!$H$222"]
["pp3_bl5_2_1_total",{"$f":"'T2-B(PP3)'!$J$222","v":0},"#'T2-B(PP3)'!$J$222"]
["pp3_bl5_2_1_total_in",{"$f":"'T2-B(PP3)'!$F$222","v":0},"#'T2-B(PP3)'!$F$222"]
["pp3_bl5_2_1_total_out",{"$f":"'T2-B(PP3)'!$I$222","v":0},"#'T2-B(PP3)'!$I$222"]
["pp3_bl5_2_1_unit",{"$f":"'T2-B(PP3)'!$C$222","v":0},"#'T2-B(PP3)'!$C$222"]
["pp3_bl5_2_1_unit_in",{"$f":"'T2-B(PP3)'!$D$222","v":0},"#'T2-B(PP3)'!$D$222"]
["pp3_bl5_2_1_units_out",{"$f":"'T2-B(PP3)'!$G$222","v":0},"#'T2-B(PP3)'!$G$222"]
["pp3_bl5_2_10_name",{"$f":"'T2-B(PP3)'!$B$231","v":0},"#'T2-B(PP3)'!$B$231"]
["pp3_bl5_2_10_rate_in",{"$f":"'T2-B(PP3)'!$E$231","v":0},"#'T2-B(PP3)'!$E$231"]
["pp3_bl5_2_10_rate_out",{"$f":"'T2-B(PP3)'!$H$231","v":0},"#'T2-B(PP3)'!$H$231"]
["pp3_bl5_2_10_total",{"$f":"'T2-B(PP3)'!$J$231","v":0},"#'T2-B(PP3)'!$J$231"]
["pp3_bl5_2_10_total_in",{"$f":"'T2-B(PP3)'!$F$231","v":0},"#'T2-B(PP3)'!$F$231"]
["pp3_bl5_2_10_total_out",{"$f":"'T2-B(PP3)'!$I$231","v":0},"#'T2-B(PP3)'!$I$231"]
["pp3_bl5_2_10_unit",{"$f":"'T2-B(PP3)'!$C$231","v":0},"#'T2-B(PP3)'!$C$231"]
["pp3_bl5_2_10_unit_in",{"$f":"'T2-B(PP3)'!$D$231","v":0},"#'T2-B(PP3)'!$D$231"]
["pp3_bl5_2_10_units_out",{"$f":"'T2-B(PP3)'!$G$231","v":0},"#'T2-B(PP3)'!$G$231"]
["pp3_bl5_2_2_name",{"$f":"'T2-B(PP3)'!$B$223","v":0},"#'T2-B(PP3)'!$B$223"]
["pp3_bl5_2_2_rate_in",{"$f":"'T2-B(PP3)'!$E$223","v":0},"#'T2-B(PP3)'!$E$223"]
["pp3_bl5_2_2_rate_out",{"$f":"'T2-B(PP3)'!$H$223","v":0},"#'T2-B(PP3)'!$H$223"]
["pp3_bl5_2_2_total",{"$f":"'T2-B(PP3)'!$J$223","v":0},"#'T2-B(PP3)'!$J$223"]
["pp3_bl5_2_2_total_in",{"$f":"'T2-B(PP3)'!$F$223","v":0},"#'T2-B(PP3)'!$F$223"]
["pp3_bl5_2_2_total_out",{"$f":"'T2-B(PP3)'!$I$223","v":0},"#'T2-B(PP3)'!$I$223"]
["pp3_bl5_2_2_unit",{"$f":"'T2-B(PP3)'!$C$223","v":0},"#'T2-B(PP3)'!$C$223"]
["pp3_bl5_2_2_unit_in",{"$f":"'T2-B(PP3)'!$D$223","v":0},"#'T2-B(PP3)'!$D$223"]
["pp3_bl5_2_2_units_out",{"$f":"'T2-B(PP3)'!$G$223","v":0},"#'T2-B(PP3)'!$G$223"]
["pp3_bl5_2_3_name",{"$f":"'T2-B(PP3)'!$B$224","v":0},"#'T2-B(PP3)'!$B$224"]
["pp3_bl5_2_3_rate_in",{"$f":"'T2-B(PP3)'!$E$224","v":0},"#'T2-B(PP3)'!$E$224"]
["pp3_bl5_2_3_rate_out",{"$f":"'T2-B(PP3)'!$H$224","v":0},"#'T2-B(PP3)'!$H$224"]
["pp3_bl5_2_3_total",{"$f":"'T2-B(PP3)'!$J$224","v":0},"#'T2-B(PP3)'!$J$224"]
["pp3_bl5_2_3_total_in",{"$f":"'T2-B(PP3)'!$F$224","v":0},"#'T2-B(PP3)'!$F$224"]
["pp3_bl5_2_3_total_out",{"$f":"'T2-B(PP3)'!$I$224","v":0},"#'T2-B(PP3)'!$I$224"]
["pp3_bl5_2_3_unit",{"$f":"'T2-B(PP3)'!$C$224","v":0},"#'T2-B(PP3)'!$C$224"]
["pp3_bl5_2_3_unit_in",{"$f":"'T2-B(PP3)'!$D$224","v":0},"#'T2-B(PP3)'!$D$224"]
["pp3_bl5_2_3_units_out",{"$f":"'T2-B(PP3)'!$G$224","v":0},"#'T2-B(PP3)'!$G$224"]
["pp3_bl5_2_4_name",{"$f":"'T2-B(PP3)'!$B$225","v":0},"#'T2-B(PP3)'!$B$225"]
["pp3_bl5_2_4_rate_in",{"$f":"'T2-B(PP3)'!$E$225","v":0},"#'T2-B(PP3)'!$E$225"]
["pp3_bl5_2_4_rate_out",{"$f":"'T2-B(PP3)'!$H$225","v":0},"#'T2-B(PP3)'!$H$225"]
["pp3_bl5_2_4_total",{"$f":"'T2-B(PP3)'!$J$225","v":0},"#'T2-B(PP3)'!$J$225"]
["pp3_bl5_2_4_total_in",{"$f":"'T2-B(PP3)'!$F$225","v":0},"#'T2-B(PP3)'!$F$225"]
["pp3_bl5_2_4_total_out",{"$f":"'T2-B(PP3)'!$I$225","v":0},"#'T2-B(PP3)'!$I$225"]
["pp3_bl5_2_4_unit",{"$f":"'T2-B(PP3)'!$C$225","v":0},"#'T2-B(PP3)'!$C$225"]
["pp3_bl5_2_4_unit_in",{"$f":"'T2-B(PP3)'!$D$225","v":0},"#'T2-B(PP3)'!$D$225"]
["pp3_bl5_2_4_units_out",{"$f":"'T2-B(PP3)'!$G$225","v":0},"#'T2-B(PP3)'!$G$225"]
["pp3_bl5_2_5_name",{"$f":"'T2-B(PP3)'!$B$226","v":0},"#'T2-B(PP3)'!$B$226"]
["pp3_bl5_2_5_rate_in",{"$f":"'T2-B(PP3)'!$E$226","v":0},"#'T2-B(PP3)'!$E$226"]
["pp3_bl5_2_5_rate_out",{"$f":"'T2-B(PP3)'!$H$226","v":0},"#'T2-B(PP3)'!$H$226"]
["pp3_bl5_2_5_total",{"$f":"'T2-B(PP3)'!$J$226","v":0},"#'T2-B(PP3)'!$J$226"]
["pp3_bl5_2_5_total_in",{"$f":"'T2-B(PP3)'!$F$226","v":0},"#'T2-B(PP3)'!$F$226"]
["pp3_bl5_2_5_total_out",{"$f":"'T2-B(PP3)'!$I$226","v":0},"#'T2-B(PP3)'!$I$226"]
["pp3_bl5_2_5_unit",{"$f":"'T2-B(PP3)'!$C$226","v":0},"#'T2-B(PP3)'!$C$226"]
["pp3_bl5_2_5_unit_in",{"$f":"'T2-B(PP3)'!$D$226","v":0},"#'T2-B(PP3)'!$D$226"]
["pp3_bl5_2_5_units_out",{"$f":"'T2-B(PP3)'!$G$226","v":0},"#'T2-B(PP3)'!$G$226"]
["pp3_bl5_2_6_name",{"$f":"'T2-B(PP3)'!$B$227","v":0},"#'T2-B(PP3)'!$B$227"]
["pp3_bl5_2_6_rate_in",{"$f":"'T2-B(PP3)'!$E$227","v":0},"#'T2-B(PP3)'!$E$227"]
["pp3_bl5_2_6_rate_out",{"$f":"'T2-B(PP3)'!$H$227","v":0},"#'T2-B(PP3)'!$H$227"]
["pp3_bl5_2_6_total",{"$f":"'T2-B(PP3)'!$J$227","v":0},"#'T2-B(PP3)'!$J$227"]
["pp3_bl5_2_6_total_in",{"$f":"'T2-B(PP3)'!$F$227","v":0},"#'T2-B(PP3)'!$F$227"]
["pp3_bl5_2_6_total_out",{"$f":"'T2-B(PP3)'!$I$227","v":0},"#'T2-B(PP3)'!$I$227"]
["pp3_bl5_2_6_unit",{"$f":"'T2-B(PP3)'!$C$227","v":0},"#'T2-B(PP3)'!$C$227"]
["pp3_bl5_2_6_unit_in",{"$f":"'T2-B(PP3)'!$D$227","v":0},"#'T2-B(PP3)'!$D$227"]
["pp3_bl5_2_6_units_out",{"$f":"'T2-B(PP3)'!$G$227","v":0},"#'T2-B(PP3)'!$G$227"]
["pp3_bl5_2_7_name",{"$f":"'T2-B(PP3)'!$B$228","v":0},"#'T2-B(PP3)'!$B$228"]
["pp3_bl5_2_7_rate_in",{"$f":"'T2-B(PP3)'!$E$228","v":0},"#'T2-B(PP3)'!$E$228"]
["pp3_bl5_2_7_rate_out",{"$f":"'T2-B(PP3)'!$H$228","v":0},"#'T2-B(PP3)'!$H$228"]
["pp3_bl5_2_7_total",{"$f":"'T2-B(PP3)'!$J$228","v":0},"#'T2-B(PP3)'!$J$228"]
["pp3_bl5_2_7_total_in",{"$f":"'T2-B(PP3)'!$F$228","v":0},"#'T2-B(PP3)'!$F$228"]
["pp3_bl5_2_7_total_out",{"$f":"'T2-B(PP3)'!$I$228","v":0},"#'T2-B(PP3)'!$I$228"]
["pp3_bl5_2_7_unit",{"$f":"'T2-B(PP3)'!$C$228","v":0},"#'T2-B(PP3)'!$C$228"]
["pp3_bl5_2_7_unit_in",{"$f":"'T2-B(PP3)'!$D$228","v":0},"#'T2-B(PP3)'!$D$228"]
["pp3_bl5_2_7_units_out",{"$f":"'T2-B(PP3)'!$G$228","v":0},"#'T2-B(PP3)'!$G$228"]
["pp3_bl5_2_8_name",{"$f":"'T2-B(PP3)'!$B$229","v":0},"#'T2-B(PP3)'!$B$229"]
["pp3_bl5_2_8_rate_in",{"$f":"'T2-B(PP3)'!$E$229","v":0},"#'T2-B(PP3)'!$E$229"]
["pp3_bl5_2_8_rate_out",{"$f":"'T2-B(PP3)'!$H$229","v":0},"#'T2-B(PP3)'!$H$229"]
["pp3_bl5_2_8_total",{"$f":"'T2-B(PP3)'!$J$229","v":0},"#'T2-B(PP3)'!$J$229"]
["pp3_bl5_2_8_total_in",{"$f":"'T2-B(PP3)'!$F$229","v":0},"#'T2-B(PP3)'!$F$229"]
["pp3_bl5_2_8_total_out",{"$f":"'T2-B(PP3)'!$I$229","v":0},"#'T2-B(PP3)'!$I$229"]
["pp3_bl5_2_8_unit",{"$f":"'T2-B(PP3)'!$C$229","v":0},"#'T2-B(PP3)'!$C$229"]
["pp3_bl5_2_8_unit_in",{"$f":"'T2-B(PP3)'!$D$229","v":0},"#'T2-B(PP3)'!$D$229"]
["pp3_bl5_2_8_units_out",{"$f":"'T2-B(PP3)'!$G$229","v":0},"#'T2-B(PP3)'!$G$229"]
["pp3_bl5_2_9_name",{"$f":"'T2-B(PP3)'!$B$230","v":0},"#'T2-B(PP3)'!$B$230"]
["pp3_bl5_2_9_rate_in",{"$f":"'T2-B(PP3)'!$E$230","v":0},"#'T2-B(PP3)'!$E$230"]
["pp3_bl5_2_9_rate_out",{"$f":"'T2-B(PP3)'!$H$230","v":0},"#'T2-B(PP3)'!$H$230"]
["pp3_bl5_2_9_total",{"$f":"'T2-B(PP3)'!$J$230","v":0},"#'T2-B(PP3)'!$J$230"]
["pp3_bl5_2_9_total_in",{"$f":"'T2-B(PP3)'!$F$230","v":0},"#'T2-B(PP3)'!$F$230"]
["pp3_bl5_2_9_total_out",{"$f":"'T2-B(PP3)'!$I$230","v":0},"#'T2-B(PP3)'!$I$230"]
["pp3_bl5_2_9_unit",{"$f":"'T2-B(PP3)'!$C$230","v":0},"#'T2-B(PP3)'!$C$230"]
["pp3_bl5_2_9_unit_in",{"$f":"'T2-B(PP3)'!$D$230","v":0},"#'T2-B(PP3)'!$D$230"]
["pp3_bl5_2_9_units_out",{"$f":"'T2-B(PP3)'!$G$230","v":0},"#'T2-B(PP3)'!$G$230"]
["pp3_bl5_2_total",{"$f":"'T2-B(PP3)'!$J$221","v":0},"#'T2-B(PP3)'!$J$221"]
["pp3_bl5_2_total_in",{"$f":"'T2-B(PP3)'!$F$221","v":0},"#'T2-B(PP3)'!$F$221"]
["pp3_bl5_2_total_out",{"$f":"'T2-B(PP3)'!$I$221","v":0},"#'T2-B(PP3)'!$I$221"]
["pp3_bl5_total",{"$f":"'T2-B(PP3)'!$J$232","v":0},"#'T2-B(PP3)'!$J$232"]
["pp3_bl5_total_in",{"$f":"'T2-B(PP3)'!$F$232","v":0},"#'T2-B(PP3)'!$F$232"]
["pp3_bl5_total_out",{"$f":"'T2-B(PP3)'!$I$232","v":0},"#'T2-B(PP3)'!$I$232"]
["pp3_bl6_1_1_name",{"$f":"'T2-B(PP3)'!$B$236","v":0},"#'T2-B(PP3)'!$B$236"]
["pp3_bl6_1_1_rate_in",{"$f":"'T2-B(PP3)'!$E$236","v":0},"#'T2-B(PP3)'!$E$236"]
["pp3_bl6_1_1_rate_out",{"$f":"'T2-B(PP3)'!$H$236","v":0},"#'T2-B(PP3)'!$H$236"]
["pp3_bl6_1_1_total",{"$f":"'T2-B(PP3)'!$J$236","v":0},"#'T2-B(PP3)'!$J$236"]
["pp3_bl6_1_1_total_in",{"$f":"'T2-B(PP3)'!$F$236","v":0},"#'T2-B(PP3)'!$F$236"]
["pp3_bl6_1_1_total_out",{"$f":"'T2-B(PP3)'!$I$236","v":0},"#'T2-B(PP3)'!$I$236"]
["pp3_bl6_1_1_unit",{"$f":"'T2-B(PP3)'!$C$236","v":0},"#'T2-B(PP3)'!$C$236"]
["pp3_bl6_1_1_unit_in",{"$f":"'T2-B(PP3)'!$D$236","v":0},"#'T2-B(PP3)'!$D$236"]
["pp3_bl6_1_1_units_out",{"$f":"'T2-B(PP3)'!$G$236","v":0},"#'T2-B(PP3)'!$G$236"]
["pp3_bl6_1_10_name",{"$f":"'T2-B(PP3)'!$B$245","v":0},"#'T2-B(PP3)'!$B$245"]
["pp3_bl6_1_10_rate_in",{"$f":"'T2-B(PP3)'!$E$245","v":0},"#'T2-B(PP3)'!$E$245"]
["pp3_bl6_1_10_rate_out",{"$f":"'T2-B(PP3)'!$H$245","v":0},"#'T2-B(PP3)'!$H$245"]
["pp3_bl6_1_10_total",{"$f":"'T2-B(PP3)'!$J$245","v":0},"#'T2-B(PP3)'!$J$245"]
["pp3_bl6_1_10_total_in",{"$f":"'T2-B(PP3)'!$F$245","v":0},"#'T2-B(PP3)'!$F$245"]
["pp3_bl6_1_10_total_out",{"$f":"'T2-B(PP3)'!$I$245","v":0},"#'T2-B(PP3)'!$I$245"]
["pp3_bl6_1_10_unit",{"$f":"'T2-B(PP3)'!$C$245","v":0},"#'T2-B(PP3)'!$C$245"]
["pp3_bl6_1_10_unit_in",{"$f":"'T2-B(PP3)'!$D$245","v":0},"#'T2-B(PP3)'!$D$245"]
["pp3_bl6_1_10_units_out",{"$f":"'T2-B(PP3)'!$G$245","v":0},"#'T2-B(PP3)'!$G$245"]
["pp3_bl6_1_2_name",{"$f":"'T2-B(PP3)'!$B$237","v":0},"#'T2-B(PP3)'!$B$237"]
["pp3_bl6_1_2_rate_in",{"$f":"'T2-B(PP3)'!$E$237","v":0},"#'T2-B(PP3)'!$E$237"]
["pp3_bl6_1_2_rate_out",{"$f":"'T2-B(PP3)'!$H$237","v":0},"#'T2-B(PP3)'!$H$237"]
["pp3_bl6_1_2_total",{"$f":"'T2-B(PP3)'!$J$237","v":0},"#'T2-B(PP3)'!$J$237"]
["pp3_bl6_1_2_total_in",{"$f":"'T2-B(PP3)'!$F$237","v":0},"#'T2-B(PP3)'!$F$237"]
["pp3_bl6_1_2_total_out",{"$f":"'T2-B(PP3)'!$I$237","v":0},"#'T2-B(PP3)'!$I$237"]
["pp3_bl6_1_2_unit",{"$f":"'T2-B(PP3)'!$C$237","v":0},"#'T2-B(PP3)'!$C$237"]
["pp3_bl6_1_2_unit_in",{"$f":"'T2-B(PP3)'!$D$237","v":0},"#'T2-B(PP3)'!$D$237"]
["pp3_bl6_1_2_units_out",{"$f":"'T2-B(PP3)'!$G$237","v":0},"#'T2-B(PP3)'!$G$237"]
["pp3_bl6_1_3_name",{"$f":"'T2-B(PP3)'!$B$238","v":0},"#'T2-B(PP3)'!$B$238"]
["pp3_bl6_1_3_rate_in",{"$f":"'T2-B(PP3)'!$E$238","v":0},"#'T2-B(PP3)'!$E$238"]
["pp3_bl6_1_3_rate_out",{"$f":"'T2-B(PP3)'!$H$238","v":0},"#'T2-B(PP3)'!$H$238"]
["pp3_bl6_1_3_total",{"$f":"'T2-B(PP3)'!$J$238","v":0},"#'T2-B(PP3)'!$J$238"]
["pp3_bl6_1_3_total_in",{"$f":"'T2-B(PP3)'!$F$238","v":0},"#'T2-B(PP3)'!$F$238"]
["pp3_bl6_1_3_total_out",{"$f":"'T2-B(PP3)'!$I$238","v":0},"#'T2-B(PP3)'!$I$238"]
["pp3_bl6_1_3_unit",{"$f":"'T2-B(PP3)'!$C$238","v":0},"#'T2-B(PP3)'!$C$238"]
["pp3_bl6_1_3_unit_in",{"$f":"'T2-B(PP3)'!$D$238","v":0},"#'T2-B(PP3)'!$D$238"]
["pp3_bl6_1_3_units_out",{"$f":"'T2-B(PP3)'!$G$238","v":0},"#'T2-B(PP3)'!$G$238"]
["pp3_bl6_1_4_name",{"$f":"'T2-B(PP3)'!$B$239","v":0},"#'T2-B(PP3)'!$B$239"]
["pp3_bl6_1_4_rate_in",{"$f":"'T2-B(PP3)'!$E$239","v":0},"#'T2-B(PP3)'!$E$239"]
["pp3_bl6_1_4_rate_out",{"$f":"'T2-B(PP3)'!$H$239","v":0},"#'T2-B(PP3)'!$H$239"]
["pp3_bl6_1_4_total",{"$f":"'T2-B(PP3)'!$J$239","v":0},"#'T2-B(PP3)'!$J$239"]
["pp3_bl6_1_4_total_in",{"$f":"'T2-B(PP3)'!$F$239","v":0},"#'T2-B(PP3)'!$F$239"]
["pp3_bl6_1_4_total_out",{"$f":"'T2-B(PP3)'!$I$239","v":0},"#'T2-B(PP3)'!$I$239"]
["pp3_bl6_1_4_unit",{"$f":"'T2-B(PP3)'!$C$239","v":0},"#'T2-B(PP3)'!$C$239"]
["pp3_bl6_1_4_unit_in",{"$f":"'T2-B(PP3)'!$D$239","v":0},"#'T2-B(PP3)'!$D$239"]
["pp3_bl6_1_4_units_out",{"$f":"'T2-B(PP3)'!$G$239","v":0},"#'T2-B(PP3)'!$G$239"]
["pp3_bl6_1_5_name",{"$f":"'T2-B(PP3)'!$B$240","v":0},"#'T2-B(PP3)'!$B$240"]
["pp3_bl6_1_5_rate_in",{"$f":"'T2-B(PP3)'!$E$240","v":0},"#'T2-B(PP3)'!$E$240"]
["pp3_bl6_1_5_rate_out",{"$f":"'T2-B(PP3)'!$H$240","v":0},"#'T2-B(PP3)'!$H$240"]
["pp3_bl6_1_5_total",{"$f":"'T2-B(PP3)'!$J$240","v":0},"#'T2-B(PP3)'!$J$240"]
["pp3_bl6_1_5_total_in",{"$f":"'T2-B(PP3)'!$F$240","v":0},"#'T2-B(PP3)'!$F$240"]
["pp3_bl6_1_5_total_out",{"$f":"'T2-B(PP3)'!$I$240","v":0},"#'T2-B(PP3)'!$I$240"]
["pp3_bl6_1_5_unit",{"$f":"'T2-B(PP3)'!$C$240","v":0},"#'T2-B(PP3)'!$C$240"]
["pp3_bl6_1_5_unit_in",{"$f":"'T2-B(PP3)'!$D$240","v":0},"#'T2-B(PP3)'!$D$240"]
["pp3_bl6_1_5_units_out",{"$f":"'T2-B(PP3)'!$G$240","v":0},"#'T2-B(PP3)'!$G$240"]
["pp3_bl6_1_6_name",{"$f":"'T2-B(PP3)'!$B$241","v":0},"#'T2-B(PP3)'!$B$241"]
["pp3_bl6_1_6_rate_in",{"$f":"'T2-B(PP3)'!$E$241","v":0},"#'T2-B(PP3)'!$E$241"]
["pp3_bl6_1_6_rate_out",{"$f":"'T2-B(PP3)'!$H$241","v":0},"#'T2-B(PP3)'!$H$241"]
["pp3_bl6_1_6_total",{"$f":"'T2-B(PP3)'!$J$241","v":0},"#'T2-B(PP3)'!$J$241"]
["pp3_bl6_1_6_total_in",{"$f":"'T2-B(PP3)'!$F$241","v":0},"#'T2-B(PP3)'!$F$241"]
["pp3_bl6_1_6_total_out",{"$f":"'T2-B(PP3)'!$I$241","v":0},"#'T2-B(PP3)'!$I$241"]
["pp3_bl6_1_6_unit",{"$f":"'T2-B(PP3)'!$C$241","v":0},"#'T2-B(PP3)'!$C$241"]
["pp3_bl6_1_6_unit_in",{"$f":"'T2-B(PP3)'!$D$241","v":0},"#'T2-B(PP3)'!$D$241"]
["pp3_bl6_1_6_units_out",{"$f":"'T2-B(PP3)'!$G$241","v":0},"#'T2-B(PP3)'!$G$241"]
["pp3_bl6_1_7_name",{"$f":"'T2-B(PP3)'!$B$242","v":0},"#'T2-B(PP3)'!$B$242"]
["pp3_bl6_1_7_rate_in",{"$f":"'T2-B(PP3)'!$E$242","v":0},"#'T2-B(PP3)'!$E$242"]
["pp3_bl6_1_7_rate_out",{"$f":"'T2-B(PP3)'!$H$242","v":0},"#'T2-B(PP3)'!$H$242"]
["pp3_bl6_1_7_total",{"$f":"'T2-B(PP3)'!$J$242","v":0},"#'T2-B(PP3)'!$J$242"]
["pp3_bl6_1_7_total_in",{"$f":"'T2-B(PP3)'!$F$242","v":0},"#'T2-B(PP3)'!$F$242"]
["pp3_bl6_1_7_total_out",{"$f":"'T2-B(PP3)'!$I$242","v":0},"#'T2-B(PP3)'!$I$242"]
["pp3_bl6_1_7_unit",{"$f":"'T2-B(PP3)'!$C$242","v":0},"#'T2-B(PP3)'!$C$242"]
["pp3_bl6_1_7_unit_in",{"$f":"'T2-B(PP3)'!$D$242","v":0},"#'T2-B(PP3)'!$D$242"]
["pp3_bl6_1_7_units_out",{"$f":"'T2-B(PP3)'!$G$242","v":0},"#'T2-B(PP3)'!$G$242"]
["pp3_bl6_1_8_name",{"$f":"'T2-B(PP3)'!$B$243","v":0},"#'T2-B(PP3)'!$B$243"]
["pp3_bl6_1_8_rate_in",{"$f":"'T2-B(PP3)'!$E$243","v":0},"#'T2-B(PP3)'!$E$243"]
["pp3_bl6_1_8_rate_out",{"$f":"'T2-B(PP3)'!$H$243","v":0},"#'T2-B(PP3)'!$H$243"]
["pp3_bl6_1_8_total",{"$f":"'T2-B(PP3)'!$J$243","v":0},"#'T2-B(PP3)'!$J$243"]
["pp3_bl6_1_8_total_in",{"$f":"'T2-B(PP3)'!$F$243","v":0},"#'T2-B(PP3)'!$F$243"]
["pp3_bl6_1_8_total_out",{"$f":"'T2-B(PP3)'!$I$243","v":0},"#'T2-B(PP3)'!$I$243"]
["pp3_bl6_1_8_unit",{"$f":"'T2-B(PP3)'!$C$243","v":0},"#'T2-B(PP3)'!$C$243"]
["pp3_bl6_1_8_unit_in",{"$f":"'T2-B(PP3)'!$D$243","v":0},"#'T2-B(PP3)'!$D$243"]
["pp3_bl6_1_8_units_out",{"$f":"'T2-B(PP3)'!$G$243","v":0},"#'T2-B(PP3)'!$G$243"]
["pp3_bl6_1_9_name",{"$f":"'T2-B(PP3)'!$B$244","v":0},"#'T2-B(PP3)'!$B$244"]
["pp3_bl6_1_9_rate_in",{"$f":"'T2-B(PP3)'!$E$244","v":0},"#'T2-B(PP3)'!$E$244"]
["pp3_bl6_1_9_rate_out",{"$f":"'T2-B(PP3)'!$H$244","v":0},"#'T2-B(PP3)'!$H$244"]
["pp3_bl6_1_9_total",{"$f":"'T2-B(PP3)'!$J$244","v":0},"#'T2-B(PP3)'!$J$244"]
["pp3_bl6_1_9_total_in",{"$f":"'T2-B(PP3)'!$F$244","v":0},"#'T2-B(PP3)'!$F$244"]
["pp3_bl6_1_9_total_out",{"$f":"'T2-B(PP3)'!$I$244","v":0},"#'T2-B(PP3)'!$I$244"]
["pp3_bl6_1_9_unit",{"$f":"'T2-B(PP3)'!$C$244","v":0},"#'T2-B(PP3)'!$C$244"]
["pp3_bl6_1_9_unit_in",{"$f":"'T2-B(PP3)'!$D$244","v":0},"#'T2-B(PP3)'!$D$244"]
["pp3_bl6_1_9_units_out",{"$f":"'T2-B(PP3)'!$G$244","v":0},"#'T2-B(PP3)'!$G$244"]
["pp3_bl6_1_total",{"$f":"'T2-B(PP3)'!$J$235","v":0},"#'T2-B(PP3)'!$J$235"]
["pp3_bl6_1_total_in",{"$f":"'T2-B(PP3)'!$F$235","v":"TOTAL"},"#'T2-B(PP3)'!$F$235"]
["pp3_bl6_1_total_out",{"$f":"'T2-B(PP3)'!$I$235","v":"TOTAL"},"#'T2-B(PP3)'!$I$235"]
["pp3_bl6_total",{"$f":"'T2-B(PP3)'!$J$246","v":0},"#'T2-B(PP3)'!$J$246"]
["pp3_bl6_total_in",{"$f":"'T2-B(PP3)'!$F$246","v":0},"#'T2-B(PP3)'!$F$246"]
["pp3_bl6_total_out",{"$f":"'T2-B(PP3)'!$I$246","v":0},"#'T2-B(PP3)'!$I$246"]
["pp3_country",{"$f":"'PP3'!$K$14","v":2},"#'PP3'!$K$14"]
["pp3_fax",{"$f":"'PP3'!$C$29","v":0},"#'PP3'!$C$29"]
["pp3_is_bg",{"$f":"'PP3'!$D$13","v":0},"#'PP3'!$D$13"]
["pp3_is_pc",{"$f":"'PP3'!$F$13","v":0},"#'PP3'!$F$13"]
["pp3_legal_representative",{"$f":"'PP3'!$C$23","v":0},"#'PP3'!$C$23"]
["pp3_legal_representative_position",{"$f":"'PP3'!$C$25","v":0},"#'PP3'!$C$25"]
["pp3_mail",{"$f":"'PP3'!$C$31","v":0},"#'PP3'!$C$31"]
["pp3_nat_code",{"$f":"'PP3'!$C$70","v":0},"#'PP3'!$C$70"]
["pp3_nuts3",{"$f":"'PP3'!$C$15","v":0},"#'PP3'!$C$15"]
["pp3_organisation_en",{"$f":"'PP3'!$C$7","v":0},"#'PP3'!$C$7"]
["pp3_organisation_native",{"$f":"'PP3'!$C$9","v":0},"#'PP3'!$C$9"]
["pp3_pe_date1",{"$f":"'PP3'!$G$47","v":0},"#'PP3'!$G$47"]
["pp3_pe_date2",{"$f":"'PP3'!$G$55","v":0},"#'PP3'!$G$55"]
["pp3_pe_date3",{"$f":"'PP3'!$G$63","v":0},"#'PP3'!$G$63"]
["pp3_pe_ga1",{"$f":"'PP3'!$G$46","v":0},"#'PP3'!$G$46"]
["pp3_pe_ga2",{"$f":"'PP3'!$G$54","v":0},"#'PP3'!$G$54"]
["pp3_pe_ga3",{"$f":"'PP3'!$G$62","v":0},"#'PP3'!$G$62"]
["pp3_pe_ip1",{"$f":"'PP3'!$C$43","v":0},"#'PP3'!$C$43"]
["pp3_pe_ip2",{"$f":"'PP3'!$C$51","v":0},"#'PP3'!$C$51"]
["pp3_pe_ip3",{"$f":"'PP3'!$C$59","v":0},"#'PP3'!$C$59"]
["pp3_pe_or1",{"$f":"'PP3'!$C$47","v":0},"#'PP3'!$C$47"]
["pp3_pe_or2",{"$f":"'PP3'!$C$55","v":0},"#'PP3'!$C$55"]
["pp3_pe_or3",{"$f":"'PP3'!$C$63","v":0},"#'PP3'!$C$63"]
["pp3_pe_pt1",{"$f":"'PP3'!$C$44","v":0},"#'PP3'!$C$44"]
["pp3_pe_pt2",{"$f":"'PP3'!$C$52","v":0},"#'PP3'!$C$52"]
["pp3_pe_pt3",{"$f":"'PP3'!$C$60","v":0},"#'PP3'!$C$60"]
["pp3_pe_sd1",{"$f":"'PP3'!$C$45","v":0},"#'PP3'!$C$45"]
["pp3_pe_sd2",{"$f":"'PP3'!$C$53","v":0},"#'PP3'!$C$53"]
["pp3_pe_sd3",{"$f":"'PP3'!$C$61","v":0},"#'PP3'!$C$61"]
["pp3_pe_tev1",{"$f":"'PP3'!$C$46","v":0},"#'PP3'!$C$46"]
["pp3_pe_tev2",{"$f":"'PP3'!$C$54","v":0},"#'PP3'!$C$54"]
["pp3_pe_tev3",{"$f":"'PP3'!$C$62","v":0},"#'PP3'!$C$62"]
["pp3_phone",{"$f":"'PP3'!$C$27","v":0},"#'PP3'!$C$27"]
["pp3_post_code",{"$f":"'PP3'!$C$21","v":0},"#'PP3'!$C$21"]
["pp3_profile",{"$f":"'PP3'!$B$38","v":0},"#'PP3'!$B$38"]
["pp3_proj_direct_total",{"$f":"'T2-B(PP3)'!$J$248","v":0},"#'T2-B(PP3)'!$J$248"]
["pp3_proj_direct_total_in",{"$f":"'T2-B(PP3)'!$F$248","v":0},"#'T2-B(PP3)'!$F$248"]
["pp3_proj_direct_total_out",{"$f":"'T2-B(PP3)'!$I$248","v":0},"#'T2-B(PP3)'!$I$248"]
["pp3_proj_total",{"$f":"'T2-B(PP3)'!$J$249","v":0},"#'T2-B(PP3)'!$J$249"]
["pp3_proj_total_in",{"$f":"'T2-B(PP3)'!$F$249","v":0},"#'T2-B(PP3)'!$F$249"]
["pp3_proj_total_out",{"$f":"'T2-B(PP3)'!$G$249","v":0},"#'T2-B(PP3)'!$G$249"]
["pp3_town",{"$f":"'PP3'!$C$17","v":0},"#'PP3'!$C$17"]
["pp3_type_org",{"$f":"'PP3'!$C$11","v":0},"#'PP3'!$C$11"]
["pp3_vat_code",{"$f":"'PP3'!$C$72","v":0},"#'PP3'!$C$72"]
["pp3_website",{"$f":"'PP3'!$C$33","v":0},"#'PP3'!$C$33"]
["pp4_2012_fulltime_staff",{"$f":"'PP4'!$D$79","v":0},"#'PP4'!$D$79"]
["pp4_2012_offices",{"$f":"'PP4'!$F$79","v":0},"#'PP4'!$F$79"]
["pp4_2012_parttime_staff",{"$f":"'PP4'!$E$79","v":0},"#'PP4'!$E$79"]
["pp4_2012_turnover",{"$f":"'PP4'!$C$79","v":0},"#'PP4'!$C$79"]
["pp4_2013_fulltime_staff",{"$f":"'PP4'!$D$78","v":0},"#'PP4'!$D$78"]
["pp4_2013_offices",{"$f":"'PP4'!$F$78","v":0},"#'PP4'!$F$78"]
["pp4_2013_parttime_staff",{"$f":"'PP4'!$E$78","v":0},"#'PP4'!$E$78"]
["pp4_2013_turnover",{"$f":"'PP4'!$C$78","v":0},"#'PP4'!$C$78"]
["pp4_2014_fulltime_staff",{"$f":"'PP4'!$D$77","v":0},"#'PP4'!$D$77"]
["pp4_2014_offices",{"$f":"'PP4'!$F$77","v":0},"#'PP4'!$F$77"]
["pp4_2014_parttime_staff",{"$f":"'PP4'!$E$77","v":0},"#'PP4'!$E$77"]
["pp4_2014_turnover",{"$f":"'PP4'!$C$77","v":0},"#'PP4'!$C$77"]
["pp4_address",{"$f":"'PP4'!$C$19","v":0},"#'PP4'!$C$19"]
["pp4_bl1_1_name",{"$f":"'T2-B(PP4)'!$B$5","v":"0 project"},"#'T2-B(PP4)'!$B$5"]
["pp4_bl1_1_perc",{"$f":"'T2-B(PP4)'!$G$5","v":0},"#'T2-B(PP4)'!$G$5"]
["pp4_bl1_1_total",{"$f":"'T2-B(PP4)'!$I$5","v":0},"#'T2-B(PP4)'!$I$5"]
["pp4_bl1_total",{"$f":"'T2-B(PP4)'!$I$6","v":0},"#'T2-B(PP4)'!$I$6"]
["pp4_bl2_1_name",{"$f":"'T2-B(PP4)'!$B$10","v":"0 project"},"#'T2-B(PP4)'!$B$10"]
["pp4_bl2_1_perc",{"$f":"'T2-B(PP4)'!$G$10","v":0},"#'T2-B(PP4)'!$G$10"]
["pp4_bl2_1_total",{"$f":"'T2-B(PP4)'!$I$10","v":0},"#'T2-B(PP4)'!$I$10"]
["pp4_bl2_total",{"$f":"'T2-B(PP4)'!$I$11","v":0},"#'T2-B(PP4)'!$I$11"]
["pp4_bl3_1_1_name",{"$f":"'T2-B(PP4)'!$B$16","v":0},"#'T2-B(PP4)'!$B$16"]
["pp4_bl3_1_1_rate_in",{"$f":"'T2-B(PP4)'!$E$16","v":0},"#'T2-B(PP4)'!$E$16"]
["pp4_bl3_1_1_rate_out",{"$f":"'T2-B(PP4)'!$H$16","v":0},"#'T2-B(PP4)'!$H$16"]
["pp4_bl3_1_1_total",{"$f":"'T2-B(PP4)'!$J$16","v":0},"#'T2-B(PP4)'!$J$16"]
["pp4_bl3_1_1_total_in",{"$f":"'T2-B(PP4)'!$F$16","v":0},"#'T2-B(PP4)'!$F$16"]
["pp4_bl3_1_1_total_out",{"$f":"'T2-B(PP4)'!$I$16","v":0},"#'T2-B(PP4)'!$I$16"]
["pp4_bl3_1_1_unit",{"$f":"'T2-B(PP4)'!$C$16","v":0},"#'T2-B(PP4)'!$C$16"]
["pp4_bl3_1_1_unit_in",{"$f":"'T2-B(PP4)'!$D$16","v":0},"#'T2-B(PP4)'!$D$16"]
["pp4_bl3_1_1_units_out",{"$f":"'T2-B(PP4)'!$G$16","v":0},"#'T2-B(PP4)'!$G$16"]
["pp4_bl3_1_10_name",{"$f":"'T2-B(PP4)'!$B$25","v":0},"#'T2-B(PP4)'!$B$25"]
["pp4_bl3_1_10_rate_in",{"$f":"'T2-B(PP4)'!$E$25","v":0},"#'T2-B(PP4)'!$E$25"]
["pp4_bl3_1_10_rate_out",{"$f":"'T2-B(PP4)'!$H$25","v":0},"#'T2-B(PP4)'!$H$25"]
["pp4_bl3_1_10_total",{"$f":"'T2-B(PP4)'!$J$25","v":0},"#'T2-B(PP4)'!$J$25"]
["pp4_bl3_1_10_total_in",{"$f":"'T2-B(PP4)'!$F$25","v":0},"#'T2-B(PP4)'!$F$25"]
["pp4_bl3_1_10_total_out",{"$f":"'T2-B(PP4)'!$I$25","v":0},"#'T2-B(PP4)'!$I$25"]
["pp4_bl3_1_10_unit",{"$f":"'T2-B(PP4)'!$C$25","v":0},"#'T2-B(PP4)'!$C$25"]
["pp4_bl3_1_10_unit_in",{"$f":"'T2-B(PP4)'!$D$25","v":0},"#'T2-B(PP4)'!$D$25"]
["pp4_bl3_1_10_units_out",{"$f":"'T2-B(PP4)'!$G$25","v":0},"#'T2-B(PP4)'!$G$25"]
["pp4_bl3_1_2_name",{"$f":"'T2-B(PP4)'!$B$17","v":0},"#'T2-B(PP4)'!$B$17"]
["pp4_bl3_1_2_rate_in",{"$f":"'T2-B(PP4)'!$E$17","v":0},"#'T2-B(PP4)'!$E$17"]
["pp4_bl3_1_2_rate_out",{"$f":"'T2-B(PP4)'!$H$17","v":0},"#'T2-B(PP4)'!$H$17"]
["pp4_bl3_1_2_total",{"$f":"'T2-B(PP4)'!$J$17","v":0},"#'T2-B(PP4)'!$J$17"]
["pp4_bl3_1_2_total_in",{"$f":"'T2-B(PP4)'!$F$17","v":0},"#'T2-B(PP4)'!$F$17"]
["pp4_bl3_1_2_total_out",{"$f":"'T2-B(PP4)'!$I$17","v":0},"#'T2-B(PP4)'!$I$17"]
["pp4_bl3_1_2_unit",{"$f":"'T2-B(PP4)'!$C$17","v":0},"#'T2-B(PP4)'!$C$17"]
["pp4_bl3_1_2_unit_in",{"$f":"'T2-B(PP4)'!$D$17","v":0},"#'T2-B(PP4)'!$D$17"]
["pp4_bl3_1_2_units_out",{"$f":"'T2-B(PP4)'!$G$17","v":0},"#'T2-B(PP4)'!$G$17"]
["pp4_bl3_1_3_name",{"$f":"'T2-B(PP4)'!$B$18","v":0},"#'T2-B(PP4)'!$B$18"]
["pp4_bl3_1_3_rate_in",{"$f":"'T2-B(PP4)'!$E$18","v":0},"#'T2-B(PP4)'!$E$18"]
["pp4_bl3_1_3_rate_out",{"$f":"'T2-B(PP4)'!$H$18","v":0},"#'T2-B(PP4)'!$H$18"]
["pp4_bl3_1_3_total",{"$f":"'T2-B(PP4)'!$J$18","v":0},"#'T2-B(PP4)'!$J$18"]
["pp4_bl3_1_3_total_in",{"$f":"'T2-B(PP4)'!$F$18","v":0},"#'T2-B(PP4)'!$F$18"]
["pp4_bl3_1_3_total_out",{"$f":"'T2-B(PP4)'!$I$18","v":0},"#'T2-B(PP4)'!$I$18"]
["pp4_bl3_1_3_unit",{"$f":"'T2-B(PP4)'!$C$18","v":0},"#'T2-B(PP4)'!$C$18"]
["pp4_bl3_1_3_unit_in",{"$f":"'T2-B(PP4)'!$D$18","v":0},"#'T2-B(PP4)'!$D$18"]
["pp4_bl3_1_3_units_out",{"$f":"'T2-B(PP4)'!$G$18","v":0},"#'T2-B(PP4)'!$G$18"]
["pp4_bl3_1_4_name",{"$f":"'T2-B(PP4)'!$B$19","v":0},"#'T2-B(PP4)'!$B$19"]
["pp4_bl3_1_4_rate_in",{"$f":"'T2-B(PP4)'!$E$19","v":0},"#'T2-B(PP4)'!$E$19"]
["pp4_bl3_1_4_rate_out",{"$f":"'T2-B(PP4)'!$H$19","v":0},"#'T2-B(PP4)'!$H$19"]
["pp4_bl3_1_4_total",{"$f":"'T2-B(PP4)'!$J$19","v":0},"#'T2-B(PP4)'!$J$19"]
["pp4_bl3_1_4_total_in",{"$f":"'T2-B(PP4)'!$F$19","v":0},"#'T2-B(PP4)'!$F$19"]
["pp4_bl3_1_4_total_out",{"$f":"'T2-B(PP4)'!$I$19","v":0},"#'T2-B(PP4)'!$I$19"]
["pp4_bl3_1_4_unit",{"$f":"'T2-B(PP4)'!$C$19","v":0},"#'T2-B(PP4)'!$C$19"]
["pp4_bl3_1_4_unit_in",{"$f":"'T2-B(PP4)'!$D$19","v":0},"#'T2-B(PP4)'!$D$19"]
["pp4_bl3_1_4_units_out",{"$f":"'T2-B(PP4)'!$G$19","v":0},"#'T2-B(PP4)'!$G$19"]
["pp4_bl3_1_5_name",{"$f":"'T2-B(PP4)'!$B$20","v":0},"#'T2-B(PP4)'!$B$20"]
["pp4_bl3_1_5_rate_in",{"$f":"'T2-B(PP4)'!$E$20","v":0},"#'T2-B(PP4)'!$E$20"]
["pp4_bl3_1_5_rate_out",{"$f":"'T2-B(PP4)'!$H$20","v":0},"#'T2-B(PP4)'!$H$20"]
["pp4_bl3_1_5_total",{"$f":"'T2-B(PP4)'!$J$20","v":0},"#'T2-B(PP4)'!$J$20"]
["pp4_bl3_1_5_total_in",{"$f":"'T2-B(PP4)'!$F$20","v":0},"#'T2-B(PP4)'!$F$20"]
["pp4_bl3_1_5_total_out",{"$f":"'T2-B(PP4)'!$I$20","v":0},"#'T2-B(PP4)'!$I$20"]
["pp4_bl3_1_5_unit",{"$f":"'T2-B(PP4)'!$C$20","v":0},"#'T2-B(PP4)'!$C$20"]
["pp4_bl3_1_5_unit_in",{"$f":"'T2-B(PP4)'!$D$20","v":0},"#'T2-B(PP4)'!$D$20"]
["pp4_bl3_1_5_units_out",{"$f":"'T2-B(PP4)'!$G$20","v":0},"#'T2-B(PP4)'!$G$20"]
["pp4_bl3_1_6_name",{"$f":"'T2-B(PP4)'!$B$21","v":0},"#'T2-B(PP4)'!$B$21"]
["pp4_bl3_1_6_rate_in",{"$f":"'T2-B(PP4)'!$E$21","v":0},"#'T2-B(PP4)'!$E$21"]
["pp4_bl3_1_6_rate_out",{"$f":"'T2-B(PP4)'!$H$21","v":0},"#'T2-B(PP4)'!$H$21"]
["pp4_bl3_1_6_total",{"$f":"'T2-B(PP4)'!$J$21","v":0},"#'T2-B(PP4)'!$J$21"]
["pp4_bl3_1_6_total_in",{"$f":"'T2-B(PP4)'!$F$21","v":0},"#'T2-B(PP4)'!$F$21"]
["pp4_bl3_1_6_total_out",{"$f":"'T2-B(PP4)'!$I$21","v":0},"#'T2-B(PP4)'!$I$21"]
["pp4_bl3_1_6_unit",{"$f":"'T2-B(PP4)'!$C$21","v":0},"#'T2-B(PP4)'!$C$21"]
["pp4_bl3_1_6_unit_in",{"$f":"'T2-B(PP4)'!$D$21","v":0},"#'T2-B(PP4)'!$D$21"]
["pp4_bl3_1_6_units_out",{"$f":"'T2-B(PP4)'!$G$21","v":0},"#'T2-B(PP4)'!$G$21"]
["pp4_bl3_1_7_name",{"$f":"'T2-B(PP4)'!$B$22","v":0},"#'T2-B(PP4)'!$B$22"]
["pp4_bl3_1_7_rate_in",{"$f":"'T2-B(PP4)'!$E$22","v":0},"#'T2-B(PP4)'!$E$22"]
["pp4_bl3_1_7_rate_out",{"$f":"'T2-B(PP4)'!$H$22","v":0},"#'T2-B(PP4)'!$H$22"]
["pp4_bl3_1_7_total",{"$f":"'T2-B(PP4)'!$J$22","v":0},"#'T2-B(PP4)'!$J$22"]
["pp4_bl3_1_7_total_in",{"$f":"'T2-B(PP4)'!$F$22","v":0},"#'T2-B(PP4)'!$F$22"]
["pp4_bl3_1_7_total_out",{"$f":"'T2-B(PP4)'!$I$22","v":0},"#'T2-B(PP4)'!$I$22"]
["pp4_bl3_1_7_unit",{"$f":"'T2-B(PP4)'!$C$22","v":0},"#'T2-B(PP4)'!$C$22"]
["pp4_bl3_1_7_unit_in",{"$f":"'T2-B(PP4)'!$D$22","v":0},"#'T2-B(PP4)'!$D$22"]
["pp4_bl3_1_7_units_out",{"$f":"'T2-B(PP4)'!$G$22","v":0},"#'T2-B(PP4)'!$G$22"]
["pp4_bl3_1_8_name",{"$f":"'T2-B(PP4)'!$B$23","v":0},"#'T2-B(PP4)'!$B$23"]
["pp4_bl3_1_8_rate_in",{"$f":"'T2-B(PP4)'!$E$23","v":0},"#'T2-B(PP4)'!$E$23"]
["pp4_bl3_1_8_rate_out",{"$f":"'T2-B(PP4)'!$H$23","v":0},"#'T2-B(PP4)'!$H$23"]
["pp4_bl3_1_8_total",{"$f":"'T2-B(PP4)'!$J$23","v":0},"#'T2-B(PP4)'!$J$23"]
["pp4_bl3_1_8_total_in",{"$f":"'T2-B(PP4)'!$F$23","v":0},"#'T2-B(PP4)'!$F$23"]
["pp4_bl3_1_8_total_out",{"$f":"'T2-B(PP4)'!$I$23","v":0},"#'T2-B(PP4)'!$I$23"]
["pp4_bl3_1_8_unit",{"$f":"'T2-B(PP4)'!$C$23","v":0},"#'T2-B(PP4)'!$C$23"]
["pp4_bl3_1_8_unit_in",{"$f":"'T2-B(PP4)'!$D$23","v":0},"#'T2-B(PP4)'!$D$23"]
["pp4_bl3_1_8_units_out",{"$f":"'T2-B(PP4)'!$G$23","v":0},"#'T2-B(PP4)'!$G$23"]
["pp4_bl3_1_9_name",{"$f":"'T2-B(PP4)'!$B$24","v":0},"#'T2-B(PP4)'!$B$24"]
["pp4_bl3_1_9_rate_in",{"$f":"'T2-B(PP4)'!$E$24","v":0},"#'T2-B(PP4)'!$E$24"]
["pp4_bl3_1_9_rate_out",{"$f":"'T2-B(PP4)'!$H$24","v":0},"#'T2-B(PP4)'!$H$24"]
["pp4_bl3_1_9_total",{"$f":"'T2-B(PP4)'!$J$24","v":0},"#'T2-B(PP4)'!$J$24"]
["pp4_bl3_1_9_total_in",{"$f":"'T2-B(PP4)'!$F$24","v":0},"#'T2-B(PP4)'!$F$24"]
["pp4_bl3_1_9_total_out",{"$f":"'T2-B(PP4)'!$I$24","v":0},"#'T2-B(PP4)'!$I$24"]
["pp4_bl3_1_9_unit",{"$f":"'T2-B(PP4)'!$C$24","v":0},"#'T2-B(PP4)'!$C$24"]
["pp4_bl3_1_9_unit_in",{"$f":"'T2-B(PP4)'!$D$24","v":0},"#'T2-B(PP4)'!$D$24"]
["pp4_bl3_1_9_units_out",{"$f":"'T2-B(PP4)'!$G$24","v":0},"#'T2-B(PP4)'!$G$24"]
["pp4_bl3_1_total",{"$f":"'T2-B(PP4)'!$J$15","v":0},"#'T2-B(PP4)'!$J$15"]
["pp4_bl3_1_total_in",{"$f":"'T2-B(PP4)'!$F$15","v":0},"#'T2-B(PP4)'!$F$15"]
["pp4_bl3_1_total_out",{"$f":"'T2-B(PP4)'!$I$15","v":0},"#'T2-B(PP4)'!$I$15"]
["pp4_bl3_2_1_name",{"$f":"'T2-B(PP4)'!$B$27","v":0},"#'T2-B(PP4)'!$B$27"]
["pp4_bl3_2_1_rate_in",{"$f":"'T2-B(PP4)'!$E$27","v":0},"#'T2-B(PP4)'!$E$27"]
["pp4_bl3_2_1_rate_out",{"$f":"'T2-B(PP4)'!$H$27","v":0},"#'T2-B(PP4)'!$H$27"]
["pp4_bl3_2_1_total",{"$f":"'T2-B(PP4)'!$J$27","v":0},"#'T2-B(PP4)'!$J$27"]
["pp4_bl3_2_1_total_in",{"$f":"'T2-B(PP4)'!$F$27","v":0},"#'T2-B(PP4)'!$F$27"]
["pp4_bl3_2_1_total_out",{"$f":"'T2-B(PP4)'!$I$27","v":0},"#'T2-B(PP4)'!$I$27"]
["pp4_bl3_2_1_unit",{"$f":"'T2-B(PP4)'!$C$27","v":0},"#'T2-B(PP4)'!$C$27"]
["pp4_bl3_2_1_unit_in",{"$f":"'T2-B(PP4)'!$D$27","v":0},"#'T2-B(PP4)'!$D$27"]
["pp4_bl3_2_1_units_out",{"$f":"'T2-B(PP4)'!$G$27","v":0},"#'T2-B(PP4)'!$G$27"]
["pp4_bl3_2_10_name",{"$f":"'T2-B(PP4)'!$B$36","v":0},"#'T2-B(PP4)'!$B$36"]
["pp4_bl3_2_10_rate_in",{"$f":"'T2-B(PP4)'!$E$36","v":0},"#'T2-B(PP4)'!$E$36"]
["pp4_bl3_2_10_rate_out",{"$f":"'T2-B(PP4)'!$H$36","v":0},"#'T2-B(PP4)'!$H$36"]
["pp4_bl3_2_10_total",{"$f":"'T2-B(PP4)'!$J$36","v":0},"#'T2-B(PP4)'!$J$36"]
["pp4_bl3_2_10_total_in",{"$f":"'T2-B(PP4)'!$F$36","v":0},"#'T2-B(PP4)'!$F$36"]
["pp4_bl3_2_10_total_out",{"$f":"'T2-B(PP4)'!$I$36","v":0},"#'T2-B(PP4)'!$I$36"]
["pp4_bl3_2_10_unit",{"$f":"'T2-B(PP4)'!$C$36","v":0},"#'T2-B(PP4)'!$C$36"]
["pp4_bl3_2_10_unit_in",{"$f":"'T2-B(PP4)'!$D$36","v":0},"#'T2-B(PP4)'!$D$36"]
["pp4_bl3_2_10_units_out",{"$f":"'T2-B(PP4)'!$G$36","v":0},"#'T2-B(PP4)'!$G$36"]
["pp4_bl3_2_2_name",{"$f":"'T2-B(PP4)'!$B$28","v":0},"#'T2-B(PP4)'!$B$28"]
["pp4_bl3_2_2_rate_in",{"$f":"'T2-B(PP4)'!$E$28","v":0},"#'T2-B(PP4)'!$E$28"]
["pp4_bl3_2_2_rate_out",{"$f":"'T2-B(PP4)'!$H$28","v":0},"#'T2-B(PP4)'!$H$28"]
["pp4_bl3_2_2_total",{"$f":"'T2-B(PP4)'!$J$28","v":0},"#'T2-B(PP4)'!$J$28"]
["pp4_bl3_2_2_total_in",{"$f":"'T2-B(PP4)'!$F$28","v":0},"#'T2-B(PP4)'!$F$28"]
["pp4_bl3_2_2_total_out",{"$f":"'T2-B(PP4)'!$I$28","v":0},"#'T2-B(PP4)'!$I$28"]
["pp4_bl3_2_2_unit",{"$f":"'T2-B(PP4)'!$C$28","v":0},"#'T2-B(PP4)'!$C$28"]
["pp4_bl3_2_2_unit_in",{"$f":"'T2-B(PP4)'!$D$28","v":0},"#'T2-B(PP4)'!$D$28"]
["pp4_bl3_2_2_units_out",{"$f":"'T2-B(PP4)'!$G$28","v":0},"#'T2-B(PP4)'!$G$28"]
["pp4_bl3_2_3_name",{"$f":"'T2-B(PP4)'!$B$29","v":0},"#'T2-B(PP4)'!$B$29"]
["pp4_bl3_2_3_rate_in",{"$f":"'T2-B(PP4)'!$E$29","v":0},"#'T2-B(PP4)'!$E$29"]
["pp4_bl3_2_3_rate_out",{"$f":"'T2-B(PP4)'!$H$29","v":0},"#'T2-B(PP4)'!$H$29"]
["pp4_bl3_2_3_total",{"$f":"'T2-B(PP4)'!$J$29","v":0},"#'T2-B(PP4)'!$J$29"]
["pp4_bl3_2_3_total_in",{"$f":"'T2-B(PP4)'!$F$29","v":0},"#'T2-B(PP4)'!$F$29"]
["pp4_bl3_2_3_total_out",{"$f":"'T2-B(PP4)'!$I$29","v":0},"#'T2-B(PP4)'!$I$29"]
["pp4_bl3_2_3_unit",{"$f":"'T2-B(PP4)'!$C$29","v":0},"#'T2-B(PP4)'!$C$29"]
["pp4_bl3_2_3_unit_in",{"$f":"'T2-B(PP4)'!$D$29","v":0},"#'T2-B(PP4)'!$D$29"]
["pp4_bl3_2_3_units_out",{"$f":"'T2-B(PP4)'!$G$29","v":0},"#'T2-B(PP4)'!$G$29"]
["pp4_bl3_2_4_name",{"$f":"'T2-B(PP4)'!$B$30","v":0},"#'T2-B(PP4)'!$B$30"]
["pp4_bl3_2_4_rate_in",{"$f":"'T2-B(PP4)'!$E$30","v":0},"#'T2-B(PP4)'!$E$30"]
["pp4_bl3_2_4_rate_out",{"$f":"'T2-B(PP4)'!$H$30","v":0},"#'T2-B(PP4)'!$H$30"]
["pp4_bl3_2_4_total",{"$f":"'T2-B(PP4)'!$J$30","v":0},"#'T2-B(PP4)'!$J$30"]
["pp4_bl3_2_4_total_in",{"$f":"'T2-B(PP4)'!$F$30","v":0},"#'T2-B(PP4)'!$F$30"]
["pp4_bl3_2_4_total_out",{"$f":"'T2-B(PP4)'!$I$30","v":0},"#'T2-B(PP4)'!$I$30"]
["pp4_bl3_2_4_unit",{"$f":"'T2-B(PP4)'!$C$30","v":0},"#'T2-B(PP4)'!$C$30"]
["pp4_bl3_2_4_unit_in",{"$f":"'T2-B(PP4)'!$D$30","v":0},"#'T2-B(PP4)'!$D$30"]
["pp4_bl3_2_4_units_out",{"$f":"'T2-B(PP4)'!$G$30","v":0},"#'T2-B(PP4)'!$G$30"]
["pp4_bl3_2_5_name",{"$f":"'T2-B(PP4)'!$B$31","v":0},"#'T2-B(PP4)'!$B$31"]
["pp4_bl3_2_5_rate_in",{"$f":"'T2-B(PP4)'!$E$31","v":0},"#'T2-B(PP4)'!$E$31"]
["pp4_bl3_2_5_rate_out",{"$f":"'T2-B(PP4)'!$H$31","v":0},"#'T2-B(PP4)'!$H$31"]
["pp4_bl3_2_5_total",{"$f":"'T2-B(PP4)'!$J$31","v":0},"#'T2-B(PP4)'!$J$31"]
["pp4_bl3_2_5_total_in",{"$f":"'T2-B(PP4)'!$F$31","v":0},"#'T2-B(PP4)'!$F$31"]
["pp4_bl3_2_5_total_out",{"$f":"'T2-B(PP4)'!$I$31","v":0},"#'T2-B(PP4)'!$I$31"]
["pp4_bl3_2_5_unit",{"$f":"'T2-B(PP4)'!$C$31","v":0},"#'T2-B(PP4)'!$C$31"]
["pp4_bl3_2_5_unit_in",{"$f":"'T2-B(PP4)'!$D$31","v":0},"#'T2-B(PP4)'!$D$31"]
["pp4_bl3_2_5_units_out",{"$f":"'T2-B(PP4)'!$G$31","v":0},"#'T2-B(PP4)'!$G$31"]
["pp4_bl3_2_6_name",{"$f":"'T2-B(PP4)'!$B$32","v":0},"#'T2-B(PP4)'!$B$32"]
["pp4_bl3_2_6_rate_in",{"$f":"'T2-B(PP4)'!$E$32","v":0},"#'T2-B(PP4)'!$E$32"]
["pp4_bl3_2_6_rate_out",{"$f":"'T2-B(PP4)'!$H$32","v":0},"#'T2-B(PP4)'!$H$32"]
["pp4_bl3_2_6_total",{"$f":"'T2-B(PP4)'!$J$32","v":0},"#'T2-B(PP4)'!$J$32"]
["pp4_bl3_2_6_total_in",{"$f":"'T2-B(PP4)'!$F$32","v":0},"#'T2-B(PP4)'!$F$32"]
["pp4_bl3_2_6_total_out",{"$f":"'T2-B(PP4)'!$I$32","v":0},"#'T2-B(PP4)'!$I$32"]
["pp4_bl3_2_6_unit",{"$f":"'T2-B(PP4)'!$C$32","v":0},"#'T2-B(PP4)'!$C$32"]
["pp4_bl3_2_6_unit_in",{"$f":"'T2-B(PP4)'!$D$32","v":0},"#'T2-B(PP4)'!$D$32"]
["pp4_bl3_2_6_units_out",{"$f":"'T2-B(PP4)'!$G$32","v":0},"#'T2-B(PP4)'!$G$32"]
["pp4_bl3_2_7_name",{"$f":"'T2-B(PP4)'!$B$33","v":0},"#'T2-B(PP4)'!$B$33"]
["pp4_bl3_2_7_rate_in",{"$f":"'T2-B(PP4)'!$E$33","v":0},"#'T2-B(PP4)'!$E$33"]
["pp4_bl3_2_7_rate_out",{"$f":"'T2-B(PP4)'!$H$33","v":0},"#'T2-B(PP4)'!$H$33"]
["pp4_bl3_2_7_total",{"$f":"'T2-B(PP4)'!$J$33","v":0},"#'T2-B(PP4)'!$J$33"]
["pp4_bl3_2_7_total_in",{"$f":"'T2-B(PP4)'!$F$33","v":0},"#'T2-B(PP4)'!$F$33"]
["pp4_bl3_2_7_total_out",{"$f":"'T2-B(PP4)'!$I$33","v":0},"#'T2-B(PP4)'!$I$33"]
["pp4_bl3_2_7_unit",{"$f":"'T2-B(PP4)'!$C$33","v":0},"#'T2-B(PP4)'!$C$33"]
["pp4_bl3_2_7_unit_in",{"$f":"'T2-B(PP4)'!$D$33","v":0},"#'T2-B(PP4)'!$D$33"]
["pp4_bl3_2_7_units_out",{"$f":"'T2-B(PP4)'!$G$33","v":0},"#'T2-B(PP4)'!$G$33"]
["pp4_bl3_2_8_name",{"$f":"'T2-B(PP4)'!$B$34","v":0},"#'T2-B(PP4)'!$B$34"]
["pp4_bl3_2_8_rate_in",{"$f":"'T2-B(PP4)'!$E$34","v":0},"#'T2-B(PP4)'!$E$34"]
["pp4_bl3_2_8_rate_out",{"$f":"'T2-B(PP4)'!$H$34","v":0},"#'T2-B(PP4)'!$H$34"]
["pp4_bl3_2_8_total",{"$f":"'T2-B(PP4)'!$J$34","v":0},"#'T2-B(PP4)'!$J$34"]
["pp4_bl3_2_8_total_in",{"$f":"'T2-B(PP4)'!$F$34","v":0},"#'T2-B(PP4)'!$F$34"]
["pp4_bl3_2_8_total_out",{"$f":"'T2-B(PP4)'!$I$34","v":0},"#'T2-B(PP4)'!$I$34"]
["pp4_bl3_2_8_unit",{"$f":"'T2-B(PP4)'!$C$34","v":0},"#'T2-B(PP4)'!$C$34"]
["pp4_bl3_2_8_unit_in",{"$f":"'T2-B(PP4)'!$D$34","v":0},"#'T2-B(PP4)'!$D$34"]
["pp4_bl3_2_8_units_out",{"$f":"'T2-B(PP4)'!$G$34","v":0},"#'T2-B(PP4)'!$G$34"]
["pp4_bl3_2_9_name",{"$f":"'T2-B(PP4)'!$B$35","v":0},"#'T2-B(PP4)'!$B$35"]
["pp4_bl3_2_9_rate_in",{"$f":"'T2-B(PP4)'!$E$35","v":0},"#'T2-B(PP4)'!$E$35"]
["pp4_bl3_2_9_rate_out",{"$f":"'T2-B(PP4)'!$H$35","v":0},"#'T2-B(PP4)'!$H$35"]
["pp4_bl3_2_9_total",{"$f":"'T2-B(PP4)'!$J$35","v":0},"#'T2-B(PP4)'!$J$35"]
["pp4_bl3_2_9_total_in",{"$f":"'T2-B(PP4)'!$F$35","v":0},"#'T2-B(PP4)'!$F$35"]
["pp4_bl3_2_9_total_out",{"$f":"'T2-B(PP4)'!$I$35","v":0},"#'T2-B(PP4)'!$I$35"]
["pp4_bl3_2_9_unit",{"$f":"'T2-B(PP4)'!$C$35","v":0},"#'T2-B(PP4)'!$C$35"]
["pp4_bl3_2_9_unit_in",{"$f":"'T2-B(PP4)'!$D$35","v":0},"#'T2-B(PP4)'!$D$35"]
["pp4_bl3_2_9_units_out",{"$f":"'T2-B(PP4)'!$G$35","v":0},"#'T2-B(PP4)'!$G$35"]
["pp4_bl3_2_total",{"$f":"'T2-B(PP4)'!$J$26","v":0},"#'T2-B(PP4)'!$J$26"]
["pp4_bl3_2_total_in",{"$f":"'T2-B(PP4)'!$F$26","v":0},"#'T2-B(PP4)'!$F$26"]
["pp4_bl3_2_total_out",{"$f":"'T2-B(PP4)'!$I$26","v":0},"#'T2-B(PP4)'!$I$26"]
["pp4_bl3_3_1_name",{"$f":"'T2-B(PP4)'!$B$38","v":0},"#'T2-B(PP4)'!$B$38"]
["pp4_bl3_3_1_rate_in",{"$f":"'T2-B(PP4)'!$E$38","v":0},"#'T2-B(PP4)'!$E$38"]
["pp4_bl3_3_1_rate_out",{"$f":"'T2-B(PP4)'!$H$38","v":0},"#'T2-B(PP4)'!$H$38"]
["pp4_bl3_3_1_total",{"$f":"'T2-B(PP4)'!$J$38","v":0},"#'T2-B(PP4)'!$J$38"]
["pp4_bl3_3_1_total_in",{"$f":"'T2-B(PP4)'!$F$38","v":0},"#'T2-B(PP4)'!$F$38"]
["pp4_bl3_3_1_total_out",{"$f":"'T2-B(PP4)'!$I$38","v":0},"#'T2-B(PP4)'!$I$38"]
["pp4_bl3_3_1_unit",{"$f":"'T2-B(PP4)'!$C$38","v":0},"#'T2-B(PP4)'!$C$38"]
["pp4_bl3_3_1_unit_in",{"$f":"'T2-B(PP4)'!$D$38","v":0},"#'T2-B(PP4)'!$D$38"]
["pp4_bl3_3_1_units_out",{"$f":"'T2-B(PP4)'!$G$38","v":0},"#'T2-B(PP4)'!$G$38"]
["pp4_bl3_3_10_name",{"$f":"'T2-B(PP4)'!$B$47","v":0},"#'T2-B(PP4)'!$B$47"]
["pp4_bl3_3_10_rate_in",{"$f":"'T2-B(PP4)'!$E$47","v":0},"#'T2-B(PP4)'!$E$47"]
["pp4_bl3_3_10_rate_out",{"$f":"'T2-B(PP4)'!$H$47","v":0},"#'T2-B(PP4)'!$H$47"]
["pp4_bl3_3_10_total",{"$f":"'T2-B(PP4)'!$J$47","v":0},"#'T2-B(PP4)'!$J$47"]
["pp4_bl3_3_10_total_in",{"$f":"'T2-B(PP4)'!$F$47","v":0},"#'T2-B(PP4)'!$F$47"]
["pp4_bl3_3_10_total_out",{"$f":"'T2-B(PP4)'!$I$47","v":0},"#'T2-B(PP4)'!$I$47"]
["pp4_bl3_3_10_unit",{"$f":"'T2-B(PP4)'!$C$47","v":0},"#'T2-B(PP4)'!$C$47"]
["pp4_bl3_3_10_unit_in",{"$f":"'T2-B(PP4)'!$D$47","v":0},"#'T2-B(PP4)'!$D$47"]
["pp4_bl3_3_10_units_out",{"$f":"'T2-B(PP4)'!$G$47","v":0},"#'T2-B(PP4)'!$G$47"]
["pp4_bl3_3_2_name",{"$f":"'T2-B(PP4)'!$B$39","v":0},"#'T2-B(PP4)'!$B$39"]
["pp4_bl3_3_2_rate_in",{"$f":"'T2-B(PP4)'!$E$39","v":0},"#'T2-B(PP4)'!$E$39"]
["pp4_bl3_3_2_rate_out",{"$f":"'T2-B(PP4)'!$H$39","v":0},"#'T2-B(PP4)'!$H$39"]
["pp4_bl3_3_2_total",{"$f":"'T2-B(PP4)'!$J$39","v":0},"#'T2-B(PP4)'!$J$39"]
["pp4_bl3_3_2_total_in",{"$f":"'T2-B(PP4)'!$F$39","v":0},"#'T2-B(PP4)'!$F$39"]
["pp4_bl3_3_2_total_out",{"$f":"'T2-B(PP4)'!$I$39","v":0},"#'T2-B(PP4)'!$I$39"]
["pp4_bl3_3_2_unit",{"$f":"'T2-B(PP4)'!$C$39","v":0},"#'T2-B(PP4)'!$C$39"]
["pp4_bl3_3_2_unit_in",{"$f":"'T2-B(PP4)'!$D$39","v":0},"#'T2-B(PP4)'!$D$39"]
["pp4_bl3_3_2_units_out",{"$f":"'T2-B(PP4)'!$G$39","v":0},"#'T2-B(PP4)'!$G$39"]
["pp4_bl3_3_3_name",{"$f":"'T2-B(PP4)'!$B$40","v":0},"#'T2-B(PP4)'!$B$40"]
["pp4_bl3_3_3_rate_in",{"$f":"'T2-B(PP4)'!$E$40","v":0},"#'T2-B(PP4)'!$E$40"]
["pp4_bl3_3_3_rate_out",{"$f":"'T2-B(PP4)'!$H$40","v":0},"#'T2-B(PP4)'!$H$40"]
["pp4_bl3_3_3_total",{"$f":"'T2-B(PP4)'!$J$40","v":0},"#'T2-B(PP4)'!$J$40"]
["pp4_bl3_3_3_total_in",{"$f":"'T2-B(PP4)'!$F$40","v":0},"#'T2-B(PP4)'!$F$40"]
["pp4_bl3_3_3_total_out",{"$f":"'T2-B(PP4)'!$I$40","v":0},"#'T2-B(PP4)'!$I$40"]
["pp4_bl3_3_3_unit",{"$f":"'T2-B(PP4)'!$C$40","v":0},"#'T2-B(PP4)'!$C$40"]
["pp4_bl3_3_3_unit_in",{"$f":"'T2-B(PP4)'!$D$40","v":0},"#'T2-B(PP4)'!$D$40"]
["pp4_bl3_3_3_units_out",{"$f":"'T2-B(PP4)'!$G$40","v":0},"#'T2-B(PP4)'!$G$40"]
["pp4_bl3_3_4_name",{"$f":"'T2-B(PP4)'!$B$41","v":0},"#'T2-B(PP4)'!$B$41"]
["pp4_bl3_3_4_rate_in",{"$f":"'T2-B(PP4)'!$E$41","v":0},"#'T2-B(PP4)'!$E$41"]
["pp4_bl3_3_4_rate_out",{"$f":"'T2-B(PP4)'!$H$41","v":0},"#'T2-B(PP4)'!$H$41"]
["pp4_bl3_3_4_total",{"$f":"'T2-B(PP4)'!$J$41","v":0},"#'T2-B(PP4)'!$J$41"]
["pp4_bl3_3_4_total_in",{"$f":"'T2-B(PP4)'!$F$41","v":0},"#'T2-B(PP4)'!$F$41"]
["pp4_bl3_3_4_total_out",{"$f":"'T2-B(PP4)'!$I$41","v":0},"#'T2-B(PP4)'!$I$41"]
["pp4_bl3_3_4_unit",{"$f":"'T2-B(PP4)'!$C$41","v":0},"#'T2-B(PP4)'!$C$41"]
["pp4_bl3_3_4_unit_in",{"$f":"'T2-B(PP4)'!$D$41","v":0},"#'T2-B(PP4)'!$D$41"]
["pp4_bl3_3_4_units_out",{"$f":"'T2-B(PP4)'!$G$41","v":0},"#'T2-B(PP4)'!$G$41"]
["pp4_bl3_3_5_name",{"$f":"'T2-B(PP4)'!$B$42","v":0},"#'T2-B(PP4)'!$B$42"]
["pp4_bl3_3_5_rate_in",{"$f":"'T2-B(PP4)'!$E$42","v":0},"#'T2-B(PP4)'!$E$42"]
["pp4_bl3_3_5_rate_out",{"$f":"'T2-B(PP4)'!$H$42","v":0},"#'T2-B(PP4)'!$H$42"]
["pp4_bl3_3_5_total",{"$f":"'T2-B(PP4)'!$J$42","v":0},"#'T2-B(PP4)'!$J$42"]
["pp4_bl3_3_5_total_in",{"$f":"'T2-B(PP4)'!$F$42","v":0},"#'T2-B(PP4)'!$F$42"]
["pp4_bl3_3_5_total_out",{"$f":"'T2-B(PP4)'!$I$42","v":0},"#'T2-B(PP4)'!$I$42"]
["pp4_bl3_3_5_unit",{"$f":"'T2-B(PP4)'!$C$42","v":0},"#'T2-B(PP4)'!$C$42"]
["pp4_bl3_3_5_unit_in",{"$f":"'T2-B(PP4)'!$D$42","v":0},"#'T2-B(PP4)'!$D$42"]
["pp4_bl3_3_5_units_out",{"$f":"'T2-B(PP4)'!$G$42","v":0},"#'T2-B(PP4)'!$G$42"]
["pp4_bl3_3_6_name",{"$f":"'T2-B(PP4)'!$B$43","v":0},"#'T2-B(PP4)'!$B$43"]
["pp4_bl3_3_6_rate_in",{"$f":"'T2-B(PP4)'!$E$43","v":0},"#'T2-B(PP4)'!$E$43"]
["pp4_bl3_3_6_rate_out",{"$f":"'T2-B(PP4)'!$H$43","v":0},"#'T2-B(PP4)'!$H$43"]
["pp4_bl3_3_6_total",{"$f":"'T2-B(PP4)'!$J$43","v":0},"#'T2-B(PP4)'!$J$43"]
["pp4_bl3_3_6_total_in",{"$f":"'T2-B(PP4)'!$F$43","v":0},"#'T2-B(PP4)'!$F$43"]
["pp4_bl3_3_6_total_out",{"$f":"'T2-B(PP4)'!$I$43","v":0},"#'T2-B(PP4)'!$I$43"]
["pp4_bl3_3_6_unit",{"$f":"'T2-B(PP4)'!$C$43","v":0},"#'T2-B(PP4)'!$C$43"]
["pp4_bl3_3_6_unit_in",{"$f":"'T2-B(PP4)'!$D$43","v":0},"#'T2-B(PP4)'!$D$43"]
["pp4_bl3_3_6_units_out",{"$f":"'T2-B(PP4)'!$G$43","v":0},"#'T2-B(PP4)'!$G$43"]
["pp4_bl3_3_7_name",{"$f":"'T2-B(PP4)'!$B$44","v":0},"#'T2-B(PP4)'!$B$44"]
["pp4_bl3_3_7_rate_in",{"$f":"'T2-B(PP4)'!$E$44","v":0},"#'T2-B(PP4)'!$E$44"]
["pp4_bl3_3_7_rate_out",{"$f":"'T2-B(PP4)'!$H$44","v":0},"#'T2-B(PP4)'!$H$44"]
["pp4_bl3_3_7_total",{"$f":"'T2-B(PP4)'!$J$44","v":0},"#'T2-B(PP4)'!$J$44"]
["pp4_bl3_3_7_total_in",{"$f":"'T2-B(PP4)'!$F$44","v":0},"#'T2-B(PP4)'!$F$44"]
["pp4_bl3_3_7_total_out",{"$f":"'T2-B(PP4)'!$I$44","v":0},"#'T2-B(PP4)'!$I$44"]
["pp4_bl3_3_7_unit",{"$f":"'T2-B(PP4)'!$C$44","v":0},"#'T2-B(PP4)'!$C$44"]
["pp4_bl3_3_7_unit_in",{"$f":"'T2-B(PP4)'!$D$44","v":0},"#'T2-B(PP4)'!$D$44"]
["pp4_bl3_3_7_units_out",{"$f":"'T2-B(PP4)'!$G$44","v":0},"#'T2-B(PP4)'!$G$44"]
["pp4_bl3_3_8_name",{"$f":"'T2-B(PP4)'!$B$45","v":0},"#'T2-B(PP4)'!$B$45"]
["pp4_bl3_3_8_rate_in",{"$f":"'T2-B(PP4)'!$E$45","v":0},"#'T2-B(PP4)'!$E$45"]
["pp4_bl3_3_8_rate_out",{"$f":"'T2-B(PP4)'!$H$45","v":0},"#'T2-B(PP4)'!$H$45"]
["pp4_bl3_3_8_total",{"$f":"'T2-B(PP4)'!$J$45","v":0},"#'T2-B(PP4)'!$J$45"]
["pp4_bl3_3_8_total_in",{"$f":"'T2-B(PP4)'!$F$45","v":0},"#'T2-B(PP4)'!$F$45"]
["pp4_bl3_3_8_total_out",{"$f":"'T2-B(PP4)'!$I$45","v":0},"#'T2-B(PP4)'!$I$45"]
["pp4_bl3_3_8_unit",{"$f":"'T2-B(PP4)'!$C$45","v":0},"#'T2-B(PP4)'!$C$45"]
["pp4_bl3_3_8_unit_in",{"$f":"'T2-B(PP4)'!$D$45","v":0},"#'T2-B(PP4)'!$D$45"]
["pp4_bl3_3_8_units_out",{"$f":"'T2-B(PP4)'!$G$45","v":0},"#'T2-B(PP4)'!$G$45"]
["pp4_bl3_3_9_name",{"$f":"'T2-B(PP4)'!$B$46","v":0},"#'T2-B(PP4)'!$B$46"]
["pp4_bl3_3_9_rate_in",{"$f":"'T2-B(PP4)'!$E$46","v":0},"#'T2-B(PP4)'!$E$46"]
["pp4_bl3_3_9_rate_out",{"$f":"'T2-B(PP4)'!$H$46","v":0},"#'T2-B(PP4)'!$H$46"]
["pp4_bl3_3_9_total",{"$f":"'T2-B(PP4)'!$J$46","v":0},"#'T2-B(PP4)'!$J$46"]
["pp4_bl3_3_9_total_in",{"$f":"'T2-B(PP4)'!$F$46","v":0},"#'T2-B(PP4)'!$F$46"]
["pp4_bl3_3_9_total_out",{"$f":"'T2-B(PP4)'!$I$46","v":0},"#'T2-B(PP4)'!$I$46"]
["pp4_bl3_3_9_unit",{"$f":"'T2-B(PP4)'!$C$46","v":0},"#'T2-B(PP4)'!$C$46"]
["pp4_bl3_3_9_unit_in",{"$f":"'T2-B(PP4)'!$D$46","v":0},"#'T2-B(PP4)'!$D$46"]
["pp4_bl3_3_9_units_out",{"$f":"'T2-B(PP4)'!$G$46","v":0},"#'T2-B(PP4)'!$G$46"]
["pp4_bl3_3_total",{"$f":"'T2-B(PP4)'!$J$37","v":0},"#'T2-B(PP4)'!$J$37"]
["pp4_bl3_3_total_in",{"$f":"'T2-B(PP4)'!$F$37","v":0},"#'T2-B(PP4)'!$F$37"]
["pp4_bl3_3_total_out",{"$f":"'T2-B(PP4)'!$I$37","v":0},"#'T2-B(PP4)'!$I$37"]
["pp4_bl3_total",{"$f":"'T2-B(PP4)'!$J$48","v":0},"#'T2-B(PP4)'!$J$48"]
["pp4_bl3_total_in",{"$f":"'T2-B(PP4)'!$F$48","v":0},"#'T2-B(PP4)'!$F$48"]
["pp4_bl3_total_out",{"$f":"'T2-B(PP4)'!$I$48","v":0},"#'T2-B(PP4)'!$I$48"]
["pp4_bl4_1_1_name",{"$f":"'T2-B(PP4)'!$B$53","v":0},"#'T2-B(PP4)'!$B$53"]
["pp4_bl4_1_1_rate_in",{"$f":"'T2-B(PP4)'!$E$53","v":0},"#'T2-B(PP4)'!$E$53"]
["pp4_bl4_1_1_rate_out",{"$f":"'T2-B(PP4)'!$H$53","v":0},"#'T2-B(PP4)'!$H$53"]
["pp4_bl4_1_1_total",{"$f":"'T2-B(PP4)'!$J$53","v":0},"#'T2-B(PP4)'!$J$53"]
["pp4_bl4_1_1_total_in",{"$f":"'T2-B(PP4)'!$F$53","v":0},"#'T2-B(PP4)'!$F$53"]
["pp4_bl4_1_1_total_out",{"$f":"'T2-B(PP4)'!$I$53","v":0},"#'T2-B(PP4)'!$I$53"]
["pp4_bl4_1_1_unit",{"$f":"'T2-B(PP4)'!$C$53","v":0},"#'T2-B(PP4)'!$C$53"]
["pp4_bl4_1_1_unit_in",{"$f":"'T2-B(PP4)'!$D$53","v":0},"#'T2-B(PP4)'!$D$53"]
["pp4_bl4_1_1_units_out",{"$f":"'T2-B(PP4)'!$G$53","v":0},"#'T2-B(PP4)'!$G$53"]
["pp4_bl4_1_10_name",{"$f":"'T2-B(PP4)'!$B$62","v":0},"#'T2-B(PP4)'!$B$62"]
["pp4_bl4_1_10_rate_in",{"$f":"'T2-B(PP4)'!$E$62","v":0},"#'T2-B(PP4)'!$E$62"]
["pp4_bl4_1_10_rate_out",{"$f":"'T2-B(PP4)'!$H$62","v":0},"#'T2-B(PP4)'!$H$62"]
["pp4_bl4_1_10_total",{"$f":"'T2-B(PP4)'!$J$62","v":0},"#'T2-B(PP4)'!$J$62"]
["pp4_bl4_1_10_total_in",{"$f":"'T2-B(PP4)'!$F$62","v":0},"#'T2-B(PP4)'!$F$62"]
["pp4_bl4_1_10_total_out",{"$f":"'T2-B(PP4)'!$I$62","v":0},"#'T2-B(PP4)'!$I$62"]
["pp4_bl4_1_10_unit",{"$f":"'T2-B(PP4)'!$C$62","v":0},"#'T2-B(PP4)'!$C$62"]
["pp4_bl4_1_10_unit_in",{"$f":"'T2-B(PP4)'!$D$62","v":0},"#'T2-B(PP4)'!$D$62"]
["pp4_bl4_1_10_units_out",{"$f":"'T2-B(PP4)'!$G$62","v":0},"#'T2-B(PP4)'!$G$62"]
["pp4_bl4_1_2_name",{"$f":"'T2-B(PP4)'!$B$54","v":0},"#'T2-B(PP4)'!$B$54"]
["pp4_bl4_1_2_rate_in",{"$f":"'T2-B(PP4)'!$E$54","v":0},"#'T2-B(PP4)'!$E$54"]
["pp4_bl4_1_2_rate_out",{"$f":"'T2-B(PP4)'!$H$54","v":0},"#'T2-B(PP4)'!$H$54"]
["pp4_bl4_1_2_total",{"$f":"'T2-B(PP4)'!$J$54","v":0},"#'T2-B(PP4)'!$J$54"]
["pp4_bl4_1_2_total_in",{"$f":"'T2-B(PP4)'!$F$54","v":0},"#'T2-B(PP4)'!$F$54"]
["pp4_bl4_1_2_total_out",{"$f":"'T2-B(PP4)'!$I$54","v":0},"#'T2-B(PP4)'!$I$54"]
["pp4_bl4_1_2_unit",{"$f":"'T2-B(PP4)'!$C$54","v":0},"#'T2-B(PP4)'!$C$54"]
["pp4_bl4_1_2_unit_in",{"$f":"'T2-B(PP4)'!$D$54","v":0},"#'T2-B(PP4)'!$D$54"]
["pp4_bl4_1_2_units_out",{"$f":"'T2-B(PP4)'!$G$54","v":0},"#'T2-B(PP4)'!$G$54"]
["pp4_bl4_1_3_name",{"$f":"'T2-B(PP4)'!$B$55","v":0},"#'T2-B(PP4)'!$B$55"]
["pp4_bl4_1_3_rate_in",{"$f":"'T2-B(PP4)'!$E$55","v":0},"#'T2-B(PP4)'!$E$55"]
["pp4_bl4_1_3_rate_out",{"$f":"'T2-B(PP4)'!$H$55","v":0},"#'T2-B(PP4)'!$H$55"]
["pp4_bl4_1_3_total",{"$f":"'T2-B(PP4)'!$J$55","v":0},"#'T2-B(PP4)'!$J$55"]
["pp4_bl4_1_3_total_in",{"$f":"'T2-B(PP4)'!$F$55","v":0},"#'T2-B(PP4)'!$F$55"]
["pp4_bl4_1_3_total_out",{"$f":"'T2-B(PP4)'!$I$55","v":0},"#'T2-B(PP4)'!$I$55"]
["pp4_bl4_1_3_unit",{"$f":"'T2-B(PP4)'!$C$55","v":0},"#'T2-B(PP4)'!$C$55"]
["pp4_bl4_1_3_unit_in",{"$f":"'T2-B(PP4)'!$D$55","v":0},"#'T2-B(PP4)'!$D$55"]
["pp4_bl4_1_3_units_out",{"$f":"'T2-B(PP4)'!$G$55","v":0},"#'T2-B(PP4)'!$G$55"]
["pp4_bl4_1_4_name",{"$f":"'T2-B(PP4)'!$B$56","v":0},"#'T2-B(PP4)'!$B$56"]
["pp4_bl4_1_4_rate_in",{"$f":"'T2-B(PP4)'!$E$56","v":0},"#'T2-B(PP4)'!$E$56"]
["pp4_bl4_1_4_rate_out",{"$f":"'T2-B(PP4)'!$H$56","v":0},"#'T2-B(PP4)'!$H$56"]
["pp4_bl4_1_4_total",{"$f":"'T2-B(PP4)'!$J$56","v":0},"#'T2-B(PP4)'!$J$56"]
["pp4_bl4_1_4_total_in",{"$f":"'T2-B(PP4)'!$F$56","v":0},"#'T2-B(PP4)'!$F$56"]
["pp4_bl4_1_4_total_out",{"$f":"'T2-B(PP4)'!$I$56","v":0},"#'T2-B(PP4)'!$I$56"]
["pp4_bl4_1_4_unit",{"$f":"'T2-B(PP4)'!$C$56","v":0},"#'T2-B(PP4)'!$C$56"]
["pp4_bl4_1_4_unit_in",{"$f":"'T2-B(PP4)'!$D$56","v":0},"#'T2-B(PP4)'!$D$56"]
["pp4_bl4_1_4_units_out",{"$f":"'T2-B(PP4)'!$G$56","v":0},"#'T2-B(PP4)'!$G$56"]
["pp4_bl4_1_5_name",{"$f":"'T2-B(PP4)'!$B$57","v":0},"#'T2-B(PP4)'!$B$57"]
["pp4_bl4_1_5_rate_in",{"$f":"'T2-B(PP4)'!$E$57","v":0},"#'T2-B(PP4)'!$E$57"]
["pp4_bl4_1_5_rate_out",{"$f":"'T2-B(PP4)'!$H$57","v":0},"#'T2-B(PP4)'!$H$57"]
["pp4_bl4_1_5_total",{"$f":"'T2-B(PP4)'!$J$57","v":0},"#'T2-B(PP4)'!$J$57"]
["pp4_bl4_1_5_total_in",{"$f":"'T2-B(PP4)'!$F$57","v":0},"#'T2-B(PP4)'!$F$57"]
["pp4_bl4_1_5_total_out",{"$f":"'T2-B(PP4)'!$I$57","v":0},"#'T2-B(PP4)'!$I$57"]
["pp4_bl4_1_5_unit",{"$f":"'T2-B(PP4)'!$C$57","v":0},"#'T2-B(PP4)'!$C$57"]
["pp4_bl4_1_5_unit_in",{"$f":"'T2-B(PP4)'!$D$57","v":0},"#'T2-B(PP4)'!$D$57"]
["pp4_bl4_1_5_units_out",{"$f":"'T2-B(PP4)'!$G$57","v":0},"#'T2-B(PP4)'!$G$57"]
["pp4_bl4_1_6_name",{"$f":"'T2-B(PP4)'!$B$58","v":0},"#'T2-B(PP4)'!$B$58"]
["pp4_bl4_1_6_rate_in",{"$f":"'T2-B(PP4)'!$E$58","v":0},"#'T2-B(PP4)'!$E$58"]
["pp4_bl4_1_6_rate_out",{"$f":"'T2-B(PP4)'!$H$58","v":0},"#'T2-B(PP4)'!$H$58"]
["pp4_bl4_1_6_total",{"$f":"'T2-B(PP4)'!$J$58","v":0},"#'T2-B(PP4)'!$J$58"]
["pp4_bl4_1_6_total_in",{"$f":"'T2-B(PP4)'!$F$58","v":0},"#'T2-B(PP4)'!$F$58"]
["pp4_bl4_1_6_total_out",{"$f":"'T2-B(PP4)'!$I$58","v":0},"#'T2-B(PP4)'!$I$58"]
["pp4_bl4_1_6_unit",{"$f":"'T2-B(PP4)'!$C$58","v":0},"#'T2-B(PP4)'!$C$58"]
["pp4_bl4_1_6_unit_in",{"$f":"'T2-B(PP4)'!$D$58","v":0},"#'T2-B(PP4)'!$D$58"]
["pp4_bl4_1_6_units_out",{"$f":"'T2-B(PP4)'!$G$58","v":0},"#'T2-B(PP4)'!$G$58"]
["pp4_bl4_1_7_name",{"$f":"'T2-B(PP4)'!$B$59","v":0},"#'T2-B(PP4)'!$B$59"]
["pp4_bl4_1_7_rate_in",{"$f":"'T2-B(PP4)'!$E$59","v":0},"#'T2-B(PP4)'!$E$59"]
["pp4_bl4_1_7_rate_out",{"$f":"'T2-B(PP4)'!$H$59","v":0},"#'T2-B(PP4)'!$H$59"]
["pp4_bl4_1_7_total",{"$f":"'T2-B(PP4)'!$J$59","v":0},"#'T2-B(PP4)'!$J$59"]
["pp4_bl4_1_7_total_in",{"$f":"'T2-B(PP4)'!$F$59","v":0},"#'T2-B(PP4)'!$F$59"]
["pp4_bl4_1_7_total_out",{"$f":"'T2-B(PP4)'!$I$59","v":0},"#'T2-B(PP4)'!$I$59"]
["pp4_bl4_1_7_unit",{"$f":"'T2-B(PP4)'!$C$59","v":0},"#'T2-B(PP4)'!$C$59"]
["pp4_bl4_1_7_unit_in",{"$f":"'T2-B(PP4)'!$D$59","v":0},"#'T2-B(PP4)'!$D$59"]
["pp4_bl4_1_7_units_out",{"$f":"'T2-B(PP4)'!$G$59","v":0},"#'T2-B(PP4)'!$G$59"]
["pp4_bl4_1_8_name",{"$f":"'T2-B(PP4)'!$B$60","v":0},"#'T2-B(PP4)'!$B$60"]
["pp4_bl4_1_8_rate_in",{"$f":"'T2-B(PP4)'!$E$60","v":0},"#'T2-B(PP4)'!$E$60"]
["pp4_bl4_1_8_rate_out",{"$f":"'T2-B(PP4)'!$H$60","v":0},"#'T2-B(PP4)'!$H$60"]
["pp4_bl4_1_8_total",{"$f":"'T2-B(PP4)'!$J$60","v":0},"#'T2-B(PP4)'!$J$60"]
["pp4_bl4_1_8_total_in",{"$f":"'T2-B(PP4)'!$F$60","v":0},"#'T2-B(PP4)'!$F$60"]
["pp4_bl4_1_8_total_out",{"$f":"'T2-B(PP4)'!$I$60","v":0},"#'T2-B(PP4)'!$I$60"]
["pp4_bl4_1_8_unit",{"$f":"'T2-B(PP4)'!$C$60","v":0},"#'T2-B(PP4)'!$C$60"]
["pp4_bl4_1_8_unit_in",{"$f":"'T2-B(PP4)'!$D$60","v":0},"#'T2-B(PP4)'!$D$60"]
["pp4_bl4_1_8_units_out",{"$f":"'T2-B(PP4)'!$G$60","v":0},"#'T2-B(PP4)'!$G$60"]
["pp4_bl4_1_9_name",{"$f":"'T2-B(PP4)'!$B$61","v":0},"#'T2-B(PP4)'!$B$61"]
["pp4_bl4_1_9_rate_in",{"$f":"'T2-B(PP4)'!$E$61","v":0},"#'T2-B(PP4)'!$E$61"]
["pp4_bl4_1_9_rate_out",{"$f":"'T2-B(PP4)'!$H$61","v":0},"#'T2-B(PP4)'!$H$61"]
["pp4_bl4_1_9_total",{"$f":"'T2-B(PP4)'!$J$61","v":0},"#'T2-B(PP4)'!$J$61"]
["pp4_bl4_1_9_total_in",{"$f":"'T2-B(PP4)'!$F$61","v":0},"#'T2-B(PP4)'!$F$61"]
["pp4_bl4_1_9_total_out",{"$f":"'T2-B(PP4)'!$I$61","v":0},"#'T2-B(PP4)'!$I$61"]
["pp4_bl4_1_9_unit",{"$f":"'T2-B(PP4)'!$C$61","v":0},"#'T2-B(PP4)'!$C$61"]
["pp4_bl4_1_9_unit_in",{"$f":"'T2-B(PP4)'!$D$61","v":0},"#'T2-B(PP4)'!$D$61"]
["pp4_bl4_1_9_units_out",{"$f":"'T2-B(PP4)'!$G$61","v":0},"#'T2-B(PP4)'!$G$61"]
["pp4_bl4_1_total",{"$f":"'T2-B(PP4)'!$J$52","v":0},"#'T2-B(PP4)'!$J$52"]
["pp4_bl4_1_total_in",{"$f":"'T2-B(PP4)'!$F$52","v":0},"#'T2-B(PP4)'!$F$52"]
["pp4_bl4_1_total_out",{"$f":"'T2-B(PP4)'!$I$52","v":0},"#'T2-B(PP4)'!$I$52"]
["pp4_bl4_10_1_name",{"$f":"'T2-B(PP4)'!$B$152","v":0},"#'T2-B(PP4)'!$B$152"]
["pp4_bl4_10_1_rate_in",{"$f":"'T2-B(PP4)'!$E$152","v":0},"#'T2-B(PP4)'!$E$152"]
["pp4_bl4_10_1_rate_out",{"$f":"'T2-B(PP4)'!$H$152","v":0},"#'T2-B(PP4)'!$H$152"]
["pp4_bl4_10_1_total",{"$f":"'T2-B(PP4)'!$J$152","v":0},"#'T2-B(PP4)'!$J$152"]
["pp4_bl4_10_1_total_in",{"$f":"'T2-B(PP4)'!$F$152","v":0},"#'T2-B(PP4)'!$F$152"]
["pp4_bl4_10_1_total_out",{"$f":"'T2-B(PP4)'!$I$152","v":0},"#'T2-B(PP4)'!$I$152"]
["pp4_bl4_10_1_unit",{"$f":"'T2-B(PP4)'!$C$152","v":0},"#'T2-B(PP4)'!$C$152"]
["pp4_bl4_10_1_unit_in",{"$f":"'T2-B(PP4)'!$D$152","v":0},"#'T2-B(PP4)'!$D$152"]
["pp4_bl4_10_1_units_out",{"$f":"'T2-B(PP4)'!$G$152","v":0},"#'T2-B(PP4)'!$G$152"]
["pp4_bl4_10_10_name",{"$f":"'T2-B(PP4)'!$B$161","v":0},"#'T2-B(PP4)'!$B$161"]
["pp4_bl4_10_10_rate_in",{"$f":"'T2-B(PP4)'!$E$161","v":0},"#'T2-B(PP4)'!$E$161"]
["pp4_bl4_10_10_rate_out",{"$f":"'T2-B(PP4)'!$H$161","v":0},"#'T2-B(PP4)'!$H$161"]
["pp4_bl4_10_10_total",{"$f":"'T2-B(PP4)'!$J$161","v":0},"#'T2-B(PP4)'!$J$161"]
["pp4_bl4_10_10_total_in",{"$f":"'T2-B(PP4)'!$F$161","v":0},"#'T2-B(PP4)'!$F$161"]
["pp4_bl4_10_10_total_out",{"$f":"'T2-B(PP4)'!$I$161","v":0},"#'T2-B(PP4)'!$I$161"]
["pp4_bl4_10_10_unit",{"$f":"'T2-B(PP4)'!$C$161","v":0},"#'T2-B(PP4)'!$C$161"]
["pp4_bl4_10_10_unit_in",{"$f":"'T2-B(PP4)'!$D$161","v":0},"#'T2-B(PP4)'!$D$161"]
["pp4_bl4_10_10_units_out",{"$f":"'T2-B(PP4)'!$G$161","v":0},"#'T2-B(PP4)'!$G$161"]
["pp4_bl4_10_2_name",{"$f":"'T2-B(PP4)'!$B$153","v":0},"#'T2-B(PP4)'!$B$153"]
["pp4_bl4_10_2_rate_in",{"$f":"'T2-B(PP4)'!$E$153","v":0},"#'T2-B(PP4)'!$E$153"]
["pp4_bl4_10_2_rate_out",{"$f":"'T2-B(PP4)'!$H$153","v":0},"#'T2-B(PP4)'!$H$153"]
["pp4_bl4_10_2_total",{"$f":"'T2-B(PP4)'!$J$153","v":0},"#'T2-B(PP4)'!$J$153"]
["pp4_bl4_10_2_total_in",{"$f":"'T2-B(PP4)'!$F$153","v":0},"#'T2-B(PP4)'!$F$153"]
["pp4_bl4_10_2_total_out",{"$f":"'T2-B(PP4)'!$I$153","v":0},"#'T2-B(PP4)'!$I$153"]
["pp4_bl4_10_2_unit",{"$f":"'T2-B(PP4)'!$C$153","v":0},"#'T2-B(PP4)'!$C$153"]
["pp4_bl4_10_2_unit_in",{"$f":"'T2-B(PP4)'!$D$153","v":0},"#'T2-B(PP4)'!$D$153"]
["pp4_bl4_10_2_units_out",{"$f":"'T2-B(PP4)'!$G$153","v":0},"#'T2-B(PP4)'!$G$153"]
["pp4_bl4_10_3_name",{"$f":"'T2-B(PP4)'!$B$154","v":0},"#'T2-B(PP4)'!$B$154"]
["pp4_bl4_10_3_rate_in",{"$f":"'T2-B(PP4)'!$E$154","v":0},"#'T2-B(PP4)'!$E$154"]
["pp4_bl4_10_3_rate_out",{"$f":"'T2-B(PP4)'!$H$154","v":0},"#'T2-B(PP4)'!$H$154"]
["pp4_bl4_10_3_total",{"$f":"'T2-B(PP4)'!$J$154","v":0},"#'T2-B(PP4)'!$J$154"]
["pp4_bl4_10_3_total_in",{"$f":"'T2-B(PP4)'!$F$154","v":0},"#'T2-B(PP4)'!$F$154"]
["pp4_bl4_10_3_total_out",{"$f":"'T2-B(PP4)'!$I$154","v":0},"#'T2-B(PP4)'!$I$154"]
["pp4_bl4_10_3_unit",{"$f":"'T2-B(PP4)'!$C$154","v":0},"#'T2-B(PP4)'!$C$154"]
["pp4_bl4_10_3_unit_in",{"$f":"'T2-B(PP4)'!$D$154","v":0},"#'T2-B(PP4)'!$D$154"]
["pp4_bl4_10_3_units_out",{"$f":"'T2-B(PP4)'!$G$154","v":0},"#'T2-B(PP4)'!$G$154"]
["pp4_bl4_10_4_name",{"$f":"'T2-B(PP4)'!$B$155","v":0},"#'T2-B(PP4)'!$B$155"]
["pp4_bl4_10_4_rate_in",{"$f":"'T2-B(PP4)'!$E$155","v":0},"#'T2-B(PP4)'!$E$155"]
["pp4_bl4_10_4_rate_out",{"$f":"'T2-B(PP4)'!$H$155","v":0},"#'T2-B(PP4)'!$H$155"]
["pp4_bl4_10_4_total",{"$f":"'T2-B(PP4)'!$J$155","v":0},"#'T2-B(PP4)'!$J$155"]
["pp4_bl4_10_4_total_in",{"$f":"'T2-B(PP4)'!$F$155","v":0},"#'T2-B(PP4)'!$F$155"]
["pp4_bl4_10_4_total_out",{"$f":"'T2-B(PP4)'!$I$155","v":0},"#'T2-B(PP4)'!$I$155"]
["pp4_bl4_10_4_unit",{"$f":"'T2-B(PP4)'!$C$155","v":0},"#'T2-B(PP4)'!$C$155"]
["pp4_bl4_10_4_unit_in",{"$f":"'T2-B(PP4)'!$D$155","v":0},"#'T2-B(PP4)'!$D$155"]
["pp4_bl4_10_4_units_out",{"$f":"'T2-B(PP4)'!$G$155","v":0},"#'T2-B(PP4)'!$G$155"]
["pp4_bl4_10_5_name",{"$f":"'T2-B(PP4)'!$B$156","v":0},"#'T2-B(PP4)'!$B$156"]
["pp4_bl4_10_5_rate_in",{"$f":"'T2-B(PP4)'!$E$156","v":0},"#'T2-B(PP4)'!$E$156"]
["pp4_bl4_10_5_rate_out",{"$f":"'T2-B(PP4)'!$H$156","v":0},"#'T2-B(PP4)'!$H$156"]
["pp4_bl4_10_5_total",{"$f":"'T2-B(PP4)'!$J$156","v":0},"#'T2-B(PP4)'!$J$156"]
["pp4_bl4_10_5_total_in",{"$f":"'T2-B(PP4)'!$F$156","v":0},"#'T2-B(PP4)'!$F$156"]
["pp4_bl4_10_5_total_out",{"$f":"'T2-B(PP4)'!$I$156","v":0},"#'T2-B(PP4)'!$I$156"]
["pp4_bl4_10_5_unit",{"$f":"'T2-B(PP4)'!$C$156","v":0},"#'T2-B(PP4)'!$C$156"]
["pp4_bl4_10_5_unit_in",{"$f":"'T2-B(PP4)'!$D$156","v":0},"#'T2-B(PP4)'!$D$156"]
["pp4_bl4_10_5_units_out",{"$f":"'T2-B(PP4)'!$G$156","v":0},"#'T2-B(PP4)'!$G$156"]
["pp4_bl4_10_6_name",{"$f":"'T2-B(PP4)'!$B$157","v":0},"#'T2-B(PP4)'!$B$157"]
["pp4_bl4_10_6_rate_in",{"$f":"'T2-B(PP4)'!$E$157","v":0},"#'T2-B(PP4)'!$E$157"]
["pp4_bl4_10_6_rate_out",{"$f":"'T2-B(PP4)'!$H$157","v":0},"#'T2-B(PP4)'!$H$157"]
["pp4_bl4_10_6_total",{"$f":"'T2-B(PP4)'!$J$157","v":0},"#'T2-B(PP4)'!$J$157"]
["pp4_bl4_10_6_total_in",{"$f":"'T2-B(PP4)'!$F$157","v":0},"#'T2-B(PP4)'!$F$157"]
["pp4_bl4_10_6_total_out",{"$f":"'T2-B(PP4)'!$I$157","v":0},"#'T2-B(PP4)'!$I$157"]
["pp4_bl4_10_6_unit",{"$f":"'T2-B(PP4)'!$C$157","v":0},"#'T2-B(PP4)'!$C$157"]
["pp4_bl4_10_6_unit_in",{"$f":"'T2-B(PP4)'!$D$157","v":0},"#'T2-B(PP4)'!$D$157"]
["pp4_bl4_10_6_units_out",{"$f":"'T2-B(PP4)'!$G$157","v":0},"#'T2-B(PP4)'!$G$157"]
["pp4_bl4_10_7_name",{"$f":"'T2-B(PP4)'!$B$158","v":0},"#'T2-B(PP4)'!$B$158"]
["pp4_bl4_10_7_rate_in",{"$f":"'T2-B(PP4)'!$E$158","v":0},"#'T2-B(PP4)'!$E$158"]
["pp4_bl4_10_7_rate_out",{"$f":"'T2-B(PP4)'!$H$158","v":0},"#'T2-B(PP4)'!$H$158"]
["pp4_bl4_10_7_total",{"$f":"'T2-B(PP4)'!$J$158","v":0},"#'T2-B(PP4)'!$J$158"]
["pp4_bl4_10_7_total_in",{"$f":"'T2-B(PP4)'!$F$158","v":0},"#'T2-B(PP4)'!$F$158"]
["pp4_bl4_10_7_total_out",{"$f":"'T2-B(PP4)'!$I$158","v":0},"#'T2-B(PP4)'!$I$158"]
["pp4_bl4_10_7_unit",{"$f":"'T2-B(PP4)'!$C$158","v":0},"#'T2-B(PP4)'!$C$158"]
["pp4_bl4_10_7_unit_in",{"$f":"'T2-B(PP4)'!$D$158","v":0},"#'T2-B(PP4)'!$D$158"]
["pp4_bl4_10_7_units_out",{"$f":"'T2-B(PP4)'!$G$158","v":0},"#'T2-B(PP4)'!$G$158"]
["pp4_bl4_10_8_name",{"$f":"'T2-B(PP4)'!$B$159","v":0},"#'T2-B(PP4)'!$B$159"]
["pp4_bl4_10_8_rate_in",{"$f":"'T2-B(PP4)'!$E$159","v":0},"#'T2-B(PP4)'!$E$159"]
["pp4_bl4_10_8_rate_out",{"$f":"'T2-B(PP4)'!$H$159","v":0},"#'T2-B(PP4)'!$H$159"]
["pp4_bl4_10_8_total",{"$f":"'T2-B(PP4)'!$J$159","v":0},"#'T2-B(PP4)'!$J$159"]
["pp4_bl4_10_8_total_in",{"$f":"'T2-B(PP4)'!$F$159","v":0},"#'T2-B(PP4)'!$F$159"]
["pp4_bl4_10_8_total_out",{"$f":"'T2-B(PP4)'!$I$159","v":0},"#'T2-B(PP4)'!$I$159"]
["pp4_bl4_10_8_unit",{"$f":"'T2-B(PP4)'!$C$159","v":0},"#'T2-B(PP4)'!$C$159"]
["pp4_bl4_10_8_unit_in",{"$f":"'T2-B(PP4)'!$D$159","v":0},"#'T2-B(PP4)'!$D$159"]
["pp4_bl4_10_8_units_out",{"$f":"'T2-B(PP4)'!$G$159","v":0},"#'T2-B(PP4)'!$G$159"]
["pp4_bl4_10_9_name",{"$f":"'T2-B(PP4)'!$B$160","v":0},"#'T2-B(PP4)'!$B$160"]
["pp4_bl4_10_9_rate_in",{"$f":"'T2-B(PP4)'!$E$160","v":0},"#'T2-B(PP4)'!$E$160"]
["pp4_bl4_10_9_rate_out",{"$f":"'T2-B(PP4)'!$H$160","v":0},"#'T2-B(PP4)'!$H$160"]
["pp4_bl4_10_9_total",{"$f":"'T2-B(PP4)'!$J$160","v":0},"#'T2-B(PP4)'!$J$160"]
["pp4_bl4_10_9_total_in",{"$f":"'T2-B(PP4)'!$F$160","v":0},"#'T2-B(PP4)'!$F$160"]
["pp4_bl4_10_9_total_out",{"$f":"'T2-B(PP4)'!$I$160","v":0},"#'T2-B(PP4)'!$I$160"]
["pp4_bl4_10_9_unit",{"$f":"'T2-B(PP4)'!$C$160","v":0},"#'T2-B(PP4)'!$C$160"]
["pp4_bl4_10_9_unit_in",{"$f":"'T2-B(PP4)'!$D$160","v":0},"#'T2-B(PP4)'!$D$160"]
["pp4_bl4_10_9_units_out",{"$f":"'T2-B(PP4)'!$G$160","v":0},"#'T2-B(PP4)'!$G$160"]
["pp4_bl4_10_total",{"$f":"'T2-B(PP4)'!$J$151","v":0},"#'T2-B(PP4)'!$J$151"]
["pp4_bl4_10_total_in",{"$f":"'T2-B(PP4)'!$F$151","v":0},"#'T2-B(PP4)'!$F$151"]
["pp4_bl4_10_total_out",{"$f":"'T2-B(PP4)'!$I$151","v":0},"#'T2-B(PP4)'!$I$151"]
["pp4_bl4_11_1_name",{"$f":"'T2-B(PP4)'!$B$163","v":0},"#'T2-B(PP4)'!$B$163"]
["pp4_bl4_11_1_rate_in",{"$f":"'T2-B(PP4)'!$E$163","v":0},"#'T2-B(PP4)'!$E$163"]
["pp4_bl4_11_1_rate_out",{"$f":"'T2-B(PP4)'!$H$163","v":0},"#'T2-B(PP4)'!$H$163"]
["pp4_bl4_11_1_total",{"$f":"'T2-B(PP4)'!$J$163","v":0},"#'T2-B(PP4)'!$J$163"]
["pp4_bl4_11_1_total_in",{"$f":"'T2-B(PP4)'!$F$163","v":0},"#'T2-B(PP4)'!$F$163"]
["pp4_bl4_11_1_total_out",{"$f":"'T2-B(PP4)'!$I$163","v":0},"#'T2-B(PP4)'!$I$163"]
["pp4_bl4_11_1_unit",{"$f":"'T2-B(PP4)'!$C$163","v":0},"#'T2-B(PP4)'!$C$163"]
["pp4_bl4_11_1_unit_in",{"$f":"'T2-B(PP4)'!$D$163","v":0},"#'T2-B(PP4)'!$D$163"]
["pp4_bl4_11_1_units_out",{"$f":"'T2-B(PP4)'!$G$163","v":0},"#'T2-B(PP4)'!$G$163"]
["pp4_bl4_11_10_name",{"$f":"'T2-B(PP4)'!$B$172","v":0},"#'T2-B(PP4)'!$B$172"]
["pp4_bl4_11_10_rate_in",{"$f":"'T2-B(PP4)'!$E$172","v":0},"#'T2-B(PP4)'!$E$172"]
["pp4_bl4_11_10_rate_out",{"$f":"'T2-B(PP4)'!$H$172","v":0},"#'T2-B(PP4)'!$H$172"]
["pp4_bl4_11_10_total",{"$f":"'T2-B(PP4)'!$J$172","v":0},"#'T2-B(PP4)'!$J$172"]
["pp4_bl4_11_10_total_in",{"$f":"'T2-B(PP4)'!$F$172","v":0},"#'T2-B(PP4)'!$F$172"]
["pp4_bl4_11_10_total_out",{"$f":"'T2-B(PP4)'!$I$172","v":0},"#'T2-B(PP4)'!$I$172"]
["pp4_bl4_11_10_unit",{"$f":"'T2-B(PP4)'!$C$172","v":0},"#'T2-B(PP4)'!$C$172"]
["pp4_bl4_11_10_unit_in",{"$f":"'T2-B(PP4)'!$D$172","v":0},"#'T2-B(PP4)'!$D$172"]
["pp4_bl4_11_10_units_out",{"$f":"'T2-B(PP4)'!$G$172","v":0},"#'T2-B(PP4)'!$G$172"]
["pp4_bl4_11_2_name",{"$f":"'T2-B(PP4)'!$B$164","v":0},"#'T2-B(PP4)'!$B$164"]
["pp4_bl4_11_2_rate_in",{"$f":"'T2-B(PP4)'!$E$164","v":0},"#'T2-B(PP4)'!$E$164"]
["pp4_bl4_11_2_rate_out",{"$f":"'T2-B(PP4)'!$H$164","v":0},"#'T2-B(PP4)'!$H$164"]
["pp4_bl4_11_2_total",{"$f":"'T2-B(PP4)'!$J$164","v":0},"#'T2-B(PP4)'!$J$164"]
["pp4_bl4_11_2_total_in",{"$f":"'T2-B(PP4)'!$F$164","v":0},"#'T2-B(PP4)'!$F$164"]
["pp4_bl4_11_2_total_out",{"$f":"'T2-B(PP4)'!$I$164","v":0},"#'T2-B(PP4)'!$I$164"]
["pp4_bl4_11_2_unit",{"$f":"'T2-B(PP4)'!$C$164","v":0},"#'T2-B(PP4)'!$C$164"]
["pp4_bl4_11_2_unit_in",{"$f":"'T2-B(PP4)'!$D$164","v":0},"#'T2-B(PP4)'!$D$164"]
["pp4_bl4_11_2_units_out",{"$f":"'T2-B(PP4)'!$G$164","v":0},"#'T2-B(PP4)'!$G$164"]
["pp4_bl4_11_3_name",{"$f":"'T2-B(PP4)'!$B$165","v":0},"#'T2-B(PP4)'!$B$165"]
["pp4_bl4_11_3_rate_in",{"$f":"'T2-B(PP4)'!$E$165","v":0},"#'T2-B(PP4)'!$E$165"]
["pp4_bl4_11_3_rate_out",{"$f":"'T2-B(PP4)'!$H$165","v":0},"#'T2-B(PP4)'!$H$165"]
["pp4_bl4_11_3_total",{"$f":"'T2-B(PP4)'!$J$165","v":0},"#'T2-B(PP4)'!$J$165"]
["pp4_bl4_11_3_total_in",{"$f":"'T2-B(PP4)'!$F$165","v":0},"#'T2-B(PP4)'!$F$165"]
["pp4_bl4_11_3_total_out",{"$f":"'T2-B(PP4)'!$I$165","v":0},"#'T2-B(PP4)'!$I$165"]
["pp4_bl4_11_3_unit",{"$f":"'T2-B(PP4)'!$C$165","v":0},"#'T2-B(PP4)'!$C$165"]
["pp4_bl4_11_3_unit_in",{"$f":"'T2-B(PP4)'!$D$165","v":0},"#'T2-B(PP4)'!$D$165"]
["pp4_bl4_11_3_units_out",{"$f":"'T2-B(PP4)'!$G$165","v":0},"#'T2-B(PP4)'!$G$165"]
["pp4_bl4_11_4_name",{"$f":"'T2-B(PP4)'!$B$166","v":0},"#'T2-B(PP4)'!$B$166"]
["pp4_bl4_11_4_rate_in",{"$f":"'T2-B(PP4)'!$E$166","v":0},"#'T2-B(PP4)'!$E$166"]
["pp4_bl4_11_4_rate_out",{"$f":"'T2-B(PP4)'!$H$166","v":0},"#'T2-B(PP4)'!$H$166"]
["pp4_bl4_11_4_total",{"$f":"'T2-B(PP4)'!$J$166","v":0},"#'T2-B(PP4)'!$J$166"]
["pp4_bl4_11_4_total_in",{"$f":"'T2-B(PP4)'!$F$166","v":0},"#'T2-B(PP4)'!$F$166"]
["pp4_bl4_11_4_total_out",{"$f":"'T2-B(PP4)'!$I$166","v":0},"#'T2-B(PP4)'!$I$166"]
["pp4_bl4_11_4_unit",{"$f":"'T2-B(PP4)'!$C$166","v":0},"#'T2-B(PP4)'!$C$166"]
["pp4_bl4_11_4_unit_in",{"$f":"'T2-B(PP4)'!$D$166","v":0},"#'T2-B(PP4)'!$D$166"]
["pp4_bl4_11_4_units_out",{"$f":"'T2-B(PP4)'!$G$166","v":0},"#'T2-B(PP4)'!$G$166"]
["pp4_bl4_11_5_name",{"$f":"'T2-B(PP4)'!$B$167","v":0},"#'T2-B(PP4)'!$B$167"]
["pp4_bl4_11_5_rate_in",{"$f":"'T2-B(PP4)'!$E$167","v":0},"#'T2-B(PP4)'!$E$167"]
["pp4_bl4_11_5_rate_out",{"$f":"'T2-B(PP4)'!$H$167","v":0},"#'T2-B(PP4)'!$H$167"]
["pp4_bl4_11_5_total",{"$f":"'T2-B(PP4)'!$J$167","v":0},"#'T2-B(PP4)'!$J$167"]
["pp4_bl4_11_5_total_in",{"$f":"'T2-B(PP4)'!$F$167","v":0},"#'T2-B(PP4)'!$F$167"]
["pp4_bl4_11_5_total_out",{"$f":"'T2-B(PP4)'!$I$167","v":0},"#'T2-B(PP4)'!$I$167"]
["pp4_bl4_11_5_unit",{"$f":"'T2-B(PP4)'!$C$167","v":0},"#'T2-B(PP4)'!$C$167"]
["pp4_bl4_11_5_unit_in",{"$f":"'T2-B(PP4)'!$D$167","v":0},"#'T2-B(PP4)'!$D$167"]
["pp4_bl4_11_5_units_out",{"$f":"'T2-B(PP4)'!$G$167","v":0},"#'T2-B(PP4)'!$G$167"]
["pp4_bl4_11_6_name",{"$f":"'T2-B(PP4)'!$B$168","v":0},"#'T2-B(PP4)'!$B$168"]
["pp4_bl4_11_6_rate_in",{"$f":"'T2-B(PP4)'!$E$168","v":0},"#'T2-B(PP4)'!$E$168"]
["pp4_bl4_11_6_rate_out",{"$f":"'T2-B(PP4)'!$H$168","v":0},"#'T2-B(PP4)'!$H$168"]
["pp4_bl4_11_6_total",{"$f":"'T2-B(PP4)'!$J$168","v":0},"#'T2-B(PP4)'!$J$168"]
["pp4_bl4_11_6_total_in",{"$f":"'T2-B(PP4)'!$F$168","v":0},"#'T2-B(PP4)'!$F$168"]
["pp4_bl4_11_6_total_out",{"$f":"'T2-B(PP4)'!$I$168","v":0},"#'T2-B(PP4)'!$I$168"]
["pp4_bl4_11_6_unit",{"$f":"'T2-B(PP4)'!$C$168","v":0},"#'T2-B(PP4)'!$C$168"]
["pp4_bl4_11_6_unit_in",{"$f":"'T2-B(PP4)'!$D$168","v":0},"#'T2-B(PP4)'!$D$168"]
["pp4_bl4_11_6_units_out",{"$f":"'T2-B(PP4)'!$G$168","v":0},"#'T2-B(PP4)'!$G$168"]
["pp4_bl4_11_7_name",{"$f":"'T2-B(PP4)'!$B$169","v":0},"#'T2-B(PP4)'!$B$169"]
["pp4_bl4_11_7_rate_in",{"$f":"'T2-B(PP4)'!$E$169","v":0},"#'T2-B(PP4)'!$E$169"]
["pp4_bl4_11_7_rate_out",{"$f":"'T2-B(PP4)'!$H$169","v":0},"#'T2-B(PP4)'!$H$169"]
["pp4_bl4_11_7_total",{"$f":"'T2-B(PP4)'!$J$169","v":0},"#'T2-B(PP4)'!$J$169"]
["pp4_bl4_11_7_total_in",{"$f":"'T2-B(PP4)'!$F$169","v":0},"#'T2-B(PP4)'!$F$169"]
["pp4_bl4_11_7_total_out",{"$f":"'T2-B(PP4)'!$I$169","v":0},"#'T2-B(PP4)'!$I$169"]
["pp4_bl4_11_7_unit",{"$f":"'T2-B(PP4)'!$C$169","v":0},"#'T2-B(PP4)'!$C$169"]
["pp4_bl4_11_7_unit_in",{"$f":"'T2-B(PP4)'!$D$169","v":0},"#'T2-B(PP4)'!$D$169"]
["pp4_bl4_11_7_units_out",{"$f":"'T2-B(PP4)'!$G$169","v":0},"#'T2-B(PP4)'!$G$169"]
["pp4_bl4_11_8_name",{"$f":"'T2-B(PP4)'!$B$170","v":0},"#'T2-B(PP4)'!$B$170"]
["pp4_bl4_11_8_rate_in",{"$f":"'T2-B(PP4)'!$E$170","v":0},"#'T2-B(PP4)'!$E$170"]
["pp4_bl4_11_8_rate_out",{"$f":"'T2-B(PP4)'!$H$170","v":0},"#'T2-B(PP4)'!$H$170"]
["pp4_bl4_11_8_total",{"$f":"'T2-B(PP4)'!$J$170","v":0},"#'T2-B(PP4)'!$J$170"]
["pp4_bl4_11_8_total_in",{"$f":"'T2-B(PP4)'!$F$170","v":0},"#'T2-B(PP4)'!$F$170"]
["pp4_bl4_11_8_total_out",{"$f":"'T2-B(PP4)'!$I$170","v":0},"#'T2-B(PP4)'!$I$170"]
["pp4_bl4_11_8_unit",{"$f":"'T2-B(PP4)'!$C$170","v":0},"#'T2-B(PP4)'!$C$170"]
["pp4_bl4_11_8_unit_in",{"$f":"'T2-B(PP4)'!$D$170","v":0},"#'T2-B(PP4)'!$D$170"]
["pp4_bl4_11_8_units_out",{"$f":"'T2-B(PP4)'!$G$170","v":0},"#'T2-B(PP4)'!$G$170"]
["pp4_bl4_11_9_name",{"$f":"'T2-B(PP4)'!$B$171","v":0},"#'T2-B(PP4)'!$B$171"]
["pp4_bl4_11_9_rate_in",{"$f":"'T2-B(PP4)'!$E$171","v":0},"#'T2-B(PP4)'!$E$171"]
["pp4_bl4_11_9_rate_out",{"$f":"'T2-B(PP4)'!$H$171","v":0},"#'T2-B(PP4)'!$H$171"]
["pp4_bl4_11_9_total",{"$f":"'T2-B(PP4)'!$J$171","v":0},"#'T2-B(PP4)'!$J$171"]
["pp4_bl4_11_9_total_in",{"$f":"'T2-B(PP4)'!$F$171","v":0},"#'T2-B(PP4)'!$F$171"]
["pp4_bl4_11_9_total_out",{"$f":"'T2-B(PP4)'!$I$171","v":0},"#'T2-B(PP4)'!$I$171"]
["pp4_bl4_11_9_unit",{"$f":"'T2-B(PP4)'!$C$171","v":0},"#'T2-B(PP4)'!$C$171"]
["pp4_bl4_11_9_unit_in",{"$f":"'T2-B(PP4)'!$D$171","v":0},"#'T2-B(PP4)'!$D$171"]
["pp4_bl4_11_9_units_out",{"$f":"'T2-B(PP4)'!$G$171","v":0},"#'T2-B(PP4)'!$G$171"]
["pp4_bl4_11_total",{"$f":"'T2-B(PP4)'!$J$162","v":0},"#'T2-B(PP4)'!$J$162"]
["pp4_bl4_11_total_in",{"$f":"'T2-B(PP4)'!$F$162","v":0},"#'T2-B(PP4)'!$F$162"]
["pp4_bl4_11_total_out",{"$f":"'T2-B(PP4)'!$I$162","v":0},"#'T2-B(PP4)'!$I$162"]
["pp4_bl4_12_1_name",{"$f":"'T2-B(PP4)'!$B$174","v":0},"#'T2-B(PP4)'!$B$174"]
["pp4_bl4_12_1_rate_in",{"$f":"'T2-B(PP4)'!$E$174","v":0},"#'T2-B(PP4)'!$E$174"]
["pp4_bl4_12_1_rate_out",{"$f":"'T2-B(PP4)'!$H$174","v":0},"#'T2-B(PP4)'!$H$174"]
["pp4_bl4_12_1_total",{"$f":"'T2-B(PP4)'!$J$174","v":0},"#'T2-B(PP4)'!$J$174"]
["pp4_bl4_12_1_total_in",{"$f":"'T2-B(PP4)'!$F$174","v":0},"#'T2-B(PP4)'!$F$174"]
["pp4_bl4_12_1_total_out",{"$f":"'T2-B(PP4)'!$I$174","v":0},"#'T2-B(PP4)'!$I$174"]
["pp4_bl4_12_1_unit",{"$f":"'T2-B(PP4)'!$C$174","v":0},"#'T2-B(PP4)'!$C$174"]
["pp4_bl4_12_1_unit_in",{"$f":"'T2-B(PP4)'!$D$174","v":0},"#'T2-B(PP4)'!$D$174"]
["pp4_bl4_12_1_units_out",{"$f":"'T2-B(PP4)'!$G$174","v":0},"#'T2-B(PP4)'!$G$174"]
["pp4_bl4_12_10_name",{"$f":"'T2-B(PP4)'!$B$183","v":0},"#'T2-B(PP4)'!$B$183"]
["pp4_bl4_12_10_rate_in",{"$f":"'T2-B(PP4)'!$E$183","v":0},"#'T2-B(PP4)'!$E$183"]
["pp4_bl4_12_10_rate_out",{"$f":"'T2-B(PP4)'!$H$183","v":0},"#'T2-B(PP4)'!$H$183"]
["pp4_bl4_12_10_total",{"$f":"'T2-B(PP4)'!$J$183","v":0},"#'T2-B(PP4)'!$J$183"]
["pp4_bl4_12_10_total_in",{"$f":"'T2-B(PP4)'!$F$183","v":0},"#'T2-B(PP4)'!$F$183"]
["pp4_bl4_12_10_total_out",{"$f":"'T2-B(PP4)'!$I$183","v":0},"#'T2-B(PP4)'!$I$183"]
["pp4_bl4_12_10_unit",{"$f":"'T2-B(PP4)'!$C$183","v":0},"#'T2-B(PP4)'!$C$183"]
["pp4_bl4_12_10_unit_in",{"$f":"'T2-B(PP4)'!$D$183","v":0},"#'T2-B(PP4)'!$D$183"]
["pp4_bl4_12_10_units_out",{"$f":"'T2-B(PP4)'!$G$183","v":0},"#'T2-B(PP4)'!$G$183"]
["pp4_bl4_12_2_name",{"$f":"'T2-B(PP4)'!$B$175","v":0},"#'T2-B(PP4)'!$B$175"]
["pp4_bl4_12_2_rate_in",{"$f":"'T2-B(PP4)'!$E$175","v":0},"#'T2-B(PP4)'!$E$175"]
["pp4_bl4_12_2_rate_out",{"$f":"'T2-B(PP4)'!$H$175","v":0},"#'T2-B(PP4)'!$H$175"]
["pp4_bl4_12_2_total",{"$f":"'T2-B(PP4)'!$J$175","v":0},"#'T2-B(PP4)'!$J$175"]
["pp4_bl4_12_2_total_in",{"$f":"'T2-B(PP4)'!$F$175","v":0},"#'T2-B(PP4)'!$F$175"]
["pp4_bl4_12_2_total_out",{"$f":"'T2-B(PP4)'!$I$175","v":0},"#'T2-B(PP4)'!$I$175"]
["pp4_bl4_12_2_unit",{"$f":"'T2-B(PP4)'!$C$175","v":0},"#'T2-B(PP4)'!$C$175"]
["pp4_bl4_12_2_unit_in",{"$f":"'T2-B(PP4)'!$D$175","v":0},"#'T2-B(PP4)'!$D$175"]
["pp4_bl4_12_2_units_out",{"$f":"'T2-B(PP4)'!$G$175","v":0},"#'T2-B(PP4)'!$G$175"]
["pp4_bl4_12_3_name",{"$f":"'T2-B(PP4)'!$B$176","v":0},"#'T2-B(PP4)'!$B$176"]
["pp4_bl4_12_3_rate_in",{"$f":"'T2-B(PP4)'!$E$176","v":0},"#'T2-B(PP4)'!$E$176"]
["pp4_bl4_12_3_rate_out",{"$f":"'T2-B(PP4)'!$H$176","v":0},"#'T2-B(PP4)'!$H$176"]
["pp4_bl4_12_3_total",{"$f":"'T2-B(PP4)'!$J$176","v":0},"#'T2-B(PP4)'!$J$176"]
["pp4_bl4_12_3_total_in",{"$f":"'T2-B(PP4)'!$F$176","v":0},"#'T2-B(PP4)'!$F$176"]
["pp4_bl4_12_3_total_out",{"$f":"'T2-B(PP4)'!$I$176","v":0},"#'T2-B(PP4)'!$I$176"]
["pp4_bl4_12_3_unit",{"$f":"'T2-B(PP4)'!$C$176","v":0},"#'T2-B(PP4)'!$C$176"]
["pp4_bl4_12_3_unit_in",{"$f":"'T2-B(PP4)'!$D$176","v":0},"#'T2-B(PP4)'!$D$176"]
["pp4_bl4_12_3_units_out",{"$f":"'T2-B(PP4)'!$G$176","v":0},"#'T2-B(PP4)'!$G$176"]
["pp4_bl4_12_4_name",{"$f":"'T2-B(PP4)'!$B$177","v":0},"#'T2-B(PP4)'!$B$177"]
["pp4_bl4_12_4_rate_in",{"$f":"'T2-B(PP4)'!$E$177","v":0},"#'T2-B(PP4)'!$E$177"]
["pp4_bl4_12_4_rate_out",{"$f":"'T2-B(PP4)'!$H$177","v":0},"#'T2-B(PP4)'!$H$177"]
["pp4_bl4_12_4_total",{"$f":"'T2-B(PP4)'!$J$177","v":0},"#'T2-B(PP4)'!$J$177"]
["pp4_bl4_12_4_total_in",{"$f":"'T2-B(PP4)'!$F$177","v":0},"#'T2-B(PP4)'!$F$177"]
["pp4_bl4_12_4_total_out",{"$f":"'T2-B(PP4)'!$I$177","v":0},"#'T2-B(PP4)'!$I$177"]
["pp4_bl4_12_4_unit",{"$f":"'T2-B(PP4)'!$C$177","v":0},"#'T2-B(PP4)'!$C$177"]
["pp4_bl4_12_4_unit_in",{"$f":"'T2-B(PP4)'!$D$177","v":0},"#'T2-B(PP4)'!$D$177"]
["pp4_bl4_12_4_units_out",{"$f":"'T2-B(PP4)'!$G$177","v":0},"#'T2-B(PP4)'!$G$177"]
["pp4_bl4_12_5_name",{"$f":"'T2-B(PP4)'!$B$178","v":0},"#'T2-B(PP4)'!$B$178"]
["pp4_bl4_12_5_rate_in",{"$f":"'T2-B(PP4)'!$E$178","v":0},"#'T2-B(PP4)'!$E$178"]
["pp4_bl4_12_5_rate_out",{"$f":"'T2-B(PP4)'!$H$178","v":0},"#'T2-B(PP4)'!$H$178"]
["pp4_bl4_12_5_total",{"$f":"'T2-B(PP4)'!$J$178","v":0},"#'T2-B(PP4)'!$J$178"]
["pp4_bl4_12_5_total_in",{"$f":"'T2-B(PP4)'!$F$178","v":0},"#'T2-B(PP4)'!$F$178"]
["pp4_bl4_12_5_total_out",{"$f":"'T2-B(PP4)'!$I$178","v":0},"#'T2-B(PP4)'!$I$178"]
["pp4_bl4_12_5_unit",{"$f":"'T2-B(PP4)'!$C$178","v":0},"#'T2-B(PP4)'!$C$178"]
["pp4_bl4_12_5_unit_in",{"$f":"'T2-B(PP4)'!$D$178","v":0},"#'T2-B(PP4)'!$D$178"]
["pp4_bl4_12_5_units_out",{"$f":"'T2-B(PP4)'!$G$178","v":0},"#'T2-B(PP4)'!$G$178"]
["pp4_bl4_12_6_name",{"$f":"'T2-B(PP4)'!$B$179","v":0},"#'T2-B(PP4)'!$B$179"]
["pp4_bl4_12_6_rate_in",{"$f":"'T2-B(PP4)'!$E$179","v":0},"#'T2-B(PP4)'!$E$179"]
["pp4_bl4_12_6_rate_out",{"$f":"'T2-B(PP4)'!$H$179","v":0},"#'T2-B(PP4)'!$H$179"]
["pp4_bl4_12_6_total",{"$f":"'T2-B(PP4)'!$J$179","v":0},"#'T2-B(PP4)'!$J$179"]
["pp4_bl4_12_6_total_in",{"$f":"'T2-B(PP4)'!$F$179","v":0},"#'T2-B(PP4)'!$F$179"]
["pp4_bl4_12_6_total_out",{"$f":"'T2-B(PP4)'!$I$179","v":0},"#'T2-B(PP4)'!$I$179"]
["pp4_bl4_12_6_unit",{"$f":"'T2-B(PP4)'!$C$179","v":0},"#'T2-B(PP4)'!$C$179"]
["pp4_bl4_12_6_unit_in",{"$f":"'T2-B(PP4)'!$D$179","v":0},"#'T2-B(PP4)'!$D$179"]
["pp4_bl4_12_6_units_out",{"$f":"'T2-B(PP4)'!$G$179","v":0},"#'T2-B(PP4)'!$G$179"]
["pp4_bl4_12_7_name",{"$f":"'T2-B(PP4)'!$B$180","v":0},"#'T2-B(PP4)'!$B$180"]
["pp4_bl4_12_7_rate_in",{"$f":"'T2-B(PP4)'!$E$180","v":0},"#'T2-B(PP4)'!$E$180"]
["pp4_bl4_12_7_rate_out",{"$f":"'T2-B(PP4)'!$H$180","v":0},"#'T2-B(PP4)'!$H$180"]
["pp4_bl4_12_7_total",{"$f":"'T2-B(PP4)'!$J$180","v":0},"#'T2-B(PP4)'!$J$180"]
["pp4_bl4_12_7_total_in",{"$f":"'T2-B(PP4)'!$F$180","v":0},"#'T2-B(PP4)'!$F$180"]
["pp4_bl4_12_7_total_out",{"$f":"'T2-B(PP4)'!$I$180","v":0},"#'T2-B(PP4)'!$I$180"]
["pp4_bl4_12_7_unit",{"$f":"'T2-B(PP4)'!$C$180","v":0},"#'T2-B(PP4)'!$C$180"]
["pp4_bl4_12_7_unit_in",{"$f":"'T2-B(PP4)'!$D$180","v":0},"#'T2-B(PP4)'!$D$180"]
["pp4_bl4_12_7_units_out",{"$f":"'T2-B(PP4)'!$G$180","v":0},"#'T2-B(PP4)'!$G$180"]
["pp4_bl4_12_8_name",{"$f":"'T2-B(PP4)'!$B$181","v":0},"#'T2-B(PP4)'!$B$181"]
["pp4_bl4_12_8_rate_in",{"$f":"'T2-B(PP4)'!$E$181","v":0},"#'T2-B(PP4)'!$E$181"]
["pp4_bl4_12_8_rate_out",{"$f":"'T2-B(PP4)'!$H$181","v":0},"#'T2-B(PP4)'!$H$181"]
["pp4_bl4_12_8_total",{"$f":"'T2-B(PP4)'!$J$181","v":0},"#'T2-B(PP4)'!$J$181"]
["pp4_bl4_12_8_total_in",{"$f":"'T2-B(PP4)'!$F$181","v":0},"#'T2-B(PP4)'!$F$181"]
["pp4_bl4_12_8_total_out",{"$f":"'T2-B(PP4)'!$I$181","v":0},"#'T2-B(PP4)'!$I$181"]
["pp4_bl4_12_8_unit",{"$f":"'T2-B(PP4)'!$C$181","v":0},"#'T2-B(PP4)'!$C$181"]
["pp4_bl4_12_8_unit_in",{"$f":"'T2-B(PP4)'!$D$181","v":0},"#'T2-B(PP4)'!$D$181"]
["pp4_bl4_12_8_units_out",{"$f":"'T2-B(PP4)'!$G$181","v":0},"#'T2-B(PP4)'!$G$181"]
["pp4_bl4_12_9_name",{"$f":"'T2-B(PP4)'!$B$182","v":0},"#'T2-B(PP4)'!$B$182"]
["pp4_bl4_12_9_rate_in",{"$f":"'T2-B(PP4)'!$E$182","v":0},"#'T2-B(PP4)'!$E$182"]
["pp4_bl4_12_9_rate_out",{"$f":"'T2-B(PP4)'!$H$182","v":0},"#'T2-B(PP4)'!$H$182"]
["pp4_bl4_12_9_total",{"$f":"'T2-B(PP4)'!$J$182","v":0},"#'T2-B(PP4)'!$J$182"]
["pp4_bl4_12_9_total_in",{"$f":"'T2-B(PP4)'!$F$182","v":0},"#'T2-B(PP4)'!$F$182"]
["pp4_bl4_12_9_total_out",{"$f":"'T2-B(PP4)'!$I$182","v":0},"#'T2-B(PP4)'!$I$182"]
["pp4_bl4_12_9_unit",{"$f":"'T2-B(PP4)'!$C$182","v":0},"#'T2-B(PP4)'!$C$182"]
["pp4_bl4_12_9_unit_in",{"$f":"'T2-B(PP4)'!$D$182","v":0},"#'T2-B(PP4)'!$D$182"]
["pp4_bl4_12_9_units_out",{"$f":"'T2-B(PP4)'!$G$182","v":0},"#'T2-B(PP4)'!$G$182"]
["pp4_bl4_12_total",{"$f":"'T2-B(PP4)'!$J$173","v":0},"#'T2-B(PP4)'!$J$173"]
["pp4_bl4_12_total_in",{"$f":"'T2-B(PP4)'!$F$173","v":0},"#'T2-B(PP4)'!$F$173"]
["pp4_bl4_12_total_out",{"$f":"'T2-B(PP4)'!$I$173","v":0},"#'T2-B(PP4)'!$I$173"]
["pp4_bl4_13_1_name",{"$f":"'T2-B(PP4)'!$B$185","v":0},"#'T2-B(PP4)'!$B$185"]
["pp4_bl4_13_1_rate_in",{"$f":"'T2-B(PP4)'!$E$185","v":0},"#'T2-B(PP4)'!$E$185"]
["pp4_bl4_13_1_rate_out",{"$f":"'T2-B(PP4)'!$H$185","v":0},"#'T2-B(PP4)'!$H$185"]
["pp4_bl4_13_1_total",{"$f":"'T2-B(PP4)'!$J$185","v":0},"#'T2-B(PP4)'!$J$185"]
["pp4_bl4_13_1_total_in",{"$f":"'T2-B(PP4)'!$F$185","v":0},"#'T2-B(PP4)'!$F$185"]
["pp4_bl4_13_1_total_out",{"$f":"'T2-B(PP4)'!$I$185","v":0},"#'T2-B(PP4)'!$I$185"]
["pp4_bl4_13_1_unit",{"$f":"'T2-B(PP4)'!$C$185","v":0},"#'T2-B(PP4)'!$C$185"]
["pp4_bl4_13_1_unit_in",{"$f":"'T2-B(PP4)'!$D$185","v":0},"#'T2-B(PP4)'!$D$185"]
["pp4_bl4_13_1_units_out",{"$f":"'T2-B(PP4)'!$G$185","v":0},"#'T2-B(PP4)'!$G$185"]
["pp4_bl4_13_10_name",{"$f":"'T2-B(PP4)'!$B$194","v":0},"#'T2-B(PP4)'!$B$194"]
["pp4_bl4_13_10_rate_in",{"$f":"'T2-B(PP4)'!$E$194","v":0},"#'T2-B(PP4)'!$E$194"]
["pp4_bl4_13_10_rate_out",{"$f":"'T2-B(PP4)'!$H$194","v":0},"#'T2-B(PP4)'!$H$194"]
["pp4_bl4_13_10_total",{"$f":"'T2-B(PP4)'!$J$194","v":0},"#'T2-B(PP4)'!$J$194"]
["pp4_bl4_13_10_total_in",{"$f":"'T2-B(PP4)'!$F$194","v":0},"#'T2-B(PP4)'!$F$194"]
["pp4_bl4_13_10_total_out",{"$f":"'T2-B(PP4)'!$I$194","v":0},"#'T2-B(PP4)'!$I$194"]
["pp4_bl4_13_10_unit",{"$f":"'T2-B(PP4)'!$C$194","v":0},"#'T2-B(PP4)'!$C$194"]
["pp4_bl4_13_10_unit_in",{"$f":"'T2-B(PP4)'!$D$194","v":0},"#'T2-B(PP4)'!$D$194"]
["pp4_bl4_13_10_units_out",{"$f":"'T2-B(PP4)'!$G$194","v":0},"#'T2-B(PP4)'!$G$194"]
["pp4_bl4_13_2_name",{"$f":"'T2-B(PP4)'!$B$186","v":0},"#'T2-B(PP4)'!$B$186"]
["pp4_bl4_13_2_rate_in",{"$f":"'T2-B(PP4)'!$E$186","v":0},"#'T2-B(PP4)'!$E$186"]
["pp4_bl4_13_2_rate_out",{"$f":"'T2-B(PP4)'!$H$186","v":0},"#'T2-B(PP4)'!$H$186"]
["pp4_bl4_13_2_total",{"$f":"'T2-B(PP4)'!$J$186","v":0},"#'T2-B(PP4)'!$J$186"]
["pp4_bl4_13_2_total_in",{"$f":"'T2-B(PP4)'!$F$186","v":0},"#'T2-B(PP4)'!$F$186"]
["pp4_bl4_13_2_total_out",{"$f":"'T2-B(PP4)'!$I$186","v":0},"#'T2-B(PP4)'!$I$186"]
["pp4_bl4_13_2_unit",{"$f":"'T2-B(PP4)'!$C$186","v":0},"#'T2-B(PP4)'!$C$186"]
["pp4_bl4_13_2_unit_in",{"$f":"'T2-B(PP4)'!$D$186","v":0},"#'T2-B(PP4)'!$D$186"]
["pp4_bl4_13_2_units_out",{"$f":"'T2-B(PP4)'!$G$186","v":0},"#'T2-B(PP4)'!$G$186"]
["pp4_bl4_13_3_name",{"$f":"'T2-B(PP4)'!$B$187","v":0},"#'T2-B(PP4)'!$B$187"]
["pp4_bl4_13_3_rate_in",{"$f":"'T2-B(PP4)'!$E$187","v":0},"#'T2-B(PP4)'!$E$187"]
["pp4_bl4_13_3_rate_out",{"$f":"'T2-B(PP4)'!$H$187","v":0},"#'T2-B(PP4)'!$H$187"]
["pp4_bl4_13_3_total",{"$f":"'T2-B(PP4)'!$J$187","v":0},"#'T2-B(PP4)'!$J$187"]
["pp4_bl4_13_3_total_in",{"$f":"'T2-B(PP4)'!$F$187","v":0},"#'T2-B(PP4)'!$F$187"]
["pp4_bl4_13_3_total_out",{"$f":"'T2-B(PP4)'!$I$187","v":0},"#'T2-B(PP4)'!$I$187"]
["pp4_bl4_13_3_unit",{"$f":"'T2-B(PP4)'!$C$187","v":0},"#'T2-B(PP4)'!$C$187"]
["pp4_bl4_13_3_unit_in",{"$f":"'T2-B(PP4)'!$D$187","v":0},"#'T2-B(PP4)'!$D$187"]
["pp4_bl4_13_3_units_out",{"$f":"'T2-B(PP4)'!$G$187","v":0},"#'T2-B(PP4)'!$G$187"]
["pp4_bl4_13_4_name",{"$f":"'T2-B(PP4)'!$B$188","v":0},"#'T2-B(PP4)'!$B$188"]
["pp4_bl4_13_4_rate_in",{"$f":"'T2-B(PP4)'!$E$188","v":0},"#'T2-B(PP4)'!$E$188"]
["pp4_bl4_13_4_rate_out",{"$f":"'T2-B(PP4)'!$H$188","v":0},"#'T2-B(PP4)'!$H$188"]
["pp4_bl4_13_4_total",{"$f":"'T2-B(PP4)'!$J$188","v":0},"#'T2-B(PP4)'!$J$188"]
["pp4_bl4_13_4_total_in",{"$f":"'T2-B(PP4)'!$F$188","v":0},"#'T2-B(PP4)'!$F$188"]
["pp4_bl4_13_4_total_out",{"$f":"'T2-B(PP4)'!$I$188","v":0},"#'T2-B(PP4)'!$I$188"]
["pp4_bl4_13_4_unit",{"$f":"'T2-B(PP4)'!$C$188","v":0},"#'T2-B(PP4)'!$C$188"]
["pp4_bl4_13_4_unit_in",{"$f":"'T2-B(PP4)'!$D$188","v":0},"#'T2-B(PP4)'!$D$188"]
["pp4_bl4_13_4_units_out",{"$f":"'T2-B(PP4)'!$G$188","v":0},"#'T2-B(PP4)'!$G$188"]
["pp4_bl4_13_5_name",{"$f":"'T2-B(PP4)'!$B$189","v":0},"#'T2-B(PP4)'!$B$189"]
["pp4_bl4_13_5_rate_in",{"$f":"'T2-B(PP4)'!$E$189","v":0},"#'T2-B(PP4)'!$E$189"]
["pp4_bl4_13_5_rate_out",{"$f":"'T2-B(PP4)'!$H$189","v":0},"#'T2-B(PP4)'!$H$189"]
["pp4_bl4_13_5_total",{"$f":"'T2-B(PP4)'!$J$189","v":0},"#'T2-B(PP4)'!$J$189"]
["pp4_bl4_13_5_total_in",{"$f":"'T2-B(PP4)'!$F$189","v":0},"#'T2-B(PP4)'!$F$189"]
["pp4_bl4_13_5_total_out",{"$f":"'T2-B(PP4)'!$I$189","v":0},"#'T2-B(PP4)'!$I$189"]
["pp4_bl4_13_5_unit",{"$f":"'T2-B(PP4)'!$C$189","v":0},"#'T2-B(PP4)'!$C$189"]
["pp4_bl4_13_5_unit_in",{"$f":"'T2-B(PP4)'!$D$189","v":0},"#'T2-B(PP4)'!$D$189"]
["pp4_bl4_13_5_units_out",{"$f":"'T2-B(PP4)'!$G$189","v":0},"#'T2-B(PP4)'!$G$189"]
["pp4_bl4_13_6_name",{"$f":"'T2-B(PP4)'!$B$190","v":0},"#'T2-B(PP4)'!$B$190"]
["pp4_bl4_13_6_rate_in",{"$f":"'T2-B(PP4)'!$E$190","v":0},"#'T2-B(PP4)'!$E$190"]
["pp4_bl4_13_6_rate_out",{"$f":"'T2-B(PP4)'!$H$190","v":0},"#'T2-B(PP4)'!$H$190"]
["pp4_bl4_13_6_total",{"$f":"'T2-B(PP4)'!$J$190","v":0},"#'T2-B(PP4)'!$J$190"]
["pp4_bl4_13_6_total_in",{"$f":"'T2-B(PP4)'!$F$190","v":0},"#'T2-B(PP4)'!$F$190"]
["pp4_bl4_13_6_total_out",{"$f":"'T2-B(PP4)'!$I$190","v":0},"#'T2-B(PP4)'!$I$190"]
["pp4_bl4_13_6_unit",{"$f":"'T2-B(PP4)'!$C$190","v":0},"#'T2-B(PP4)'!$C$190"]
["pp4_bl4_13_6_unit_in",{"$f":"'T2-B(PP4)'!$D$190","v":0},"#'T2-B(PP4)'!$D$190"]
["pp4_bl4_13_6_units_out",{"$f":"'T2-B(PP4)'!$G$190","v":0},"#'T2-B(PP4)'!$G$190"]
["pp4_bl4_13_7_name",{"$f":"'T2-B(PP4)'!$B$191","v":0},"#'T2-B(PP4)'!$B$191"]
["pp4_bl4_13_7_rate_in",{"$f":"'T2-B(PP4)'!$E$191","v":0},"#'T2-B(PP4)'!$E$191"]
["pp4_bl4_13_7_rate_out",{"$f":"'T2-B(PP4)'!$H$191","v":0},"#'T2-B(PP4)'!$H$191"]
["pp4_bl4_13_7_total",{"$f":"'T2-B(PP4)'!$J$191","v":0},"#'T2-B(PP4)'!$J$191"]
["pp4_bl4_13_7_total_in",{"$f":"'T2-B(PP4)'!$F$191","v":0},"#'T2-B(PP4)'!$F$191"]
["pp4_bl4_13_7_total_out",{"$f":"'T2-B(PP4)'!$I$191","v":0},"#'T2-B(PP4)'!$I$191"]
["pp4_bl4_13_7_unit",{"$f":"'T2-B(PP4)'!$C$191","v":0},"#'T2-B(PP4)'!$C$191"]
["pp4_bl4_13_7_unit_in",{"$f":"'T2-B(PP4)'!$D$191","v":0},"#'T2-B(PP4)'!$D$191"]
["pp4_bl4_13_7_units_out",{"$f":"'T2-B(PP4)'!$G$191","v":0},"#'T2-B(PP4)'!$G$191"]
["pp4_bl4_13_8_name",{"$f":"'T2-B(PP4)'!$B$192","v":0},"#'T2-B(PP4)'!$B$192"]
["pp4_bl4_13_8_rate_in",{"$f":"'T2-B(PP4)'!$E$192","v":0},"#'T2-B(PP4)'!$E$192"]
["pp4_bl4_13_8_rate_out",{"$f":"'T2-B(PP4)'!$H$192","v":0},"#'T2-B(PP4)'!$H$192"]
["pp4_bl4_13_8_total",{"$f":"'T2-B(PP4)'!$J$192","v":0},"#'T2-B(PP4)'!$J$192"]
["pp4_bl4_13_8_total_in",{"$f":"'T2-B(PP4)'!$F$192","v":0},"#'T2-B(PP4)'!$F$192"]
["pp4_bl4_13_8_total_out",{"$f":"'T2-B(PP4)'!$I$192","v":0},"#'T2-B(PP4)'!$I$192"]
["pp4_bl4_13_8_unit",{"$f":"'T2-B(PP4)'!$C$192","v":0},"#'T2-B(PP4)'!$C$192"]
["pp4_bl4_13_8_unit_in",{"$f":"'T2-B(PP4)'!$D$192","v":0},"#'T2-B(PP4)'!$D$192"]
["pp4_bl4_13_8_units_out",{"$f":"'T2-B(PP4)'!$G$192","v":0},"#'T2-B(PP4)'!$G$192"]
["pp4_bl4_13_9_name",{"$f":"'T2-B(PP4)'!$B$193","v":0},"#'T2-B(PP4)'!$B$193"]
["pp4_bl4_13_9_rate_in",{"$f":"'T2-B(PP4)'!$E$193","v":0},"#'T2-B(PP4)'!$E$193"]
["pp4_bl4_13_9_rate_out",{"$f":"'T2-B(PP4)'!$H$193","v":0},"#'T2-B(PP4)'!$H$193"]
["pp4_bl4_13_9_total",{"$f":"'T2-B(PP4)'!$J$193","v":0},"#'T2-B(PP4)'!$J$193"]
["pp4_bl4_13_9_total_in",{"$f":"'T2-B(PP4)'!$F$193","v":0},"#'T2-B(PP4)'!$F$193"]
["pp4_bl4_13_9_total_out",{"$f":"'T2-B(PP4)'!$I$193","v":0},"#'T2-B(PP4)'!$I$193"]
["pp4_bl4_13_9_unit",{"$f":"'T2-B(PP4)'!$C$193","v":0},"#'T2-B(PP4)'!$C$193"]
["pp4_bl4_13_9_unit_in",{"$f":"'T2-B(PP4)'!$D$193","v":0},"#'T2-B(PP4)'!$D$193"]
["pp4_bl4_13_9_units_out",{"$f":"'T2-B(PP4)'!$G$193","v":0},"#'T2-B(PP4)'!$G$193"]
["pp4_bl4_13_total",{"$f":"'T2-B(PP4)'!$J$184","v":0},"#'T2-B(PP4)'!$J$184"]
["pp4_bl4_13_total_in",{"$f":"'T2-B(PP4)'!$F$184","v":0},"#'T2-B(PP4)'!$F$184"]
["pp4_bl4_13_total_out",{"$f":"'T2-B(PP4)'!$I$184","v":0},"#'T2-B(PP4)'!$I$184"]
["pp4_bl4_14_1_name",{"$f":"'T2-B(PP4)'!$B$196","v":0},"#'T2-B(PP4)'!$B$196"]
["pp4_bl4_14_1_rate_in",{"$f":"'T2-B(PP4)'!$E$196","v":0},"#'T2-B(PP4)'!$E$196"]
["pp4_bl4_14_1_rate_out",{"$f":"'T2-B(PP4)'!$H$196","v":0},"#'T2-B(PP4)'!$H$196"]
["pp4_bl4_14_1_total",{"$f":"'T2-B(PP4)'!$J$196","v":0},"#'T2-B(PP4)'!$J$196"]
["pp4_bl4_14_1_total_in",{"$f":"'T2-B(PP4)'!$F$196","v":0},"#'T2-B(PP4)'!$F$196"]
["pp4_bl4_14_1_total_out",{"$f":"'T2-B(PP4)'!$I$196","v":0},"#'T2-B(PP4)'!$I$196"]
["pp4_bl4_14_1_unit",{"$f":"'T2-B(PP4)'!$C$196","v":0},"#'T2-B(PP4)'!$C$196"]
["pp4_bl4_14_1_unit_in",{"$f":"'T2-B(PP4)'!$D$196","v":0},"#'T2-B(PP4)'!$D$196"]
["pp4_bl4_14_1_units_out",{"$f":"'T2-B(PP4)'!$G$196","v":0},"#'T2-B(PP4)'!$G$196"]
["pp4_bl4_14_10_name",{"$f":"'T2-B(PP4)'!$B$205","v":0},"#'T2-B(PP4)'!$B$205"]
["pp4_bl4_14_10_rate_in",{"$f":"'T2-B(PP4)'!$E$205","v":0},"#'T2-B(PP4)'!$E$205"]
["pp4_bl4_14_10_rate_out",{"$f":"'T2-B(PP4)'!$H$205","v":0},"#'T2-B(PP4)'!$H$205"]
["pp4_bl4_14_10_total",{"$f":"'T2-B(PP4)'!$J$205","v":0},"#'T2-B(PP4)'!$J$205"]
["pp4_bl4_14_10_total_in",{"$f":"'T2-B(PP4)'!$F$205","v":0},"#'T2-B(PP4)'!$F$205"]
["pp4_bl4_14_10_total_out",{"$f":"'T2-B(PP4)'!$I$205","v":0},"#'T2-B(PP4)'!$I$205"]
["pp4_bl4_14_10_unit",{"$f":"'T2-B(PP4)'!$C$205","v":0},"#'T2-B(PP4)'!$C$205"]
["pp4_bl4_14_10_unit_in",{"$f":"'T2-B(PP4)'!$D$205","v":0},"#'T2-B(PP4)'!$D$205"]
["pp4_bl4_14_10_units_out",{"$f":"'T2-B(PP4)'!$G$205","v":0},"#'T2-B(PP4)'!$G$205"]
["pp4_bl4_14_2_name",{"$f":"'T2-B(PP4)'!$B$197","v":0},"#'T2-B(PP4)'!$B$197"]
["pp4_bl4_14_2_rate_in",{"$f":"'T2-B(PP4)'!$E$197","v":0},"#'T2-B(PP4)'!$E$197"]
["pp4_bl4_14_2_rate_out",{"$f":"'T2-B(PP4)'!$H$197","v":0},"#'T2-B(PP4)'!$H$197"]
["pp4_bl4_14_2_total",{"$f":"'T2-B(PP4)'!$J$197","v":0},"#'T2-B(PP4)'!$J$197"]
["pp4_bl4_14_2_total_in",{"$f":"'T2-B(PP4)'!$F$197","v":0},"#'T2-B(PP4)'!$F$197"]
["pp4_bl4_14_2_total_out",{"$f":"'T2-B(PP4)'!$I$197","v":0},"#'T2-B(PP4)'!$I$197"]
["pp4_bl4_14_2_unit",{"$f":"'T2-B(PP4)'!$C$197","v":0},"#'T2-B(PP4)'!$C$197"]
["pp4_bl4_14_2_unit_in",{"$f":"'T2-B(PP4)'!$D$197","v":0},"#'T2-B(PP4)'!$D$197"]
["pp4_bl4_14_2_units_out",{"$f":"'T2-B(PP4)'!$G$197","v":0},"#'T2-B(PP4)'!$G$197"]
["pp4_bl4_14_3_name",{"$f":"'T2-B(PP4)'!$B$198","v":0},"#'T2-B(PP4)'!$B$198"]
["pp4_bl4_14_3_rate_in",{"$f":"'T2-B(PP4)'!$E$198","v":0},"#'T2-B(PP4)'!$E$198"]
["pp4_bl4_14_3_rate_out",{"$f":"'T2-B(PP4)'!$H$198","v":0},"#'T2-B(PP4)'!$H$198"]
["pp4_bl4_14_3_total",{"$f":"'T2-B(PP4)'!$J$198","v":0},"#'T2-B(PP4)'!$J$198"]
["pp4_bl4_14_3_total_in",{"$f":"'T2-B(PP4)'!$F$198","v":0},"#'T2-B(PP4)'!$F$198"]
["pp4_bl4_14_3_total_out",{"$f":"'T2-B(PP4)'!$I$198","v":0},"#'T2-B(PP4)'!$I$198"]
["pp4_bl4_14_3_unit",{"$f":"'T2-B(PP4)'!$C$198","v":0},"#'T2-B(PP4)'!$C$198"]
["pp4_bl4_14_3_unit_in",{"$f":"'T2-B(PP4)'!$D$198","v":0},"#'T2-B(PP4)'!$D$198"]
["pp4_bl4_14_3_units_out",{"$f":"'T2-B(PP4)'!$G$198","v":0},"#'T2-B(PP4)'!$G$198"]
["pp4_bl4_14_4_name",{"$f":"'T2-B(PP4)'!$B$199","v":0},"#'T2-B(PP4)'!$B$199"]
["pp4_bl4_14_4_rate_in",{"$f":"'T2-B(PP4)'!$E$199","v":0},"#'T2-B(PP4)'!$E$199"]
["pp4_bl4_14_4_rate_out",{"$f":"'T2-B(PP4)'!$H$199","v":0},"#'T2-B(PP4)'!$H$199"]
["pp4_bl4_14_4_total",{"$f":"'T2-B(PP4)'!$J$199","v":0},"#'T2-B(PP4)'!$J$199"]
["pp4_bl4_14_4_total_in",{"$f":"'T2-B(PP4)'!$F$199","v":0},"#'T2-B(PP4)'!$F$199"]
["pp4_bl4_14_4_total_out",{"$f":"'T2-B(PP4)'!$I$199","v":0},"#'T2-B(PP4)'!$I$199"]
["pp4_bl4_14_4_unit",{"$f":"'T2-B(PP4)'!$C$199","v":0},"#'T2-B(PP4)'!$C$199"]
["pp4_bl4_14_4_unit_in",{"$f":"'T2-B(PP4)'!$D$199","v":0},"#'T2-B(PP4)'!$D$199"]
["pp4_bl4_14_4_units_out",{"$f":"'T2-B(PP4)'!$G$199","v":0},"#'T2-B(PP4)'!$G$199"]
["pp4_bl4_14_5_name",{"$f":"'T2-B(PP4)'!$B$200","v":0},"#'T2-B(PP4)'!$B$200"]
["pp4_bl4_14_5_rate_in",{"$f":"'T2-B(PP4)'!$E$200","v":0},"#'T2-B(PP4)'!$E$200"]
["pp4_bl4_14_5_rate_out",{"$f":"'T2-B(PP4)'!$H$200","v":0},"#'T2-B(PP4)'!$H$200"]
["pp4_bl4_14_5_total",{"$f":"'T2-B(PP4)'!$J$200","v":0},"#'T2-B(PP4)'!$J$200"]
["pp4_bl4_14_5_total_in",{"$f":"'T2-B(PP4)'!$F$200","v":0},"#'T2-B(PP4)'!$F$200"]
["pp4_bl4_14_5_total_out",{"$f":"'T2-B(PP4)'!$I$200","v":0},"#'T2-B(PP4)'!$I$200"]
["pp4_bl4_14_5_unit",{"$f":"'T2-B(PP4)'!$C$200","v":0},"#'T2-B(PP4)'!$C$200"]
["pp4_bl4_14_5_unit_in",{"$f":"'T2-B(PP4)'!$D$200","v":0},"#'T2-B(PP4)'!$D$200"]
["pp4_bl4_14_5_units_out",{"$f":"'T2-B(PP4)'!$G$200","v":0},"#'T2-B(PP4)'!$G$200"]
["pp4_bl4_14_6_name",{"$f":"'T2-B(PP4)'!$B$201","v":0},"#'T2-B(PP4)'!$B$201"]
["pp4_bl4_14_6_rate_in",{"$f":"'T2-B(PP4)'!$E$201","v":0},"#'T2-B(PP4)'!$E$201"]
["pp4_bl4_14_6_rate_out",{"$f":"'T2-B(PP4)'!$H$201","v":0},"#'T2-B(PP4)'!$H$201"]
["pp4_bl4_14_6_total",{"$f":"'T2-B(PP4)'!$J$201","v":0},"#'T2-B(PP4)'!$J$201"]
["pp4_bl4_14_6_total_in",{"$f":"'T2-B(PP4)'!$F$201","v":0},"#'T2-B(PP4)'!$F$201"]
["pp4_bl4_14_6_total_out",{"$f":"'T2-B(PP4)'!$I$201","v":0},"#'T2-B(PP4)'!$I$201"]
["pp4_bl4_14_6_unit",{"$f":"'T2-B(PP4)'!$C$201","v":0},"#'T2-B(PP4)'!$C$201"]
["pp4_bl4_14_6_unit_in",{"$f":"'T2-B(PP4)'!$D$201","v":0},"#'T2-B(PP4)'!$D$201"]
["pp4_bl4_14_6_units_out",{"$f":"'T2-B(PP4)'!$G$201","v":0},"#'T2-B(PP4)'!$G$201"]
["pp4_bl4_14_7_name",{"$f":"'T2-B(PP4)'!$B$202","v":0},"#'T2-B(PP4)'!$B$202"]
["pp4_bl4_14_7_rate_in",{"$f":"'T2-B(PP4)'!$E$202","v":0},"#'T2-B(PP4)'!$E$202"]
["pp4_bl4_14_7_rate_out",{"$f":"'T2-B(PP4)'!$H$202","v":0},"#'T2-B(PP4)'!$H$202"]
["pp4_bl4_14_7_total",{"$f":"'T2-B(PP4)'!$J$202","v":0},"#'T2-B(PP4)'!$J$202"]
["pp4_bl4_14_7_total_in",{"$f":"'T2-B(PP4)'!$F$202","v":0},"#'T2-B(PP4)'!$F$202"]
["pp4_bl4_14_7_total_out",{"$f":"'T2-B(PP4)'!$I$202","v":0},"#'T2-B(PP4)'!$I$202"]
["pp4_bl4_14_7_unit",{"$f":"'T2-B(PP4)'!$C$202","v":0},"#'T2-B(PP4)'!$C$202"]
["pp4_bl4_14_7_unit_in",{"$f":"'T2-B(PP4)'!$D$202","v":0},"#'T2-B(PP4)'!$D$202"]
["pp4_bl4_14_7_units_out",{"$f":"'T2-B(PP4)'!$G$202","v":0},"#'T2-B(PP4)'!$G$202"]
["pp4_bl4_14_8_name",{"$f":"'T2-B(PP4)'!$B$203","v":0},"#'T2-B(PP4)'!$B$203"]
["pp4_bl4_14_8_rate_in",{"$f":"'T2-B(PP4)'!$E$203","v":0},"#'T2-B(PP4)'!$E$203"]
["pp4_bl4_14_8_rate_out",{"$f":"'T2-B(PP4)'!$H$203","v":0},"#'T2-B(PP4)'!$H$203"]
["pp4_bl4_14_8_total",{"$f":"'T2-B(PP4)'!$J$203","v":0},"#'T2-B(PP4)'!$J$203"]
["pp4_bl4_14_8_total_in",{"$f":"'T2-B(PP4)'!$F$203","v":0},"#'T2-B(PP4)'!$F$203"]
["pp4_bl4_14_8_total_out",{"$f":"'T2-B(PP4)'!$I$203","v":0},"#'T2-B(PP4)'!$I$203"]
["pp4_bl4_14_8_unit",{"$f":"'T2-B(PP4)'!$C$203","v":0},"#'T2-B(PP4)'!$C$203"]
["pp4_bl4_14_8_unit_in",{"$f":"'T2-B(PP4)'!$D$203","v":0},"#'T2-B(PP4)'!$D$203"]
["pp4_bl4_14_8_units_out",{"$f":"'T2-B(PP4)'!$G$203","v":0},"#'T2-B(PP4)'!$G$203"]
["pp4_bl4_14_9_name",{"$f":"'T2-B(PP4)'!$B$204","v":0},"#'T2-B(PP4)'!$B$204"]
["pp4_bl4_14_9_rate_in",{"$f":"'T2-B(PP4)'!$E$204","v":0},"#'T2-B(PP4)'!$E$204"]
["pp4_bl4_14_9_rate_out",{"$f":"'T2-B(PP4)'!$H$204","v":0},"#'T2-B(PP4)'!$H$204"]
["pp4_bl4_14_9_total",{"$f":"'T2-B(PP4)'!$J$204","v":0},"#'T2-B(PP4)'!$J$204"]
["pp4_bl4_14_9_total_in",{"$f":"'T2-B(PP4)'!$F$204","v":0},"#'T2-B(PP4)'!$F$204"]
["pp4_bl4_14_9_total_out",{"$f":"'T2-B(PP4)'!$I$204","v":0},"#'T2-B(PP4)'!$I$204"]
["pp4_bl4_14_9_unit",{"$f":"'T2-B(PP4)'!$C$204","v":0},"#'T2-B(PP4)'!$C$204"]
["pp4_bl4_14_9_unit_in",{"$f":"'T2-B(PP4)'!$D$204","v":0},"#'T2-B(PP4)'!$D$204"]
["pp4_bl4_14_9_units_out",{"$f":"'T2-B(PP4)'!$G$204","v":0},"#'T2-B(PP4)'!$G$204"]
["pp4_bl4_14_total",{"$f":"'T2-B(PP4)'!$J$195","v":0},"#'T2-B(PP4)'!$J$195"]
["pp4_bl4_14_total_in",{"$f":"'T2-B(PP4)'!$F$195","v":0},"#'T2-B(PP4)'!$F$195"]
["pp4_bl4_14_total_out",{"$f":"'T2-B(PP4)'!$I$195","v":0},"#'T2-B(PP4)'!$I$195"]
["pp4_bl4_2_1_name",{"$f":"'T2-B(PP4)'!$B$64","v":0},"#'T2-B(PP4)'!$B$64"]
["pp4_bl4_2_1_rate_in",{"$f":"'T2-B(PP4)'!$E$64","v":0},"#'T2-B(PP4)'!$E$64"]
["pp4_bl4_2_1_rate_out",{"$f":"'T2-B(PP4)'!$H$64","v":0},"#'T2-B(PP4)'!$H$64"]
["pp4_bl4_2_1_total",{"$f":"'T2-B(PP4)'!$J$64","v":0},"#'T2-B(PP4)'!$J$64"]
["pp4_bl4_2_1_total_in",{"$f":"'T2-B(PP4)'!$F$64","v":0},"#'T2-B(PP4)'!$F$64"]
["pp4_bl4_2_1_total_out",{"$f":"'T2-B(PP4)'!$I$64","v":0},"#'T2-B(PP4)'!$I$64"]
["pp4_bl4_2_1_unit",{"$f":"'T2-B(PP4)'!$C$64","v":0},"#'T2-B(PP4)'!$C$64"]
["pp4_bl4_2_1_unit_in",{"$f":"'T2-B(PP4)'!$D$64","v":0},"#'T2-B(PP4)'!$D$64"]
["pp4_bl4_2_1_units_out",{"$f":"'T2-B(PP4)'!$G$64","v":0},"#'T2-B(PP4)'!$G$64"]
["pp4_bl4_2_10_name",{"$f":"'T2-B(PP4)'!$B$73","v":0},"#'T2-B(PP4)'!$B$73"]
["pp4_bl4_2_10_rate_in",{"$f":"'T2-B(PP4)'!$E$73","v":0},"#'T2-B(PP4)'!$E$73"]
["pp4_bl4_2_10_rate_out",{"$f":"'T2-B(PP4)'!$H$73","v":0},"#'T2-B(PP4)'!$H$73"]
["pp4_bl4_2_10_total",{"$f":"'T2-B(PP4)'!$J$73","v":0},"#'T2-B(PP4)'!$J$73"]
["pp4_bl4_2_10_total_in",{"$f":"'T2-B(PP4)'!$F$73","v":0},"#'T2-B(PP4)'!$F$73"]
["pp4_bl4_2_10_total_out",{"$f":"'T2-B(PP4)'!$I$73","v":0},"#'T2-B(PP4)'!$I$73"]
["pp4_bl4_2_10_unit",{"$f":"'T2-B(PP4)'!$C$73","v":0},"#'T2-B(PP4)'!$C$73"]
["pp4_bl4_2_10_unit_in",{"$f":"'T2-B(PP4)'!$D$73","v":0},"#'T2-B(PP4)'!$D$73"]
["pp4_bl4_2_10_units_out",{"$f":"'T2-B(PP4)'!$G$73","v":0},"#'T2-B(PP4)'!$G$73"]
["pp4_bl4_2_2_name",{"$f":"'T2-B(PP4)'!$B$65","v":0},"#'T2-B(PP4)'!$B$65"]
["pp4_bl4_2_2_rate_in",{"$f":"'T2-B(PP4)'!$E$65","v":0},"#'T2-B(PP4)'!$E$65"]
["pp4_bl4_2_2_rate_out",{"$f":"'T2-B(PP4)'!$H$65","v":0},"#'T2-B(PP4)'!$H$65"]
["pp4_bl4_2_2_total",{"$f":"'T2-B(PP4)'!$J$65","v":0},"#'T2-B(PP4)'!$J$65"]
["pp4_bl4_2_2_total_in",{"$f":"'T2-B(PP4)'!$F$65","v":0},"#'T2-B(PP4)'!$F$65"]
["pp4_bl4_2_2_total_out",{"$f":"'T2-B(PP4)'!$I$65","v":0},"#'T2-B(PP4)'!$I$65"]
["pp4_bl4_2_2_unit",{"$f":"'T2-B(PP4)'!$C$65","v":0},"#'T2-B(PP4)'!$C$65"]
["pp4_bl4_2_2_unit_in",{"$f":"'T2-B(PP4)'!$D$65","v":0},"#'T2-B(PP4)'!$D$65"]
["pp4_bl4_2_2_units_out",{"$f":"'T2-B(PP4)'!$G$65","v":0},"#'T2-B(PP4)'!$G$65"]
["pp4_bl4_2_3_name",{"$f":"'T2-B(PP4)'!$B$66","v":0},"#'T2-B(PP4)'!$B$66"]
["pp4_bl4_2_3_rate_in",{"$f":"'T2-B(PP4)'!$E$66","v":0},"#'T2-B(PP4)'!$E$66"]
["pp4_bl4_2_3_rate_out",{"$f":"'T2-B(PP4)'!$H$66","v":0},"#'T2-B(PP4)'!$H$66"]
["pp4_bl4_2_3_total",{"$f":"'T2-B(PP4)'!$J$66","v":0},"#'T2-B(PP4)'!$J$66"]
["pp4_bl4_2_3_total_in",{"$f":"'T2-B(PP4)'!$F$66","v":0},"#'T2-B(PP4)'!$F$66"]
["pp4_bl4_2_3_total_out",{"$f":"'T2-B(PP4)'!$I$66","v":0},"#'T2-B(PP4)'!$I$66"]
["pp4_bl4_2_3_unit",{"$f":"'T2-B(PP4)'!$C$66","v":0},"#'T2-B(PP4)'!$C$66"]
["pp4_bl4_2_3_unit_in",{"$f":"'T2-B(PP4)'!$D$66","v":0},"#'T2-B(PP4)'!$D$66"]
["pp4_bl4_2_3_units_out",{"$f":"'T2-B(PP4)'!$G$66","v":0},"#'T2-B(PP4)'!$G$66"]
["pp4_bl4_2_4_name",{"$f":"'T2-B(PP4)'!$B$67","v":0},"#'T2-B(PP4)'!$B$67"]
["pp4_bl4_2_4_rate_in",{"$f":"'T2-B(PP4)'!$E$67","v":0},"#'T2-B(PP4)'!$E$67"]
["pp4_bl4_2_4_rate_out",{"$f":"'T2-B(PP4)'!$H$67","v":0},"#'T2-B(PP4)'!$H$67"]
["pp4_bl4_2_4_total",{"$f":"'T2-B(PP4)'!$J$67","v":0},"#'T2-B(PP4)'!$J$67"]
["pp4_bl4_2_4_total_in",{"$f":"'T2-B(PP4)'!$F$67","v":0},"#'T2-B(PP4)'!$F$67"]
["pp4_bl4_2_4_total_out",{"$f":"'T2-B(PP4)'!$I$67","v":0},"#'T2-B(PP4)'!$I$67"]
["pp4_bl4_2_4_unit",{"$f":"'T2-B(PP4)'!$C$67","v":0},"#'T2-B(PP4)'!$C$67"]
["pp4_bl4_2_4_unit_in",{"$f":"'T2-B(PP4)'!$D$67","v":0},"#'T2-B(PP4)'!$D$67"]
["pp4_bl4_2_4_units_out",{"$f":"'T2-B(PP4)'!$G$67","v":0},"#'T2-B(PP4)'!$G$67"]
["pp4_bl4_2_5_name",{"$f":"'T2-B(PP4)'!$B$68","v":0},"#'T2-B(PP4)'!$B$68"]
["pp4_bl4_2_5_rate_in",{"$f":"'T2-B(PP4)'!$E$68","v":0},"#'T2-B(PP4)'!$E$68"]
["pp4_bl4_2_5_rate_out",{"$f":"'T2-B(PP4)'!$H$68","v":0},"#'T2-B(PP4)'!$H$68"]
["pp4_bl4_2_5_total",{"$f":"'T2-B(PP4)'!$J$68","v":0},"#'T2-B(PP4)'!$J$68"]
["pp4_bl4_2_5_total_in",{"$f":"'T2-B(PP4)'!$F$68","v":0},"#'T2-B(PP4)'!$F$68"]
["pp4_bl4_2_5_total_out",{"$f":"'T2-B(PP4)'!$I$68","v":0},"#'T2-B(PP4)'!$I$68"]
["pp4_bl4_2_5_unit",{"$f":"'T2-B(PP4)'!$C$68","v":0},"#'T2-B(PP4)'!$C$68"]
["pp4_bl4_2_5_unit_in",{"$f":"'T2-B(PP4)'!$D$68","v":0},"#'T2-B(PP4)'!$D$68"]
["pp4_bl4_2_5_units_out",{"$f":"'T2-B(PP4)'!$G$68","v":0},"#'T2-B(PP4)'!$G$68"]
["pp4_bl4_2_6_name",{"$f":"'T2-B(PP4)'!$B$69","v":0},"#'T2-B(PP4)'!$B$69"]
["pp4_bl4_2_6_rate_in",{"$f":"'T2-B(PP4)'!$E$69","v":0},"#'T2-B(PP4)'!$E$69"]
["pp4_bl4_2_6_rate_out",{"$f":"'T2-B(PP4)'!$H$69","v":0},"#'T2-B(PP4)'!$H$69"]
["pp4_bl4_2_6_total",{"$f":"'T2-B(PP4)'!$J$69","v":0},"#'T2-B(PP4)'!$J$69"]
["pp4_bl4_2_6_total_in",{"$f":"'T2-B(PP4)'!$F$69","v":0},"#'T2-B(PP4)'!$F$69"]
["pp4_bl4_2_6_total_out",{"$f":"'T2-B(PP4)'!$I$69","v":0},"#'T2-B(PP4)'!$I$69"]
["pp4_bl4_2_6_unit",{"$f":"'T2-B(PP4)'!$C$69","v":0},"#'T2-B(PP4)'!$C$69"]
["pp4_bl4_2_6_unit_in",{"$f":"'T2-B(PP4)'!$D$69","v":0},"#'T2-B(PP4)'!$D$69"]
["pp4_bl4_2_6_units_out",{"$f":"'T2-B(PP4)'!$G$69","v":0},"#'T2-B(PP4)'!$G$69"]
["pp4_bl4_2_7_name",{"$f":"'T2-B(PP4)'!$B$70","v":0},"#'T2-B(PP4)'!$B$70"]
["pp4_bl4_2_7_rate_in",{"$f":"'T2-B(PP4)'!$E$70","v":0},"#'T2-B(PP4)'!$E$70"]
["pp4_bl4_2_7_rate_out",{"$f":"'T2-B(PP4)'!$H$70","v":0},"#'T2-B(PP4)'!$H$70"]
["pp4_bl4_2_7_total",{"$f":"'T2-B(PP4)'!$J$70","v":0},"#'T2-B(PP4)'!$J$70"]
["pp4_bl4_2_7_total_in",{"$f":"'T2-B(PP4)'!$F$70","v":0},"#'T2-B(PP4)'!$F$70"]
["pp4_bl4_2_7_total_out",{"$f":"'T2-B(PP4)'!$I$70","v":0},"#'T2-B(PP4)'!$I$70"]
["pp4_bl4_2_7_unit",{"$f":"'T2-B(PP4)'!$C$70","v":0},"#'T2-B(PP4)'!$C$70"]
["pp4_bl4_2_7_unit_in",{"$f":"'T2-B(PP4)'!$D$70","v":0},"#'T2-B(PP4)'!$D$70"]
["pp4_bl4_2_7_units_out",{"$f":"'T2-B(PP4)'!$G$70","v":0},"#'T2-B(PP4)'!$G$70"]
["pp4_bl4_2_8_name",{"$f":"'T2-B(PP4)'!$B$71","v":0},"#'T2-B(PP4)'!$B$71"]
["pp4_bl4_2_8_rate_in",{"$f":"'T2-B(PP4)'!$E$71","v":0},"#'T2-B(PP4)'!$E$71"]
["pp4_bl4_2_8_rate_out",{"$f":"'T2-B(PP4)'!$H$71","v":0},"#'T2-B(PP4)'!$H$71"]
["pp4_bl4_2_8_total",{"$f":"'T2-B(PP4)'!$J$71","v":0},"#'T2-B(PP4)'!$J$71"]
["pp4_bl4_2_8_total_in",{"$f":"'T2-B(PP4)'!$F$71","v":0},"#'T2-B(PP4)'!$F$71"]
["pp4_bl4_2_8_total_out",{"$f":"'T2-B(PP4)'!$I$71","v":0},"#'T2-B(PP4)'!$I$71"]
["pp4_bl4_2_8_unit",{"$f":"'T2-B(PP4)'!$C$71","v":0},"#'T2-B(PP4)'!$C$71"]
["pp4_bl4_2_8_unit_in",{"$f":"'T2-B(PP4)'!$D$71","v":0},"#'T2-B(PP4)'!$D$71"]
["pp4_bl4_2_8_units_out",{"$f":"'T2-B(PP4)'!$G$71","v":0},"#'T2-B(PP4)'!$G$71"]
["pp4_bl4_2_9_name",{"$f":"'T2-B(PP4)'!$B$72","v":0},"#'T2-B(PP4)'!$B$72"]
["pp4_bl4_2_9_rate_in",{"$f":"'T2-B(PP4)'!$E$72","v":0},"#'T2-B(PP4)'!$E$72"]
["pp4_bl4_2_9_rate_out",{"$f":"'T2-B(PP4)'!$H$72","v":0},"#'T2-B(PP4)'!$H$72"]
["pp4_bl4_2_9_total",{"$f":"'T2-B(PP4)'!$J$72","v":0},"#'T2-B(PP4)'!$J$72"]
["pp4_bl4_2_9_total_in",{"$f":"'T2-B(PP4)'!$F$72","v":0},"#'T2-B(PP4)'!$F$72"]
["pp4_bl4_2_9_total_out",{"$f":"'T2-B(PP4)'!$I$72","v":0},"#'T2-B(PP4)'!$I$72"]
["pp4_bl4_2_9_unit",{"$f":"'T2-B(PP4)'!$C$72","v":0},"#'T2-B(PP4)'!$C$72"]
["pp4_bl4_2_9_unit_in",{"$f":"'T2-B(PP4)'!$D$72","v":0},"#'T2-B(PP4)'!$D$72"]
["pp4_bl4_2_9_units_out",{"$f":"'T2-B(PP4)'!$G$72","v":0},"#'T2-B(PP4)'!$G$72"]
["pp4_bl4_2_total",{"$f":"'T2-B(PP4)'!$J$63","v":0},"#'T2-B(PP4)'!$J$63"]
["pp4_bl4_2_total_in",{"$f":"'T2-B(PP4)'!$F$63","v":0},"#'T2-B(PP4)'!$F$63"]
["pp4_bl4_2_total_out",{"$f":"'T2-B(PP4)'!$I$63","v":0},"#'T2-B(PP4)'!$I$63"]
["pp4_bl4_3_1_name",{"$f":"'T2-B(PP4)'!$B$75","v":0},"#'T2-B(PP4)'!$B$75"]
["pp4_bl4_3_1_rate_in",{"$f":"'T2-B(PP4)'!$E$75","v":0},"#'T2-B(PP4)'!$E$75"]
["pp4_bl4_3_1_rate_out",{"$f":"'T2-B(PP4)'!$H$75","v":0},"#'T2-B(PP4)'!$H$75"]
["pp4_bl4_3_1_total",{"$f":"'T2-B(PP4)'!$J$75","v":0},"#'T2-B(PP4)'!$J$75"]
["pp4_bl4_3_1_total_in",{"$f":"'T2-B(PP4)'!$F$75","v":0},"#'T2-B(PP4)'!$F$75"]
["pp4_bl4_3_1_total_out",{"$f":"'T2-B(PP4)'!$I$75","v":0},"#'T2-B(PP4)'!$I$75"]
["pp4_bl4_3_1_unit",{"$f":"'T2-B(PP4)'!$C$75","v":0},"#'T2-B(PP4)'!$C$75"]
["pp4_bl4_3_1_unit_in",{"$f":"'T2-B(PP4)'!$D$75","v":0},"#'T2-B(PP4)'!$D$75"]
["pp4_bl4_3_1_units_out",{"$f":"'T2-B(PP4)'!$G$75","v":0},"#'T2-B(PP4)'!$G$75"]
["pp4_bl4_3_10_name",{"$f":"'T2-B(PP4)'!$B$84","v":0},"#'T2-B(PP4)'!$B$84"]
["pp4_bl4_3_10_rate_in",{"$f":"'T2-B(PP4)'!$E$84","v":0},"#'T2-B(PP4)'!$E$84"]
["pp4_bl4_3_10_rate_out",{"$f":"'T2-B(PP4)'!$H$84","v":0},"#'T2-B(PP4)'!$H$84"]
["pp4_bl4_3_10_total",{"$f":"'T2-B(PP4)'!$J$84","v":0},"#'T2-B(PP4)'!$J$84"]
["pp4_bl4_3_10_total_in",{"$f":"'T2-B(PP4)'!$F$84","v":0},"#'T2-B(PP4)'!$F$84"]
["pp4_bl4_3_10_total_out",{"$f":"'T2-B(PP4)'!$I$84","v":0},"#'T2-B(PP4)'!$I$84"]
["pp4_bl4_3_10_unit",{"$f":"'T2-B(PP4)'!$C$84","v":0},"#'T2-B(PP4)'!$C$84"]
["pp4_bl4_3_10_unit_in",{"$f":"'T2-B(PP4)'!$D$84","v":0},"#'T2-B(PP4)'!$D$84"]
["pp4_bl4_3_10_units_out",{"$f":"'T2-B(PP4)'!$G$84","v":0},"#'T2-B(PP4)'!$G$84"]
["pp4_bl4_3_2_name",{"$f":"'T2-B(PP4)'!$B$76","v":0},"#'T2-B(PP4)'!$B$76"]
["pp4_bl4_3_2_rate_in",{"$f":"'T2-B(PP4)'!$E$76","v":0},"#'T2-B(PP4)'!$E$76"]
["pp4_bl4_3_2_rate_out",{"$f":"'T2-B(PP4)'!$H$76","v":0},"#'T2-B(PP4)'!$H$76"]
["pp4_bl4_3_2_total",{"$f":"'T2-B(PP4)'!$J$76","v":0},"#'T2-B(PP4)'!$J$76"]
["pp4_bl4_3_2_total_in",{"$f":"'T2-B(PP4)'!$F$76","v":0},"#'T2-B(PP4)'!$F$76"]
["pp4_bl4_3_2_total_out",{"$f":"'T2-B(PP4)'!$I$76","v":0},"#'T2-B(PP4)'!$I$76"]
["pp4_bl4_3_2_unit",{"$f":"'T2-B(PP4)'!$C$76","v":0},"#'T2-B(PP4)'!$C$76"]
["pp4_bl4_3_2_unit_in",{"$f":"'T2-B(PP4)'!$D$76","v":0},"#'T2-B(PP4)'!$D$76"]
["pp4_bl4_3_2_units_out",{"$f":"'T2-B(PP4)'!$G$76","v":0},"#'T2-B(PP4)'!$G$76"]
["pp4_bl4_3_3_name",{"$f":"'T2-B(PP4)'!$B$77","v":0},"#'T2-B(PP4)'!$B$77"]
["pp4_bl4_3_3_rate_in",{"$f":"'T2-B(PP4)'!$E$77","v":0},"#'T2-B(PP4)'!$E$77"]
["pp4_bl4_3_3_rate_out",{"$f":"'T2-B(PP4)'!$H$77","v":0},"#'T2-B(PP4)'!$H$77"]
["pp4_bl4_3_3_total",{"$f":"'T2-B(PP4)'!$J$77","v":0},"#'T2-B(PP4)'!$J$77"]
["pp4_bl4_3_3_total_in",{"$f":"'T2-B(PP4)'!$F$77","v":0},"#'T2-B(PP4)'!$F$77"]
["pp4_bl4_3_3_total_out",{"$f":"'T2-B(PP4)'!$I$77","v":0},"#'T2-B(PP4)'!$I$77"]
["pp4_bl4_3_3_unit",{"$f":"'T2-B(PP4)'!$C$77","v":0},"#'T2-B(PP4)'!$C$77"]
["pp4_bl4_3_3_unit_in",{"$f":"'T2-B(PP4)'!$D$77","v":0},"#'T2-B(PP4)'!$D$77"]
["pp4_bl4_3_3_units_out",{"$f":"'T2-B(PP4)'!$G$77","v":0},"#'T2-B(PP4)'!$G$77"]
["pp4_bl4_3_4_name",{"$f":"'T2-B(PP4)'!$B$78","v":0},"#'T2-B(PP4)'!$B$78"]
["pp4_bl4_3_4_rate_in",{"$f":"'T2-B(PP4)'!$E$78","v":0},"#'T2-B(PP4)'!$E$78"]
["pp4_bl4_3_4_rate_out",{"$f":"'T2-B(PP4)'!$H$78","v":0},"#'T2-B(PP4)'!$H$78"]
["pp4_bl4_3_4_total",{"$f":"'T2-B(PP4)'!$J$78","v":0},"#'T2-B(PP4)'!$J$78"]
["pp4_bl4_3_4_total_in",{"$f":"'T2-B(PP4)'!$F$78","v":0},"#'T2-B(PP4)'!$F$78"]
["pp4_bl4_3_4_total_out",{"$f":"'T2-B(PP4)'!$I$78","v":0},"#'T2-B(PP4)'!$I$78"]
["pp4_bl4_3_4_unit",{"$f":"'T2-B(PP4)'!$C$78","v":0},"#'T2-B(PP4)'!$C$78"]
["pp4_bl4_3_4_unit_in",{"$f":"'T2-B(PP4)'!$D$78","v":0},"#'T2-B(PP4)'!$D$78"]
["pp4_bl4_3_4_units_out",{"$f":"'T2-B(PP4)'!$G$78","v":0},"#'T2-B(PP4)'!$G$78"]
["pp4_bl4_3_5_name",{"$f":"'T2-B(PP4)'!$B$79","v":0},"#'T2-B(PP4)'!$B$79"]
["pp4_bl4_3_5_rate_in",{"$f":"'T2-B(PP4)'!$E$79","v":0},"#'T2-B(PP4)'!$E$79"]
["pp4_bl4_3_5_rate_out",{"$f":"'T2-B(PP4)'!$H$79","v":0},"#'T2-B(PP4)'!$H$79"]
["pp4_bl4_3_5_total",{"$f":"'T2-B(PP4)'!$J$79","v":0},"#'T2-B(PP4)'!$J$79"]
["pp4_bl4_3_5_total_in",{"$f":"'T2-B(PP4)'!$F$79","v":0},"#'T2-B(PP4)'!$F$79"]
["pp4_bl4_3_5_total_out",{"$f":"'T2-B(PP4)'!$I$79","v":0},"#'T2-B(PP4)'!$I$79"]
["pp4_bl4_3_5_unit",{"$f":"'T2-B(PP4)'!$C$79","v":0},"#'T2-B(PP4)'!$C$79"]
["pp4_bl4_3_5_unit_in",{"$f":"'T2-B(PP4)'!$D$79","v":0},"#'T2-B(PP4)'!$D$79"]
["pp4_bl4_3_5_units_out",{"$f":"'T2-B(PP4)'!$G$79","v":0},"#'T2-B(PP4)'!$G$79"]
["pp4_bl4_3_6_name",{"$f":"'T2-B(PP4)'!$B$80","v":0},"#'T2-B(PP4)'!$B$80"]
["pp4_bl4_3_6_rate_in",{"$f":"'T2-B(PP4)'!$E$80","v":0},"#'T2-B(PP4)'!$E$80"]
["pp4_bl4_3_6_rate_out",{"$f":"'T2-B(PP4)'!$H$80","v":0},"#'T2-B(PP4)'!$H$80"]
["pp4_bl4_3_6_total",{"$f":"'T2-B(PP4)'!$J$80","v":0},"#'T2-B(PP4)'!$J$80"]
["pp4_bl4_3_6_total_in",{"$f":"'T2-B(PP4)'!$F$80","v":0},"#'T2-B(PP4)'!$F$80"]
["pp4_bl4_3_6_total_out",{"$f":"'T2-B(PP4)'!$I$80","v":0},"#'T2-B(PP4)'!$I$80"]
["pp4_bl4_3_6_unit",{"$f":"'T2-B(PP4)'!$C$80","v":0},"#'T2-B(PP4)'!$C$80"]
["pp4_bl4_3_6_unit_in",{"$f":"'T2-B(PP4)'!$D$80","v":0},"#'T2-B(PP4)'!$D$80"]
["pp4_bl4_3_6_units_out",{"$f":"'T2-B(PP4)'!$G$80","v":0},"#'T2-B(PP4)'!$G$80"]
["pp4_bl4_3_7_name",{"$f":"'T2-B(PP4)'!$B$81","v":0},"#'T2-B(PP4)'!$B$81"]
["pp4_bl4_3_7_rate_in",{"$f":"'T2-B(PP4)'!$E$81","v":0},"#'T2-B(PP4)'!$E$81"]
["pp4_bl4_3_7_rate_out",{"$f":"'T2-B(PP4)'!$H$81","v":0},"#'T2-B(PP4)'!$H$81"]
["pp4_bl4_3_7_total",{"$f":"'T2-B(PP4)'!$J$81","v":0},"#'T2-B(PP4)'!$J$81"]
["pp4_bl4_3_7_total_in",{"$f":"'T2-B(PP4)'!$F$81","v":0},"#'T2-B(PP4)'!$F$81"]
["pp4_bl4_3_7_total_out",{"$f":"'T2-B(PP4)'!$I$81","v":0},"#'T2-B(PP4)'!$I$81"]
["pp4_bl4_3_7_unit",{"$f":"'T2-B(PP4)'!$C$81","v":0},"#'T2-B(PP4)'!$C$81"]
["pp4_bl4_3_7_unit_in",{"$f":"'T2-B(PP4)'!$D$81","v":0},"#'T2-B(PP4)'!$D$81"]
["pp4_bl4_3_7_units_out",{"$f":"'T2-B(PP4)'!$G$81","v":0},"#'T2-B(PP4)'!$G$81"]
["pp4_bl4_3_8_name",{"$f":"'T2-B(PP4)'!$B$82","v":0},"#'T2-B(PP4)'!$B$82"]
["pp4_bl4_3_8_rate_in",{"$f":"'T2-B(PP4)'!$E$82","v":0},"#'T2-B(PP4)'!$E$82"]
["pp4_bl4_3_8_rate_out",{"$f":"'T2-B(PP4)'!$H$82","v":0},"#'T2-B(PP4)'!$H$82"]
["pp4_bl4_3_8_total",{"$f":"'T2-B(PP4)'!$J$82","v":0},"#'T2-B(PP4)'!$J$82"]
["pp4_bl4_3_8_total_in",{"$f":"'T2-B(PP4)'!$F$82","v":0},"#'T2-B(PP4)'!$F$82"]
["pp4_bl4_3_8_total_out",{"$f":"'T2-B(PP4)'!$I$82","v":0},"#'T2-B(PP4)'!$I$82"]
["pp4_bl4_3_8_unit",{"$f":"'T2-B(PP4)'!$C$82","v":0},"#'T2-B(PP4)'!$C$82"]
["pp4_bl4_3_8_unit_in",{"$f":"'T2-B(PP4)'!$D$82","v":0},"#'T2-B(PP4)'!$D$82"]
["pp4_bl4_3_8_units_out",{"$f":"'T2-B(PP4)'!$G$82","v":0},"#'T2-B(PP4)'!$G$82"]
["pp4_bl4_3_9_name",{"$f":"'T2-B(PP4)'!$B$83","v":0},"#'T2-B(PP4)'!$B$83"]
["pp4_bl4_3_9_rate_in",{"$f":"'T2-B(PP4)'!$E$83","v":0},"#'T2-B(PP4)'!$E$83"]
["pp4_bl4_3_9_rate_out",{"$f":"'T2-B(PP4)'!$H$83","v":0},"#'T2-B(PP4)'!$H$83"]
["pp4_bl4_3_9_total",{"$f":"'T2-B(PP4)'!$J$83","v":0},"#'T2-B(PP4)'!$J$83"]
["pp4_bl4_3_9_total_in",{"$f":"'T2-B(PP4)'!$F$83","v":0},"#'T2-B(PP4)'!$F$83"]
["pp4_bl4_3_9_total_out",{"$f":"'T2-B(PP4)'!$I$83","v":0},"#'T2-B(PP4)'!$I$83"]
["pp4_bl4_3_9_unit",{"$f":"'T2-B(PP4)'!$C$83","v":0},"#'T2-B(PP4)'!$C$83"]
["pp4_bl4_3_9_unit_in",{"$f":"'T2-B(PP4)'!$D$83","v":0},"#'T2-B(PP4)'!$D$83"]
["pp4_bl4_3_9_units_out",{"$f":"'T2-B(PP4)'!$G$83","v":0},"#'T2-B(PP4)'!$G$83"]
["pp4_bl4_3_total",{"$f":"'T2-B(PP4)'!$J$74","v":0},"#'T2-B(PP4)'!$J$74"]
["pp4_bl4_3_total_in",{"$f":"'T2-B(PP4)'!$F$74","v":0},"#'T2-B(PP4)'!$F$74"]
["pp4_bl4_3_total_out",{"$f":"'T2-B(PP4)'!$I$74","v":0},"#'T2-B(PP4)'!$I$74"]
["pp4_bl4_4_1_name",{"$f":"'T2-B(PP4)'!$B$86","v":0},"#'T2-B(PP4)'!$B$86"]
["pp4_bl4_4_1_rate_in",{"$f":"'T2-B(PP4)'!$E$86","v":0},"#'T2-B(PP4)'!$E$86"]
["pp4_bl4_4_1_rate_out",{"$f":"'T2-B(PP4)'!$H$86","v":0},"#'T2-B(PP4)'!$H$86"]
["pp4_bl4_4_1_total",{"$f":"'T2-B(PP4)'!$J$86","v":0},"#'T2-B(PP4)'!$J$86"]
["pp4_bl4_4_1_total_in",{"$f":"'T2-B(PP4)'!$F$86","v":0},"#'T2-B(PP4)'!$F$86"]
["pp4_bl4_4_1_total_out",{"$f":"'T2-B(PP4)'!$I$86","v":0},"#'T2-B(PP4)'!$I$86"]
["pp4_bl4_4_1_unit",{"$f":"'T2-B(PP4)'!$C$86","v":0},"#'T2-B(PP4)'!$C$86"]
["pp4_bl4_4_1_unit_in",{"$f":"'T2-B(PP4)'!$D$86","v":0},"#'T2-B(PP4)'!$D$86"]
["pp4_bl4_4_1_units_out",{"$f":"'T2-B(PP4)'!$G$86","v":0},"#'T2-B(PP4)'!$G$86"]
["pp4_bl4_4_10_name",{"$f":"'T2-B(PP4)'!$B$95","v":0},"#'T2-B(PP4)'!$B$95"]
["pp4_bl4_4_10_rate_in",{"$f":"'T2-B(PP4)'!$E$95","v":0},"#'T2-B(PP4)'!$E$95"]
["pp4_bl4_4_10_rate_out",{"$f":"'T2-B(PP4)'!$H$95","v":0},"#'T2-B(PP4)'!$H$95"]
["pp4_bl4_4_10_total",{"$f":"'T2-B(PP4)'!$J$95","v":0},"#'T2-B(PP4)'!$J$95"]
["pp4_bl4_4_10_total_in",{"$f":"'T2-B(PP4)'!$F$95","v":0},"#'T2-B(PP4)'!$F$95"]
["pp4_bl4_4_10_total_out",{"$f":"'T2-B(PP4)'!$I$95","v":0},"#'T2-B(PP4)'!$I$95"]
["pp4_bl4_4_10_unit",{"$f":"'T2-B(PP4)'!$C$95","v":0},"#'T2-B(PP4)'!$C$95"]
["pp4_bl4_4_10_unit_in",{"$f":"'T2-B(PP4)'!$D$95","v":0},"#'T2-B(PP4)'!$D$95"]
["pp4_bl4_4_10_units_out",{"$f":"'T2-B(PP4)'!$G$95","v":0},"#'T2-B(PP4)'!$G$95"]
["pp4_bl4_4_2_name",{"$f":"'T2-B(PP4)'!$B$87","v":0},"#'T2-B(PP4)'!$B$87"]
["pp4_bl4_4_2_rate_in",{"$f":"'T2-B(PP4)'!$E$87","v":0},"#'T2-B(PP4)'!$E$87"]
["pp4_bl4_4_2_rate_out",{"$f":"'T2-B(PP4)'!$H$87","v":0},"#'T2-B(PP4)'!$H$87"]
["pp4_bl4_4_2_total",{"$f":"'T2-B(PP4)'!$J$87","v":0},"#'T2-B(PP4)'!$J$87"]
["pp4_bl4_4_2_total_in",{"$f":"'T2-B(PP4)'!$F$87","v":0},"#'T2-B(PP4)'!$F$87"]
["pp4_bl4_4_2_total_out",{"$f":"'T2-B(PP4)'!$I$87","v":0},"#'T2-B(PP4)'!$I$87"]
["pp4_bl4_4_2_unit",{"$f":"'T2-B(PP4)'!$C$87","v":0},"#'T2-B(PP4)'!$C$87"]
["pp4_bl4_4_2_unit_in",{"$f":"'T2-B(PP4)'!$D$87","v":0},"#'T2-B(PP4)'!$D$87"]
["pp4_bl4_4_2_units_out",{"$f":"'T2-B(PP4)'!$G$87","v":0},"#'T2-B(PP4)'!$G$87"]
["pp4_bl4_4_3_name",{"$f":"'T2-B(PP4)'!$B$88","v":0},"#'T2-B(PP4)'!$B$88"]
["pp4_bl4_4_3_rate_in",{"$f":"'T2-B(PP4)'!$E$88","v":0},"#'T2-B(PP4)'!$E$88"]
["pp4_bl4_4_3_rate_out",{"$f":"'T2-B(PP4)'!$H$88","v":0},"#'T2-B(PP4)'!$H$88"]
["pp4_bl4_4_3_total",{"$f":"'T2-B(PP4)'!$J$88","v":0},"#'T2-B(PP4)'!$J$88"]
["pp4_bl4_4_3_total_in",{"$f":"'T2-B(PP4)'!$F$88","v":0},"#'T2-B(PP4)'!$F$88"]
["pp4_bl4_4_3_total_out",{"$f":"'T2-B(PP4)'!$I$88","v":0},"#'T2-B(PP4)'!$I$88"]
["pp4_bl4_4_3_unit",{"$f":"'T2-B(PP4)'!$C$88","v":0},"#'T2-B(PP4)'!$C$88"]
["pp4_bl4_4_3_unit_in",{"$f":"'T2-B(PP4)'!$D$88","v":0},"#'T2-B(PP4)'!$D$88"]
["pp4_bl4_4_3_units_out",{"$f":"'T2-B(PP4)'!$G$88","v":0},"#'T2-B(PP4)'!$G$88"]
["pp4_bl4_4_4_name",{"$f":"'T2-B(PP4)'!$B$89","v":0},"#'T2-B(PP4)'!$B$89"]
["pp4_bl4_4_4_rate_in",{"$f":"'T2-B(PP4)'!$E$89","v":0},"#'T2-B(PP4)'!$E$89"]
["pp4_bl4_4_4_rate_out",{"$f":"'T2-B(PP4)'!$H$89","v":0},"#'T2-B(PP4)'!$H$89"]
["pp4_bl4_4_4_total",{"$f":"'T2-B(PP4)'!$J$89","v":0},"#'T2-B(PP4)'!$J$89"]
["pp4_bl4_4_4_total_in",{"$f":"'T2-B(PP4)'!$F$89","v":0},"#'T2-B(PP4)'!$F$89"]
["pp4_bl4_4_4_total_out",{"$f":"'T2-B(PP4)'!$I$89","v":0},"#'T2-B(PP4)'!$I$89"]
["pp4_bl4_4_4_unit",{"$f":"'T2-B(PP4)'!$C$89","v":0},"#'T2-B(PP4)'!$C$89"]
["pp4_bl4_4_4_unit_in",{"$f":"'T2-B(PP4)'!$D$89","v":0},"#'T2-B(PP4)'!$D$89"]
["pp4_bl4_4_4_units_out",{"$f":"'T2-B(PP4)'!$G$89","v":0},"#'T2-B(PP4)'!$G$89"]
["pp4_bl4_4_5_name",{"$f":"'T2-B(PP4)'!$B$90","v":0},"#'T2-B(PP4)'!$B$90"]
["pp4_bl4_4_5_rate_in",{"$f":"'T2-B(PP4)'!$E$90","v":0},"#'T2-B(PP4)'!$E$90"]
["pp4_bl4_4_5_rate_out",{"$f":"'T2-B(PP4)'!$H$90","v":0},"#'T2-B(PP4)'!$H$90"]
["pp4_bl4_4_5_total",{"$f":"'T2-B(PP4)'!$J$90","v":0},"#'T2-B(PP4)'!$J$90"]
["pp4_bl4_4_5_total_in",{"$f":"'T2-B(PP4)'!$F$90","v":0},"#'T2-B(PP4)'!$F$90"]
["pp4_bl4_4_5_total_out",{"$f":"'T2-B(PP4)'!$I$90","v":0},"#'T2-B(PP4)'!$I$90"]
["pp4_bl4_4_5_unit",{"$f":"'T2-B(PP4)'!$C$90","v":0},"#'T2-B(PP4)'!$C$90"]
["pp4_bl4_4_5_unit_in",{"$f":"'T2-B(PP4)'!$D$90","v":0},"#'T2-B(PP4)'!$D$90"]
["pp4_bl4_4_5_units_out",{"$f":"'T2-B(PP4)'!$G$90","v":0},"#'T2-B(PP4)'!$G$90"]
["pp4_bl4_4_6_name",{"$f":"'T2-B(PP4)'!$B$91","v":0},"#'T2-B(PP4)'!$B$91"]
["pp4_bl4_4_6_rate_in",{"$f":"'T2-B(PP4)'!$E$91","v":0},"#'T2-B(PP4)'!$E$91"]
["pp4_bl4_4_6_rate_out",{"$f":"'T2-B(PP4)'!$H$91","v":0},"#'T2-B(PP4)'!$H$91"]
["pp4_bl4_4_6_total",{"$f":"'T2-B(PP4)'!$J$91","v":0},"#'T2-B(PP4)'!$J$91"]
["pp4_bl4_4_6_total_in",{"$f":"'T2-B(PP4)'!$F$91","v":0},"#'T2-B(PP4)'!$F$91"]
["pp4_bl4_4_6_total_out",{"$f":"'T2-B(PP4)'!$I$91","v":0},"#'T2-B(PP4)'!$I$91"]
["pp4_bl4_4_6_unit",{"$f":"'T2-B(PP4)'!$C$91","v":0},"#'T2-B(PP4)'!$C$91"]
["pp4_bl4_4_6_unit_in",{"$f":"'T2-B(PP4)'!$D$91","v":0},"#'T2-B(PP4)'!$D$91"]
["pp4_bl4_4_6_units_out",{"$f":"'T2-B(PP4)'!$G$91","v":0},"#'T2-B(PP4)'!$G$91"]
["pp4_bl4_4_7_name",{"$f":"'T2-B(PP4)'!$B$92","v":0},"#'T2-B(PP4)'!$B$92"]
["pp4_bl4_4_7_rate_in",{"$f":"'T2-B(PP4)'!$E$92","v":0},"#'T2-B(PP4)'!$E$92"]
["pp4_bl4_4_7_rate_out",{"$f":"'T2-B(PP4)'!$H$92","v":0},"#'T2-B(PP4)'!$H$92"]
["pp4_bl4_4_7_total",{"$f":"'T2-B(PP4)'!$J$92","v":0},"#'T2-B(PP4)'!$J$92"]
["pp4_bl4_4_7_total_in",{"$f":"'T2-B(PP4)'!$F$92","v":0},"#'T2-B(PP4)'!$F$92"]
["pp4_bl4_4_7_total_out",{"$f":"'T2-B(PP4)'!$I$92","v":0},"#'T2-B(PP4)'!$I$92"]
["pp4_bl4_4_7_unit",{"$f":"'T2-B(PP4)'!$C$92","v":0},"#'T2-B(PP4)'!$C$92"]
["pp4_bl4_4_7_unit_in",{"$f":"'T2-B(PP4)'!$D$92","v":0},"#'T2-B(PP4)'!$D$92"]
["pp4_bl4_4_7_units_out",{"$f":"'T2-B(PP4)'!$G$92","v":0},"#'T2-B(PP4)'!$G$92"]
["pp4_bl4_4_8_name",{"$f":"'T2-B(PP4)'!$B$93","v":0},"#'T2-B(PP4)'!$B$93"]
["pp4_bl4_4_8_rate_in",{"$f":"'T2-B(PP4)'!$E$93","v":0},"#'T2-B(PP4)'!$E$93"]
["pp4_bl4_4_8_rate_out",{"$f":"'T2-B(PP4)'!$H$93","v":0},"#'T2-B(PP4)'!$H$93"]
["pp4_bl4_4_8_total",{"$f":"'T2-B(PP4)'!$J$93","v":0},"#'T2-B(PP4)'!$J$93"]
["pp4_bl4_4_8_total_in",{"$f":"'T2-B(PP4)'!$F$93","v":0},"#'T2-B(PP4)'!$F$93"]
["pp4_bl4_4_8_total_out",{"$f":"'T2-B(PP4)'!$I$93","v":0},"#'T2-B(PP4)'!$I$93"]
["pp4_bl4_4_8_unit",{"$f":"'T2-B(PP4)'!$C$93","v":0},"#'T2-B(PP4)'!$C$93"]
["pp4_bl4_4_8_unit_in",{"$f":"'T2-B(PP4)'!$D$93","v":0},"#'T2-B(PP4)'!$D$93"]
["pp4_bl4_4_8_units_out",{"$f":"'T2-B(PP4)'!$G$93","v":0},"#'T2-B(PP4)'!$G$93"]
["pp4_bl4_4_9_name",{"$f":"'T2-B(PP4)'!$B$94","v":0},"#'T2-B(PP4)'!$B$94"]
["pp4_bl4_4_9_rate_in",{"$f":"'T2-B(PP4)'!$E$94","v":0},"#'T2-B(PP4)'!$E$94"]
["pp4_bl4_4_9_rate_out",{"$f":"'T2-B(PP4)'!$H$94","v":0},"#'T2-B(PP4)'!$H$94"]
["pp4_bl4_4_9_total",{"$f":"'T2-B(PP4)'!$J$94","v":0},"#'T2-B(PP4)'!$J$94"]
["pp4_bl4_4_9_total_in",{"$f":"'T2-B(PP4)'!$F$94","v":0},"#'T2-B(PP4)'!$F$94"]
["pp4_bl4_4_9_total_out",{"$f":"'T2-B(PP4)'!$I$94","v":0},"#'T2-B(PP4)'!$I$94"]
["pp4_bl4_4_9_unit",{"$f":"'T2-B(PP4)'!$C$94","v":0},"#'T2-B(PP4)'!$C$94"]
["pp4_bl4_4_9_unit_in",{"$f":"'T2-B(PP4)'!$D$94","v":0},"#'T2-B(PP4)'!$D$94"]
["pp4_bl4_4_9_units_out",{"$f":"'T2-B(PP4)'!$G$94","v":0},"#'T2-B(PP4)'!$G$94"]
["pp4_bl4_4_total",{"$f":"'T2-B(PP4)'!$J$85","v":0},"#'T2-B(PP4)'!$J$85"]
["pp4_bl4_4_total_in",{"$f":"'T2-B(PP4)'!$F$85","v":0},"#'T2-B(PP4)'!$F$85"]
["pp4_bl4_4_total_out",{"$f":"'T2-B(PP4)'!$I$85","v":0},"#'T2-B(PP4)'!$I$85"]
["pp4_bl4_5_1_name",{"$f":"'T2-B(PP4)'!$B$97","v":0},"#'T2-B(PP4)'!$B$97"]
["pp4_bl4_5_1_rate_in",{"$f":"'T2-B(PP4)'!$E$97","v":0},"#'T2-B(PP4)'!$E$97"]
["pp4_bl4_5_1_rate_out",{"$f":"'T2-B(PP4)'!$H$97","v":0},"#'T2-B(PP4)'!$H$97"]
["pp4_bl4_5_1_total",{"$f":"'T2-B(PP4)'!$J$97","v":0},"#'T2-B(PP4)'!$J$97"]
["pp4_bl4_5_1_total_in",{"$f":"'T2-B(PP4)'!$F$97","v":0},"#'T2-B(PP4)'!$F$97"]
["pp4_bl4_5_1_total_out",{"$f":"'T2-B(PP4)'!$I$97","v":0},"#'T2-B(PP4)'!$I$97"]
["pp4_bl4_5_1_unit",{"$f":"'T2-B(PP4)'!$C$97","v":0},"#'T2-B(PP4)'!$C$97"]
["pp4_bl4_5_1_unit_in",{"$f":"'T2-B(PP4)'!$D$97","v":0},"#'T2-B(PP4)'!$D$97"]
["pp4_bl4_5_1_units_out",{"$f":"'T2-B(PP4)'!$G$97","v":0},"#'T2-B(PP4)'!$G$97"]
["pp4_bl4_5_10_name",{"$f":"'T2-B(PP4)'!$B$106","v":0},"#'T2-B(PP4)'!$B$106"]
["pp4_bl4_5_10_rate_in",{"$f":"'T2-B(PP4)'!$E$106","v":0},"#'T2-B(PP4)'!$E$106"]
["pp4_bl4_5_10_rate_out",{"$f":"'T2-B(PP4)'!$H$106","v":0},"#'T2-B(PP4)'!$H$106"]
["pp4_bl4_5_10_total",{"$f":"'T2-B(PP4)'!$J$106","v":0},"#'T2-B(PP4)'!$J$106"]
["pp4_bl4_5_10_total_in",{"$f":"'T2-B(PP4)'!$F$106","v":0},"#'T2-B(PP4)'!$F$106"]
["pp4_bl4_5_10_total_out",{"$f":"'T2-B(PP4)'!$I$106","v":0},"#'T2-B(PP4)'!$I$106"]
["pp4_bl4_5_10_unit",{"$f":"'T2-B(PP4)'!$C$106","v":0},"#'T2-B(PP4)'!$C$106"]
["pp4_bl4_5_10_unit_in",{"$f":"'T2-B(PP4)'!$D$106","v":0},"#'T2-B(PP4)'!$D$106"]
["pp4_bl4_5_10_units_out",{"$f":"'T2-B(PP4)'!$G$106","v":0},"#'T2-B(PP4)'!$G$106"]
["pp4_bl4_5_2_name",{"$f":"'T2-B(PP4)'!$B$98","v":0},"#'T2-B(PP4)'!$B$98"]
["pp4_bl4_5_2_rate_in",{"$f":"'T2-B(PP4)'!$E$98","v":0},"#'T2-B(PP4)'!$E$98"]
["pp4_bl4_5_2_rate_out",{"$f":"'T2-B(PP4)'!$H$98","v":0},"#'T2-B(PP4)'!$H$98"]
["pp4_bl4_5_2_total",{"$f":"'T2-B(PP4)'!$J$98","v":0},"#'T2-B(PP4)'!$J$98"]
["pp4_bl4_5_2_total_in",{"$f":"'T2-B(PP4)'!$F$98","v":0},"#'T2-B(PP4)'!$F$98"]
["pp4_bl4_5_2_total_out",{"$f":"'T2-B(PP4)'!$I$98","v":0},"#'T2-B(PP4)'!$I$98"]
["pp4_bl4_5_2_unit",{"$f":"'T2-B(PP4)'!$C$98","v":0},"#'T2-B(PP4)'!$C$98"]
["pp4_bl4_5_2_unit_in",{"$f":"'T2-B(PP4)'!$D$98","v":0},"#'T2-B(PP4)'!$D$98"]
["pp4_bl4_5_2_units_out",{"$f":"'T2-B(PP4)'!$G$98","v":0},"#'T2-B(PP4)'!$G$98"]
["pp4_bl4_5_3_name",{"$f":"'T2-B(PP4)'!$B$99","v":0},"#'T2-B(PP4)'!$B$99"]
["pp4_bl4_5_3_rate_in",{"$f":"'T2-B(PP4)'!$E$99","v":0},"#'T2-B(PP4)'!$E$99"]
["pp4_bl4_5_3_rate_out",{"$f":"'T2-B(PP4)'!$H$99","v":0},"#'T2-B(PP4)'!$H$99"]
["pp4_bl4_5_3_total",{"$f":"'T2-B(PP4)'!$J$99","v":0},"#'T2-B(PP4)'!$J$99"]
["pp4_bl4_5_3_total_in",{"$f":"'T2-B(PP4)'!$F$99","v":0},"#'T2-B(PP4)'!$F$99"]
["pp4_bl4_5_3_total_out",{"$f":"'T2-B(PP4)'!$I$99","v":0},"#'T2-B(PP4)'!$I$99"]
["pp4_bl4_5_3_unit",{"$f":"'T2-B(PP4)'!$C$99","v":0},"#'T2-B(PP4)'!$C$99"]
["pp4_bl4_5_3_unit_in",{"$f":"'T2-B(PP4)'!$D$99","v":0},"#'T2-B(PP4)'!$D$99"]
["pp4_bl4_5_3_units_out",{"$f":"'T2-B(PP4)'!$G$99","v":0},"#'T2-B(PP4)'!$G$99"]
["pp4_bl4_5_4_name",{"$f":"'T2-B(PP4)'!$B$100","v":0},"#'T2-B(PP4)'!$B$100"]
["pp4_bl4_5_4_rate_in",{"$f":"'T2-B(PP4)'!$E$100","v":0},"#'T2-B(PP4)'!$E$100"]
["pp4_bl4_5_4_rate_out",{"$f":"'T2-B(PP4)'!$H$100","v":0},"#'T2-B(PP4)'!$H$100"]
["pp4_bl4_5_4_total",{"$f":"'T2-B(PP4)'!$J$100","v":0},"#'T2-B(PP4)'!$J$100"]
["pp4_bl4_5_4_total_in",{"$f":"'T2-B(PP4)'!$F$100","v":0},"#'T2-B(PP4)'!$F$100"]
["pp4_bl4_5_4_total_out",{"$f":"'T2-B(PP4)'!$I$100","v":0},"#'T2-B(PP4)'!$I$100"]
["pp4_bl4_5_4_unit",{"$f":"'T2-B(PP4)'!$C$100","v":0},"#'T2-B(PP4)'!$C$100"]
["pp4_bl4_5_4_unit_in",{"$f":"'T2-B(PP4)'!$D$100","v":0},"#'T2-B(PP4)'!$D$100"]
["pp4_bl4_5_4_units_out",{"$f":"'T2-B(PP4)'!$G$100","v":0},"#'T2-B(PP4)'!$G$100"]
["pp4_bl4_5_5_name",{"$f":"'T2-B(PP4)'!$B$101","v":0},"#'T2-B(PP4)'!$B$101"]
["pp4_bl4_5_5_rate_in",{"$f":"'T2-B(PP4)'!$E$101","v":0},"#'T2-B(PP4)'!$E$101"]
["pp4_bl4_5_5_rate_out",{"$f":"'T2-B(PP4)'!$H$101","v":0},"#'T2-B(PP4)'!$H$101"]
["pp4_bl4_5_5_total",{"$f":"'T2-B(PP4)'!$J$101","v":0},"#'T2-B(PP4)'!$J$101"]
["pp4_bl4_5_5_total_in",{"$f":"'T2-B(PP4)'!$F$101","v":0},"#'T2-B(PP4)'!$F$101"]
["pp4_bl4_5_5_total_out",{"$f":"'T2-B(PP4)'!$I$101","v":0},"#'T2-B(PP4)'!$I$101"]
["pp4_bl4_5_5_unit",{"$f":"'T2-B(PP4)'!$C$101","v":0},"#'T2-B(PP4)'!$C$101"]
["pp4_bl4_5_5_unit_in",{"$f":"'T2-B(PP4)'!$D$101","v":0},"#'T2-B(PP4)'!$D$101"]
["pp4_bl4_5_5_units_out",{"$f":"'T2-B(PP4)'!$G$101","v":0},"#'T2-B(PP4)'!$G$101"]
["pp4_bl4_5_6_name",{"$f":"'T2-B(PP4)'!$B$102","v":0},"#'T2-B(PP4)'!$B$102"]
["pp4_bl4_5_6_rate_in",{"$f":"'T2-B(PP4)'!$E$102","v":0},"#'T2-B(PP4)'!$E$102"]
["pp4_bl4_5_6_rate_out",{"$f":"'T2-B(PP4)'!$H$102","v":0},"#'T2-B(PP4)'!$H$102"]
["pp4_bl4_5_6_total",{"$f":"'T2-B(PP4)'!$J$102","v":0},"#'T2-B(PP4)'!$J$102"]
["pp4_bl4_5_6_total_in",{"$f":"'T2-B(PP4)'!$F$102","v":0},"#'T2-B(PP4)'!$F$102"]
["pp4_bl4_5_6_total_out",{"$f":"'T2-B(PP4)'!$I$102","v":0},"#'T2-B(PP4)'!$I$102"]
["pp4_bl4_5_6_unit",{"$f":"'T2-B(PP4)'!$C$102","v":0},"#'T2-B(PP4)'!$C$102"]
["pp4_bl4_5_6_unit_in",{"$f":"'T2-B(PP4)'!$D$102","v":0},"#'T2-B(PP4)'!$D$102"]
["pp4_bl4_5_6_units_out",{"$f":"'T2-B(PP4)'!$G$102","v":0},"#'T2-B(PP4)'!$G$102"]
["pp4_bl4_5_7_name",{"$f":"'T2-B(PP4)'!$B$103","v":0},"#'T2-B(PP4)'!$B$103"]
["pp4_bl4_5_7_rate_in",{"$f":"'T2-B(PP4)'!$E$103","v":0},"#'T2-B(PP4)'!$E$103"]
["pp4_bl4_5_7_rate_out",{"$f":"'T2-B(PP4)'!$H$103","v":0},"#'T2-B(PP4)'!$H$103"]
["pp4_bl4_5_7_total",{"$f":"'T2-B(PP4)'!$J$103","v":0},"#'T2-B(PP4)'!$J$103"]
["pp4_bl4_5_7_total_in",{"$f":"'T2-B(PP4)'!$F$103","v":0},"#'T2-B(PP4)'!$F$103"]
["pp4_bl4_5_7_total_out",{"$f":"'T2-B(PP4)'!$I$103","v":0},"#'T2-B(PP4)'!$I$103"]
["pp4_bl4_5_7_unit",{"$f":"'T2-B(PP4)'!$C$103","v":0},"#'T2-B(PP4)'!$C$103"]
["pp4_bl4_5_7_unit_in",{"$f":"'T2-B(PP4)'!$D$103","v":0},"#'T2-B(PP4)'!$D$103"]
["pp4_bl4_5_7_units_out",{"$f":"'T2-B(PP4)'!$G$103","v":0},"#'T2-B(PP4)'!$G$103"]
["pp4_bl4_5_8_name",{"$f":"'T2-B(PP4)'!$B$104","v":0},"#'T2-B(PP4)'!$B$104"]
["pp4_bl4_5_8_rate_in",{"$f":"'T2-B(PP4)'!$E$104","v":0},"#'T2-B(PP4)'!$E$104"]
["pp4_bl4_5_8_rate_out",{"$f":"'T2-B(PP4)'!$H$104","v":0},"#'T2-B(PP4)'!$H$104"]
["pp4_bl4_5_8_total",{"$f":"'T2-B(PP4)'!$J$104","v":0},"#'T2-B(PP4)'!$J$104"]
["pp4_bl4_5_8_total_in",{"$f":"'T2-B(PP4)'!$F$104","v":0},"#'T2-B(PP4)'!$F$104"]
["pp4_bl4_5_8_total_out",{"$f":"'T2-B(PP4)'!$I$104","v":0},"#'T2-B(PP4)'!$I$104"]
["pp4_bl4_5_8_unit",{"$f":"'T2-B(PP4)'!$C$104","v":0},"#'T2-B(PP4)'!$C$104"]
["pp4_bl4_5_8_unit_in",{"$f":"'T2-B(PP4)'!$D$104","v":0},"#'T2-B(PP4)'!$D$104"]
["pp4_bl4_5_8_units_out",{"$f":"'T2-B(PP4)'!$G$104","v":0},"#'T2-B(PP4)'!$G$104"]
["pp4_bl4_5_9_name",{"$f":"'T2-B(PP4)'!$B$105","v":0},"#'T2-B(PP4)'!$B$105"]
["pp4_bl4_5_9_rate_in",{"$f":"'T2-B(PP4)'!$E$105","v":0},"#'T2-B(PP4)'!$E$105"]
["pp4_bl4_5_9_rate_out",{"$f":"'T2-B(PP4)'!$H$105","v":0},"#'T2-B(PP4)'!$H$105"]
["pp4_bl4_5_9_total",{"$f":"'T2-B(PP4)'!$J$105","v":0},"#'T2-B(PP4)'!$J$105"]
["pp4_bl4_5_9_total_in",{"$f":"'T2-B(PP4)'!$F$105","v":0},"#'T2-B(PP4)'!$F$105"]
["pp4_bl4_5_9_total_out",{"$f":"'T2-B(PP4)'!$I$105","v":0},"#'T2-B(PP4)'!$I$105"]
["pp4_bl4_5_9_unit",{"$f":"'T2-B(PP4)'!$C$105","v":0},"#'T2-B(PP4)'!$C$105"]
["pp4_bl4_5_9_unit_in",{"$f":"'T2-B(PP4)'!$D$105","v":0},"#'T2-B(PP4)'!$D$105"]
["pp4_bl4_5_9_units_out",{"$f":"'T2-B(PP4)'!$G$105","v":0},"#'T2-B(PP4)'!$G$105"]
["pp4_bl4_5_total",{"$f":"'T2-B(PP4)'!$J$96","v":0},"#'T2-B(PP4)'!$J$96"]
["pp4_bl4_5_total_in",{"$f":"'T2-B(PP4)'!$F$96","v":0},"#'T2-B(PP4)'!$F$96"]
["pp4_bl4_5_total_out",{"$f":"'T2-B(PP4)'!$I$96","v":0},"#'T2-B(PP4)'!$I$96"]
["pp4_bl4_6_1_name",{"$f":"'T2-B(PP4)'!$B$108","v":0},"#'T2-B(PP4)'!$B$108"]
["pp4_bl4_6_1_rate_in",{"$f":"'T2-B(PP4)'!$E$108","v":0},"#'T2-B(PP4)'!$E$108"]
["pp4_bl4_6_1_rate_out",{"$f":"'T2-B(PP4)'!$H$108","v":0},"#'T2-B(PP4)'!$H$108"]
["pp4_bl4_6_1_total",{"$f":"'T2-B(PP4)'!$J$108","v":0},"#'T2-B(PP4)'!$J$108"]
["pp4_bl4_6_1_total_in",{"$f":"'T2-B(PP4)'!$F$108","v":0},"#'T2-B(PP4)'!$F$108"]
["pp4_bl4_6_1_total_out",{"$f":"'T2-B(PP4)'!$I$108","v":0},"#'T2-B(PP4)'!$I$108"]
["pp4_bl4_6_1_unit",{"$f":"'T2-B(PP4)'!$C$108","v":0},"#'T2-B(PP4)'!$C$108"]
["pp4_bl4_6_1_unit_in",{"$f":"'T2-B(PP4)'!$D$108","v":0},"#'T2-B(PP4)'!$D$108"]
["pp4_bl4_6_1_units_out",{"$f":"'T2-B(PP4)'!$G$108","v":0},"#'T2-B(PP4)'!$G$108"]
["pp4_bl4_6_10_name",{"$f":"'T2-B(PP4)'!$B$117","v":0},"#'T2-B(PP4)'!$B$117"]
["pp4_bl4_6_10_rate_in",{"$f":"'T2-B(PP4)'!$E$117","v":0},"#'T2-B(PP4)'!$E$117"]
["pp4_bl4_6_10_rate_out",{"$f":"'T2-B(PP4)'!$H$117","v":0},"#'T2-B(PP4)'!$H$117"]
["pp4_bl4_6_10_total",{"$f":"'T2-B(PP4)'!$J$117","v":0},"#'T2-B(PP4)'!$J$117"]
["pp4_bl4_6_10_total_in",{"$f":"'T2-B(PP4)'!$F$117","v":0},"#'T2-B(PP4)'!$F$117"]
["pp4_bl4_6_10_total_out",{"$f":"'T2-B(PP4)'!$I$117","v":0},"#'T2-B(PP4)'!$I$117"]
["pp4_bl4_6_10_unit",{"$f":"'T2-B(PP4)'!$C$117","v":0},"#'T2-B(PP4)'!$C$117"]
["pp4_bl4_6_10_unit_in",{"$f":"'T2-B(PP4)'!$D$117","v":0},"#'T2-B(PP4)'!$D$117"]
["pp4_bl4_6_10_units_out",{"$f":"'T2-B(PP4)'!$G$117","v":0},"#'T2-B(PP4)'!$G$117"]
["pp4_bl4_6_2_name",{"$f":"'T2-B(PP4)'!$B$109","v":0},"#'T2-B(PP4)'!$B$109"]
["pp4_bl4_6_2_rate_in",{"$f":"'T2-B(PP4)'!$E$109","v":0},"#'T2-B(PP4)'!$E$109"]
["pp4_bl4_6_2_rate_out",{"$f":"'T2-B(PP4)'!$H$109","v":0},"#'T2-B(PP4)'!$H$109"]
["pp4_bl4_6_2_total",{"$f":"'T2-B(PP4)'!$J$109","v":0},"#'T2-B(PP4)'!$J$109"]
["pp4_bl4_6_2_total_in",{"$f":"'T2-B(PP4)'!$F$109","v":0},"#'T2-B(PP4)'!$F$109"]
["pp4_bl4_6_2_total_out",{"$f":"'T2-B(PP4)'!$I$109","v":0},"#'T2-B(PP4)'!$I$109"]
["pp4_bl4_6_2_unit",{"$f":"'T2-B(PP4)'!$C$109","v":0},"#'T2-B(PP4)'!$C$109"]
["pp4_bl4_6_2_unit_in",{"$f":"'T2-B(PP4)'!$D$109","v":0},"#'T2-B(PP4)'!$D$109"]
["pp4_bl4_6_2_units_out",{"$f":"'T2-B(PP4)'!$G$109","v":0},"#'T2-B(PP4)'!$G$109"]
["pp4_bl4_6_3_name",{"$f":"'T2-B(PP4)'!$B$110","v":0},"#'T2-B(PP4)'!$B$110"]
["pp4_bl4_6_3_rate_in",{"$f":"'T2-B(PP4)'!$E$110","v":0},"#'T2-B(PP4)'!$E$110"]
["pp4_bl4_6_3_rate_out",{"$f":"'T2-B(PP4)'!$H$110","v":0},"#'T2-B(PP4)'!$H$110"]
["pp4_bl4_6_3_total",{"$f":"'T2-B(PP4)'!$J$110","v":0},"#'T2-B(PP4)'!$J$110"]
["pp4_bl4_6_3_total_in",{"$f":"'T2-B(PP4)'!$F$110","v":0},"#'T2-B(PP4)'!$F$110"]
["pp4_bl4_6_3_total_out",{"$f":"'T2-B(PP4)'!$I$110","v":0},"#'T2-B(PP4)'!$I$110"]
["pp4_bl4_6_3_unit",{"$f":"'T2-B(PP4)'!$C$110","v":0},"#'T2-B(PP4)'!$C$110"]
["pp4_bl4_6_3_unit_in",{"$f":"'T2-B(PP4)'!$D$110","v":0},"#'T2-B(PP4)'!$D$110"]
["pp4_bl4_6_3_units_out",{"$f":"'T2-B(PP4)'!$G$110","v":0},"#'T2-B(PP4)'!$G$110"]
["pp4_bl4_6_4_name",{"$f":"'T2-B(PP4)'!$B$111","v":0},"#'T2-B(PP4)'!$B$111"]
["pp4_bl4_6_4_rate_in",{"$f":"'T2-B(PP4)'!$E$111","v":0},"#'T2-B(PP4)'!$E$111"]
["pp4_bl4_6_4_rate_out",{"$f":"'T2-B(PP4)'!$H$111","v":0},"#'T2-B(PP4)'!$H$111"]
["pp4_bl4_6_4_total",{"$f":"'T2-B(PP4)'!$J$111","v":0},"#'T2-B(PP4)'!$J$111"]
["pp4_bl4_6_4_total_in",{"$f":"'T2-B(PP4)'!$F$111","v":0},"#'T2-B(PP4)'!$F$111"]
["pp4_bl4_6_4_total_out",{"$f":"'T2-B(PP4)'!$I$111","v":0},"#'T2-B(PP4)'!$I$111"]
["pp4_bl4_6_4_unit",{"$f":"'T2-B(PP4)'!$C$111","v":0},"#'T2-B(PP4)'!$C$111"]
["pp4_bl4_6_4_unit_in",{"$f":"'T2-B(PP4)'!$D$111","v":0},"#'T2-B(PP4)'!$D$111"]
["pp4_bl4_6_4_units_out",{"$f":"'T2-B(PP4)'!$G$111","v":0},"#'T2-B(PP4)'!$G$111"]
["pp4_bl4_6_5_name",{"$f":"'T2-B(PP4)'!$B$112","v":0},"#'T2-B(PP4)'!$B$112"]
["pp4_bl4_6_5_rate_in",{"$f":"'T2-B(PP4)'!$E$112","v":0},"#'T2-B(PP4)'!$E$112"]
["pp4_bl4_6_5_rate_out",{"$f":"'T2-B(PP4)'!$H$112","v":0},"#'T2-B(PP4)'!$H$112"]
["pp4_bl4_6_5_total",{"$f":"'T2-B(PP4)'!$J$112","v":0},"#'T2-B(PP4)'!$J$112"]
["pp4_bl4_6_5_total_in",{"$f":"'T2-B(PP4)'!$F$112","v":0},"#'T2-B(PP4)'!$F$112"]
["pp4_bl4_6_5_total_out",{"$f":"'T2-B(PP4)'!$I$112","v":0},"#'T2-B(PP4)'!$I$112"]
["pp4_bl4_6_5_unit",{"$f":"'T2-B(PP4)'!$C$112","v":0},"#'T2-B(PP4)'!$C$112"]
["pp4_bl4_6_5_unit_in",{"$f":"'T2-B(PP4)'!$D$112","v":0},"#'T2-B(PP4)'!$D$112"]
["pp4_bl4_6_5_units_out",{"$f":"'T2-B(PP4)'!$G$112","v":0},"#'T2-B(PP4)'!$G$112"]
["pp4_bl4_6_6_name",{"$f":"'T2-B(PP4)'!$B$113","v":0},"#'T2-B(PP4)'!$B$113"]
["pp4_bl4_6_6_rate_in",{"$f":"'T2-B(PP4)'!$E$113","v":0},"#'T2-B(PP4)'!$E$113"]
["pp4_bl4_6_6_rate_out",{"$f":"'T2-B(PP4)'!$H$113","v":0},"#'T2-B(PP4)'!$H$113"]
["pp4_bl4_6_6_total",{"$f":"'T2-B(PP4)'!$J$113","v":0},"#'T2-B(PP4)'!$J$113"]
["pp4_bl4_6_6_total_in",{"$f":"'T2-B(PP4)'!$F$113","v":0},"#'T2-B(PP4)'!$F$113"]
["pp4_bl4_6_6_total_out",{"$f":"'T2-B(PP4)'!$I$113","v":0},"#'T2-B(PP4)'!$I$113"]
["pp4_bl4_6_6_unit",{"$f":"'T2-B(PP4)'!$C$113","v":0},"#'T2-B(PP4)'!$C$113"]
["pp4_bl4_6_6_unit_in",{"$f":"'T2-B(PP4)'!$D$113","v":0},"#'T2-B(PP4)'!$D$113"]
["pp4_bl4_6_6_units_out",{"$f":"'T2-B(PP4)'!$G$113","v":0},"#'T2-B(PP4)'!$G$113"]
["pp4_bl4_6_7_name",{"$f":"'T2-B(PP4)'!$B$114","v":0},"#'T2-B(PP4)'!$B$114"]
["pp4_bl4_6_7_rate_in",{"$f":"'T2-B(PP4)'!$E$114","v":0},"#'T2-B(PP4)'!$E$114"]
["pp4_bl4_6_7_rate_out",{"$f":"'T2-B(PP4)'!$H$114","v":0},"#'T2-B(PP4)'!$H$114"]
["pp4_bl4_6_7_total",{"$f":"'T2-B(PP4)'!$J$114","v":0},"#'T2-B(PP4)'!$J$114"]
["pp4_bl4_6_7_total_in",{"$f":"'T2-B(PP4)'!$F$114","v":0},"#'T2-B(PP4)'!$F$114"]
["pp4_bl4_6_7_total_out",{"$f":"'T2-B(PP4)'!$I$114","v":0},"#'T2-B(PP4)'!$I$114"]
["pp4_bl4_6_7_unit",{"$f":"'T2-B(PP4)'!$C$114","v":0},"#'T2-B(PP4)'!$C$114"]
["pp4_bl4_6_7_unit_in",{"$f":"'T2-B(PP4)'!$D$114","v":0},"#'T2-B(PP4)'!$D$114"]
["pp4_bl4_6_7_units_out",{"$f":"'T2-B(PP4)'!$G$114","v":0},"#'T2-B(PP4)'!$G$114"]
["pp4_bl4_6_8_name",{"$f":"'T2-B(PP4)'!$B$115","v":0},"#'T2-B(PP4)'!$B$115"]
["pp4_bl4_6_8_rate_in",{"$f":"'T2-B(PP4)'!$E$115","v":0},"#'T2-B(PP4)'!$E$115"]
["pp4_bl4_6_8_rate_out",{"$f":"'T2-B(PP4)'!$H$115","v":0},"#'T2-B(PP4)'!$H$115"]
["pp4_bl4_6_8_total",{"$f":"'T2-B(PP4)'!$J$115","v":0},"#'T2-B(PP4)'!$J$115"]
["pp4_bl4_6_8_total_in",{"$f":"'T2-B(PP4)'!$F$115","v":0},"#'T2-B(PP4)'!$F$115"]
["pp4_bl4_6_8_total_out",{"$f":"'T2-B(PP4)'!$I$115","v":0},"#'T2-B(PP4)'!$I$115"]
["pp4_bl4_6_8_unit",{"$f":"'T2-B(PP4)'!$C$115","v":0},"#'T2-B(PP4)'!$C$115"]
["pp4_bl4_6_8_unit_in",{"$f":"'T2-B(PP4)'!$D$115","v":0},"#'T2-B(PP4)'!$D$115"]
["pp4_bl4_6_8_units_out",{"$f":"'T2-B(PP4)'!$G$115","v":0},"#'T2-B(PP4)'!$G$115"]
["pp4_bl4_6_9_name",{"$f":"'T2-B(PP4)'!$B$116","v":0},"#'T2-B(PP4)'!$B$116"]
["pp4_bl4_6_9_rate_in",{"$f":"'T2-B(PP4)'!$E$116","v":0},"#'T2-B(PP4)'!$E$116"]
["pp4_bl4_6_9_rate_out",{"$f":"'T2-B(PP4)'!$H$116","v":0},"#'T2-B(PP4)'!$H$116"]
["pp4_bl4_6_9_total",{"$f":"'T2-B(PP4)'!$J$116","v":0},"#'T2-B(PP4)'!$J$116"]
["pp4_bl4_6_9_total_in",{"$f":"'T2-B(PP4)'!$F$116","v":0},"#'T2-B(PP4)'!$F$116"]
["pp4_bl4_6_9_total_out",{"$f":"'T2-B(PP4)'!$I$116","v":0},"#'T2-B(PP4)'!$I$116"]
["pp4_bl4_6_9_unit",{"$f":"'T2-B(PP4)'!$C$116","v":0},"#'T2-B(PP4)'!$C$116"]
["pp4_bl4_6_9_unit_in",{"$f":"'T2-B(PP4)'!$D$116","v":0},"#'T2-B(PP4)'!$D$116"]
["pp4_bl4_6_9_units_out",{"$f":"'T2-B(PP4)'!$G$116","v":0},"#'T2-B(PP4)'!$G$116"]
["pp4_bl4_6_total",{"$f":"'T2-B(PP4)'!$J$107","v":0},"#'T2-B(PP4)'!$J$107"]
["pp4_bl4_6_total_in",{"$f":"'T2-B(PP4)'!$F$107","v":0},"#'T2-B(PP4)'!$F$107"]
["pp4_bl4_6_total_out",{"$f":"'T2-B(PP4)'!$I$107","v":0},"#'T2-B(PP4)'!$I$107"]
["pp4_bl4_7_1_name",{"$f":"'T2-B(PP4)'!$B$119","v":0},"#'T2-B(PP4)'!$B$119"]
["pp4_bl4_7_1_rate_in",{"$f":"'T2-B(PP4)'!$E$119","v":0},"#'T2-B(PP4)'!$E$119"]
["pp4_bl4_7_1_rate_out",{"$f":"'T2-B(PP4)'!$H$119","v":0},"#'T2-B(PP4)'!$H$119"]
["pp4_bl4_7_1_total",{"$f":"'T2-B(PP4)'!$J$119","v":0},"#'T2-B(PP4)'!$J$119"]
["pp4_bl4_7_1_total_in",{"$f":"'T2-B(PP4)'!$F$119","v":0},"#'T2-B(PP4)'!$F$119"]
["pp4_bl4_7_1_total_out",{"$f":"'T2-B(PP4)'!$I$119","v":0},"#'T2-B(PP4)'!$I$119"]
["pp4_bl4_7_1_unit",{"$f":"'T2-B(PP4)'!$C$119","v":0},"#'T2-B(PP4)'!$C$119"]
["pp4_bl4_7_1_unit_in",{"$f":"'T2-B(PP4)'!$D$119","v":0},"#'T2-B(PP4)'!$D$119"]
["pp4_bl4_7_1_units_out",{"$f":"'T2-B(PP4)'!$G$119","v":0},"#'T2-B(PP4)'!$G$119"]
["pp4_bl4_7_10_name",{"$f":"'T2-B(PP4)'!$B$128","v":0},"#'T2-B(PP4)'!$B$128"]
["pp4_bl4_7_10_rate_in",{"$f":"'T2-B(PP4)'!$E$128","v":0},"#'T2-B(PP4)'!$E$128"]
["pp4_bl4_7_10_rate_out",{"$f":"'T2-B(PP4)'!$H$128","v":0},"#'T2-B(PP4)'!$H$128"]
["pp4_bl4_7_10_total",{"$f":"'T2-B(PP4)'!$J$128","v":0},"#'T2-B(PP4)'!$J$128"]
["pp4_bl4_7_10_total_in",{"$f":"'T2-B(PP4)'!$F$128","v":0},"#'T2-B(PP4)'!$F$128"]
["pp4_bl4_7_10_total_out",{"$f":"'T2-B(PP4)'!$I$128","v":0},"#'T2-B(PP4)'!$I$128"]
["pp4_bl4_7_10_unit",{"$f":"'T2-B(PP4)'!$C$128","v":0},"#'T2-B(PP4)'!$C$128"]
["pp4_bl4_7_10_unit_in",{"$f":"'T2-B(PP4)'!$D$128","v":0},"#'T2-B(PP4)'!$D$128"]
["pp4_bl4_7_10_units_out",{"$f":"'T2-B(PP4)'!$G$128","v":0},"#'T2-B(PP4)'!$G$128"]
["pp4_bl4_7_2_name",{"$f":"'T2-B(PP4)'!$B$120","v":0},"#'T2-B(PP4)'!$B$120"]
["pp4_bl4_7_2_rate_in",{"$f":"'T2-B(PP4)'!$E$120","v":0},"#'T2-B(PP4)'!$E$120"]
["pp4_bl4_7_2_rate_out",{"$f":"'T2-B(PP4)'!$H$120","v":0},"#'T2-B(PP4)'!$H$120"]
["pp4_bl4_7_2_total",{"$f":"'T2-B(PP4)'!$J$120","v":0},"#'T2-B(PP4)'!$J$120"]
["pp4_bl4_7_2_total_in",{"$f":"'T2-B(PP4)'!$F$120","v":0},"#'T2-B(PP4)'!$F$120"]
["pp4_bl4_7_2_total_out",{"$f":"'T2-B(PP4)'!$I$120","v":0},"#'T2-B(PP4)'!$I$120"]
["pp4_bl4_7_2_unit",{"$f":"'T2-B(PP4)'!$C$120","v":0},"#'T2-B(PP4)'!$C$120"]
["pp4_bl4_7_2_unit_in",{"$f":"'T2-B(PP4)'!$D$120","v":0},"#'T2-B(PP4)'!$D$120"]
["pp4_bl4_7_2_units_out",{"$f":"'T2-B(PP4)'!$G$120","v":0},"#'T2-B(PP4)'!$G$120"]
["pp4_bl4_7_3_name",{"$f":"'T2-B(PP4)'!$B$121","v":0},"#'T2-B(PP4)'!$B$121"]
["pp4_bl4_7_3_rate_in",{"$f":"'T2-B(PP4)'!$E$121","v":0},"#'T2-B(PP4)'!$E$121"]
["pp4_bl4_7_3_rate_out",{"$f":"'T2-B(PP4)'!$H$121","v":0},"#'T2-B(PP4)'!$H$121"]
["pp4_bl4_7_3_total",{"$f":"'T2-B(PP4)'!$J$121","v":0},"#'T2-B(PP4)'!$J$121"]
["pp4_bl4_7_3_total_in",{"$f":"'T2-B(PP4)'!$F$121","v":0},"#'T2-B(PP4)'!$F$121"]
["pp4_bl4_7_3_total_out",{"$f":"'T2-B(PP4)'!$I$121","v":0},"#'T2-B(PP4)'!$I$121"]
["pp4_bl4_7_3_unit",{"$f":"'T2-B(PP4)'!$C$121","v":0},"#'T2-B(PP4)'!$C$121"]
["pp4_bl4_7_3_unit_in",{"$f":"'T2-B(PP4)'!$D$121","v":0},"#'T2-B(PP4)'!$D$121"]
["pp4_bl4_7_3_units_out",{"$f":"'T2-B(PP4)'!$G$121","v":0},"#'T2-B(PP4)'!$G$121"]
["pp4_bl4_7_4_name",{"$f":"'T2-B(PP4)'!$B$122","v":0},"#'T2-B(PP4)'!$B$122"]
["pp4_bl4_7_4_rate_in",{"$f":"'T2-B(PP4)'!$E$122","v":0},"#'T2-B(PP4)'!$E$122"]
["pp4_bl4_7_4_rate_out",{"$f":"'T2-B(PP4)'!$H$122","v":0},"#'T2-B(PP4)'!$H$122"]
["pp4_bl4_7_4_total",{"$f":"'T2-B(PP4)'!$J$122","v":0},"#'T2-B(PP4)'!$J$122"]
["pp4_bl4_7_4_total_in",{"$f":"'T2-B(PP4)'!$F$122","v":0},"#'T2-B(PP4)'!$F$122"]
["pp4_bl4_7_4_total_out",{"$f":"'T2-B(PP4)'!$I$122","v":0},"#'T2-B(PP4)'!$I$122"]
["pp4_bl4_7_4_unit",{"$f":"'T2-B(PP4)'!$C$122","v":0},"#'T2-B(PP4)'!$C$122"]
["pp4_bl4_7_4_unit_in",{"$f":"'T2-B(PP4)'!$D$122","v":0},"#'T2-B(PP4)'!$D$122"]
["pp4_bl4_7_4_units_out",{"$f":"'T2-B(PP4)'!$G$122","v":0},"#'T2-B(PP4)'!$G$122"]
["pp4_bl4_7_5_name",{"$f":"'T2-B(PP4)'!$B$123","v":0},"#'T2-B(PP4)'!$B$123"]
["pp4_bl4_7_5_rate_in",{"$f":"'T2-B(PP4)'!$E$123","v":0},"#'T2-B(PP4)'!$E$123"]
["pp4_bl4_7_5_rate_out",{"$f":"'T2-B(PP4)'!$H$123","v":0},"#'T2-B(PP4)'!$H$123"]
["pp4_bl4_7_5_total",{"$f":"'T2-B(PP4)'!$J$123","v":0},"#'T2-B(PP4)'!$J$123"]
["pp4_bl4_7_5_total_in",{"$f":"'T2-B(PP4)'!$F$123","v":0},"#'T2-B(PP4)'!$F$123"]
["pp4_bl4_7_5_total_out",{"$f":"'T2-B(PP4)'!$I$123","v":0},"#'T2-B(PP4)'!$I$123"]
["pp4_bl4_7_5_unit",{"$f":"'T2-B(PP4)'!$C$123","v":0},"#'T2-B(PP4)'!$C$123"]
["pp4_bl4_7_5_unit_in",{"$f":"'T2-B(PP4)'!$D$123","v":0},"#'T2-B(PP4)'!$D$123"]
["pp4_bl4_7_5_units_out",{"$f":"'T2-B(PP4)'!$G$123","v":0},"#'T2-B(PP4)'!$G$123"]
["pp4_bl4_7_6_name",{"$f":"'T2-B(PP4)'!$B$124","v":0},"#'T2-B(PP4)'!$B$124"]
["pp4_bl4_7_6_rate_in",{"$f":"'T2-B(PP4)'!$E$124","v":0},"#'T2-B(PP4)'!$E$124"]
["pp4_bl4_7_6_rate_out",{"$f":"'T2-B(PP4)'!$H$124","v":0},"#'T2-B(PP4)'!$H$124"]
["pp4_bl4_7_6_total",{"$f":"'T2-B(PP4)'!$J$124","v":0},"#'T2-B(PP4)'!$J$124"]
["pp4_bl4_7_6_total_in",{"$f":"'T2-B(PP4)'!$F$124","v":0},"#'T2-B(PP4)'!$F$124"]
["pp4_bl4_7_6_total_out",{"$f":"'T2-B(PP4)'!$I$124","v":0},"#'T2-B(PP4)'!$I$124"]
["pp4_bl4_7_6_unit",{"$f":"'T2-B(PP4)'!$C$124","v":0},"#'T2-B(PP4)'!$C$124"]
["pp4_bl4_7_6_unit_in",{"$f":"'T2-B(PP4)'!$D$124","v":0},"#'T2-B(PP4)'!$D$124"]
["pp4_bl4_7_6_units_out",{"$f":"'T2-B(PP4)'!$G$124","v":0},"#'T2-B(PP4)'!$G$124"]
["pp4_bl4_7_7_name",{"$f":"'T2-B(PP4)'!$B$125","v":0},"#'T2-B(PP4)'!$B$125"]
["pp4_bl4_7_7_rate_in",{"$f":"'T2-B(PP4)'!$E$125","v":0},"#'T2-B(PP4)'!$E$125"]
["pp4_bl4_7_7_rate_out",{"$f":"'T2-B(PP4)'!$H$125","v":0},"#'T2-B(PP4)'!$H$125"]
["pp4_bl4_7_7_total",{"$f":"'T2-B(PP4)'!$J$125","v":0},"#'T2-B(PP4)'!$J$125"]
["pp4_bl4_7_7_total_in",{"$f":"'T2-B(PP4)'!$F$125","v":0},"#'T2-B(PP4)'!$F$125"]
["pp4_bl4_7_7_total_out",{"$f":"'T2-B(PP4)'!$I$125","v":0},"#'T2-B(PP4)'!$I$125"]
["pp4_bl4_7_7_unit",{"$f":"'T2-B(PP4)'!$C$125","v":0},"#'T2-B(PP4)'!$C$125"]
["pp4_bl4_7_7_unit_in",{"$f":"'T2-B(PP4)'!$D$125","v":0},"#'T2-B(PP4)'!$D$125"]
["pp4_bl4_7_7_units_out",{"$f":"'T2-B(PP4)'!$G$125","v":0},"#'T2-B(PP4)'!$G$125"]
["pp4_bl4_7_8_name",{"$f":"'T2-B(PP4)'!$B$126","v":0},"#'T2-B(PP4)'!$B$126"]
["pp4_bl4_7_8_rate_in",{"$f":"'T2-B(PP4)'!$E$126","v":0},"#'T2-B(PP4)'!$E$126"]
["pp4_bl4_7_8_rate_out",{"$f":"'T2-B(PP4)'!$H$126","v":0},"#'T2-B(PP4)'!$H$126"]
["pp4_bl4_7_8_total",{"$f":"'T2-B(PP4)'!$J$126","v":0},"#'T2-B(PP4)'!$J$126"]
["pp4_bl4_7_8_total_in",{"$f":"'T2-B(PP4)'!$F$126","v":0},"#'T2-B(PP4)'!$F$126"]
["pp4_bl4_7_8_total_out",{"$f":"'T2-B(PP4)'!$I$126","v":0},"#'T2-B(PP4)'!$I$126"]
["pp4_bl4_7_8_unit",{"$f":"'T2-B(PP4)'!$C$126","v":0},"#'T2-B(PP4)'!$C$126"]
["pp4_bl4_7_8_unit_in",{"$f":"'T2-B(PP4)'!$D$126","v":0},"#'T2-B(PP4)'!$D$126"]
["pp4_bl4_7_8_units_out",{"$f":"'T2-B(PP4)'!$G$126","v":0},"#'T2-B(PP4)'!$G$126"]
["pp4_bl4_7_9_name",{"$f":"'T2-B(PP4)'!$B$127","v":0},"#'T2-B(PP4)'!$B$127"]
["pp4_bl4_7_9_rate_in",{"$f":"'T2-B(PP4)'!$E$127","v":0},"#'T2-B(PP4)'!$E$127"]
["pp4_bl4_7_9_rate_out",{"$f":"'T2-B(PP4)'!$H$127","v":0},"#'T2-B(PP4)'!$H$127"]
["pp4_bl4_7_9_total",{"$f":"'T2-B(PP4)'!$J$127","v":0},"#'T2-B(PP4)'!$J$127"]
["pp4_bl4_7_9_total_in",{"$f":"'T2-B(PP4)'!$F$127","v":0},"#'T2-B(PP4)'!$F$127"]
["pp4_bl4_7_9_total_out",{"$f":"'T2-B(PP4)'!$I$127","v":0},"#'T2-B(PP4)'!$I$127"]
["pp4_bl4_7_9_unit",{"$f":"'T2-B(PP4)'!$C$127","v":0},"#'T2-B(PP4)'!$C$127"]
["pp4_bl4_7_9_unit_in",{"$f":"'T2-B(PP4)'!$D$127","v":0},"#'T2-B(PP4)'!$D$127"]
["pp4_bl4_7_9_units_out",{"$f":"'T2-B(PP4)'!$G$127","v":0},"#'T2-B(PP4)'!$G$127"]
["pp4_bl4_7_total",{"$f":"'T2-B(PP4)'!$J$118","v":0},"#'T2-B(PP4)'!$J$118"]
["pp4_bl4_7_total_in",{"$f":"'T2-B(PP4)'!$F$118","v":0},"#'T2-B(PP4)'!$F$118"]
["pp4_bl4_7_total_out",{"$f":"'T2-B(PP4)'!$I$118","v":0},"#'T2-B(PP4)'!$I$118"]
["pp4_bl4_8_1_name",{"$f":"'T2-B(PP4)'!$B$130","v":0},"#'T2-B(PP4)'!$B$130"]
["pp4_bl4_8_1_rate_in",{"$f":"'T2-B(PP4)'!$E$130","v":0},"#'T2-B(PP4)'!$E$130"]
["pp4_bl4_8_1_rate_out",{"$f":"'T2-B(PP4)'!$H$130","v":0},"#'T2-B(PP4)'!$H$130"]
["pp4_bl4_8_1_total",{"$f":"'T2-B(PP4)'!$J$130","v":0},"#'T2-B(PP4)'!$J$130"]
["pp4_bl4_8_1_total_in",{"$f":"'T2-B(PP4)'!$F$130","v":0},"#'T2-B(PP4)'!$F$130"]
["pp4_bl4_8_1_total_out",{"$f":"'T2-B(PP4)'!$I$130","v":0},"#'T2-B(PP4)'!$I$130"]
["pp4_bl4_8_1_unit",{"$f":"'T2-B(PP4)'!$C$130","v":0},"#'T2-B(PP4)'!$C$130"]
["pp4_bl4_8_1_unit_in",{"$f":"'T2-B(PP4)'!$D$130","v":0},"#'T2-B(PP4)'!$D$130"]
["pp4_bl4_8_1_units_out",{"$f":"'T2-B(PP4)'!$G$130","v":0},"#'T2-B(PP4)'!$G$130"]
["pp4_bl4_8_10_name",{"$f":"'T2-B(PP4)'!$B$139","v":0},"#'T2-B(PP4)'!$B$139"]
["pp4_bl4_8_10_rate_in",{"$f":"'T2-B(PP4)'!$E$139","v":0},"#'T2-B(PP4)'!$E$139"]
["pp4_bl4_8_10_rate_out",{"$f":"'T2-B(PP4)'!$H$139","v":0},"#'T2-B(PP4)'!$H$139"]
["pp4_bl4_8_10_total",{"$f":"'T2-B(PP4)'!$J$139","v":0},"#'T2-B(PP4)'!$J$139"]
["pp4_bl4_8_10_total_in",{"$f":"'T2-B(PP4)'!$F$139","v":0},"#'T2-B(PP4)'!$F$139"]
["pp4_bl4_8_10_total_out",{"$f":"'T2-B(PP4)'!$I$139","v":0},"#'T2-B(PP4)'!$I$139"]
["pp4_bl4_8_10_unit",{"$f":"'T2-B(PP4)'!$C$139","v":0},"#'T2-B(PP4)'!$C$139"]
["pp4_bl4_8_10_unit_in",{"$f":"'T2-B(PP4)'!$D$139","v":0},"#'T2-B(PP4)'!$D$139"]
["pp4_bl4_8_10_units_out",{"$f":"'T2-B(PP4)'!$G$139","v":0},"#'T2-B(PP4)'!$G$139"]
["pp4_bl4_8_2_name",{"$f":"'T2-B(PP4)'!$B$131","v":0},"#'T2-B(PP4)'!$B$131"]
["pp4_bl4_8_2_rate_in",{"$f":"'T2-B(PP4)'!$E$131","v":0},"#'T2-B(PP4)'!$E$131"]
["pp4_bl4_8_2_rate_out",{"$f":"'T2-B(PP4)'!$H$131","v":0},"#'T2-B(PP4)'!$H$131"]
["pp4_bl4_8_2_total",{"$f":"'T2-B(PP4)'!$J$131","v":0},"#'T2-B(PP4)'!$J$131"]
["pp4_bl4_8_2_total_in",{"$f":"'T2-B(PP4)'!$F$131","v":0},"#'T2-B(PP4)'!$F$131"]
["pp4_bl4_8_2_total_out",{"$f":"'T2-B(PP4)'!$I$131","v":0},"#'T2-B(PP4)'!$I$131"]
["pp4_bl4_8_2_unit",{"$f":"'T2-B(PP4)'!$C$131","v":0},"#'T2-B(PP4)'!$C$131"]
["pp4_bl4_8_2_unit_in",{"$f":"'T2-B(PP4)'!$D$131","v":0},"#'T2-B(PP4)'!$D$131"]
["pp4_bl4_8_2_units_out",{"$f":"'T2-B(PP4)'!$G$131","v":0},"#'T2-B(PP4)'!$G$131"]
["pp4_bl4_8_3_name",{"$f":"'T2-B(PP4)'!$B$132","v":0},"#'T2-B(PP4)'!$B$132"]
["pp4_bl4_8_3_rate_in",{"$f":"'T2-B(PP4)'!$E$132","v":0},"#'T2-B(PP4)'!$E$132"]
["pp4_bl4_8_3_rate_out",{"$f":"'T2-B(PP4)'!$H$132","v":0},"#'T2-B(PP4)'!$H$132"]
["pp4_bl4_8_3_total",{"$f":"'T2-B(PP4)'!$J$132","v":0},"#'T2-B(PP4)'!$J$132"]
["pp4_bl4_8_3_total_in",{"$f":"'T2-B(PP4)'!$F$132","v":0},"#'T2-B(PP4)'!$F$132"]
["pp4_bl4_8_3_total_out",{"$f":"'T2-B(PP4)'!$I$132","v":0},"#'T2-B(PP4)'!$I$132"]
["pp4_bl4_8_3_unit",{"$f":"'T2-B(PP4)'!$C$132","v":0},"#'T2-B(PP4)'!$C$132"]
["pp4_bl4_8_3_unit_in",{"$f":"'T2-B(PP4)'!$D$132","v":0},"#'T2-B(PP4)'!$D$132"]
["pp4_bl4_8_3_units_out",{"$f":"'T2-B(PP4)'!$G$132","v":0},"#'T2-B(PP4)'!$G$132"]
["pp4_bl4_8_4_name",{"$f":"'T2-B(PP4)'!$B$133","v":0},"#'T2-B(PP4)'!$B$133"]
["pp4_bl4_8_4_rate_in",{"$f":"'T2-B(PP4)'!$E$133","v":0},"#'T2-B(PP4)'!$E$133"]
["pp4_bl4_8_4_rate_out",{"$f":"'T2-B(PP4)'!$H$133","v":0},"#'T2-B(PP4)'!$H$133"]
["pp4_bl4_8_4_total",{"$f":"'T2-B(PP4)'!$J$133","v":0},"#'T2-B(PP4)'!$J$133"]
["pp4_bl4_8_4_total_in",{"$f":"'T2-B(PP4)'!$F$133","v":0},"#'T2-B(PP4)'!$F$133"]
["pp4_bl4_8_4_total_out",{"$f":"'T2-B(PP4)'!$I$133","v":0},"#'T2-B(PP4)'!$I$133"]
["pp4_bl4_8_4_unit",{"$f":"'T2-B(PP4)'!$C$133","v":0},"#'T2-B(PP4)'!$C$133"]
["pp4_bl4_8_4_unit_in",{"$f":"'T2-B(PP4)'!$D$133","v":0},"#'T2-B(PP4)'!$D$133"]
["pp4_bl4_8_4_units_out",{"$f":"'T2-B(PP4)'!$G$133","v":0},"#'T2-B(PP4)'!$G$133"]
["pp4_bl4_8_5_name",{"$f":"'T2-B(PP4)'!$B$134","v":0},"#'T2-B(PP4)'!$B$134"]
["pp4_bl4_8_5_rate_in",{"$f":"'T2-B(PP4)'!$E$134","v":0},"#'T2-B(PP4)'!$E$134"]
["pp4_bl4_8_5_rate_out",{"$f":"'T2-B(PP4)'!$H$134","v":0},"#'T2-B(PP4)'!$H$134"]
["pp4_bl4_8_5_total",{"$f":"'T2-B(PP4)'!$J$134","v":0},"#'T2-B(PP4)'!$J$134"]
["pp4_bl4_8_5_total_in",{"$f":"'T2-B(PP4)'!$F$134","v":0},"#'T2-B(PP4)'!$F$134"]
["pp4_bl4_8_5_total_out",{"$f":"'T2-B(PP4)'!$I$134","v":0},"#'T2-B(PP4)'!$I$134"]
["pp4_bl4_8_5_unit",{"$f":"'T2-B(PP4)'!$C$134","v":0},"#'T2-B(PP4)'!$C$134"]
["pp4_bl4_8_5_unit_in",{"$f":"'T2-B(PP4)'!$D$134","v":0},"#'T2-B(PP4)'!$D$134"]
["pp4_bl4_8_5_units_out",{"$f":"'T2-B(PP4)'!$G$134","v":0},"#'T2-B(PP4)'!$G$134"]
["pp4_bl4_8_6_name",{"$f":"'T2-B(PP4)'!$B$135","v":0},"#'T2-B(PP4)'!$B$135"]
["pp4_bl4_8_6_rate_in",{"$f":"'T2-B(PP4)'!$E$135","v":0},"#'T2-B(PP4)'!$E$135"]
["pp4_bl4_8_6_rate_out",{"$f":"'T2-B(PP4)'!$H$135","v":0},"#'T2-B(PP4)'!$H$135"]
["pp4_bl4_8_6_total",{"$f":"'T2-B(PP4)'!$J$135","v":0},"#'T2-B(PP4)'!$J$135"]
["pp4_bl4_8_6_total_in",{"$f":"'T2-B(PP4)'!$F$135","v":0},"#'T2-B(PP4)'!$F$135"]
["pp4_bl4_8_6_total_out",{"$f":"'T2-B(PP4)'!$I$135","v":0},"#'T2-B(PP4)'!$I$135"]
["pp4_bl4_8_6_unit",{"$f":"'T2-B(PP4)'!$C$135","v":0},"#'T2-B(PP4)'!$C$135"]
["pp4_bl4_8_6_unit_in",{"$f":"'T2-B(PP4)'!$D$135","v":0},"#'T2-B(PP4)'!$D$135"]
["pp4_bl4_8_6_units_out",{"$f":"'T2-B(PP4)'!$G$135","v":0},"#'T2-B(PP4)'!$G$135"]
["pp4_bl4_8_7_name",{"$f":"'T2-B(PP4)'!$B$136","v":0},"#'T2-B(PP4)'!$B$136"]
["pp4_bl4_8_7_rate_in",{"$f":"'T2-B(PP4)'!$E$136","v":0},"#'T2-B(PP4)'!$E$136"]
["pp4_bl4_8_7_rate_out",{"$f":"'T2-B(PP4)'!$H$136","v":0},"#'T2-B(PP4)'!$H$136"]
["pp4_bl4_8_7_total",{"$f":"'T2-B(PP4)'!$J$136","v":0},"#'T2-B(PP4)'!$J$136"]
["pp4_bl4_8_7_total_in",{"$f":"'T2-B(PP4)'!$F$136","v":0},"#'T2-B(PP4)'!$F$136"]
["pp4_bl4_8_7_total_out",{"$f":"'T2-B(PP4)'!$I$136","v":0},"#'T2-B(PP4)'!$I$136"]
["pp4_bl4_8_7_unit",{"$f":"'T2-B(PP4)'!$C$136","v":0},"#'T2-B(PP4)'!$C$136"]
["pp4_bl4_8_7_unit_in",{"$f":"'T2-B(PP4)'!$D$136","v":0},"#'T2-B(PP4)'!$D$136"]
["pp4_bl4_8_7_units_out",{"$f":"'T2-B(PP4)'!$G$136","v":0},"#'T2-B(PP4)'!$G$136"]
["pp4_bl4_8_8_name",{"$f":"'T2-B(PP4)'!$B$137","v":0},"#'T2-B(PP4)'!$B$137"]
["pp4_bl4_8_8_rate_in",{"$f":"'T2-B(PP4)'!$E$137","v":0},"#'T2-B(PP4)'!$E$137"]
["pp4_bl4_8_8_rate_out",{"$f":"'T2-B(PP4)'!$H$137","v":0},"#'T2-B(PP4)'!$H$137"]
["pp4_bl4_8_8_total",{"$f":"'T2-B(PP4)'!$J$137","v":0},"#'T2-B(PP4)'!$J$137"]
["pp4_bl4_8_8_total_in",{"$f":"'T2-B(PP4)'!$F$137","v":0},"#'T2-B(PP4)'!$F$137"]
["pp4_bl4_8_8_total_out",{"$f":"'T2-B(PP4)'!$I$137","v":0},"#'T2-B(PP4)'!$I$137"]
["pp4_bl4_8_8_unit",{"$f":"'T2-B(PP4)'!$C$137","v":0},"#'T2-B(PP4)'!$C$137"]
["pp4_bl4_8_8_unit_in",{"$f":"'T2-B(PP4)'!$D$137","v":0},"#'T2-B(PP4)'!$D$137"]
["pp4_bl4_8_8_units_out",{"$f":"'T2-B(PP4)'!$G$137","v":0},"#'T2-B(PP4)'!$G$137"]
["pp4_bl4_8_9_name",{"$f":"'T2-B(PP4)'!$B$138","v":0},"#'T2-B(PP4)'!$B$138"]
["pp4_bl4_8_9_rate_in",{"$f":"'T2-B(PP4)'!$E$138","v":0},"#'T2-B(PP4)'!$E$138"]
["pp4_bl4_8_9_rate_out",{"$f":"'T2-B(PP4)'!$H$138","v":0},"#'T2-B(PP4)'!$H$138"]
["pp4_bl4_8_9_total",{"$f":"'T2-B(PP4)'!$J$138","v":0},"#'T2-B(PP4)'!$J$138"]
["pp4_bl4_8_9_total_in",{"$f":"'T2-B(PP4)'!$F$138","v":0},"#'T2-B(PP4)'!$F$138"]
["pp4_bl4_8_9_total_out",{"$f":"'T2-B(PP4)'!$I$138","v":0},"#'T2-B(PP4)'!$I$138"]
["pp4_bl4_8_9_unit",{"$f":"'T2-B(PP4)'!$C$138","v":0},"#'T2-B(PP4)'!$C$138"]
["pp4_bl4_8_9_unit_in",{"$f":"'T2-B(PP4)'!$D$138","v":0},"#'T2-B(PP4)'!$D$138"]
["pp4_bl4_8_9_units_out",{"$f":"'T2-B(PP4)'!$G$138","v":0},"#'T2-B(PP4)'!$G$138"]
["pp4_bl4_8_total",{"$f":"'T2-B(PP4)'!$J$129","v":0},"#'T2-B(PP4)'!$J$129"]
["pp4_bl4_8_total_in",{"$f":"'T2-B(PP4)'!$F$129","v":0},"#'T2-B(PP4)'!$F$129"]
["pp4_bl4_8_total_out",{"$f":"'T2-B(PP4)'!$I$129","v":0},"#'T2-B(PP4)'!$I$129"]
["pp4_bl4_9_1_name",{"$f":"'T2-B(PP4)'!$B$141","v":0},"#'T2-B(PP4)'!$B$141"]
["pp4_bl4_9_1_rate_in",{"$f":"'T2-B(PP4)'!$E$141","v":0},"#'T2-B(PP4)'!$E$141"]
["pp4_bl4_9_1_rate_out",{"$f":"'T2-B(PP4)'!$H$141","v":0},"#'T2-B(PP4)'!$H$141"]
["pp4_bl4_9_1_total",{"$f":"'T2-B(PP4)'!$J$141","v":0},"#'T2-B(PP4)'!$J$141"]
["pp4_bl4_9_1_total_in",{"$f":"'T2-B(PP4)'!$F$141","v":0},"#'T2-B(PP4)'!$F$141"]
["pp4_bl4_9_1_total_out",{"$f":"'T2-B(PP4)'!$I$141","v":0},"#'T2-B(PP4)'!$I$141"]
["pp4_bl4_9_1_unit",{"$f":"'T2-B(PP4)'!$C$141","v":0},"#'T2-B(PP4)'!$C$141"]
["pp4_bl4_9_1_unit_in",{"$f":"'T2-B(PP4)'!$D$141","v":0},"#'T2-B(PP4)'!$D$141"]
["pp4_bl4_9_1_units_out",{"$f":"'T2-B(PP4)'!$G$141","v":0},"#'T2-B(PP4)'!$G$141"]
["pp4_bl4_9_10_name",{"$f":"'T2-B(PP4)'!$B$150","v":0},"#'T2-B(PP4)'!$B$150"]
["pp4_bl4_9_10_rate_in",{"$f":"'T2-B(PP4)'!$E$150","v":0},"#'T2-B(PP4)'!$E$150"]
["pp4_bl4_9_10_rate_out",{"$f":"'T2-B(PP4)'!$H$150","v":0},"#'T2-B(PP4)'!$H$150"]
["pp4_bl4_9_10_total",{"$f":"'T2-B(PP4)'!$J$150","v":0},"#'T2-B(PP4)'!$J$150"]
["pp4_bl4_9_10_total_in",{"$f":"'T2-B(PP4)'!$F$150","v":0},"#'T2-B(PP4)'!$F$150"]
["pp4_bl4_9_10_total_out",{"$f":"'T2-B(PP4)'!$I$150","v":0},"#'T2-B(PP4)'!$I$150"]
["pp4_bl4_9_10_unit",{"$f":"'T2-B(PP4)'!$C$150","v":0},"#'T2-B(PP4)'!$C$150"]
["pp4_bl4_9_10_unit_in",{"$f":"'T2-B(PP4)'!$D$150","v":0},"#'T2-B(PP4)'!$D$150"]
["pp4_bl4_9_10_units_out",{"$f":"'T2-B(PP4)'!$G$150","v":0},"#'T2-B(PP4)'!$G$150"]
["pp4_bl4_9_2_name",{"$f":"'T2-B(PP4)'!$B$142","v":0},"#'T2-B(PP4)'!$B$142"]
["pp4_bl4_9_2_rate_in",{"$f":"'T2-B(PP4)'!$E$142","v":0},"#'T2-B(PP4)'!$E$142"]
["pp4_bl4_9_2_rate_out",{"$f":"'T2-B(PP4)'!$H$142","v":0},"#'T2-B(PP4)'!$H$142"]
["pp4_bl4_9_2_total",{"$f":"'T2-B(PP4)'!$J$142","v":0},"#'T2-B(PP4)'!$J$142"]
["pp4_bl4_9_2_total_in",{"$f":"'T2-B(PP4)'!$F$142","v":0},"#'T2-B(PP4)'!$F$142"]
["pp4_bl4_9_2_total_out",{"$f":"'T2-B(PP4)'!$I$142","v":0},"#'T2-B(PP4)'!$I$142"]
["pp4_bl4_9_2_unit",{"$f":"'T2-B(PP4)'!$C$142","v":0},"#'T2-B(PP4)'!$C$142"]
["pp4_bl4_9_2_unit_in",{"$f":"'T2-B(PP4)'!$D$142","v":0},"#'T2-B(PP4)'!$D$142"]
["pp4_bl4_9_2_units_out",{"$f":"'T2-B(PP4)'!$G$142","v":0},"#'T2-B(PP4)'!$G$142"]
["pp4_bl4_9_3_name",{"$f":"'T2-B(PP4)'!$B$143","v":0},"#'T2-B(PP4)'!$B$143"]
["pp4_bl4_9_3_rate_in",{"$f":"'T2-B(PP4)'!$E$143","v":0},"#'T2-B(PP4)'!$E$143"]
["pp4_bl4_9_3_rate_out",{"$f":"'T2-B(PP4)'!$H$143","v":0},"#'T2-B(PP4)'!$H$143"]
["pp4_bl4_9_3_total",{"$f":"'T2-B(PP4)'!$J$143","v":0},"#'T2-B(PP4)'!$J$143"]
["pp4_bl4_9_3_total_in",{"$f":"'T2-B(PP4)'!$F$143","v":0},"#'T2-B(PP4)'!$F$143"]
["pp4_bl4_9_3_total_out",{"$f":"'T2-B(PP4)'!$I$143","v":0},"#'T2-B(PP4)'!$I$143"]
["pp4_bl4_9_3_unit",{"$f":"'T2-B(PP4)'!$C$143","v":0},"#'T2-B(PP4)'!$C$143"]
["pp4_bl4_9_3_unit_in",{"$f":"'T2-B(PP4)'!$D$143","v":0},"#'T2-B(PP4)'!$D$143"]
["pp4_bl4_9_3_units_out",{"$f":"'T2-B(PP4)'!$G$143","v":0},"#'T2-B(PP4)'!$G$143"]
["pp4_bl4_9_4_name",{"$f":"'T2-B(PP4)'!$B$144","v":0},"#'T2-B(PP4)'!$B$144"]
["pp4_bl4_9_4_rate_in",{"$f":"'T2-B(PP4)'!$E$144","v":0},"#'T2-B(PP4)'!$E$144"]
["pp4_bl4_9_4_rate_out",{"$f":"'T2-B(PP4)'!$H$144","v":0},"#'T2-B(PP4)'!$H$144"]
["pp4_bl4_9_4_total",{"$f":"'T2-B(PP4)'!$J$144","v":0},"#'T2-B(PP4)'!$J$144"]
["pp4_bl4_9_4_total_in",{"$f":"'T2-B(PP4)'!$F$144","v":0},"#'T2-B(PP4)'!$F$144"]
["pp4_bl4_9_4_total_out",{"$f":"'T2-B(PP4)'!$I$144","v":0},"#'T2-B(PP4)'!$I$144"]
["pp4_bl4_9_4_unit",{"$f":"'T2-B(PP4)'!$C$144","v":0},"#'T2-B(PP4)'!$C$144"]
["pp4_bl4_9_4_unit_in",{"$f":"'T2-B(PP4)'!$D$144","v":0},"#'T2-B(PP4)'!$D$144"]
["pp4_bl4_9_4_units_out",{"$f":"'T2-B(PP4)'!$G$144","v":0},"#'T2-B(PP4)'!$G$144"]
["pp4_bl4_9_5_name",{"$f":"'T2-B(PP4)'!$B$145","v":0},"#'T2-B(PP4)'!$B$145"]
["pp4_bl4_9_5_rate_in",{"$f":"'T2-B(PP4)'!$E$145","v":0},"#'T2-B(PP4)'!$E$145"]
["pp4_bl4_9_5_rate_out",{"$f":"'T2-B(PP4)'!$H$145","v":0},"#'T2-B(PP4)'!$H$145"]
["pp4_bl4_9_5_total",{"$f":"'T2-B(PP4)'!$J$145","v":0},"#'T2-B(PP4)'!$J$145"]
["pp4_bl4_9_5_total_in",{"$f":"'T2-B(PP4)'!$F$145","v":0},"#'T2-B(PP4)'!$F$145"]
["pp4_bl4_9_5_total_out",{"$f":"'T2-B(PP4)'!$I$145","v":0},"#'T2-B(PP4)'!$I$145"]
["pp4_bl4_9_5_unit",{"$f":"'T2-B(PP4)'!$C$145","v":0},"#'T2-B(PP4)'!$C$145"]
["pp4_bl4_9_5_unit_in",{"$f":"'T2-B(PP4)'!$D$145","v":0},"#'T2-B(PP4)'!$D$145"]
["pp4_bl4_9_5_units_out",{"$f":"'T2-B(PP4)'!$G$145","v":0},"#'T2-B(PP4)'!$G$145"]
["pp4_bl4_9_6_name",{"$f":"'T2-B(PP4)'!$B$146","v":0},"#'T2-B(PP4)'!$B$146"]
["pp4_bl4_9_6_rate_in",{"$f":"'T2-B(PP4)'!$E$146","v":0},"#'T2-B(PP4)'!$E$146"]
["pp4_bl4_9_6_rate_out",{"$f":"'T2-B(PP4)'!$H$146","v":0},"#'T2-B(PP4)'!$H$146"]
["pp4_bl4_9_6_total",{"$f":"'T2-B(PP4)'!$J$146","v":0},"#'T2-B(PP4)'!$J$146"]
["pp4_bl4_9_6_total_in",{"$f":"'T2-B(PP4)'!$F$146","v":0},"#'T2-B(PP4)'!$F$146"]
["pp4_bl4_9_6_total_out",{"$f":"'T2-B(PP4)'!$I$146","v":0},"#'T2-B(PP4)'!$I$146"]
["pp4_bl4_9_6_unit",{"$f":"'T2-B(PP4)'!$C$146","v":0},"#'T2-B(PP4)'!$C$146"]
["pp4_bl4_9_6_unit_in",{"$f":"'T2-B(PP4)'!$D$146","v":0},"#'T2-B(PP4)'!$D$146"]
["pp4_bl4_9_6_units_out",{"$f":"'T2-B(PP4)'!$G$146","v":0},"#'T2-B(PP4)'!$G$146"]
["pp4_bl4_9_7_name",{"$f":"'T2-B(PP4)'!$B$147","v":0},"#'T2-B(PP4)'!$B$147"]
["pp4_bl4_9_7_rate_in",{"$f":"'T2-B(PP4)'!$E$147","v":0},"#'T2-B(PP4)'!$E$147"]
["pp4_bl4_9_7_rate_out",{"$f":"'T2-B(PP4)'!$H$147","v":0},"#'T2-B(PP4)'!$H$147"]
["pp4_bl4_9_7_total",{"$f":"'T2-B(PP4)'!$J$147","v":0},"#'T2-B(PP4)'!$J$147"]
["pp4_bl4_9_7_total_in",{"$f":"'T2-B(PP4)'!$F$147","v":0},"#'T2-B(PP4)'!$F$147"]
["pp4_bl4_9_7_total_out",{"$f":"'T2-B(PP4)'!$I$147","v":0},"#'T2-B(PP4)'!$I$147"]
["pp4_bl4_9_7_unit",{"$f":"'T2-B(PP4)'!$C$147","v":0},"#'T2-B(PP4)'!$C$147"]
["pp4_bl4_9_7_unit_in",{"$f":"'T2-B(PP4)'!$D$147","v":0},"#'T2-B(PP4)'!$D$147"]
["pp4_bl4_9_7_units_out",{"$f":"'T2-B(PP4)'!$G$147","v":0},"#'T2-B(PP4)'!$G$147"]
["pp4_bl4_9_8_name",{"$f":"'T2-B(PP4)'!$B$148","v":0},"#'T2-B(PP4)'!$B$148"]
["pp4_bl4_9_8_rate_in",{"$f":"'T2-B(PP4)'!$E$148","v":0},"#'T2-B(PP4)'!$E$148"]
["pp4_bl4_9_8_rate_out",{"$f":"'T2-B(PP4)'!$H$148","v":0},"#'T2-B(PP4)'!$H$148"]
["pp4_bl4_9_8_total",{"$f":"'T2-B(PP4)'!$J$148","v":0},"#'T2-B(PP4)'!$J$148"]
["pp4_bl4_9_8_total_in",{"$f":"'T2-B(PP4)'!$F$148","v":0},"#'T2-B(PP4)'!$F$148"]
["pp4_bl4_9_8_total_out",{"$f":"'T2-B(PP4)'!$I$148","v":0},"#'T2-B(PP4)'!$I$148"]
["pp4_bl4_9_8_unit",{"$f":"'T2-B(PP4)'!$C$148","v":0},"#'T2-B(PP4)'!$C$148"]
["pp4_bl4_9_8_unit_in",{"$f":"'T2-B(PP4)'!$D$148","v":0},"#'T2-B(PP4)'!$D$148"]
["pp4_bl4_9_8_units_out",{"$f":"'T2-B(PP4)'!$G$148","v":0},"#'T2-B(PP4)'!$G$148"]
["pp4_bl4_9_9_name",{"$f":"'T2-B(PP4)'!$B$149","v":0},"#'T2-B(PP4)'!$B$149"]
["pp4_bl4_9_9_rate_in",{"$f":"'T2-B(PP4)'!$E$149","v":0},"#'T2-B(PP4)'!$E$149"]
["pp4_bl4_9_9_rate_out",{"$f":"'T2-B(PP4)'!$H$149","v":0},"#'T2-B(PP4)'!$H$149"]
["pp4_bl4_9_9_total",{"$f":"'T2-B(PP4)'!$J$149","v":0},"#'T2-B(PP4)'!$J$149"]
["pp4_bl4_9_9_total_in",{"$f":"'T2-B(PP4)'!$F$149","v":0},"#'T2-B(PP4)'!$F$149"]
["pp4_bl4_9_9_total_out",{"$f":"'T2-B(PP4)'!$I$149","v":0},"#'T2-B(PP4)'!$I$149"]
["pp4_bl4_9_9_unit",{"$f":"'T2-B(PP4)'!$C$149","v":0},"#'T2-B(PP4)'!$C$149"]
["pp4_bl4_9_9_unit_in",{"$f":"'T2-B(PP4)'!$D$149","v":0},"#'T2-B(PP4)'!$D$149"]
["pp4_bl4_9_9_units_out",{"$f":"'T2-B(PP4)'!$G$149","v":0},"#'T2-B(PP4)'!$G$149"]
["pp4_bl4_9_total",{"$f":"'T2-B(PP4)'!$J$140","v":0},"#'T2-B(PP4)'!$J$140"]
["pp4_bl4_9_total_in",{"$f":"'T2-B(PP4)'!$F$140","v":0},"#'T2-B(PP4)'!$F$140"]
["pp4_bl4_9_total_out",{"$f":"'T2-B(PP4)'!$I$140","v":0},"#'T2-B(PP4)'!$I$140"]
["pp4_bl4_total",{"$f":"'T2-B(PP4)'!$J$206","v":0},"#'T2-B(PP4)'!$J$206"]
["pp4_bl4_total_in",{"$f":"'T2-B(PP4)'!$F$206","v":0},"#'T2-B(PP4)'!$F$206"]
["pp4_bl4_total_out",{"$f":"'T2-B(PP4)'!$I$206","v":0},"#'T2-B(PP4)'!$I$206"]
["pp4_bl5_1_1_name",{"$f":"'T2-B(PP4)'!$B$211","v":0},"#'T2-B(PP4)'!$B$211"]
["pp4_bl5_1_1_rate_in",{"$f":"'T2-B(PP4)'!$E$211","v":0},"#'T2-B(PP4)'!$E$211"]
["pp4_bl5_1_1_rate_out",{"$f":"'T2-B(PP4)'!$H$211","v":0},"#'T2-B(PP4)'!$H$211"]
["pp4_bl5_1_1_total",{"$f":"'T2-B(PP4)'!$J$211","v":0},"#'T2-B(PP4)'!$J$211"]
["pp4_bl5_1_1_total_in",{"$f":"'T2-B(PP4)'!$F$211","v":0},"#'T2-B(PP4)'!$F$211"]
["pp4_bl5_1_1_total_out",{"$f":"'T2-B(PP4)'!$I$211","v":0},"#'T2-B(PP4)'!$I$211"]
["pp4_bl5_1_1_unit",{"$f":"'T2-B(PP4)'!$C$211","v":0},"#'T2-B(PP4)'!$C$211"]
["pp4_bl5_1_1_unit_in",{"$f":"'T2-B(PP4)'!$D$211","v":0},"#'T2-B(PP4)'!$D$211"]
["pp4_bl5_1_1_units_out",{"$f":"'T2-B(PP4)'!$G$211","v":0},"#'T2-B(PP4)'!$G$211"]
["pp4_bl5_1_10_name",{"$f":"'T2-B(PP4)'!$B$220","v":0},"#'T2-B(PP4)'!$B$220"]
["pp4_bl5_1_10_rate_in",{"$f":"'T2-B(PP4)'!$E$220","v":0},"#'T2-B(PP4)'!$E$220"]
["pp4_bl5_1_10_rate_out",{"$f":"'T2-B(PP4)'!$H$220","v":0},"#'T2-B(PP4)'!$H$220"]
["pp4_bl5_1_10_total",{"$f":"'T2-B(PP4)'!$J$220","v":0},"#'T2-B(PP4)'!$J$220"]
["pp4_bl5_1_10_total_in",{"$f":"'T2-B(PP4)'!$F$220","v":0},"#'T2-B(PP4)'!$F$220"]
["pp4_bl5_1_10_total_out",{"$f":"'T2-B(PP4)'!$I$220","v":0},"#'T2-B(PP4)'!$I$220"]
["pp4_bl5_1_10_unit",{"$f":"'T2-B(PP4)'!$C$220","v":0},"#'T2-B(PP4)'!$C$220"]
["pp4_bl5_1_10_unit_in",{"$f":"'T2-B(PP4)'!$D$220","v":0},"#'T2-B(PP4)'!$D$220"]
["pp4_bl5_1_10_units_out",{"$f":"'T2-B(PP4)'!$G$220","v":0},"#'T2-B(PP4)'!$G$220"]
["pp4_bl5_1_2_name",{"$f":"'T2-B(PP4)'!$B$212","v":0},"#'T2-B(PP4)'!$B$212"]
["pp4_bl5_1_2_rate_in",{"$f":"'T2-B(PP4)'!$E$212","v":0},"#'T2-B(PP4)'!$E$212"]
["pp4_bl5_1_2_rate_out",{"$f":"'T2-B(PP4)'!$H$212","v":0},"#'T2-B(PP4)'!$H$212"]
["pp4_bl5_1_2_total",{"$f":"'T2-B(PP4)'!$J$212","v":0},"#'T2-B(PP4)'!$J$212"]
["pp4_bl5_1_2_total_in",{"$f":"'T2-B(PP4)'!$F$212","v":0},"#'T2-B(PP4)'!$F$212"]
["pp4_bl5_1_2_total_out",{"$f":"'T2-B(PP4)'!$I$212","v":0},"#'T2-B(PP4)'!$I$212"]
["pp4_bl5_1_2_unit",{"$f":"'T2-B(PP4)'!$C$212","v":0},"#'T2-B(PP4)'!$C$212"]
["pp4_bl5_1_2_unit_in",{"$f":"'T2-B(PP4)'!$D$212","v":0},"#'T2-B(PP4)'!$D$212"]
["pp4_bl5_1_2_units_out",{"$f":"'T2-B(PP4)'!$G$212","v":0},"#'T2-B(PP4)'!$G$212"]
["pp4_bl5_1_3_name",{"$f":"'T2-B(PP4)'!$B$213","v":0},"#'T2-B(PP4)'!$B$213"]
["pp4_bl5_1_3_rate_in",{"$f":"'T2-B(PP4)'!$E$213","v":0},"#'T2-B(PP4)'!$E$213"]
["pp4_bl5_1_3_rate_out",{"$f":"'T2-B(PP4)'!$H$213","v":0},"#'T2-B(PP4)'!$H$213"]
["pp4_bl5_1_3_total",{"$f":"'T2-B(PP4)'!$J$213","v":0},"#'T2-B(PP4)'!$J$213"]
["pp4_bl5_1_3_total_in",{"$f":"'T2-B(PP4)'!$F$213","v":0},"#'T2-B(PP4)'!$F$213"]
["pp4_bl5_1_3_total_out",{"$f":"'T2-B(PP4)'!$I$213","v":0},"#'T2-B(PP4)'!$I$213"]
["pp4_bl5_1_3_unit",{"$f":"'T2-B(PP4)'!$C$213","v":0},"#'T2-B(PP4)'!$C$213"]
["pp4_bl5_1_3_unit_in",{"$f":"'T2-B(PP4)'!$D$213","v":0},"#'T2-B(PP4)'!$D$213"]
["pp4_bl5_1_3_units_out",{"$f":"'T2-B(PP4)'!$G$213","v":0},"#'T2-B(PP4)'!$G$213"]
["pp4_bl5_1_4_name",{"$f":"'T2-B(PP4)'!$B$214","v":0},"#'T2-B(PP4)'!$B$214"]
["pp4_bl5_1_4_rate_in",{"$f":"'T2-B(PP4)'!$E$214","v":0},"#'T2-B(PP4)'!$E$214"]
["pp4_bl5_1_4_rate_out",{"$f":"'T2-B(PP4)'!$H$214","v":0},"#'T2-B(PP4)'!$H$214"]
["pp4_bl5_1_4_total",{"$f":"'T2-B(PP4)'!$J$214","v":0},"#'T2-B(PP4)'!$J$214"]
["pp4_bl5_1_4_total_in",{"$f":"'T2-B(PP4)'!$F$214","v":0},"#'T2-B(PP4)'!$F$214"]
["pp4_bl5_1_4_total_out",{"$f":"'T2-B(PP4)'!$I$214","v":0},"#'T2-B(PP4)'!$I$214"]
["pp4_bl5_1_4_unit",{"$f":"'T2-B(PP4)'!$C$214","v":0},"#'T2-B(PP4)'!$C$214"]
["pp4_bl5_1_4_unit_in",{"$f":"'T2-B(PP4)'!$D$214","v":0},"#'T2-B(PP4)'!$D$214"]
["pp4_bl5_1_4_units_out",{"$f":"'T2-B(PP4)'!$G$214","v":0},"#'T2-B(PP4)'!$G$214"]
["pp4_bl5_1_5_name",{"$f":"'T2-B(PP4)'!$B$215","v":0},"#'T2-B(PP4)'!$B$215"]
["pp4_bl5_1_5_rate_in",{"$f":"'T2-B(PP4)'!$E$215","v":0},"#'T2-B(PP4)'!$E$215"]
["pp4_bl5_1_5_rate_out",{"$f":"'T2-B(PP4)'!$H$215","v":0},"#'T2-B(PP4)'!$H$215"]
["pp4_bl5_1_5_total",{"$f":"'T2-B(PP4)'!$J$215","v":0},"#'T2-B(PP4)'!$J$215"]
["pp4_bl5_1_5_total_in",{"$f":"'T2-B(PP4)'!$F$215","v":0},"#'T2-B(PP4)'!$F$215"]
["pp4_bl5_1_5_total_out",{"$f":"'T2-B(PP4)'!$I$215","v":0},"#'T2-B(PP4)'!$I$215"]
["pp4_bl5_1_5_unit",{"$f":"'T2-B(PP4)'!$C$215","v":0},"#'T2-B(PP4)'!$C$215"]
["pp4_bl5_1_5_unit_in",{"$f":"'T2-B(PP4)'!$D$215","v":0},"#'T2-B(PP4)'!$D$215"]
["pp4_bl5_1_5_units_out",{"$f":"'T2-B(PP4)'!$G$215","v":0},"#'T2-B(PP4)'!$G$215"]
["pp4_bl5_1_6_name",{"$f":"'T2-B(PP4)'!$B$216","v":0},"#'T2-B(PP4)'!$B$216"]
["pp4_bl5_1_6_rate_in",{"$f":"'T2-B(PP4)'!$E$216","v":0},"#'T2-B(PP4)'!$E$216"]
["pp4_bl5_1_6_rate_out",{"$f":"'T2-B(PP4)'!$H$216","v":0},"#'T2-B(PP4)'!$H$216"]
["pp4_bl5_1_6_total",{"$f":"'T2-B(PP4)'!$J$216","v":0},"#'T2-B(PP4)'!$J$216"]
["pp4_bl5_1_6_total_in",{"$f":"'T2-B(PP4)'!$F$216","v":0},"#'T2-B(PP4)'!$F$216"]
["pp4_bl5_1_6_total_out",{"$f":"'T2-B(PP4)'!$I$216","v":0},"#'T2-B(PP4)'!$I$216"]
["pp4_bl5_1_6_unit",{"$f":"'T2-B(PP4)'!$C$216","v":0},"#'T2-B(PP4)'!$C$216"]
["pp4_bl5_1_6_unit_in",{"$f":"'T2-B(PP4)'!$D$216","v":0},"#'T2-B(PP4)'!$D$216"]
["pp4_bl5_1_6_units_out",{"$f":"'T2-B(PP4)'!$G$216","v":0},"#'T2-B(PP4)'!$G$216"]
["pp4_bl5_1_7_name",{"$f":"'T2-B(PP4)'!$B$217","v":0},"#'T2-B(PP4)'!$B$217"]
["pp4_bl5_1_7_rate_in",{"$f":"'T2-B(PP4)'!$E$217","v":0},"#'T2-B(PP4)'!$E$217"]
["pp4_bl5_1_7_rate_out",{"$f":"'T2-B(PP4)'!$H$217","v":0},"#'T2-B(PP4)'!$H$217"]
["pp4_bl5_1_7_total",{"$f":"'T2-B(PP4)'!$J$217","v":0},"#'T2-B(PP4)'!$J$217"]
["pp4_bl5_1_7_total_in",{"$f":"'T2-B(PP4)'!$F$217","v":0},"#'T2-B(PP4)'!$F$217"]
["pp4_bl5_1_7_total_out",{"$f":"'T2-B(PP4)'!$I$217","v":0},"#'T2-B(PP4)'!$I$217"]
["pp4_bl5_1_7_unit",{"$f":"'T2-B(PP4)'!$C$217","v":0},"#'T2-B(PP4)'!$C$217"]
["pp4_bl5_1_7_unit_in",{"$f":"'T2-B(PP4)'!$D$217","v":0},"#'T2-B(PP4)'!$D$217"]
["pp4_bl5_1_7_units_out",{"$f":"'T2-B(PP4)'!$G$217","v":0},"#'T2-B(PP4)'!$G$217"]
["pp4_bl5_1_8_name",{"$f":"'T2-B(PP4)'!$B$218","v":0},"#'T2-B(PP4)'!$B$218"]
["pp4_bl5_1_8_rate_in",{"$f":"'T2-B(PP4)'!$E$218","v":0},"#'T2-B(PP4)'!$E$218"]
["pp4_bl5_1_8_rate_out",{"$f":"'T2-B(PP4)'!$H$218","v":0},"#'T2-B(PP4)'!$H$218"]
["pp4_bl5_1_8_total",{"$f":"'T2-B(PP4)'!$J$218","v":0},"#'T2-B(PP4)'!$J$218"]
["pp4_bl5_1_8_total_in",{"$f":"'T2-B(PP4)'!$F$218","v":0},"#'T2-B(PP4)'!$F$218"]
["pp4_bl5_1_8_total_out",{"$f":"'T2-B(PP4)'!$I$218","v":0},"#'T2-B(PP4)'!$I$218"]
["pp4_bl5_1_8_unit",{"$f":"'T2-B(PP4)'!$C$218","v":0},"#'T2-B(PP4)'!$C$218"]
["pp4_bl5_1_8_unit_in",{"$f":"'T2-B(PP4)'!$D$218","v":0},"#'T2-B(PP4)'!$D$218"]
["pp4_bl5_1_8_units_out",{"$f":"'T2-B(PP4)'!$G$218","v":0},"#'T2-B(PP4)'!$G$218"]
["pp4_bl5_1_9_name",{"$f":"'T2-B(PP4)'!$B$219","v":0},"#'T2-B(PP4)'!$B$219"]
["pp4_bl5_1_9_rate_in",{"$f":"'T2-B(PP4)'!$E$219","v":0},"#'T2-B(PP4)'!$E$219"]
["pp4_bl5_1_9_rate_out",{"$f":"'T2-B(PP4)'!$H$219","v":0},"#'T2-B(PP4)'!$H$219"]
["pp4_bl5_1_9_total",{"$f":"'T2-B(PP4)'!$J$219","v":0},"#'T2-B(PP4)'!$J$219"]
["pp4_bl5_1_9_total_in",{"$f":"'T2-B(PP4)'!$F$219","v":0},"#'T2-B(PP4)'!$F$219"]
["pp4_bl5_1_9_total_out",{"$f":"'T2-B(PP4)'!$I$219","v":0},"#'T2-B(PP4)'!$I$219"]
["pp4_bl5_1_9_unit",{"$f":"'T2-B(PP4)'!$C$219","v":0},"#'T2-B(PP4)'!$C$219"]
["pp4_bl5_1_9_unit_in",{"$f":"'T2-B(PP4)'!$D$219","v":0},"#'T2-B(PP4)'!$D$219"]
["pp4_bl5_1_9_units_out",{"$f":"'T2-B(PP4)'!$G$219","v":0},"#'T2-B(PP4)'!$G$219"]
["pp4_bl5_1_total",{"$f":"'T2-B(PP4)'!$J$210","v":0},"#'T2-B(PP4)'!$J$210"]
["pp4_bl5_1_total_in",{"$f":"'T2-B(PP4)'!$F$210","v":0},"#'T2-B(PP4)'!$F$210"]
["pp4_bl5_1_total_out",{"$f":"'T2-B(PP4)'!$I$210","v":0},"#'T2-B(PP4)'!$I$210"]
["pp4_bl5_2_1_name",{"$f":"'T2-B(PP4)'!$B$222","v":0},"#'T2-B(PP4)'!$B$222"]
["pp4_bl5_2_1_rate_in",{"$f":"'T2-B(PP4)'!$E$222","v":0},"#'T2-B(PP4)'!$E$222"]
["pp4_bl5_2_1_rate_out",{"$f":"'T2-B(PP4)'!$H$222","v":0},"#'T2-B(PP4)'!$H$222"]
["pp4_bl5_2_1_total",{"$f":"'T2-B(PP4)'!$J$222","v":0},"#'T2-B(PP4)'!$J$222"]
["pp4_bl5_2_1_total_in",{"$f":"'T2-B(PP4)'!$F$222","v":0},"#'T2-B(PP4)'!$F$222"]
["pp4_bl5_2_1_total_out",{"$f":"'T2-B(PP4)'!$I$222","v":0},"#'T2-B(PP4)'!$I$222"]
["pp4_bl5_2_1_unit",{"$f":"'T2-B(PP4)'!$C$222","v":0},"#'T2-B(PP4)'!$C$222"]
["pp4_bl5_2_1_unit_in",{"$f":"'T2-B(PP4)'!$D$222","v":0},"#'T2-B(PP4)'!$D$222"]
["pp4_bl5_2_1_units_out",{"$f":"'T2-B(PP4)'!$G$222","v":0},"#'T2-B(PP4)'!$G$222"]
["pp4_bl5_2_10_name",{"$f":"'T2-B(PP4)'!$B$231","v":0},"#'T2-B(PP4)'!$B$231"]
["pp4_bl5_2_10_rate_in",{"$f":"'T2-B(PP4)'!$E$231","v":0},"#'T2-B(PP4)'!$E$231"]
["pp4_bl5_2_10_rate_out",{"$f":"'T2-B(PP4)'!$H$231","v":0},"#'T2-B(PP4)'!$H$231"]
["pp4_bl5_2_10_total",{"$f":"'T2-B(PP4)'!$J$231","v":0},"#'T2-B(PP4)'!$J$231"]
["pp4_bl5_2_10_total_in",{"$f":"'T2-B(PP4)'!$F$231","v":0},"#'T2-B(PP4)'!$F$231"]
["pp4_bl5_2_10_total_out",{"$f":"'T2-B(PP4)'!$I$231","v":0},"#'T2-B(PP4)'!$I$231"]
["pp4_bl5_2_10_unit",{"$f":"'T2-B(PP4)'!$C$231","v":0},"#'T2-B(PP4)'!$C$231"]
["pp4_bl5_2_10_unit_in",{"$f":"'T2-B(PP4)'!$D$231","v":0},"#'T2-B(PP4)'!$D$231"]
["pp4_bl5_2_10_units_out",{"$f":"'T2-B(PP4)'!$G$231","v":0},"#'T2-B(PP4)'!$G$231"]
["pp4_bl5_2_2_name",{"$f":"'T2-B(PP4)'!$B$223","v":0},"#'T2-B(PP4)'!$B$223"]
["pp4_bl5_2_2_rate_in",{"$f":"'T2-B(PP4)'!$E$223","v":0},"#'T2-B(PP4)'!$E$223"]
["pp4_bl5_2_2_rate_out",{"$f":"'T2-B(PP4)'!$H$223","v":0},"#'T2-B(PP4)'!$H$223"]
["pp4_bl5_2_2_total",{"$f":"'T2-B(PP4)'!$J$223","v":0},"#'T2-B(PP4)'!$J$223"]
["pp4_bl5_2_2_total_in",{"$f":"'T2-B(PP4)'!$F$223","v":0},"#'T2-B(PP4)'!$F$223"]
["pp4_bl5_2_2_total_out",{"$f":"'T2-B(PP4)'!$I$223","v":0},"#'T2-B(PP4)'!$I$223"]
["pp4_bl5_2_2_unit",{"$f":"'T2-B(PP4)'!$C$223","v":0},"#'T2-B(PP4)'!$C$223"]
["pp4_bl5_2_2_unit_in",{"$f":"'T2-B(PP4)'!$D$223","v":0},"#'T2-B(PP4)'!$D$223"]
["pp4_bl5_2_2_units_out",{"$f":"'T2-B(PP4)'!$G$223","v":0},"#'T2-B(PP4)'!$G$223"]
["pp4_bl5_2_3_name",{"$f":"'T2-B(PP4)'!$B$224","v":0},"#'T2-B(PP4)'!$B$224"]
["pp4_bl5_2_3_rate_in",{"$f":"'T2-B(PP4)'!$E$224","v":0},"#'T2-B(PP4)'!$E$224"]
["pp4_bl5_2_3_rate_out",{"$f":"'T2-B(PP4)'!$H$224","v":0},"#'T2-B(PP4)'!$H$224"]
["pp4_bl5_2_3_total",{"$f":"'T2-B(PP4)'!$J$224","v":0},"#'T2-B(PP4)'!$J$224"]
["pp4_bl5_2_3_total_in",{"$f":"'T2-B(PP4)'!$F$224","v":0},"#'T2-B(PP4)'!$F$224"]
["pp4_bl5_2_3_total_out",{"$f":"'T2-B(PP4)'!$I$224","v":0},"#'T2-B(PP4)'!$I$224"]
["pp4_bl5_2_3_unit",{"$f":"'T2-B(PP4)'!$C$224","v":0},"#'T2-B(PP4)'!$C$224"]
["pp4_bl5_2_3_unit_in",{"$f":"'T2-B(PP4)'!$D$224","v":0},"#'T2-B(PP4)'!$D$224"]
["pp4_bl5_2_3_units_out",{"$f":"'T2-B(PP4)'!$G$224","v":0},"#'T2-B(PP4)'!$G$224"]
["pp4_bl5_2_4_name",{"$f":"'T2-B(PP4)'!$B$225","v":0},"#'T2-B(PP4)'!$B$225"]
["pp4_bl5_2_4_rate_in",{"$f":"'T2-B(PP4)'!$E$225","v":0},"#'T2-B(PP4)'!$E$225"]
["pp4_bl5_2_4_rate_out",{"$f":"'T2-B(PP4)'!$H$225","v":0},"#'T2-B(PP4)'!$H$225"]
["pp4_bl5_2_4_total",{"$f":"'T2-B(PP4)'!$J$225","v":0},"#'T2-B(PP4)'!$J$225"]
["pp4_bl5_2_4_total_in",{"$f":"'T2-B(PP4)'!$F$225","v":0},"#'T2-B(PP4)'!$F$225"]
["pp4_bl5_2_4_total_out",{"$f":"'T2-B(PP4)'!$I$225","v":0},"#'T2-B(PP4)'!$I$225"]
["pp4_bl5_2_4_unit",{"$f":"'T2-B(PP4)'!$C$225","v":0},"#'T2-B(PP4)'!$C$225"]
["pp4_bl5_2_4_unit_in",{"$f":"'T2-B(PP4)'!$D$225","v":0},"#'T2-B(PP4)'!$D$225"]
["pp4_bl5_2_4_units_out",{"$f":"'T2-B(PP4)'!$G$225","v":0},"#'T2-B(PP4)'!$G$225"]
["pp4_bl5_2_5_name",{"$f":"'T2-B(PP4)'!$B$226","v":0},"#'T2-B(PP4)'!$B$226"]
["pp4_bl5_2_5_rate_in",{"$f":"'T2-B(PP4)'!$E$226","v":0},"#'T2-B(PP4)'!$E$226"]
["pp4_bl5_2_5_rate_out",{"$f":"'T2-B(PP4)'!$H$226","v":0},"#'T2-B(PP4)'!$H$226"]
["pp4_bl5_2_5_total",{"$f":"'T2-B(PP4)'!$J$226","v":0},"#'T2-B(PP4)'!$J$226"]
["pp4_bl5_2_5_total_in",{"$f":"'T2-B(PP4)'!$F$226","v":0},"#'T2-B(PP4)'!$F$226"]
["pp4_bl5_2_5_total_out",{"$f":"'T2-B(PP4)'!$I$226","v":0},"#'T2-B(PP4)'!$I$226"]
["pp4_bl5_2_5_unit",{"$f":"'T2-B(PP4)'!$C$226","v":0},"#'T2-B(PP4)'!$C$226"]
["pp4_bl5_2_5_unit_in",{"$f":"'T2-B(PP4)'!$D$226","v":0},"#'T2-B(PP4)'!$D$226"]
["pp4_bl5_2_5_units_out",{"$f":"'T2-B(PP4)'!$G$226","v":0},"#'T2-B(PP4)'!$G$226"]
["pp4_bl5_2_6_name",{"$f":"'T2-B(PP4)'!$B$227","v":0},"#'T2-B(PP4)'!$B$227"]
["pp4_bl5_2_6_rate_in",{"$f":"'T2-B(PP4)'!$E$227","v":0},"#'T2-B(PP4)'!$E$227"]
["pp4_bl5_2_6_rate_out",{"$f":"'T2-B(PP4)'!$H$227","v":0},"#'T2-B(PP4)'!$H$227"]
["pp4_bl5_2_6_total",{"$f":"'T2-B(PP4)'!$J$227","v":0},"#'T2-B(PP4)'!$J$227"]
["pp4_bl5_2_6_total_in",{"$f":"'T2-B(PP4)'!$F$227","v":0},"#'T2-B(PP4)'!$F$227"]
["pp4_bl5_2_6_total_out",{"$f":"'T2-B(PP4)'!$I$227","v":0},"#'T2-B(PP4)'!$I$227"]
["pp4_bl5_2_6_unit",{"$f":"'T2-B(PP4)'!$C$227","v":0},"#'T2-B(PP4)'!$C$227"]
["pp4_bl5_2_6_unit_in",{"$f":"'T2-B(PP4)'!$D$227","v":0},"#'T2-B(PP4)'!$D$227"]
["pp4_bl5_2_6_units_out",{"$f":"'T2-B(PP4)'!$G$227","v":0},"#'T2-B(PP4)'!$G$227"]
["pp4_bl5_2_7_name",{"$f":"'T2-B(PP4)'!$B$228","v":0},"#'T2-B(PP4)'!$B$228"]
["pp4_bl5_2_7_rate_in",{"$f":"'T2-B(PP4)'!$E$228","v":0},"#'T2-B(PP4)'!$E$228"]
["pp4_bl5_2_7_rate_out",{"$f":"'T2-B(PP4)'!$H$228","v":0},"#'T2-B(PP4)'!$H$228"]
["pp4_bl5_2_7_total",{"$f":"'T2-B(PP4)'!$J$228","v":0},"#'T2-B(PP4)'!$J$228"]
["pp4_bl5_2_7_total_in",{"$f":"'T2-B(PP4)'!$F$228","v":0},"#'T2-B(PP4)'!$F$228"]
["pp4_bl5_2_7_total_out",{"$f":"'T2-B(PP4)'!$I$228","v":0},"#'T2-B(PP4)'!$I$228"]
["pp4_bl5_2_7_unit",{"$f":"'T2-B(PP4)'!$C$228","v":0},"#'T2-B(PP4)'!$C$228"]
["pp4_bl5_2_7_unit_in",{"$f":"'T2-B(PP4)'!$D$228","v":0},"#'T2-B(PP4)'!$D$228"]
["pp4_bl5_2_7_units_out",{"$f":"'T2-B(PP4)'!$G$228","v":0},"#'T2-B(PP4)'!$G$228"]
["pp4_bl5_2_8_name",{"$f":"'T2-B(PP4)'!$B$229","v":0},"#'T2-B(PP4)'!$B$229"]
["pp4_bl5_2_8_rate_in",{"$f":"'T2-B(PP4)'!$E$229","v":0},"#'T2-B(PP4)'!$E$229"]
["pp4_bl5_2_8_rate_out",{"$f":"'T2-B(PP4)'!$H$229","v":0},"#'T2-B(PP4)'!$H$229"]
["pp4_bl5_2_8_total",{"$f":"'T2-B(PP4)'!$J$229","v":0},"#'T2-B(PP4)'!$J$229"]
["pp4_bl5_2_8_total_in",{"$f":"'T2-B(PP4)'!$F$229","v":0},"#'T2-B(PP4)'!$F$229"]
["pp4_bl5_2_8_total_out",{"$f":"'T2-B(PP4)'!$I$229","v":0},"#'T2-B(PP4)'!$I$229"]
["pp4_bl5_2_8_unit",{"$f":"'T2-B(PP4)'!$C$229","v":0},"#'T2-B(PP4)'!$C$229"]
["pp4_bl5_2_8_unit_in",{"$f":"'T2-B(PP4)'!$D$229","v":0},"#'T2-B(PP4)'!$D$229"]
["pp4_bl5_2_8_units_out",{"$f":"'T2-B(PP4)'!$G$229","v":0},"#'T2-B(PP4)'!$G$229"]
["pp4_bl5_2_9_name",{"$f":"'T2-B(PP4)'!$B$230","v":0},"#'T2-B(PP4)'!$B$230"]
["pp4_bl5_2_9_rate_in",{"$f":"'T2-B(PP4)'!$E$230","v":0},"#'T2-B(PP4)'!$E$230"]
["pp4_bl5_2_9_rate_out",{"$f":"'T2-B(PP4)'!$H$230","v":0},"#'T2-B(PP4)'!$H$230"]
["pp4_bl5_2_9_total",{"$f":"'T2-B(PP4)'!$J$230","v":0},"#'T2-B(PP4)'!$J$230"]
["pp4_bl5_2_9_total_in",{"$f":"'T2-B(PP4)'!$F$230","v":0},"#'T2-B(PP4)'!$F$230"]
["pp4_bl5_2_9_total_out",{"$f":"'T2-B(PP4)'!$I$230","v":0},"#'T2-B(PP4)'!$I$230"]
["pp4_bl5_2_9_unit",{"$f":"'T2-B(PP4)'!$C$230","v":0},"#'T2-B(PP4)'!$C$230"]
["pp4_bl5_2_9_unit_in",{"$f":"'T2-B(PP4)'!$D$230","v":0},"#'T2-B(PP4)'!$D$230"]
["pp4_bl5_2_9_units_out",{"$f":"'T2-B(PP4)'!$G$230","v":0},"#'T2-B(PP4)'!$G$230"]
["pp4_bl5_2_total",{"$f":"'T2-B(PP4)'!$J$221","v":0},"#'T2-B(PP4)'!$J$221"]
["pp4_bl5_2_total_in",{"$f":"'T2-B(PP4)'!$F$221","v":0},"#'T2-B(PP4)'!$F$221"]
["pp4_bl5_2_total_out",{"$f":"'T2-B(PP4)'!$I$221","v":0},"#'T2-B(PP4)'!$I$221"]
["pp4_bl5_total",{"$f":"'T2-B(PP4)'!$J$232","v":0},"#'T2-B(PP4)'!$J$232"]
["pp4_bl5_total_in",{"$f":"'T2-B(PP4)'!$F$232","v":0},"#'T2-B(PP4)'!$F$232"]
["pp4_bl5_total_out",{"$f":"'T2-B(PP4)'!$I$232","v":0},"#'T2-B(PP4)'!$I$232"]
["pp4_bl6_1_1_name",{"$f":"'T2-B(PP4)'!$B$236","v":0},"#'T2-B(PP4)'!$B$236"]
["pp4_bl6_1_1_rate_in",{"$f":"'T2-B(PP4)'!$E$236","v":0},"#'T2-B(PP4)'!$E$236"]
["pp4_bl6_1_1_rate_out",{"$f":"'T2-B(PP4)'!$H$236","v":0},"#'T2-B(PP4)'!$H$236"]
["pp4_bl6_1_1_total",{"$f":"'T2-B(PP4)'!$J$236","v":0},"#'T2-B(PP4)'!$J$236"]
["pp4_bl6_1_1_total_in",{"$f":"'T2-B(PP4)'!$F$236","v":0},"#'T2-B(PP4)'!$F$236"]
["pp4_bl6_1_1_total_out",{"$f":"'T2-B(PP4)'!$I$236","v":0},"#'T2-B(PP4)'!$I$236"]
["pp4_bl6_1_1_unit",{"$f":"'T2-B(PP4)'!$C$236","v":0},"#'T2-B(PP4)'!$C$236"]
["pp4_bl6_1_1_unit_in",{"$f":"'T2-B(PP4)'!$D$236","v":0},"#'T2-B(PP4)'!$D$236"]
["pp4_bl6_1_1_units_out",{"$f":"'T2-B(PP4)'!$G$236","v":0},"#'T2-B(PP4)'!$G$236"]
["pp4_bl6_1_10_name",{"$f":"'T2-B(PP4)'!$B$245","v":0},"#'T2-B(PP4)'!$B$245"]
["pp4_bl6_1_10_rate_in",{"$f":"'T2-B(PP4)'!$E$245","v":0},"#'T2-B(PP4)'!$E$245"]
["pp4_bl6_1_10_rate_out",{"$f":"'T2-B(PP4)'!$H$245","v":0},"#'T2-B(PP4)'!$H$245"]
["pp4_bl6_1_10_total",{"$f":"'T2-B(PP4)'!$J$245","v":0},"#'T2-B(PP4)'!$J$245"]
["pp4_bl6_1_10_total_in",{"$f":"'T2-B(PP4)'!$F$245","v":0},"#'T2-B(PP4)'!$F$245"]
["pp4_bl6_1_10_total_out",{"$f":"'T2-B(PP4)'!$I$245","v":0},"#'T2-B(PP4)'!$I$245"]
["pp4_bl6_1_10_unit",{"$f":"'T2-B(PP4)'!$C$245","v":0},"#'T2-B(PP4)'!$C$245"]
["pp4_bl6_1_10_unit_in",{"$f":"'T2-B(PP4)'!$D$245","v":0},"#'T2-B(PP4)'!$D$245"]
["pp4_bl6_1_10_units_out",{"$f":"'T2-B(PP4)'!$G$245","v":0},"#'T2-B(PP4)'!$G$245"]
["pp4_bl6_1_2_name",{"$f":"'T2-B(PP4)'!$B$237","v":0},"#'T2-B(PP4)'!$B$237"]
["pp4_bl6_1_2_rate_in",{"$f":"'T2-B(PP4)'!$E$237","v":0},"#'T2-B(PP4)'!$E$237"]
["pp4_bl6_1_2_rate_out",{"$f":"'T2-B(PP4)'!$H$237","v":0},"#'T2-B(PP4)'!$H$237"]
["pp4_bl6_1_2_total",{"$f":"'T2-B(PP4)'!$J$237","v":0},"#'T2-B(PP4)'!$J$237"]
["pp4_bl6_1_2_total_in",{"$f":"'T2-B(PP4)'!$F$237","v":0},"#'T2-B(PP4)'!$F$237"]
["pp4_bl6_1_2_total_out",{"$f":"'T2-B(PP4)'!$I$237","v":0},"#'T2-B(PP4)'!$I$237"]
["pp4_bl6_1_2_unit",{"$f":"'T2-B(PP4)'!$C$237","v":0},"#'T2-B(PP4)'!$C$237"]
["pp4_bl6_1_2_unit_in",{"$f":"'T2-B(PP4)'!$D$237","v":0},"#'T2-B(PP4)'!$D$237"]
["pp4_bl6_1_2_units_out",{"$f":"'T2-B(PP4)'!$G$237","v":0},"#'T2-B(PP4)'!$G$237"]
["pp4_bl6_1_3_name",{"$f":"'T2-B(PP4)'!$B$238","v":0},"#'T2-B(PP4)'!$B$238"]
["pp4_bl6_1_3_rate_in",{"$f":"'T2-B(PP4)'!$E$238","v":0},"#'T2-B(PP4)'!$E$238"]
["pp4_bl6_1_3_rate_out",{"$f":"'T2-B(PP4)'!$H$238","v":0},"#'T2-B(PP4)'!$H$238"]
["pp4_bl6_1_3_total",{"$f":"'T2-B(PP4)'!$J$238","v":0},"#'T2-B(PP4)'!$J$238"]
["pp4_bl6_1_3_total_in",{"$f":"'T2-B(PP4)'!$F$238","v":0},"#'T2-B(PP4)'!$F$238"]
["pp4_bl6_1_3_total_out",{"$f":"'T2-B(PP4)'!$I$238","v":0},"#'T2-B(PP4)'!$I$238"]
["pp4_bl6_1_3_unit",{"$f":"'T2-B(PP4)'!$C$238","v":0},"#'T2-B(PP4)'!$C$238"]
["pp4_bl6_1_3_unit_in",{"$f":"'T2-B(PP4)'!$D$238","v":0},"#'T2-B(PP4)'!$D$238"]
["pp4_bl6_1_3_units_out",{"$f":"'T2-B(PP4)'!$G$238","v":0},"#'T2-B(PP4)'!$G$238"]
["pp4_bl6_1_4_name",{"$f":"'T2-B(PP4)'!$B$239","v":0},"#'T2-B(PP4)'!$B$239"]
["pp4_bl6_1_4_rate_in",{"$f":"'T2-B(PP4)'!$E$239","v":0},"#'T2-B(PP4)'!$E$239"]
["pp4_bl6_1_4_rate_out",{"$f":"'T2-B(PP4)'!$H$239","v":0},"#'T2-B(PP4)'!$H$239"]
["pp4_bl6_1_4_total",{"$f":"'T2-B(PP4)'!$J$239","v":0},"#'T2-B(PP4)'!$J$239"]
["pp4_bl6_1_4_total_in",{"$f":"'T2-B(PP4)'!$F$239","v":0},"#'T2-B(PP4)'!$F$239"]
["pp4_bl6_1_4_total_out",{"$f":"'T2-B(PP4)'!$I$239","v":0},"#'T2-B(PP4)'!$I$239"]
["pp4_bl6_1_4_unit",{"$f":"'T2-B(PP4)'!$C$239","v":0},"#'T2-B(PP4)'!$C$239"]
["pp4_bl6_1_4_unit_in",{"$f":"'T2-B(PP4)'!$D$239","v":0},"#'T2-B(PP4)'!$D$239"]
["pp4_bl6_1_4_units_out",{"$f":"'T2-B(PP4)'!$G$239","v":0},"#'T2-B(PP4)'!$G$239"]
["pp4_bl6_1_5_name",{"$f":"'T2-B(PP4)'!$B$240","v":0},"#'T2-B(PP4)'!$B$240"]
["pp4_bl6_1_5_rate_in",{"$f":"'T2-B(PP4)'!$E$240","v":0},"#'T2-B(PP4)'!$E$240"]
["pp4_bl6_1_5_rate_out",{"$f":"'T2-B(PP4)'!$H$240","v":0},"#'T2-B(PP4)'!$H$240"]
["pp4_bl6_1_5_total",{"$f":"'T2-B(PP4)'!$J$240","v":0},"#'T2-B(PP4)'!$J$240"]
["pp4_bl6_1_5_total_in",{"$f":"'T2-B(PP4)'!$F$240","v":0},"#'T2-B(PP4)'!$F$240"]
["pp4_bl6_1_5_total_out",{"$f":"'T2-B(PP4)'!$I$240","v":0},"#'T2-B(PP4)'!$I$240"]
["pp4_bl6_1_5_unit",{"$f":"'T2-B(PP4)'!$C$240","v":0},"#'T2-B(PP4)'!$C$240"]
["pp4_bl6_1_5_unit_in",{"$f":"'T2-B(PP4)'!$D$240","v":0},"#'T2-B(PP4)'!$D$240"]
["pp4_bl6_1_5_units_out",{"$f":"'T2-B(PP4)'!$G$240","v":0},"#'T2-B(PP4)'!$G$240"]
["pp4_bl6_1_6_name",{"$f":"'T2-B(PP4)'!$B$241","v":0},"#'T2-B(PP4)'!$B$241"]
["pp4_bl6_1_6_rate_in",{"$f":"'T2-B(PP4)'!$E$241","v":0},"#'T2-B(PP4)'!$E$241"]
["pp4_bl6_1_6_rate_out",{"$f":"'T2-B(PP4)'!$H$241","v":0},"#'T2-B(PP4)'!$H$241"]
["pp4_bl6_1_6_total",{"$f":"'T2-B(PP4)'!$J$241","v":0},"#'T2-B(PP4)'!$J$241"]
["pp4_bl6_1_6_total_in",{"$f":"'T2-B(PP4)'!$F$241","v":0},"#'T2-B(PP4)'!$F$241"]
["pp4_bl6_1_6_total_out",{"$f":"'T2-B(PP4)'!$I$241","v":0},"#'T2-B(PP4)'!$I$241"]
["pp4_bl6_1_6_unit",{"$f":"'T2-B(PP4)'!$C$241","v":0},"#'T2-B(PP4)'!$C$241"]
["pp4_bl6_1_6_unit_in",{"$f":"'T2-B(PP4)'!$D$241","v":0},"#'T2-B(PP4)'!$D$241"]
["pp4_bl6_1_6_units_out",{"$f":"'T2-B(PP4)'!$G$241","v":0},"#'T2-B(PP4)'!$G$241"]
["pp4_bl6_1_7_name",{"$f":"'T2-B(PP4)'!$B$242","v":0},"#'T2-B(PP4)'!$B$242"]
["pp4_bl6_1_7_rate_in",{"$f":"'T2-B(PP4)'!$E$242","v":0},"#'T2-B(PP4)'!$E$242"]
["pp4_bl6_1_7_rate_out",{"$f":"'T2-B(PP4)'!$H$242","v":0},"#'T2-B(PP4)'!$H$242"]
["pp4_bl6_1_7_total",{"$f":"'T2-B(PP4)'!$J$242","v":0},"#'T2-B(PP4)'!$J$242"]
["pp4_bl6_1_7_total_in",{"$f":"'T2-B(PP4)'!$F$242","v":0},"#'T2-B(PP4)'!$F$242"]
["pp4_bl6_1_7_total_out",{"$f":"'T2-B(PP4)'!$I$242","v":0},"#'T2-B(PP4)'!$I$242"]
["pp4_bl6_1_7_unit",{"$f":"'T2-B(PP4)'!$C$242","v":0},"#'T2-B(PP4)'!$C$242"]
["pp4_bl6_1_7_unit_in",{"$f":"'T2-B(PP4)'!$D$242","v":0},"#'T2-B(PP4)'!$D$242"]
["pp4_bl6_1_7_units_out",{"$f":"'T2-B(PP4)'!$G$242","v":0},"#'T2-B(PP4)'!$G$242"]
["pp4_bl6_1_8_name",{"$f":"'T2-B(PP4)'!$B$243","v":0},"#'T2-B(PP4)'!$B$243"]
["pp4_bl6_1_8_rate_in",{"$f":"'T2-B(PP4)'!$E$243","v":0},"#'T2-B(PP4)'!$E$243"]
["pp4_bl6_1_8_rate_out",{"$f":"'T2-B(PP4)'!$H$243","v":0},"#'T2-B(PP4)'!$H$243"]
["pp4_bl6_1_8_total",{"$f":"'T2-B(PP4)'!$J$243","v":0},"#'T2-B(PP4)'!$J$243"]
["pp4_bl6_1_8_total_in",{"$f":"'T2-B(PP4)'!$F$243","v":0},"#'T2-B(PP4)'!$F$243"]
["pp4_bl6_1_8_total_out",{"$f":"'T2-B(PP4)'!$I$243","v":0},"#'T2-B(PP4)'!$I$243"]
["pp4_bl6_1_8_unit",{"$f":"'T2-B(PP4)'!$C$243","v":0},"#'T2-B(PP4)'!$C$243"]
["pp4_bl6_1_8_unit_in",{"$f":"'T2-B(PP4)'!$D$243","v":0},"#'T2-B(PP4)'!$D$243"]
["pp4_bl6_1_8_units_out",{"$f":"'T2-B(PP4)'!$G$243","v":0},"#'T2-B(PP4)'!$G$243"]
["pp4_bl6_1_9_name",{"$f":"'T2-B(PP4)'!$B$244","v":0},"#'T2-B(PP4)'!$B$244"]
["pp4_bl6_1_9_rate_in",{"$f":"'T2-B(PP4)'!$E$244","v":0},"#'T2-B(PP4)'!$E$244"]
["pp4_bl6_1_9_rate_out",{"$f":"'T2-B(PP4)'!$H$244","v":0},"#'T2-B(PP4)'!$H$244"]
["pp4_bl6_1_9_total",{"$f":"'T2-B(PP4)'!$J$244","v":0},"#'T2-B(PP4)'!$J$244"]
["pp4_bl6_1_9_total_in",{"$f":"'T2-B(PP4)'!$F$244","v":0},"#'T2-B(PP4)'!$F$244"]
["pp4_bl6_1_9_total_out",{"$f":"'T2-B(PP4)'!$I$244","v":0},"#'T2-B(PP4)'!$I$244"]
["pp4_bl6_1_9_unit",{"$f":"'T2-B(PP4)'!$C$244","v":0},"#'T2-B(PP4)'!$C$244"]
["pp4_bl6_1_9_unit_in",{"$f":"'T2-B(PP4)'!$D$244","v":0},"#'T2-B(PP4)'!$D$244"]
["pp4_bl6_1_9_units_out",{"$f":"'T2-B(PP4)'!$G$244","v":0},"#'T2-B(PP4)'!$G$244"]
["pp4_bl6_1_total",{"$f":"'T2-B(PP4)'!$J$235","v":0},"#'T2-B(PP4)'!$J$235"]
["pp4_bl6_1_total_in",{"$f":"'T2-B(PP4)'!$F$235","v":"TOTAL"},"#'T2-B(PP4)'!$F$235"]
["pp4_bl6_1_total_out",{"$f":"'T2-B(PP4)'!$I$235","v":"TOTAL"},"#'T2-B(PP4)'!$I$235"]
["pp4_bl6_total",{"$f":"'T2-B(PP4)'!$J$246","v":0},"#'T2-B(PP4)'!$J$246"]
["pp4_bl6_total_in",{"$f":"'T2-B(PP4)'!$F$246","v":0},"#'T2-B(PP4)'!$F$246"]
["pp4_bl6_total_out",{"$f":"'T2-B(PP4)'!$I$246","v":0},"#'T2-B(PP4)'!$I$246"]
["pp4_country",{"$f":"'PP4'!$K$14","v":2},"#'PP4'!$K$14"]
["pp4_fax",{"$f":"'PP4'!$C$29","v":0},"#'PP4'!$C$29"]
["pp4_is_bg",{"$f":"'PP4'!$D$13","v":0},"#'PP4'!$D$13"]
["pp4_is_pc",{"$f":"'PP4'!$F$13","v":0},"#'PP4'!$F$13"]
["pp4_legal_representative",{"$f":"'PP4'!$C$23","v":0},"#'PP4'!$C$23"]
["pp4_legal_representative_position",{"$f":"'PP4'!$C$25","v":0},"#'PP4'!$C$25"]
["pp4_mail",{"$f":"'PP4'!$C$31","v":0},"#'PP4'!$C$31"]
["pp4_nat_code",{"$f":"'PP4'!$C$70","v":0},"#'PP4'!$C$70"]
["pp4_nuts3",{"$f":"'PP4'!$C$15","v":0},"#'PP4'!$C$15"]
["pp4_organisation_en",{"$f":"'PP4'!$C$7","v":0},"#'PP4'!$C$7"]
["pp4_organisation_native",{"$f":"'PP4'!$C$9","v":0},"#'PP4'!$C$9"]
["pp4_pe_date1",{"$f":"'PP4'!$G$47","v":0},"#'PP4'!$G$47"]
["pp4_pe_date2",{"$f":"'PP4'!$G$55","v":0},"#'PP4'!$G$55"]
["pp4_pe_date3",{"$f":"'PP4'!$G$63","v":0},"#'PP4'!$G$63"]
["pp4_pe_ga1",{"$f":"'PP4'!$G$46","v":0},"#'PP4'!$G$46"]
["pp4_pe_ga2",{"$f":"'PP4'!$G$54","v":0},"#'PP4'!$G$54"]
["pp4_pe_ga3",{"$f":"'PP4'!$G$62","v":0},"#'PP4'!$G$62"]
["pp4_pe_ip1",{"$f":"'PP4'!$C$43","v":0},"#'PP4'!$C$43"]
["pp4_pe_ip2",{"$f":"'PP4'!$C$51","v":0},"#'PP4'!$C$51"]
["pp4_pe_ip3",{"$f":"'PP4'!$C$59","v":0},"#'PP4'!$C$59"]
["pp4_pe_or1",{"$f":"'PP4'!$C$47","v":0},"#'PP4'!$C$47"]
["pp4_pe_or2",{"$f":"'PP4'!$C$55","v":0},"#'PP4'!$C$55"]
["pp4_pe_or3",{"$f":"'PP4'!$C$63","v":0},"#'PP4'!$C$63"]
["pp4_pe_pt1",{"$f":"'PP4'!$C$44","v":0},"#'PP4'!$C$44"]
["pp4_pe_pt2",{"$f":"'PP4'!$C$52","v":0},"#'PP4'!$C$52"]
["pp4_pe_pt3",{"$f":"'PP4'!$C$60","v":0},"#'PP4'!$C$60"]
["pp4_pe_sd1",{"$f":"'PP4'!$C$45","v":0},"#'PP4'!$C$45"]
["pp4_pe_sd2",{"$f":"'PP4'!$C$53","v":0},"#'PP4'!$C$53"]
["pp4_pe_sd3",{"$f":"'PP4'!$C$61","v":0},"#'PP4'!$C$61"]
["pp4_pe_tev1",{"$f":"'PP4'!$C$46","v":0},"#'PP4'!$C$46"]
["pp4_pe_tev2",{"$f":"'PP4'!$C$54","v":0},"#'PP4'!$C$54"]
["pp4_pe_tev3",{"$f":"'PP4'!$C$62","v":0},"#'PP4'!$C$62"]
["pp4_phone",{"$f":"'PP4'!$C$27","v":0},"#'PP4'!$C$27"]
["pp4_post_code",{"$f":"'PP4'!$C$21","v":0},"#'PP4'!$C$21"]
["pp4_profile",{"$f":"'PP4'!$B$38","v":0},"#'PP4'!$B$38"]
["pp4_proj_direct_total",{"$f":"'T2-B(PP4)'!$J$248","v":0},"#'T2-B(PP4)'!$J$248"]
["pp4_proj_direct_total_in",{"$f":"'T2-B(PP4)'!$F$248","v":0},"#'T2-B(PP4)'!$F$248"]
["pp4_proj_direct_total_out",{"$f":"'T2-B(PP4)'!$I$248","v":0},"#'T2-B(PP4)'!$I$248"]
["pp4_proj_total",{"$f":"'T2-B(PP4)'!$J$249","v":0},"#'T2-B(PP4)'!$J$249"]
["pp4_proj_total_in",{"$f":"'T2-B(PP4)'!$F$249","v":0},"#'T2-B(PP4)'!$F$249"]
["pp4_proj_total_out",{"$f":"'T2-B(PP4)'!$G$249","v":0},"#'T2-B(PP4)'!$G$249"]
["pp4_town",{"$f":"'PP4'!$C$17","v":0},"#'PP4'!$C$17"]
["pp4_type_org",{"$f":"'PP4'!$C$11","v":0},"#'PP4'!$C$11"]
["pp4_vat_code",{"$f":"'PP4'!$C$72","v":0},"#'PP4'!$C$72"]
["pp4_website",{"$f":"'PP4'!$C$33","v":0},"#'PP4'!$C$33"]
["pp5_2012_fulltime_staff",{"$f":"'PP5'!$D$79","v":0},"#'PP5'!$D$79"]
["pp5_2012_offices",{"$f":"'PP5'!$F$79","v":0},"#'PP5'!$F$79"]
["pp5_2012_parttime_staff",{"$f":"'PP5'!$E$79","v":0},"#'PP5'!$E$79"]
["pp5_2012_turnover",{"$f":"'PP5'!$C$79","v":0},"#'PP5'!$C$79"]
["pp5_2013_fulltime_staff",{"$f":"'PP5'!$D$78","v":0},"#'PP5'!$D$78"]
["pp5_2013_offices",{"$f":"'PP5'!$F$78","v":0},"#'PP5'!$F$78"]
["pp5_2013_parttime_staff",{"$f":"'PP5'!$E$78","v":0},"#'PP5'!$E$78"]
["pp5_2013_turnover",{"$f":"'PP5'!$C$78","v":0},"#'PP5'!$C$78"]
["pp5_2014_fulltime_staff",{"$f":"'PP5'!$D$77","v":0},"#'PP5'!$D$77"]
["pp5_2014_offices",{"$f":"'PP5'!$F$77","v":0},"#'PP5'!$F$77"]
["pp5_2014_parttime_staff",{"$f":"'PP5'!$E$77","v":0},"#'PP5'!$E$77"]
["pp5_2014_turnover",{"$f":"'PP5'!$C$77","v":0},"#'PP5'!$C$77"]
["pp5_address",{"$f":"'PP5'!$C$19","v":0},"#'PP5'!$C$19"]
["pp5_bl1_1_name",{"$f":"'T2-B(PP5)'!$B$5","v":"0 project"},"#'T2-B(PP5)'!$B$5"]
["pp5_bl1_1_perc",{"$f":"'T2-B(PP5)'!$G$5","v":0},"#'T2-B(PP5)'!$G$5"]
["pp5_bl1_1_total",{"$f":"'T2-B(PP5)'!$I$5","v":0},"#'T2-B(PP5)'!$I$5"]
["pp5_bl1_total",{"$f":"'T2-B(PP5)'!$I$6","v":0},"#'T2-B(PP5)'!$I$6"]
["pp5_bl2_1_name",{"$f":"'T2-B(PP5)'!$B$10","v":"0 project"},"#'T2-B(PP5)'!$B$10"]
["pp5_bl2_1_perc",{"$f":"'T2-B(PP5)'!$G$10","v":0},"#'T2-B(PP5)'!$G$10"]
["pp5_bl2_1_total",{"$f":"'T2-B(PP5)'!$I$10","v":0},"#'T2-B(PP5)'!$I$10"]
["pp5_bl2_total",{"$f":"'T2-B(PP5)'!$I$11","v":0},"#'T2-B(PP5)'!$I$11"]
["pp5_bl3_1_1_name",{"$f":"'T2-B(PP5)'!$B$16","v":0},"#'T2-B(PP5)'!$B$16"]
["pp5_bl3_1_1_rate_in",{"$f":"'T2-B(PP5)'!$E$16","v":0},"#'T2-B(PP5)'!$E$16"]
["pp5_bl3_1_1_rate_out",{"$f":"'T2-B(PP5)'!$H$16","v":0},"#'T2-B(PP5)'!$H$16"]
["pp5_bl3_1_1_total",{"$f":"'T2-B(PP5)'!$J$16","v":0},"#'T2-B(PP5)'!$J$16"]
["pp5_bl3_1_1_total_in",{"$f":"'T2-B(PP5)'!$F$16","v":0},"#'T2-B(PP5)'!$F$16"]
["pp5_bl3_1_1_total_out",{"$f":"'T2-B(PP5)'!$I$16","v":0},"#'T2-B(PP5)'!$I$16"]
["pp5_bl3_1_1_unit",{"$f":"'T2-B(PP5)'!$C$16","v":0},"#'T2-B(PP5)'!$C$16"]
["pp5_bl3_1_1_unit_in",{"$f":"'T2-B(PP5)'!$D$16","v":0},"#'T2-B(PP5)'!$D$16"]
["pp5_bl3_1_1_units_out",{"$f":"'T2-B(PP5)'!$G$16","v":0},"#'T2-B(PP5)'!$G$16"]
["pp5_bl3_1_10_name",{"$f":"'T2-B(PP5)'!$B$25","v":0},"#'T2-B(PP5)'!$B$25"]
["pp5_bl3_1_10_rate_in",{"$f":"'T2-B(PP5)'!$E$25","v":0},"#'T2-B(PP5)'!$E$25"]
["pp5_bl3_1_10_rate_out",{"$f":"'T2-B(PP5)'!$H$25","v":0},"#'T2-B(PP5)'!$H$25"]
["pp5_bl3_1_10_total",{"$f":"'T2-B(PP5)'!$J$25","v":0},"#'T2-B(PP5)'!$J$25"]
["pp5_bl3_1_10_total_in",{"$f":"'T2-B(PP5)'!$F$25","v":0},"#'T2-B(PP5)'!$F$25"]
["pp5_bl3_1_10_total_out",{"$f":"'T2-B(PP5)'!$I$25","v":0},"#'T2-B(PP5)'!$I$25"]
["pp5_bl3_1_10_unit",{"$f":"'T2-B(PP5)'!$C$25","v":0},"#'T2-B(PP5)'!$C$25"]
["pp5_bl3_1_10_unit_in",{"$f":"'T2-B(PP5)'!$D$25","v":0},"#'T2-B(PP5)'!$D$25"]
["pp5_bl3_1_10_units_out",{"$f":"'T2-B(PP5)'!$G$25","v":0},"#'T2-B(PP5)'!$G$25"]
["pp5_bl3_1_2_name",{"$f":"'T2-B(PP5)'!$B$17","v":0},"#'T2-B(PP5)'!$B$17"]
["pp5_bl3_1_2_rate_in",{"$f":"'T2-B(PP5)'!$E$17","v":0},"#'T2-B(PP5)'!$E$17"]
["pp5_bl3_1_2_rate_out",{"$f":"'T2-B(PP5)'!$H$17","v":0},"#'T2-B(PP5)'!$H$17"]
["pp5_bl3_1_2_total",{"$f":"'T2-B(PP5)'!$J$17","v":0},"#'T2-B(PP5)'!$J$17"]
["pp5_bl3_1_2_total_in",{"$f":"'T2-B(PP5)'!$F$17","v":0},"#'T2-B(PP5)'!$F$17"]
["pp5_bl3_1_2_total_out",{"$f":"'T2-B(PP5)'!$I$17","v":0},"#'T2-B(PP5)'!$I$17"]
["pp5_bl3_1_2_unit",{"$f":"'T2-B(PP5)'!$C$17","v":0},"#'T2-B(PP5)'!$C$17"]
["pp5_bl3_1_2_unit_in",{"$f":"'T2-B(PP5)'!$D$17","v":0},"#'T2-B(PP5)'!$D$17"]
["pp5_bl3_1_2_units_out",{"$f":"'T2-B(PP5)'!$G$17","v":0},"#'T2-B(PP5)'!$G$17"]
["pp5_bl3_1_3_name",{"$f":"'T2-B(PP5)'!$B$18","v":0},"#'T2-B(PP5)'!$B$18"]
["pp5_bl3_1_3_rate_in",{"$f":"'T2-B(PP5)'!$E$18","v":0},"#'T2-B(PP5)'!$E$18"]
["pp5_bl3_1_3_rate_out",{"$f":"'T2-B(PP5)'!$H$18","v":0},"#'T2-B(PP5)'!$H$18"]
["pp5_bl3_1_3_total",{"$f":"'T2-B(PP5)'!$J$18","v":0},"#'T2-B(PP5)'!$J$18"]
["pp5_bl3_1_3_total_in",{"$f":"'T2-B(PP5)'!$F$18","v":0},"#'T2-B(PP5)'!$F$18"]
["pp5_bl3_1_3_total_out",{"$f":"'T2-B(PP5)'!$I$18","v":0},"#'T2-B(PP5)'!$I$18"]
["pp5_bl3_1_3_unit",{"$f":"'T2-B(PP5)'!$C$18","v":0},"#'T2-B(PP5)'!$C$18"]
["pp5_bl3_1_3_unit_in",{"$f":"'T2-B(PP5)'!$D$18","v":0},"#'T2-B(PP5)'!$D$18"]
["pp5_bl3_1_3_units_out",{"$f":"'T2-B(PP5)'!$G$18","v":0},"#'T2-B(PP5)'!$G$18"]
["pp5_bl3_1_4_name",{"$f":"'T2-B(PP5)'!$B$19","v":0},"#'T2-B(PP5)'!$B$19"]
["pp5_bl3_1_4_rate_in",{"$f":"'T2-B(PP5)'!$E$19","v":0},"#'T2-B(PP5)'!$E$19"]
["pp5_bl3_1_4_rate_out",{"$f":"'T2-B(PP5)'!$H$19","v":0},"#'T2-B(PP5)'!$H$19"]
["pp5_bl3_1_4_total",{"$f":"'T2-B(PP5)'!$J$19","v":0},"#'T2-B(PP5)'!$J$19"]
["pp5_bl3_1_4_total_in",{"$f":"'T2-B(PP5)'!$F$19","v":0},"#'T2-B(PP5)'!$F$19"]
["pp5_bl3_1_4_total_out",{"$f":"'T2-B(PP5)'!$I$19","v":0},"#'T2-B(PP5)'!$I$19"]
["pp5_bl3_1_4_unit",{"$f":"'T2-B(PP5)'!$C$19","v":0},"#'T2-B(PP5)'!$C$19"]
["pp5_bl3_1_4_unit_in",{"$f":"'T2-B(PP5)'!$D$19","v":0},"#'T2-B(PP5)'!$D$19"]
["pp5_bl3_1_4_units_out",{"$f":"'T2-B(PP5)'!$G$19","v":0},"#'T2-B(PP5)'!$G$19"]
["pp5_bl3_1_5_name",{"$f":"'T2-B(PP5)'!$B$20","v":0},"#'T2-B(PP5)'!$B$20"]
["pp5_bl3_1_5_rate_in",{"$f":"'T2-B(PP5)'!$E$20","v":0},"#'T2-B(PP5)'!$E$20"]
["pp5_bl3_1_5_rate_out",{"$f":"'T2-B(PP5)'!$H$20","v":0},"#'T2-B(PP5)'!$H$20"]
["pp5_bl3_1_5_total",{"$f":"'T2-B(PP5)'!$J$20","v":0},"#'T2-B(PP5)'!$J$20"]
["pp5_bl3_1_5_total_in",{"$f":"'T2-B(PP5)'!$F$20","v":0},"#'T2-B(PP5)'!$F$20"]
["pp5_bl3_1_5_total_out",{"$f":"'T2-B(PP5)'!$I$20","v":0},"#'T2-B(PP5)'!$I$20"]
["pp5_bl3_1_5_unit",{"$f":"'T2-B(PP5)'!$C$20","v":0},"#'T2-B(PP5)'!$C$20"]
["pp5_bl3_1_5_unit_in",{"$f":"'T2-B(PP5)'!$D$20","v":0},"#'T2-B(PP5)'!$D$20"]
["pp5_bl3_1_5_units_out",{"$f":"'T2-B(PP5)'!$G$20","v":0},"#'T2-B(PP5)'!$G$20"]
["pp5_bl3_1_6_name",{"$f":"'T2-B(PP5)'!$B$21","v":0},"#'T2-B(PP5)'!$B$21"]
["pp5_bl3_1_6_rate_in",{"$f":"'T2-B(PP5)'!$E$21","v":0},"#'T2-B(PP5)'!$E$21"]
["pp5_bl3_1_6_rate_out",{"$f":"'T2-B(PP5)'!$H$21","v":0},"#'T2-B(PP5)'!$H$21"]
["pp5_bl3_1_6_total",{"$f":"'T2-B(PP5)'!$J$21","v":0},"#'T2-B(PP5)'!$J$21"]
["pp5_bl3_1_6_total_in",{"$f":"'T2-B(PP5)'!$F$21","v":0},"#'T2-B(PP5)'!$F$21"]
["pp5_bl3_1_6_total_out",{"$f":"'T2-B(PP5)'!$I$21","v":0},"#'T2-B(PP5)'!$I$21"]
["pp5_bl3_1_6_unit",{"$f":"'T2-B(PP5)'!$C$21","v":0},"#'T2-B(PP5)'!$C$21"]
["pp5_bl3_1_6_unit_in",{"$f":"'T2-B(PP5)'!$D$21","v":0},"#'T2-B(PP5)'!$D$21"]
["pp5_bl3_1_6_units_out",{"$f":"'T2-B(PP5)'!$G$21","v":0},"#'T2-B(PP5)'!$G$21"]
["pp5_bl3_1_7_name",{"$f":"'T2-B(PP5)'!$B$22","v":0},"#'T2-B(PP5)'!$B$22"]
["pp5_bl3_1_7_rate_in",{"$f":"'T2-B(PP5)'!$E$22","v":0},"#'T2-B(PP5)'!$E$22"]
["pp5_bl3_1_7_rate_out",{"$f":"'T2-B(PP5)'!$H$22","v":0},"#'T2-B(PP5)'!$H$22"]
["pp5_bl3_1_7_total",{"$f":"'T2-B(PP5)'!$J$22","v":0},"#'T2-B(PP5)'!$J$22"]
["pp5_bl3_1_7_total_in",{"$f":"'T2-B(PP5)'!$F$22","v":0},"#'T2-B(PP5)'!$F$22"]
["pp5_bl3_1_7_total_out",{"$f":"'T2-B(PP5)'!$I$22","v":0},"#'T2-B(PP5)'!$I$22"]
["pp5_bl3_1_7_unit",{"$f":"'T2-B(PP5)'!$C$22","v":0},"#'T2-B(PP5)'!$C$22"]
["pp5_bl3_1_7_unit_in",{"$f":"'T2-B(PP5)'!$D$22","v":0},"#'T2-B(PP5)'!$D$22"]
["pp5_bl3_1_7_units_out",{"$f":"'T2-B(PP5)'!$G$22","v":0},"#'T2-B(PP5)'!$G$22"]
["pp5_bl3_1_8_name",{"$f":"'T2-B(PP5)'!$B$23","v":0},"#'T2-B(PP5)'!$B$23"]
["pp5_bl3_1_8_rate_in",{"$f":"'T2-B(PP5)'!$E$23","v":0},"#'T2-B(PP5)'!$E$23"]
["pp5_bl3_1_8_rate_out",{"$f":"'T2-B(PP5)'!$H$23","v":0},"#'T2-B(PP5)'!$H$23"]
["pp5_bl3_1_8_total",{"$f":"'T2-B(PP5)'!$J$23","v":0},"#'T2-B(PP5)'!$J$23"]
["pp5_bl3_1_8_total_in",{"$f":"'T2-B(PP5)'!$F$23","v":0},"#'T2-B(PP5)'!$F$23"]
["pp5_bl3_1_8_total_out",{"$f":"'T2-B(PP5)'!$I$23","v":0},"#'T2-B(PP5)'!$I$23"]
["pp5_bl3_1_8_unit",{"$f":"'T2-B(PP5)'!$C$23","v":0},"#'T2-B(PP5)'!$C$23"]
["pp5_bl3_1_8_unit_in",{"$f":"'T2-B(PP5)'!$D$23","v":0},"#'T2-B(PP5)'!$D$23"]
["pp5_bl3_1_8_units_out",{"$f":"'T2-B(PP5)'!$G$23","v":0},"#'T2-B(PP5)'!$G$23"]
["pp5_bl3_1_9_name",{"$f":"'T2-B(PP5)'!$B$24","v":0},"#'T2-B(PP5)'!$B$24"]
["pp5_bl3_1_9_rate_in",{"$f":"'T2-B(PP5)'!$E$24","v":0},"#'T2-B(PP5)'!$E$24"]
["pp5_bl3_1_9_rate_out",{"$f":"'T2-B(PP5)'!$H$24","v":0},"#'T2-B(PP5)'!$H$24"]
["pp5_bl3_1_9_total",{"$f":"'T2-B(PP5)'!$J$24","v":0},"#'T2-B(PP5)'!$J$24"]
["pp5_bl3_1_9_total_in",{"$f":"'T2-B(PP5)'!$F$24","v":0},"#'T2-B(PP5)'!$F$24"]
["pp5_bl3_1_9_total_out",{"$f":"'T2-B(PP5)'!$I$24","v":0},"#'T2-B(PP5)'!$I$24"]
["pp5_bl3_1_9_unit",{"$f":"'T2-B(PP5)'!$C$24","v":0},"#'T2-B(PP5)'!$C$24"]
["pp5_bl3_1_9_unit_in",{"$f":"'T2-B(PP5)'!$D$24","v":0},"#'T2-B(PP5)'!$D$24"]
["pp5_bl3_1_9_units_out",{"$f":"'T2-B(PP5)'!$G$24","v":0},"#'T2-B(PP5)'!$G$24"]
["pp5_bl3_1_total",{"$f":"'T2-B(PP5)'!$J$15","v":0},"#'T2-B(PP5)'!$J$15"]
["pp5_bl3_1_total_in",{"$f":"'T2-B(PP5)'!$F$15","v":0},"#'T2-B(PP5)'!$F$15"]
["pp5_bl3_1_total_out",{"$f":"'T2-B(PP5)'!$I$15","v":0},"#'T2-B(PP5)'!$I$15"]
["pp5_bl3_2_1_name",{"$f":"'T2-B(PP5)'!$B$27","v":0},"#'T2-B(PP5)'!$B$27"]
["pp5_bl3_2_1_rate_in",{"$f":"'T2-B(PP5)'!$E$27","v":0},"#'T2-B(PP5)'!$E$27"]
["pp5_bl3_2_1_rate_out",{"$f":"'T2-B(PP5)'!$H$27","v":0},"#'T2-B(PP5)'!$H$27"]
["pp5_bl3_2_1_total",{"$f":"'T2-B(PP5)'!$J$27","v":0},"#'T2-B(PP5)'!$J$27"]
["pp5_bl3_2_1_total_in",{"$f":"'T2-B(PP5)'!$F$27","v":0},"#'T2-B(PP5)'!$F$27"]
["pp5_bl3_2_1_total_out",{"$f":"'T2-B(PP5)'!$I$27","v":0},"#'T2-B(PP5)'!$I$27"]
["pp5_bl3_2_1_unit",{"$f":"'T2-B(PP5)'!$C$27","v":0},"#'T2-B(PP5)'!$C$27"]
["pp5_bl3_2_1_unit_in",{"$f":"'T2-B(PP5)'!$D$27","v":0},"#'T2-B(PP5)'!$D$27"]
["pp5_bl3_2_1_units_out",{"$f":"'T2-B(PP5)'!$G$27","v":0},"#'T2-B(PP5)'!$G$27"]
["pp5_bl3_2_10_name",{"$f":"'T2-B(PP5)'!$B$36","v":0},"#'T2-B(PP5)'!$B$36"]
["pp5_bl3_2_10_rate_in",{"$f":"'T2-B(PP5)'!$E$36","v":0},"#'T2-B(PP5)'!$E$36"]
["pp5_bl3_2_10_rate_out",{"$f":"'T2-B(PP5)'!$H$36","v":0},"#'T2-B(PP5)'!$H$36"]
["pp5_bl3_2_10_total",{"$f":"'T2-B(PP5)'!$J$36","v":0},"#'T2-B(PP5)'!$J$36"]
["pp5_bl3_2_10_total_in",{"$f":"'T2-B(PP5)'!$F$36","v":0},"#'T2-B(PP5)'!$F$36"]
["pp5_bl3_2_10_total_out",{"$f":"'T2-B(PP5)'!$I$36","v":0},"#'T2-B(PP5)'!$I$36"]
["pp5_bl3_2_10_unit",{"$f":"'T2-B(PP5)'!$C$36","v":0},"#'T2-B(PP5)'!$C$36"]
["pp5_bl3_2_10_unit_in",{"$f":"'T2-B(PP5)'!$D$36","v":0},"#'T2-B(PP5)'!$D$36"]
["pp5_bl3_2_10_units_out",{"$f":"'T2-B(PP5)'!$G$36","v":0},"#'T2-B(PP5)'!$G$36"]
["pp5_bl3_2_2_name",{"$f":"'T2-B(PP5)'!$B$28","v":0},"#'T2-B(PP5)'!$B$28"]
["pp5_bl3_2_2_rate_in",{"$f":"'T2-B(PP5)'!$E$28","v":0},"#'T2-B(PP5)'!$E$28"]
["pp5_bl3_2_2_rate_out",{"$f":"'T2-B(PP5)'!$H$28","v":0},"#'T2-B(PP5)'!$H$28"]
["pp5_bl3_2_2_total",{"$f":"'T2-B(PP5)'!$J$28","v":0},"#'T2-B(PP5)'!$J$28"]
["pp5_bl3_2_2_total_in",{"$f":"'T2-B(PP5)'!$F$28","v":0},"#'T2-B(PP5)'!$F$28"]
["pp5_bl3_2_2_total_out",{"$f":"'T2-B(PP5)'!$I$28","v":0},"#'T2-B(PP5)'!$I$28"]
["pp5_bl3_2_2_unit",{"$f":"'T2-B(PP5)'!$C$28","v":0},"#'T2-B(PP5)'!$C$28"]
["pp5_bl3_2_2_unit_in",{"$f":"'T2-B(PP5)'!$D$28","v":0},"#'T2-B(PP5)'!$D$28"]
["pp5_bl3_2_2_units_out",{"$f":"'T2-B(PP5)'!$G$28","v":0},"#'T2-B(PP5)'!$G$28"]
["pp5_bl3_2_3_name",{"$f":"'T2-B(PP5)'!$B$29","v":0},"#'T2-B(PP5)'!$B$29"]
["pp5_bl3_2_3_rate_in",{"$f":"'T2-B(PP5)'!$E$29","v":0},"#'T2-B(PP5)'!$E$29"]
["pp5_bl3_2_3_rate_out",{"$f":"'T2-B(PP5)'!$H$29","v":0},"#'T2-B(PP5)'!$H$29"]
["pp5_bl3_2_3_total",{"$f":"'T2-B(PP5)'!$J$29","v":0},"#'T2-B(PP5)'!$J$29"]
["pp5_bl3_2_3_total_in",{"$f":"'T2-B(PP5)'!$F$29","v":0},"#'T2-B(PP5)'!$F$29"]
["pp5_bl3_2_3_total_out",{"$f":"'T2-B(PP5)'!$I$29","v":0},"#'T2-B(PP5)'!$I$29"]
["pp5_bl3_2_3_unit",{"$f":"'T2-B(PP5)'!$C$29","v":0},"#'T2-B(PP5)'!$C$29"]
["pp5_bl3_2_3_unit_in",{"$f":"'T2-B(PP5)'!$D$29","v":0},"#'T2-B(PP5)'!$D$29"]
["pp5_bl3_2_3_units_out",{"$f":"'T2-B(PP5)'!$G$29","v":0},"#'T2-B(PP5)'!$G$29"]
["pp5_bl3_2_4_name",{"$f":"'T2-B(PP5)'!$B$30","v":0},"#'T2-B(PP5)'!$B$30"]
["pp5_bl3_2_4_rate_in",{"$f":"'T2-B(PP5)'!$E$30","v":0},"#'T2-B(PP5)'!$E$30"]
["pp5_bl3_2_4_rate_out",{"$f":"'T2-B(PP5)'!$H$30","v":0},"#'T2-B(PP5)'!$H$30"]
["pp5_bl3_2_4_total",{"$f":"'T2-B(PP5)'!$J$30","v":0},"#'T2-B(PP5)'!$J$30"]
["pp5_bl3_2_4_total_in",{"$f":"'T2-B(PP5)'!$F$30","v":0},"#'T2-B(PP5)'!$F$30"]
["pp5_bl3_2_4_total_out",{"$f":"'T2-B(PP5)'!$I$30","v":0},"#'T2-B(PP5)'!$I$30"]
["pp5_bl3_2_4_unit",{"$f":"'T2-B(PP5)'!$C$30","v":0},"#'T2-B(PP5)'!$C$30"]
["pp5_bl3_2_4_unit_in",{"$f":"'T2-B(PP5)'!$D$30","v":0},"#'T2-B(PP5)'!$D$30"]
["pp5_bl3_2_4_units_out",{"$f":"'T2-B(PP5)'!$G$30","v":0},"#'T2-B(PP5)'!$G$30"]
["pp5_bl3_2_5_name",{"$f":"'T2-B(PP5)'!$B$31","v":0},"#'T2-B(PP5)'!$B$31"]
["pp5_bl3_2_5_rate_in",{"$f":"'T2-B(PP5)'!$E$31","v":0},"#'T2-B(PP5)'!$E$31"]
["pp5_bl3_2_5_rate_out",{"$f":"'T2-B(PP5)'!$H$31","v":0},"#'T2-B(PP5)'!$H$31"]
["pp5_bl3_2_5_total",{"$f":"'T2-B(PP5)'!$J$31","v":0},"#'T2-B(PP5)'!$J$31"]
["pp5_bl3_2_5_total_in",{"$f":"'T2-B(PP5)'!$F$31","v":0},"#'T2-B(PP5)'!$F$31"]
["pp5_bl3_2_5_total_out",{"$f":"'T2-B(PP5)'!$I$31","v":0},"#'T2-B(PP5)'!$I$31"]
["pp5_bl3_2_5_unit",{"$f":"'T2-B(PP5)'!$C$31","v":0},"#'T2-B(PP5)'!$C$31"]
["pp5_bl3_2_5_unit_in",{"$f":"'T2-B(PP5)'!$D$31","v":0},"#'T2-B(PP5)'!$D$31"]
["pp5_bl3_2_5_units_out",{"$f":"'T2-B(PP5)'!$G$31","v":0},"#'T2-B(PP5)'!$G$31"]
["pp5_bl3_2_6_name",{"$f":"'T2-B(PP5)'!$B$32","v":0},"#'T2-B(PP5)'!$B$32"]
["pp5_bl3_2_6_rate_in",{"$f":"'T2-B(PP5)'!$E$32","v":0},"#'T2-B(PP5)'!$E$32"]
["pp5_bl3_2_6_rate_out",{"$f":"'T2-B(PP5)'!$H$32","v":0},"#'T2-B(PP5)'!$H$32"]
["pp5_bl3_2_6_total",{"$f":"'T2-B(PP5)'!$J$32","v":0},"#'T2-B(PP5)'!$J$32"]
["pp5_bl3_2_6_total_in",{"$f":"'T2-B(PP5)'!$F$32","v":0},"#'T2-B(PP5)'!$F$32"]
["pp5_bl3_2_6_total_out",{"$f":"'T2-B(PP5)'!$I$32","v":0},"#'T2-B(PP5)'!$I$32"]
["pp5_bl3_2_6_unit",{"$f":"'T2-B(PP5)'!$C$32","v":0},"#'T2-B(PP5)'!$C$32"]
["pp5_bl3_2_6_unit_in",{"$f":"'T2-B(PP5)'!$D$32","v":0},"#'T2-B(PP5)'!$D$32"]
["pp5_bl3_2_6_units_out",{"$f":"'T2-B(PP5)'!$G$32","v":0},"#'T2-B(PP5)'!$G$32"]
["pp5_bl3_2_7_name",{"$f":"'T2-B(PP5)'!$B$33","v":0},"#'T2-B(PP5)'!$B$33"]
["pp5_bl3_2_7_rate_in",{"$f":"'T2-B(PP5)'!$E$33","v":0},"#'T2-B(PP5)'!$E$33"]
["pp5_bl3_2_7_rate_out",{"$f":"'T2-B(PP5)'!$H$33","v":0},"#'T2-B(PP5)'!$H$33"]
["pp5_bl3_2_7_total",{"$f":"'T2-B(PP5)'!$J$33","v":0},"#'T2-B(PP5)'!$J$33"]
["pp5_bl3_2_7_total_in",{"$f":"'T2-B(PP5)'!$F$33","v":0},"#'T2-B(PP5)'!$F$33"]
["pp5_bl3_2_7_total_out",{"$f":"'T2-B(PP5)'!$I$33","v":0},"#'T2-B(PP5)'!$I$33"]
["pp5_bl3_2_7_unit",{"$f":"'T2-B(PP5)'!$C$33","v":0},"#'T2-B(PP5)'!$C$33"]
["pp5_bl3_2_7_unit_in",{"$f":"'T2-B(PP5)'!$D$33","v":0},"#'T2-B(PP5)'!$D$33"]
["pp5_bl3_2_7_units_out",{"$f":"'T2-B(PP5)'!$G$33","v":0},"#'T2-B(PP5)'!$G$33"]
["pp5_bl3_2_8_name",{"$f":"'T2-B(PP5)'!$B$34","v":0},"#'T2-B(PP5)'!$B$34"]
["pp5_bl3_2_8_rate_in",{"$f":"'T2-B(PP5)'!$E$34","v":0},"#'T2-B(PP5)'!$E$34"]
["pp5_bl3_2_8_rate_out",{"$f":"'T2-B(PP5)'!$H$34","v":0},"#'T2-B(PP5)'!$H$34"]
["pp5_bl3_2_8_total",{"$f":"'T2-B(PP5)'!$J$34","v":0},"#'T2-B(PP5)'!$J$34"]
["pp5_bl3_2_8_total_in",{"$f":"'T2-B(PP5)'!$F$34","v":0},"#'T2-B(PP5)'!$F$34"]
["pp5_bl3_2_8_total_out",{"$f":"'T2-B(PP5)'!$I$34","v":0},"#'T2-B(PP5)'!$I$34"]
["pp5_bl3_2_8_unit",{"$f":"'T2-B(PP5)'!$C$34","v":0},"#'T2-B(PP5)'!$C$34"]
["pp5_bl3_2_8_unit_in",{"$f":"'T2-B(PP5)'!$D$34","v":0},"#'T2-B(PP5)'!$D$34"]
["pp5_bl3_2_8_units_out",{"$f":"'T2-B(PP5)'!$G$34","v":0},"#'T2-B(PP5)'!$G$34"]
["pp5_bl3_2_9_name",{"$f":"'T2-B(PP5)'!$B$35","v":0},"#'T2-B(PP5)'!$B$35"]
["pp5_bl3_2_9_rate_in",{"$f":"'T2-B(PP5)'!$E$35","v":0},"#'T2-B(PP5)'!$E$35"]
["pp5_bl3_2_9_rate_out",{"$f":"'T2-B(PP5)'!$H$35","v":0},"#'T2-B(PP5)'!$H$35"]
["pp5_bl3_2_9_total",{"$f":"'T2-B(PP5)'!$J$35","v":0},"#'T2-B(PP5)'!$J$35"]
["pp5_bl3_2_9_total_in",{"$f":"'T2-B(PP5)'!$F$35","v":0},"#'T2-B(PP5)'!$F$35"]
["pp5_bl3_2_9_total_out",{"$f":"'T2-B(PP5)'!$I$35","v":0},"#'T2-B(PP5)'!$I$35"]
["pp5_bl3_2_9_unit",{"$f":"'T2-B(PP5)'!$C$35","v":0},"#'T2-B(PP5)'!$C$35"]
["pp5_bl3_2_9_unit_in",{"$f":"'T2-B(PP5)'!$D$35","v":0},"#'T2-B(PP5)'!$D$35"]
["pp5_bl3_2_9_units_out",{"$f":"'T2-B(PP5)'!$G$35","v":0},"#'T2-B(PP5)'!$G$35"]
["pp5_bl3_2_total",{"$f":"'T2-B(PP5)'!$J$26","v":0},"#'T2-B(PP5)'!$J$26"]
["pp5_bl3_2_total_in",{"$f":"'T2-B(PP5)'!$F$26","v":0},"#'T2-B(PP5)'!$F$26"]
["pp5_bl3_2_total_out",{"$f":"'T2-B(PP5)'!$I$26","v":0},"#'T2-B(PP5)'!$I$26"]
["pp5_bl3_3_1_name",{"$f":"'T2-B(PP5)'!$B$38","v":0},"#'T2-B(PP5)'!$B$38"]
["pp5_bl3_3_1_rate_in",{"$f":"'T2-B(PP5)'!$E$38","v":0},"#'T2-B(PP5)'!$E$38"]
["pp5_bl3_3_1_rate_out",{"$f":"'T2-B(PP5)'!$H$38","v":0},"#'T2-B(PP5)'!$H$38"]
["pp5_bl3_3_1_total",{"$f":"'T2-B(PP5)'!$J$38","v":0},"#'T2-B(PP5)'!$J$38"]
["pp5_bl3_3_1_total_in",{"$f":"'T2-B(PP5)'!$F$38","v":0},"#'T2-B(PP5)'!$F$38"]
["pp5_bl3_3_1_total_out",{"$f":"'T2-B(PP5)'!$I$38","v":0},"#'T2-B(PP5)'!$I$38"]
["pp5_bl3_3_1_unit",{"$f":"'T2-B(PP5)'!$C$38","v":0},"#'T2-B(PP5)'!$C$38"]
["pp5_bl3_3_1_unit_in",{"$f":"'T2-B(PP5)'!$D$38","v":0},"#'T2-B(PP5)'!$D$38"]
["pp5_bl3_3_1_units_out",{"$f":"'T2-B(PP5)'!$G$38","v":0},"#'T2-B(PP5)'!$G$38"]
["pp5_bl3_3_10_name",{"$f":"'T2-B(PP5)'!$B$47","v":0},"#'T2-B(PP5)'!$B$47"]
["pp5_bl3_3_10_rate_in",{"$f":"'T2-B(PP5)'!$E$47","v":0},"#'T2-B(PP5)'!$E$47"]
["pp5_bl3_3_10_rate_out",{"$f":"'T2-B(PP5)'!$H$47","v":0},"#'T2-B(PP5)'!$H$47"]
["pp5_bl3_3_10_total",{"$f":"'T2-B(PP5)'!$J$47","v":0},"#'T2-B(PP5)'!$J$47"]
["pp5_bl3_3_10_total_in",{"$f":"'T2-B(PP5)'!$F$47","v":0},"#'T2-B(PP5)'!$F$47"]
["pp5_bl3_3_10_total_out",{"$f":"'T2-B(PP5)'!$I$47","v":0},"#'T2-B(PP5)'!$I$47"]
["pp5_bl3_3_10_unit",{"$f":"'T2-B(PP5)'!$C$47","v":0},"#'T2-B(PP5)'!$C$47"]
["pp5_bl3_3_10_unit_in",{"$f":"'T2-B(PP5)'!$D$47","v":0},"#'T2-B(PP5)'!$D$47"]
["pp5_bl3_3_10_units_out",{"$f":"'T2-B(PP5)'!$G$47","v":0},"#'T2-B(PP5)'!$G$47"]
["pp5_bl3_3_2_name",{"$f":"'T2-B(PP5)'!$B$39","v":0},"#'T2-B(PP5)'!$B$39"]
["pp5_bl3_3_2_rate_in",{"$f":"'T2-B(PP5)'!$E$39","v":0},"#'T2-B(PP5)'!$E$39"]
["pp5_bl3_3_2_rate_out",{"$f":"'T2-B(PP5)'!$H$39","v":0},"#'T2-B(PP5)'!$H$39"]
["pp5_bl3_3_2_total",{"$f":"'T2-B(PP5)'!$J$39","v":0},"#'T2-B(PP5)'!$J$39"]
["pp5_bl3_3_2_total_in",{"$f":"'T2-B(PP5)'!$F$39","v":0},"#'T2-B(PP5)'!$F$39"]
["pp5_bl3_3_2_total_out",{"$f":"'T2-B(PP5)'!$I$39","v":0},"#'T2-B(PP5)'!$I$39"]
["pp5_bl3_3_2_unit",{"$f":"'T2-B(PP5)'!$C$39","v":0},"#'T2-B(PP5)'!$C$39"]
["pp5_bl3_3_2_unit_in",{"$f":"'T2-B(PP5)'!$D$39","v":0},"#'T2-B(PP5)'!$D$39"]
["pp5_bl3_3_2_units_out",{"$f":"'T2-B(PP5)'!$G$39","v":0},"#'T2-B(PP5)'!$G$39"]
["pp5_bl3_3_3_name",{"$f":"'T2-B(PP5)'!$B$40","v":0},"#'T2-B(PP5)'!$B$40"]
["pp5_bl3_3_3_rate_in",{"$f":"'T2-B(PP5)'!$E$40","v":0},"#'T2-B(PP5)'!$E$40"]
["pp5_bl3_3_3_rate_out",{"$f":"'T2-B(PP5)'!$H$40","v":0},"#'T2-B(PP5)'!$H$40"]
["pp5_bl3_3_3_total",{"$f":"'T2-B(PP5)'!$J$40","v":0},"#'T2-B(PP5)'!$J$40"]
["pp5_bl3_3_3_total_in",{"$f":"'T2-B(PP5)'!$F$40","v":0},"#'T2-B(PP5)'!$F$40"]
["pp5_bl3_3_3_total_out",{"$f":"'T2-B(PP5)'!$I$40","v":0},"#'T2-B(PP5)'!$I$40"]
["pp5_bl3_3_3_unit",{"$f":"'T2-B(PP5)'!$C$40","v":0},"#'T2-B(PP5)'!$C$40"]
["pp5_bl3_3_3_unit_in",{"$f":"'T2-B(PP5)'!$D$40","v":0},"#'T2-B(PP5)'!$D$40"]
["pp5_bl3_3_3_units_out",{"$f":"'T2-B(PP5)'!$G$40","v":0},"#'T2-B(PP5)'!$G$40"]
["pp5_bl3_3_4_name",{"$f":"'T2-B(PP5)'!$B$41","v":0},"#'T2-B(PP5)'!$B$41"]
["pp5_bl3_3_4_rate_in",{"$f":"'T2-B(PP5)'!$E$41","v":0},"#'T2-B(PP5)'!$E$41"]
["pp5_bl3_3_4_rate_out",{"$f":"'T2-B(PP5)'!$H$41","v":0},"#'T2-B(PP5)'!$H$41"]
["pp5_bl3_3_4_total",{"$f":"'T2-B(PP5)'!$J$41","v":0},"#'T2-B(PP5)'!$J$41"]
["pp5_bl3_3_4_total_in",{"$f":"'T2-B(PP5)'!$F$41","v":0},"#'T2-B(PP5)'!$F$41"]
["pp5_bl3_3_4_total_out",{"$f":"'T2-B(PP5)'!$I$41","v":0},"#'T2-B(PP5)'!$I$41"]
["pp5_bl3_3_4_unit",{"$f":"'T2-B(PP5)'!$C$41","v":0},"#'T2-B(PP5)'!$C$41"]
["pp5_bl3_3_4_unit_in",{"$f":"'T2-B(PP5)'!$D$41","v":0},"#'T2-B(PP5)'!$D$41"]
["pp5_bl3_3_4_units_out",{"$f":"'T2-B(PP5)'!$G$41","v":0},"#'T2-B(PP5)'!$G$41"]
["pp5_bl3_3_5_name",{"$f":"'T2-B(PP5)'!$B$42","v":0},"#'T2-B(PP5)'!$B$42"]
["pp5_bl3_3_5_rate_in",{"$f":"'T2-B(PP5)'!$E$42","v":0},"#'T2-B(PP5)'!$E$42"]
["pp5_bl3_3_5_rate_out",{"$f":"'T2-B(PP5)'!$H$42","v":0},"#'T2-B(PP5)'!$H$42"]
["pp5_bl3_3_5_total",{"$f":"'T2-B(PP5)'!$J$42","v":0},"#'T2-B(PP5)'!$J$42"]
["pp5_bl3_3_5_total_in",{"$f":"'T2-B(PP5)'!$F$42","v":0},"#'T2-B(PP5)'!$F$42"]
["pp5_bl3_3_5_total_out",{"$f":"'T2-B(PP5)'!$I$42","v":0},"#'T2-B(PP5)'!$I$42"]
["pp5_bl3_3_5_unit",{"$f":"'T2-B(PP5)'!$C$42","v":0},"#'T2-B(PP5)'!$C$42"]
["pp5_bl3_3_5_unit_in",{"$f":"'T2-B(PP5)'!$D$42","v":0},"#'T2-B(PP5)'!$D$42"]
["pp5_bl3_3_5_units_out",{"$f":"'T2-B(PP5)'!$G$42","v":0},"#'T2-B(PP5)'!$G$42"]
["pp5_bl3_3_6_name",{"$f":"'T2-B(PP5)'!$B$43","v":0},"#'T2-B(PP5)'!$B$43"]
["pp5_bl3_3_6_rate_in",{"$f":"'T2-B(PP5)'!$E$43","v":0},"#'T2-B(PP5)'!$E$43"]
["pp5_bl3_3_6_rate_out",{"$f":"'T2-B(PP5)'!$H$43","v":0},"#'T2-B(PP5)'!$H$43"]
["pp5_bl3_3_6_total",{"$f":"'T2-B(PP5)'!$J$43","v":0},"#'T2-B(PP5)'!$J$43"]
["pp5_bl3_3_6_total_in",{"$f":"'T2-B(PP5)'!$F$43","v":0},"#'T2-B(PP5)'!$F$43"]
["pp5_bl3_3_6_total_out",{"$f":"'T2-B(PP5)'!$I$43","v":0},"#'T2-B(PP5)'!$I$43"]
["pp5_bl3_3_6_unit",{"$f":"'T2-B(PP5)'!$C$43","v":0},"#'T2-B(PP5)'!$C$43"]
["pp5_bl3_3_6_unit_in",{"$f":"'T2-B(PP5)'!$D$43","v":0},"#'T2-B(PP5)'!$D$43"]
["pp5_bl3_3_6_units_out",{"$f":"'T2-B(PP5)'!$G$43","v":0},"#'T2-B(PP5)'!$G$43"]
["pp5_bl3_3_7_name",{"$f":"'T2-B(PP5)'!$B$44","v":0},"#'T2-B(PP5)'!$B$44"]
["pp5_bl3_3_7_rate_in",{"$f":"'T2-B(PP5)'!$E$44","v":0},"#'T2-B(PP5)'!$E$44"]
["pp5_bl3_3_7_rate_out",{"$f":"'T2-B(PP5)'!$H$44","v":0},"#'T2-B(PP5)'!$H$44"]
["pp5_bl3_3_7_total",{"$f":"'T2-B(PP5)'!$J$44","v":0},"#'T2-B(PP5)'!$J$44"]
["pp5_bl3_3_7_total_in",{"$f":"'T2-B(PP5)'!$F$44","v":0},"#'T2-B(PP5)'!$F$44"]
["pp5_bl3_3_7_total_out",{"$f":"'T2-B(PP5)'!$I$44","v":0},"#'T2-B(PP5)'!$I$44"]
["pp5_bl3_3_7_unit",{"$f":"'T2-B(PP5)'!$C$44","v":0},"#'T2-B(PP5)'!$C$44"]
["pp5_bl3_3_7_unit_in",{"$f":"'T2-B(PP5)'!$D$44","v":0},"#'T2-B(PP5)'!$D$44"]
["pp5_bl3_3_7_units_out",{"$f":"'T2-B(PP5)'!$G$44","v":0},"#'T2-B(PP5)'!$G$44"]
["pp5_bl3_3_8_name",{"$f":"'T2-B(PP5)'!$B$45","v":0},"#'T2-B(PP5)'!$B$45"]
["pp5_bl3_3_8_rate_in",{"$f":"'T2-B(PP5)'!$E$45","v":0},"#'T2-B(PP5)'!$E$45"]
["pp5_bl3_3_8_rate_out",{"$f":"'T2-B(PP5)'!$H$45","v":0},"#'T2-B(PP5)'!$H$45"]
["pp5_bl3_3_8_total",{"$f":"'T2-B(PP5)'!$J$45","v":0},"#'T2-B(PP5)'!$J$45"]
["pp5_bl3_3_8_total_in",{"$f":"'T2-B(PP5)'!$F$45","v":0},"#'T2-B(PP5)'!$F$45"]
["pp5_bl3_3_8_total_out",{"$f":"'T2-B(PP5)'!$I$45","v":0},"#'T2-B(PP5)'!$I$45"]
["pp5_bl3_3_8_unit",{"$f":"'T2-B(PP5)'!$C$45","v":0},"#'T2-B(PP5)'!$C$45"]
["pp5_bl3_3_8_unit_in",{"$f":"'T2-B(PP5)'!$D$45","v":0},"#'T2-B(PP5)'!$D$45"]
["pp5_bl3_3_8_units_out",{"$f":"'T2-B(PP5)'!$G$45","v":0},"#'T2-B(PP5)'!$G$45"]
["pp5_bl3_3_9_name",{"$f":"'T2-B(PP5)'!$B$46","v":0},"#'T2-B(PP5)'!$B$46"]
["pp5_bl3_3_9_rate_in",{"$f":"'T2-B(PP5)'!$E$46","v":0},"#'T2-B(PP5)'!$E$46"]
["pp5_bl3_3_9_rate_out",{"$f":"'T2-B(PP5)'!$H$46","v":0},"#'T2-B(PP5)'!$H$46"]
["pp5_bl3_3_9_total",{"$f":"'T2-B(PP5)'!$J$46","v":0},"#'T2-B(PP5)'!$J$46"]
["pp5_bl3_3_9_total_in",{"$f":"'T2-B(PP5)'!$F$46","v":0},"#'T2-B(PP5)'!$F$46"]
["pp5_bl3_3_9_total_out",{"$f":"'T2-B(PP5)'!$I$46","v":0},"#'T2-B(PP5)'!$I$46"]
["pp5_bl3_3_9_unit",{"$f":"'T2-B(PP5)'!$C$46","v":0},"#'T2-B(PP5)'!$C$46"]
["pp5_bl3_3_9_unit_in",{"$f":"'T2-B(PP5)'!$D$46","v":0},"#'T2-B(PP5)'!$D$46"]
["pp5_bl3_3_9_units_out",{"$f":"'T2-B(PP5)'!$G$46","v":0},"#'T2-B(PP5)'!$G$46"]
["pp5_bl3_3_total",{"$f":"'T2-B(PP5)'!$J$37","v":0},"#'T2-B(PP5)'!$J$37"]
["pp5_bl3_3_total_in",{"$f":"'T2-B(PP5)'!$F$37","v":0},"#'T2-B(PP5)'!$F$37"]
["pp5_bl3_3_total_out",{"$f":"'T2-B(PP5)'!$I$37","v":0},"#'T2-B(PP5)'!$I$37"]
["pp5_bl3_total",{"$f":"'T2-B(PP5)'!$J$48","v":0},"#'T2-B(PP5)'!$J$48"]
["pp5_bl3_total_in",{"$f":"'T2-B(PP5)'!$F$48","v":0},"#'T2-B(PP5)'!$F$48"]
["pp5_bl3_total_out",{"$f":"'T2-B(PP5)'!$I$48","v":0},"#'T2-B(PP5)'!$I$48"]
["pp5_bl4_1_1_name",{"$f":"'T2-B(PP5)'!$B$53","v":0},"#'T2-B(PP5)'!$B$53"]
["pp5_bl4_1_1_rate_in",{"$f":"'T2-B(PP5)'!$E$53","v":0},"#'T2-B(PP5)'!$E$53"]
["pp5_bl4_1_1_rate_out",{"$f":"'T2-B(PP5)'!$H$53","v":0},"#'T2-B(PP5)'!$H$53"]
["pp5_bl4_1_1_total",{"$f":"'T2-B(PP5)'!$J$53","v":0},"#'T2-B(PP5)'!$J$53"]
["pp5_bl4_1_1_total_in",{"$f":"'T2-B(PP5)'!$F$53","v":0},"#'T2-B(PP5)'!$F$53"]
["pp5_bl4_1_1_total_out",{"$f":"'T2-B(PP5)'!$I$53","v":0},"#'T2-B(PP5)'!$I$53"]
["pp5_bl4_1_1_unit",{"$f":"'T2-B(PP5)'!$C$53","v":0},"#'T2-B(PP5)'!$C$53"]
["pp5_bl4_1_1_unit_in",{"$f":"'T2-B(PP5)'!$D$53","v":0},"#'T2-B(PP5)'!$D$53"]
["pp5_bl4_1_1_units_out",{"$f":"'T2-B(PP5)'!$G$53","v":0},"#'T2-B(PP5)'!$G$53"]
["pp5_bl4_1_10_name",{"$f":"'T2-B(PP5)'!$B$62","v":0},"#'T2-B(PP5)'!$B$62"]
["pp5_bl4_1_10_rate_in",{"$f":"'T2-B(PP5)'!$E$62","v":0},"#'T2-B(PP5)'!$E$62"]
["pp5_bl4_1_10_rate_out",{"$f":"'T2-B(PP5)'!$H$62","v":0},"#'T2-B(PP5)'!$H$62"]
["pp5_bl4_1_10_total",{"$f":"'T2-B(PP5)'!$J$62","v":0},"#'T2-B(PP5)'!$J$62"]
["pp5_bl4_1_10_total_in",{"$f":"'T2-B(PP5)'!$F$62","v":0},"#'T2-B(PP5)'!$F$62"]
["pp5_bl4_1_10_total_out",{"$f":"'T2-B(PP5)'!$I$62","v":0},"#'T2-B(PP5)'!$I$62"]
["pp5_bl4_1_10_unit",{"$f":"'T2-B(PP5)'!$C$62","v":0},"#'T2-B(PP5)'!$C$62"]
["pp5_bl4_1_10_unit_in",{"$f":"'T2-B(PP5)'!$D$62","v":0},"#'T2-B(PP5)'!$D$62"]
["pp5_bl4_1_10_units_out",{"$f":"'T2-B(PP5)'!$G$62","v":0},"#'T2-B(PP5)'!$G$62"]
["pp5_bl4_1_2_name",{"$f":"'T2-B(PP5)'!$B$54","v":0},"#'T2-B(PP5)'!$B$54"]
["pp5_bl4_1_2_rate_in",{"$f":"'T2-B(PP5)'!$E$54","v":0},"#'T2-B(PP5)'!$E$54"]
["pp5_bl4_1_2_rate_out",{"$f":"'T2-B(PP5)'!$H$54","v":0},"#'T2-B(PP5)'!$H$54"]
["pp5_bl4_1_2_total",{"$f":"'T2-B(PP5)'!$J$54","v":0},"#'T2-B(PP5)'!$J$54"]
["pp5_bl4_1_2_total_in",{"$f":"'T2-B(PP5)'!$F$54","v":0},"#'T2-B(PP5)'!$F$54"]
["pp5_bl4_1_2_total_out",{"$f":"'T2-B(PP5)'!$I$54","v":0},"#'T2-B(PP5)'!$I$54"]
["pp5_bl4_1_2_unit",{"$f":"'T2-B(PP5)'!$C$54","v":0},"#'T2-B(PP5)'!$C$54"]
["pp5_bl4_1_2_unit_in",{"$f":"'T2-B(PP5)'!$D$54","v":0},"#'T2-B(PP5)'!$D$54"]
["pp5_bl4_1_2_units_out",{"$f":"'T2-B(PP5)'!$G$54","v":0},"#'T2-B(PP5)'!$G$54"]
["pp5_bl4_1_3_name",{"$f":"'T2-B(PP5)'!$B$55","v":0},"#'T2-B(PP5)'!$B$55"]
["pp5_bl4_1_3_rate_in",{"$f":"'T2-B(PP5)'!$E$55","v":0},"#'T2-B(PP5)'!$E$55"]
["pp5_bl4_1_3_rate_out",{"$f":"'T2-B(PP5)'!$H$55","v":0},"#'T2-B(PP5)'!$H$55"]
["pp5_bl4_1_3_total",{"$f":"'T2-B(PP5)'!$J$55","v":0},"#'T2-B(PP5)'!$J$55"]
["pp5_bl4_1_3_total_in",{"$f":"'T2-B(PP5)'!$F$55","v":0},"#'T2-B(PP5)'!$F$55"]
["pp5_bl4_1_3_total_out",{"$f":"'T2-B(PP5)'!$I$55","v":0},"#'T2-B(PP5)'!$I$55"]
["pp5_bl4_1_3_unit",{"$f":"'T2-B(PP5)'!$C$55","v":0},"#'T2-B(PP5)'!$C$55"]
["pp5_bl4_1_3_unit_in",{"$f":"'T2-B(PP5)'!$D$55","v":0},"#'T2-B(PP5)'!$D$55"]
["pp5_bl4_1_3_units_out",{"$f":"'T2-B(PP5)'!$G$55","v":0},"#'T2-B(PP5)'!$G$55"]
["pp5_bl4_1_4_name",{"$f":"'T2-B(PP5)'!$B$56","v":0},"#'T2-B(PP5)'!$B$56"]
["pp5_bl4_1_4_rate_in",{"$f":"'T2-B(PP5)'!$E$56","v":0},"#'T2-B(PP5)'!$E$56"]
["pp5_bl4_1_4_rate_out",{"$f":"'T2-B(PP5)'!$H$56","v":0},"#'T2-B(PP5)'!$H$56"]
["pp5_bl4_1_4_total",{"$f":"'T2-B(PP5)'!$J$56","v":0},"#'T2-B(PP5)'!$J$56"]
["pp5_bl4_1_4_total_in",{"$f":"'T2-B(PP5)'!$F$56","v":0},"#'T2-B(PP5)'!$F$56"]
["pp5_bl4_1_4_total_out",{"$f":"'T2-B(PP5)'!$I$56","v":0},"#'T2-B(PP5)'!$I$56"]
["pp5_bl4_1_4_unit",{"$f":"'T2-B(PP5)'!$C$56","v":0},"#'T2-B(PP5)'!$C$56"]
["pp5_bl4_1_4_unit_in",{"$f":"'T2-B(PP5)'!$D$56","v":0},"#'T2-B(PP5)'!$D$56"]
["pp5_bl4_1_4_units_out",{"$f":"'T2-B(PP5)'!$G$56","v":0},"#'T2-B(PP5)'!$G$56"]
["pp5_bl4_1_5_name",{"$f":"'T2-B(PP5)'!$B$57","v":0},"#'T2-B(PP5)'!$B$57"]
["pp5_bl4_1_5_rate_in",{"$f":"'T2-B(PP5)'!$E$57","v":0},"#'T2-B(PP5)'!$E$57"]
["pp5_bl4_1_5_rate_out",{"$f":"'T2-B(PP5)'!$H$57","v":0},"#'T2-B(PP5)'!$H$57"]
["pp5_bl4_1_5_total",{"$f":"'T2-B(PP5)'!$J$57","v":0},"#'T2-B(PP5)'!$J$57"]
["pp5_bl4_1_5_total_in",{"$f":"'T2-B(PP5)'!$F$57","v":0},"#'T2-B(PP5)'!$F$57"]
["pp5_bl4_1_5_total_out",{"$f":"'T2-B(PP5)'!$I$57","v":0},"#'T2-B(PP5)'!$I$57"]
["pp5_bl4_1_5_unit",{"$f":"'T2-B(PP5)'!$C$57","v":0},"#'T2-B(PP5)'!$C$57"]
["pp5_bl4_1_5_unit_in",{"$f":"'T2-B(PP5)'!$D$57","v":0},"#'T2-B(PP5)'!$D$57"]
["pp5_bl4_1_5_units_out",{"$f":"'T2-B(PP5)'!$G$57","v":0},"#'T2-B(PP5)'!$G$57"]
["pp5_bl4_1_6_name",{"$f":"'T2-B(PP5)'!$B$58","v":0},"#'T2-B(PP5)'!$B$58"]
["pp5_bl4_1_6_rate_in",{"$f":"'T2-B(PP5)'!$E$58","v":0},"#'T2-B(PP5)'!$E$58"]
["pp5_bl4_1_6_rate_out",{"$f":"'T2-B(PP5)'!$H$58","v":0},"#'T2-B(PP5)'!$H$58"]
["pp5_bl4_1_6_total",{"$f":"'T2-B(PP5)'!$J$58","v":0},"#'T2-B(PP5)'!$J$58"]
["pp5_bl4_1_6_total_in",{"$f":"'T2-B(PP5)'!$F$58","v":0},"#'T2-B(PP5)'!$F$58"]
["pp5_bl4_1_6_total_out",{"$f":"'T2-B(PP5)'!$I$58","v":0},"#'T2-B(PP5)'!$I$58"]
["pp5_bl4_1_6_unit",{"$f":"'T2-B(PP5)'!$C$58","v":0},"#'T2-B(PP5)'!$C$58"]
["pp5_bl4_1_6_unit_in",{"$f":"'T2-B(PP5)'!$D$58","v":0},"#'T2-B(PP5)'!$D$58"]
["pp5_bl4_1_6_units_out",{"$f":"'T2-B(PP5)'!$G$58","v":0},"#'T2-B(PP5)'!$G$58"]
["pp5_bl4_1_7_name",{"$f":"'T2-B(PP5)'!$B$59","v":0},"#'T2-B(PP5)'!$B$59"]
["pp5_bl4_1_7_rate_in",{"$f":"'T2-B(PP5)'!$E$59","v":0},"#'T2-B(PP5)'!$E$59"]
["pp5_bl4_1_7_rate_out",{"$f":"'T2-B(PP5)'!$H$59","v":0},"#'T2-B(PP5)'!$H$59"]
["pp5_bl4_1_7_total",{"$f":"'T2-B(PP5)'!$J$59","v":0},"#'T2-B(PP5)'!$J$59"]
["pp5_bl4_1_7_total_in",{"$f":"'T2-B(PP5)'!$F$59","v":0},"#'T2-B(PP5)'!$F$59"]
["pp5_bl4_1_7_total_out",{"$f":"'T2-B(PP5)'!$I$59","v":0},"#'T2-B(PP5)'!$I$59"]
["pp5_bl4_1_7_unit",{"$f":"'T2-B(PP5)'!$C$59","v":0},"#'T2-B(PP5)'!$C$59"]
["pp5_bl4_1_7_unit_in",{"$f":"'T2-B(PP5)'!$D$59","v":0},"#'T2-B(PP5)'!$D$59"]
["pp5_bl4_1_7_units_out",{"$f":"'T2-B(PP5)'!$G$59","v":0},"#'T2-B(PP5)'!$G$59"]
["pp5_bl4_1_8_name",{"$f":"'T2-B(PP5)'!$B$60","v":0},"#'T2-B(PP5)'!$B$60"]
["pp5_bl4_1_8_rate_in",{"$f":"'T2-B(PP5)'!$E$60","v":0},"#'T2-B(PP5)'!$E$60"]
["pp5_bl4_1_8_rate_out",{"$f":"'T2-B(PP5)'!$H$60","v":0},"#'T2-B(PP5)'!$H$60"]
["pp5_bl4_1_8_total",{"$f":"'T2-B(PP5)'!$J$60","v":0},"#'T2-B(PP5)'!$J$60"]
["pp5_bl4_1_8_total_in",{"$f":"'T2-B(PP5)'!$F$60","v":0},"#'T2-B(PP5)'!$F$60"]
["pp5_bl4_1_8_total_out",{"$f":"'T2-B(PP5)'!$I$60","v":0},"#'T2-B(PP5)'!$I$60"]
["pp5_bl4_1_8_unit",{"$f":"'T2-B(PP5)'!$C$60","v":0},"#'T2-B(PP5)'!$C$60"]
["pp5_bl4_1_8_unit_in",{"$f":"'T2-B(PP5)'!$D$60","v":0},"#'T2-B(PP5)'!$D$60"]
["pp5_bl4_1_8_units_out",{"$f":"'T2-B(PP5)'!$G$60","v":0},"#'T2-B(PP5)'!$G$60"]
["pp5_bl4_1_9_name",{"$f":"'T2-B(PP5)'!$B$61","v":0},"#'T2-B(PP5)'!$B$61"]
["pp5_bl4_1_9_rate_in",{"$f":"'T2-B(PP5)'!$E$61","v":0},"#'T2-B(PP5)'!$E$61"]
["pp5_bl4_1_9_rate_out",{"$f":"'T2-B(PP5)'!$H$61","v":0},"#'T2-B(PP5)'!$H$61"]
["pp5_bl4_1_9_total",{"$f":"'T2-B(PP5)'!$J$61","v":0},"#'T2-B(PP5)'!$J$61"]
["pp5_bl4_1_9_total_in",{"$f":"'T2-B(PP5)'!$F$61","v":0},"#'T2-B(PP5)'!$F$61"]
["pp5_bl4_1_9_total_out",{"$f":"'T2-B(PP5)'!$I$61","v":0},"#'T2-B(PP5)'!$I$61"]
["pp5_bl4_1_9_unit",{"$f":"'T2-B(PP5)'!$C$61","v":0},"#'T2-B(PP5)'!$C$61"]
["pp5_bl4_1_9_unit_in",{"$f":"'T2-B(PP5)'!$D$61","v":0},"#'T2-B(PP5)'!$D$61"]
["pp5_bl4_1_9_units_out",{"$f":"'T2-B(PP5)'!$G$61","v":0},"#'T2-B(PP5)'!$G$61"]
["pp5_bl4_1_total",{"$f":"'T2-B(PP5)'!$J$52","v":0},"#'T2-B(PP5)'!$J$52"]
["pp5_bl4_1_total_in",{"$f":"'T2-B(PP5)'!$F$52","v":0},"#'T2-B(PP5)'!$F$52"]
["pp5_bl4_1_total_out",{"$f":"'T2-B(PP5)'!$I$52","v":0},"#'T2-B(PP5)'!$I$52"]
["pp5_bl4_10_1_name",{"$f":"'T2-B(PP5)'!$B$152","v":0},"#'T2-B(PP5)'!$B$152"]
["pp5_bl4_10_1_rate_in",{"$f":"'T2-B(PP5)'!$E$152","v":0},"#'T2-B(PP5)'!$E$152"]
["pp5_bl4_10_1_rate_out",{"$f":"'T2-B(PP5)'!$H$152","v":0},"#'T2-B(PP5)'!$H$152"]
["pp5_bl4_10_1_total",{"$f":"'T2-B(PP5)'!$J$152","v":0},"#'T2-B(PP5)'!$J$152"]
["pp5_bl4_10_1_total_in",{"$f":"'T2-B(PP5)'!$F$152","v":0},"#'T2-B(PP5)'!$F$152"]
["pp5_bl4_10_1_total_out",{"$f":"'T2-B(PP5)'!$I$152","v":0},"#'T2-B(PP5)'!$I$152"]
["pp5_bl4_10_1_unit",{"$f":"'T2-B(PP5)'!$C$152","v":0},"#'T2-B(PP5)'!$C$152"]
["pp5_bl4_10_1_unit_in",{"$f":"'T2-B(PP5)'!$D$152","v":0},"#'T2-B(PP5)'!$D$152"]
["pp5_bl4_10_1_units_out",{"$f":"'T2-B(PP5)'!$G$152","v":0},"#'T2-B(PP5)'!$G$152"]
["pp5_bl4_10_10_name",{"$f":"'T2-B(PP5)'!$B$161","v":0},"#'T2-B(PP5)'!$B$161"]
["pp5_bl4_10_10_rate_in",{"$f":"'T2-B(PP5)'!$E$161","v":0},"#'T2-B(PP5)'!$E$161"]
["pp5_bl4_10_10_rate_out",{"$f":"'T2-B(PP5)'!$H$161","v":0},"#'T2-B(PP5)'!$H$161"]
["pp5_bl4_10_10_total",{"$f":"'T2-B(PP5)'!$J$161","v":0},"#'T2-B(PP5)'!$J$161"]
["pp5_bl4_10_10_total_in",{"$f":"'T2-B(PP5)'!$F$161","v":0},"#'T2-B(PP5)'!$F$161"]
["pp5_bl4_10_10_total_out",{"$f":"'T2-B(PP5)'!$I$161","v":0},"#'T2-B(PP5)'!$I$161"]
["pp5_bl4_10_10_unit",{"$f":"'T2-B(PP5)'!$C$161","v":0},"#'T2-B(PP5)'!$C$161"]
["pp5_bl4_10_10_unit_in",{"$f":"'T2-B(PP5)'!$D$161","v":0},"#'T2-B(PP5)'!$D$161"]
["pp5_bl4_10_10_units_out",{"$f":"'T2-B(PP5)'!$G$161","v":0},"#'T2-B(PP5)'!$G$161"]
["pp5_bl4_10_2_name",{"$f":"'T2-B(PP5)'!$B$153","v":0},"#'T2-B(PP5)'!$B$153"]
["pp5_bl4_10_2_rate_in",{"$f":"'T2-B(PP5)'!$E$153","v":0},"#'T2-B(PP5)'!$E$153"]
["pp5_bl4_10_2_rate_out",{"$f":"'T2-B(PP5)'!$H$153","v":0},"#'T2-B(PP5)'!$H$153"]
["pp5_bl4_10_2_total",{"$f":"'T2-B(PP5)'!$J$153","v":0},"#'T2-B(PP5)'!$J$153"]
["pp5_bl4_10_2_total_in",{"$f":"'T2-B(PP5)'!$F$153","v":0},"#'T2-B(PP5)'!$F$153"]
["pp5_bl4_10_2_total_out",{"$f":"'T2-B(PP5)'!$I$153","v":0},"#'T2-B(PP5)'!$I$153"]
["pp5_bl4_10_2_unit",{"$f":"'T2-B(PP5)'!$C$153","v":0},"#'T2-B(PP5)'!$C$153"]
["pp5_bl4_10_2_unit_in",{"$f":"'T2-B(PP5)'!$D$153","v":0},"#'T2-B(PP5)'!$D$153"]
["pp5_bl4_10_2_units_out",{"$f":"'T2-B(PP5)'!$G$153","v":0},"#'T2-B(PP5)'!$G$153"]
["pp5_bl4_10_3_name",{"$f":"'T2-B(PP5)'!$B$154","v":0},"#'T2-B(PP5)'!$B$154"]
["pp5_bl4_10_3_rate_in",{"$f":"'T2-B(PP5)'!$E$154","v":0},"#'T2-B(PP5)'!$E$154"]
["pp5_bl4_10_3_rate_out",{"$f":"'T2-B(PP5)'!$H$154","v":0},"#'T2-B(PP5)'!$H$154"]
["pp5_bl4_10_3_total",{"$f":"'T2-B(PP5)'!$J$154","v":0},"#'T2-B(PP5)'!$J$154"]
["pp5_bl4_10_3_total_in",{"$f":"'T2-B(PP5)'!$F$154","v":0},"#'T2-B(PP5)'!$F$154"]
["pp5_bl4_10_3_total_out",{"$f":"'T2-B(PP5)'!$I$154","v":0},"#'T2-B(PP5)'!$I$154"]
["pp5_bl4_10_3_unit",{"$f":"'T2-B(PP5)'!$C$154","v":0},"#'T2-B(PP5)'!$C$154"]
["pp5_bl4_10_3_unit_in",{"$f":"'T2-B(PP5)'!$D$154","v":0},"#'T2-B(PP5)'!$D$154"]
["pp5_bl4_10_3_units_out",{"$f":"'T2-B(PP5)'!$G$154","v":0},"#'T2-B(PP5)'!$G$154"]
["pp5_bl4_10_4_name",{"$f":"'T2-B(PP5)'!$B$155","v":0},"#'T2-B(PP5)'!$B$155"]
["pp5_bl4_10_4_rate_in",{"$f":"'T2-B(PP5)'!$E$155","v":0},"#'T2-B(PP5)'!$E$155"]
["pp5_bl4_10_4_rate_out",{"$f":"'T2-B(PP5)'!$H$155","v":0},"#'T2-B(PP5)'!$H$155"]
["pp5_bl4_10_4_total",{"$f":"'T2-B(PP5)'!$J$155","v":0},"#'T2-B(PP5)'!$J$155"]
["pp5_bl4_10_4_total_in",{"$f":"'T2-B(PP5)'!$F$155","v":0},"#'T2-B(PP5)'!$F$155"]
["pp5_bl4_10_4_total_out",{"$f":"'T2-B(PP5)'!$I$155","v":0},"#'T2-B(PP5)'!$I$155"]
["pp5_bl4_10_4_unit",{"$f":"'T2-B(PP5)'!$C$155","v":0},"#'T2-B(PP5)'!$C$155"]
["pp5_bl4_10_4_unit_in",{"$f":"'T2-B(PP5)'!$D$155","v":0},"#'T2-B(PP5)'!$D$155"]
["pp5_bl4_10_4_units_out",{"$f":"'T2-B(PP5)'!$G$155","v":0},"#'T2-B(PP5)'!$G$155"]
["pp5_bl4_10_5_name",{"$f":"'T2-B(PP5)'!$B$156","v":0},"#'T2-B(PP5)'!$B$156"]
["pp5_bl4_10_5_rate_in",{"$f":"'T2-B(PP5)'!$E$156","v":0},"#'T2-B(PP5)'!$E$156"]
["pp5_bl4_10_5_rate_out",{"$f":"'T2-B(PP5)'!$H$156","v":0},"#'T2-B(PP5)'!$H$156"]
["pp5_bl4_10_5_total",{"$f":"'T2-B(PP5)'!$J$156","v":0},"#'T2-B(PP5)'!$J$156"]
["pp5_bl4_10_5_total_in",{"$f":"'T2-B(PP5)'!$F$156","v":0},"#'T2-B(PP5)'!$F$156"]
["pp5_bl4_10_5_total_out",{"$f":"'T2-B(PP5)'!$I$156","v":0},"#'T2-B(PP5)'!$I$156"]
["pp5_bl4_10_5_unit",{"$f":"'T2-B(PP5)'!$C$156","v":0},"#'T2-B(PP5)'!$C$156"]
["pp5_bl4_10_5_unit_in",{"$f":"'T2-B(PP5)'!$D$156","v":0},"#'T2-B(PP5)'!$D$156"]
["pp5_bl4_10_5_units_out",{"$f":"'T2-B(PP5)'!$G$156","v":0},"#'T2-B(PP5)'!$G$156"]
["pp5_bl4_10_6_name",{"$f":"'T2-B(PP5)'!$B$157","v":0},"#'T2-B(PP5)'!$B$157"]
["pp5_bl4_10_6_rate_in",{"$f":"'T2-B(PP5)'!$E$157","v":0},"#'T2-B(PP5)'!$E$157"]
["pp5_bl4_10_6_rate_out",{"$f":"'T2-B(PP5)'!$H$157","v":0},"#'T2-B(PP5)'!$H$157"]
["pp5_bl4_10_6_total",{"$f":"'T2-B(PP5)'!$J$157","v":0},"#'T2-B(PP5)'!$J$157"]
["pp5_bl4_10_6_total_in",{"$f":"'T2-B(PP5)'!$F$157","v":0},"#'T2-B(PP5)'!$F$157"]
["pp5_bl4_10_6_total_out",{"$f":"'T2-B(PP5)'!$I$157","v":0},"#'T2-B(PP5)'!$I$157"]
["pp5_bl4_10_6_unit",{"$f":"'T2-B(PP5)'!$C$157","v":0},"#'T2-B(PP5)'!$C$157"]
["pp5_bl4_10_6_unit_in",{"$f":"'T2-B(PP5)'!$D$157","v":0},"#'T2-B(PP5)'!$D$157"]
["pp5_bl4_10_6_units_out",{"$f":"'T2-B(PP5)'!$G$157","v":0},"#'T2-B(PP5)'!$G$157"]
["pp5_bl4_10_7_name",{"$f":"'T2-B(PP5)'!$B$158","v":0},"#'T2-B(PP5)'!$B$158"]
["pp5_bl4_10_7_rate_in",{"$f":"'T2-B(PP5)'!$E$158","v":0},"#'T2-B(PP5)'!$E$158"]
["pp5_bl4_10_7_rate_out",{"$f":"'T2-B(PP5)'!$H$158","v":0},"#'T2-B(PP5)'!$H$158"]
["pp5_bl4_10_7_total",{"$f":"'T2-B(PP5)'!$J$158","v":0},"#'T2-B(PP5)'!$J$158"]
["pp5_bl4_10_7_total_in",{"$f":"'T2-B(PP5)'!$F$158","v":0},"#'T2-B(PP5)'!$F$158"]
["pp5_bl4_10_7_total_out",{"$f":"'T2-B(PP5)'!$I$158","v":0},"#'T2-B(PP5)'!$I$158"]
["pp5_bl4_10_7_unit",{"$f":"'T2-B(PP5)'!$C$158","v":0},"#'T2-B(PP5)'!$C$158"]
["pp5_bl4_10_7_unit_in",{"$f":"'T2-B(PP5)'!$D$158","v":0},"#'T2-B(PP5)'!$D$158"]
["pp5_bl4_10_7_units_out",{"$f":"'T2-B(PP5)'!$G$158","v":0},"#'T2-B(PP5)'!$G$158"]
["pp5_bl4_10_8_name",{"$f":"'T2-B(PP5)'!$B$159","v":0},"#'T2-B(PP5)'!$B$159"]
["pp5_bl4_10_8_rate_in",{"$f":"'T2-B(PP5)'!$E$159","v":0},"#'T2-B(PP5)'!$E$159"]
["pp5_bl4_10_8_rate_out",{"$f":"'T2-B(PP5)'!$H$159","v":0},"#'T2-B(PP5)'!$H$159"]
["pp5_bl4_10_8_total",{"$f":"'T2-B(PP5)'!$J$159","v":0},"#'T2-B(PP5)'!$J$159"]
["pp5_bl4_10_8_total_in",{"$f":"'T2-B(PP5)'!$F$159","v":0},"#'T2-B(PP5)'!$F$159"]
["pp5_bl4_10_8_total_out",{"$f":"'T2-B(PP5)'!$I$159","v":0},"#'T2-B(PP5)'!$I$159"]
["pp5_bl4_10_8_unit",{"$f":"'T2-B(PP5)'!$C$159","v":0},"#'T2-B(PP5)'!$C$159"]
["pp5_bl4_10_8_unit_in",{"$f":"'T2-B(PP5)'!$D$159","v":0},"#'T2-B(PP5)'!$D$159"]
["pp5_bl4_10_8_units_out",{"$f":"'T2-B(PP5)'!$G$159","v":0},"#'T2-B(PP5)'!$G$159"]
["pp5_bl4_10_9_name",{"$f":"'T2-B(PP5)'!$B$160","v":0},"#'T2-B(PP5)'!$B$160"]
["pp5_bl4_10_9_rate_in",{"$f":"'T2-B(PP5)'!$E$160","v":0},"#'T2-B(PP5)'!$E$160"]
["pp5_bl4_10_9_rate_out",{"$f":"'T2-B(PP5)'!$H$160","v":0},"#'T2-B(PP5)'!$H$160"]
["pp5_bl4_10_9_total",{"$f":"'T2-B(PP5)'!$J$160","v":0},"#'T2-B(PP5)'!$J$160"]
["pp5_bl4_10_9_total_in",{"$f":"'T2-B(PP5)'!$F$160","v":0},"#'T2-B(PP5)'!$F$160"]
["pp5_bl4_10_9_total_out",{"$f":"'T2-B(PP5)'!$I$160","v":0},"#'T2-B(PP5)'!$I$160"]
["pp5_bl4_10_9_unit",{"$f":"'T2-B(PP5)'!$C$160","v":0},"#'T2-B(PP5)'!$C$160"]
["pp5_bl4_10_9_unit_in",{"$f":"'T2-B(PP5)'!$D$160","v":0},"#'T2-B(PP5)'!$D$160"]
["pp5_bl4_10_9_units_out",{"$f":"'T2-B(PP5)'!$G$160","v":0},"#'T2-B(PP5)'!$G$160"]
["pp5_bl4_10_total",{"$f":"'T2-B(PP5)'!$J$151","v":0},"#'T2-B(PP5)'!$J$151"]
["pp5_bl4_10_total_in",{"$f":"'T2-B(PP5)'!$F$151","v":0},"#'T2-B(PP5)'!$F$151"]
["pp5_bl4_10_total_out",{"$f":"'T2-B(PP5)'!$I$151","v":0},"#'T2-B(PP5)'!$I$151"]
["pp5_bl4_11_1_name",{"$f":"'T2-B(PP5)'!$B$163","v":0},"#'T2-B(PP5)'!$B$163"]
["pp5_bl4_11_1_rate_in",{"$f":"'T2-B(PP5)'!$E$163","v":0},"#'T2-B(PP5)'!$E$163"]
["pp5_bl4_11_1_rate_out",{"$f":"'T2-B(PP5)'!$H$163","v":0},"#'T2-B(PP5)'!$H$163"]
["pp5_bl4_11_1_total",{"$f":"'T2-B(PP5)'!$J$163","v":0},"#'T2-B(PP5)'!$J$163"]
["pp5_bl4_11_1_total_in",{"$f":"'T2-B(PP5)'!$F$163","v":0},"#'T2-B(PP5)'!$F$163"]
["pp5_bl4_11_1_total_out",{"$f":"'T2-B(PP5)'!$I$163","v":0},"#'T2-B(PP5)'!$I$163"]
["pp5_bl4_11_1_unit",{"$f":"'T2-B(PP5)'!$C$163","v":0},"#'T2-B(PP5)'!$C$163"]
["pp5_bl4_11_1_unit_in",{"$f":"'T2-B(PP5)'!$D$163","v":0},"#'T2-B(PP5)'!$D$163"]
["pp5_bl4_11_1_units_out",{"$f":"'T2-B(PP5)'!$G$163","v":0},"#'T2-B(PP5)'!$G$163"]
["pp5_bl4_11_10_name",{"$f":"'T2-B(PP5)'!$B$172","v":0},"#'T2-B(PP5)'!$B$172"]
["pp5_bl4_11_10_rate_in",{"$f":"'T2-B(PP5)'!$E$172","v":0},"#'T2-B(PP5)'!$E$172"]
["pp5_bl4_11_10_rate_out",{"$f":"'T2-B(PP5)'!$H$172","v":0},"#'T2-B(PP5)'!$H$172"]
["pp5_bl4_11_10_total",{"$f":"'T2-B(PP5)'!$J$172","v":0},"#'T2-B(PP5)'!$J$172"]
["pp5_bl4_11_10_total_in",{"$f":"'T2-B(PP5)'!$F$172","v":0},"#'T2-B(PP5)'!$F$172"]
["pp5_bl4_11_10_total_out",{"$f":"'T2-B(PP5)'!$I$172","v":0},"#'T2-B(PP5)'!$I$172"]
["pp5_bl4_11_10_unit",{"$f":"'T2-B(PP5)'!$C$172","v":0},"#'T2-B(PP5)'!$C$172"]
["pp5_bl4_11_10_unit_in",{"$f":"'T2-B(PP5)'!$D$172","v":0},"#'T2-B(PP5)'!$D$172"]
["pp5_bl4_11_10_units_out",{"$f":"'T2-B(PP5)'!$G$172","v":0},"#'T2-B(PP5)'!$G$172"]
["pp5_bl4_11_2_name",{"$f":"'T2-B(PP5)'!$B$164","v":0},"#'T2-B(PP5)'!$B$164"]
["pp5_bl4_11_2_rate_in",{"$f":"'T2-B(PP5)'!$E$164","v":0},"#'T2-B(PP5)'!$E$164"]
["pp5_bl4_11_2_rate_out",{"$f":"'T2-B(PP5)'!$H$164","v":0},"#'T2-B(PP5)'!$H$164"]
["pp5_bl4_11_2_total",{"$f":"'T2-B(PP5)'!$J$164","v":0},"#'T2-B(PP5)'!$J$164"]
["pp5_bl4_11_2_total_in",{"$f":"'T2-B(PP5)'!$F$164","v":0},"#'T2-B(PP5)'!$F$164"]
["pp5_bl4_11_2_total_out",{"$f":"'T2-B(PP5)'!$I$164","v":0},"#'T2-B(PP5)'!$I$164"]
["pp5_bl4_11_2_unit",{"$f":"'T2-B(PP5)'!$C$164","v":0},"#'T2-B(PP5)'!$C$164"]
["pp5_bl4_11_2_unit_in",{"$f":"'T2-B(PP5)'!$D$164","v":0},"#'T2-B(PP5)'!$D$164"]
["pp5_bl4_11_2_units_out",{"$f":"'T2-B(PP5)'!$G$164","v":0},"#'T2-B(PP5)'!$G$164"]
["pp5_bl4_11_3_name",{"$f":"'T2-B(PP5)'!$B$165","v":0},"#'T2-B(PP5)'!$B$165"]
["pp5_bl4_11_3_rate_in",{"$f":"'T2-B(PP5)'!$E$165","v":0},"#'T2-B(PP5)'!$E$165"]
["pp5_bl4_11_3_rate_out",{"$f":"'T2-B(PP5)'!$H$165","v":0},"#'T2-B(PP5)'!$H$165"]
["pp5_bl4_11_3_total",{"$f":"'T2-B(PP5)'!$J$165","v":0},"#'T2-B(PP5)'!$J$165"]
["pp5_bl4_11_3_total_in",{"$f":"'T2-B(PP5)'!$F$165","v":0},"#'T2-B(PP5)'!$F$165"]
["pp5_bl4_11_3_total_out",{"$f":"'T2-B(PP5)'!$I$165","v":0},"#'T2-B(PP5)'!$I$165"]
["pp5_bl4_11_3_unit",{"$f":"'T2-B(PP5)'!$C$165","v":0},"#'T2-B(PP5)'!$C$165"]
["pp5_bl4_11_3_unit_in",{"$f":"'T2-B(PP5)'!$D$165","v":0},"#'T2-B(PP5)'!$D$165"]
["pp5_bl4_11_3_units_out",{"$f":"'T2-B(PP5)'!$G$165","v":0},"#'T2-B(PP5)'!$G$165"]
["pp5_bl4_11_4_name",{"$f":"'T2-B(PP5)'!$B$166","v":0},"#'T2-B(PP5)'!$B$166"]
["pp5_bl4_11_4_rate_in",{"$f":"'T2-B(PP5)'!$E$166","v":0},"#'T2-B(PP5)'!$E$166"]
["pp5_bl4_11_4_rate_out",{"$f":"'T2-B(PP5)'!$H$166","v":0},"#'T2-B(PP5)'!$H$166"]
["pp5_bl4_11_4_total",{"$f":"'T2-B(PP5)'!$J$166","v":0},"#'T2-B(PP5)'!$J$166"]
["pp5_bl4_11_4_total_in",{"$f":"'T2-B(PP5)'!$F$166","v":0},"#'T2-B(PP5)'!$F$166"]
["pp5_bl4_11_4_total_out",{"$f":"'T2-B(PP5)'!$I$166","v":0},"#'T2-B(PP5)'!$I$166"]
["pp5_bl4_11_4_unit",{"$f":"'T2-B(PP5)'!$C$166","v":0},"#'T2-B(PP5)'!$C$166"]
["pp5_bl4_11_4_unit_in",{"$f":"'T2-B(PP5)'!$D$166","v":0},"#'T2-B(PP5)'!$D$166"]
["pp5_bl4_11_4_units_out",{"$f":"'T2-B(PP5)'!$G$166","v":0},"#'T2-B(PP5)'!$G$166"]
["pp5_bl4_11_5_name",{"$f":"'T2-B(PP5)'!$B$167","v":0},"#'T2-B(PP5)'!$B$167"]
["pp5_bl4_11_5_rate_in",{"$f":"'T2-B(PP5)'!$E$167","v":0},"#'T2-B(PP5)'!$E$167"]
["pp5_bl4_11_5_rate_out",{"$f":"'T2-B(PP5)'!$H$167","v":0},"#'T2-B(PP5)'!$H$167"]
["pp5_bl4_11_5_total",{"$f":"'T2-B(PP5)'!$J$167","v":0},"#'T2-B(PP5)'!$J$167"]
["pp5_bl4_11_5_total_in",{"$f":"'T2-B(PP5)'!$F$167","v":0},"#'T2-B(PP5)'!$F$167"]
["pp5_bl4_11_5_total_out",{"$f":"'T2-B(PP5)'!$I$167","v":0},"#'T2-B(PP5)'!$I$167"]
["pp5_bl4_11_5_unit",{"$f":"'T2-B(PP5)'!$C$167","v":0},"#'T2-B(PP5)'!$C$167"]
["pp5_bl4_11_5_unit_in",{"$f":"'T2-B(PP5)'!$D$167","v":0},"#'T2-B(PP5)'!$D$167"]
["pp5_bl4_11_5_units_out",{"$f":"'T2-B(PP5)'!$G$167","v":0},"#'T2-B(PP5)'!$G$167"]
["pp5_bl4_11_6_name",{"$f":"'T2-B(PP5)'!$B$168","v":0},"#'T2-B(PP5)'!$B$168"]
["pp5_bl4_11_6_rate_in",{"$f":"'T2-B(PP5)'!$E$168","v":0},"#'T2-B(PP5)'!$E$168"]
["pp5_bl4_11_6_rate_out",{"$f":"'T2-B(PP5)'!$H$168","v":0},"#'T2-B(PP5)'!$H$168"]
["pp5_bl4_11_6_total",{"$f":"'T2-B(PP5)'!$J$168","v":0},"#'T2-B(PP5)'!$J$168"]
["pp5_bl4_11_6_total_in",{"$f":"'T2-B(PP5)'!$F$168","v":0},"#'T2-B(PP5)'!$F$168"]
["pp5_bl4_11_6_total_out",{"$f":"'T2-B(PP5)'!$I$168","v":0},"#'T2-B(PP5)'!$I$168"]
["pp5_bl4_11_6_unit",{"$f":"'T2-B(PP5)'!$C$168","v":0},"#'T2-B(PP5)'!$C$168"]
["pp5_bl4_11_6_unit_in",{"$f":"'T2-B(PP5)'!$D$168","v":0},"#'T2-B(PP5)'!$D$168"]
["pp5_bl4_11_6_units_out",{"$f":"'T2-B(PP5)'!$G$168","v":0},"#'T2-B(PP5)'!$G$168"]
["pp5_bl4_11_7_name",{"$f":"'T2-B(PP5)'!$B$169","v":0},"#'T2-B(PP5)'!$B$169"]
["pp5_bl4_11_7_rate_in",{"$f":"'T2-B(PP5)'!$E$169","v":0},"#'T2-B(PP5)'!$E$169"]
["pp5_bl4_11_7_rate_out",{"$f":"'T2-B(PP5)'!$H$169","v":0},"#'T2-B(PP5)'!$H$169"]
["pp5_bl4_11_7_total",{"$f":"'T2-B(PP5)'!$J$169","v":0},"#'T2-B(PP5)'!$J$169"]
["pp5_bl4_11_7_total_in",{"$f":"'T2-B(PP5)'!$F$169","v":0},"#'T2-B(PP5)'!$F$169"]
["pp5_bl4_11_7_total_out",{"$f":"'T2-B(PP5)'!$I$169","v":0},"#'T2-B(PP5)'!$I$169"]
["pp5_bl4_11_7_unit",{"$f":"'T2-B(PP5)'!$C$169","v":0},"#'T2-B(PP5)'!$C$169"]
["pp5_bl4_11_7_unit_in",{"$f":"'T2-B(PP5)'!$D$169","v":0},"#'T2-B(PP5)'!$D$169"]
["pp5_bl4_11_7_units_out",{"$f":"'T2-B(PP5)'!$G$169","v":0},"#'T2-B(PP5)'!$G$169"]
["pp5_bl4_11_8_name",{"$f":"'T2-B(PP5)'!$B$170","v":0},"#'T2-B(PP5)'!$B$170"]
["pp5_bl4_11_8_rate_in",{"$f":"'T2-B(PP5)'!$E$170","v":0},"#'T2-B(PP5)'!$E$170"]
["pp5_bl4_11_8_rate_out",{"$f":"'T2-B(PP5)'!$H$170","v":0},"#'T2-B(PP5)'!$H$170"]
["pp5_bl4_11_8_total",{"$f":"'T2-B(PP5)'!$J$170","v":0},"#'T2-B(PP5)'!$J$170"]
["pp5_bl4_11_8_total_in",{"$f":"'T2-B(PP5)'!$F$170","v":0},"#'T2-B(PP5)'!$F$170"]
["pp5_bl4_11_8_total_out",{"$f":"'T2-B(PP5)'!$I$170","v":0},"#'T2-B(PP5)'!$I$170"]
["pp5_bl4_11_8_unit",{"$f":"'T2-B(PP5)'!$C$170","v":0},"#'T2-B(PP5)'!$C$170"]
["pp5_bl4_11_8_unit_in",{"$f":"'T2-B(PP5)'!$D$170","v":0},"#'T2-B(PP5)'!$D$170"]
["pp5_bl4_11_8_units_out",{"$f":"'T2-B(PP5)'!$G$170","v":0},"#'T2-B(PP5)'!$G$170"]
["pp5_bl4_11_9_name",{"$f":"'T2-B(PP5)'!$B$171","v":0},"#'T2-B(PP5)'!$B$171"]
["pp5_bl4_11_9_rate_in",{"$f":"'T2-B(PP5)'!$E$171","v":0},"#'T2-B(PP5)'!$E$171"]
["pp5_bl4_11_9_rate_out",{"$f":"'T2-B(PP5)'!$H$171","v":0},"#'T2-B(PP5)'!$H$171"]
["pp5_bl4_11_9_total",{"$f":"'T2-B(PP5)'!$J$171","v":0},"#'T2-B(PP5)'!$J$171"]
["pp5_bl4_11_9_total_in",{"$f":"'T2-B(PP5)'!$F$171","v":0},"#'T2-B(PP5)'!$F$171"]
["pp5_bl4_11_9_total_out",{"$f":"'T2-B(PP5)'!$I$171","v":0},"#'T2-B(PP5)'!$I$171"]
["pp5_bl4_11_9_unit",{"$f":"'T2-B(PP5)'!$C$171","v":0},"#'T2-B(PP5)'!$C$171"]
["pp5_bl4_11_9_unit_in",{"$f":"'T2-B(PP5)'!$D$171","v":0},"#'T2-B(PP5)'!$D$171"]
["pp5_bl4_11_9_units_out",{"$f":"'T2-B(PP5)'!$G$171","v":0},"#'T2-B(PP5)'!$G$171"]
["pp5_bl4_11_total",{"$f":"'T2-B(PP5)'!$J$162","v":0},"#'T2-B(PP5)'!$J$162"]
["pp5_bl4_11_total_in",{"$f":"'T2-B(PP5)'!$F$162","v":0},"#'T2-B(PP5)'!$F$162"]
["pp5_bl4_11_total_out",{"$f":"'T2-B(PP5)'!$I$162","v":0},"#'T2-B(PP5)'!$I$162"]
["pp5_bl4_12_1_name",{"$f":"'T2-B(PP5)'!$B$174","v":0},"#'T2-B(PP5)'!$B$174"]
["pp5_bl4_12_1_rate_in",{"$f":"'T2-B(PP5)'!$E$174","v":0},"#'T2-B(PP5)'!$E$174"]
["pp5_bl4_12_1_rate_out",{"$f":"'T2-B(PP5)'!$H$174","v":0},"#'T2-B(PP5)'!$H$174"]
["pp5_bl4_12_1_total",{"$f":"'T2-B(PP5)'!$J$174","v":0},"#'T2-B(PP5)'!$J$174"]
["pp5_bl4_12_1_total_in",{"$f":"'T2-B(PP5)'!$F$174","v":0},"#'T2-B(PP5)'!$F$174"]
["pp5_bl4_12_1_total_out",{"$f":"'T2-B(PP5)'!$I$174","v":0},"#'T2-B(PP5)'!$I$174"]
["pp5_bl4_12_1_unit",{"$f":"'T2-B(PP5)'!$C$174","v":0},"#'T2-B(PP5)'!$C$174"]
["pp5_bl4_12_1_unit_in",{"$f":"'T2-B(PP5)'!$D$174","v":0},"#'T2-B(PP5)'!$D$174"]
["pp5_bl4_12_1_units_out",{"$f":"'T2-B(PP5)'!$G$174","v":0},"#'T2-B(PP5)'!$G$174"]
["pp5_bl4_12_10_name",{"$f":"'T2-B(PP5)'!$B$183","v":0},"#'T2-B(PP5)'!$B$183"]
["pp5_bl4_12_10_rate_in",{"$f":"'T2-B(PP5)'!$E$183","v":0},"#'T2-B(PP5)'!$E$183"]
["pp5_bl4_12_10_rate_out",{"$f":"'T2-B(PP5)'!$H$183","v":0},"#'T2-B(PP5)'!$H$183"]
["pp5_bl4_12_10_total",{"$f":"'T2-B(PP5)'!$J$183","v":0},"#'T2-B(PP5)'!$J$183"]
["pp5_bl4_12_10_total_in",{"$f":"'T2-B(PP5)'!$F$183","v":0},"#'T2-B(PP5)'!$F$183"]
["pp5_bl4_12_10_total_out",{"$f":"'T2-B(PP5)'!$I$183","v":0},"#'T2-B(PP5)'!$I$183"]
["pp5_bl4_12_10_unit",{"$f":"'T2-B(PP5)'!$C$183","v":0},"#'T2-B(PP5)'!$C$183"]
["pp5_bl4_12_10_unit_in",{"$f":"'T2-B(PP5)'!$D$183","v":0},"#'T2-B(PP5)'!$D$183"]
["pp5_bl4_12_10_units_out",{"$f":"'T2-B(PP5)'!$G$183","v":0},"#'T2-B(PP5)'!$G$183"]
["pp5_bl4_12_2_name",{"$f":"'T2-B(PP5)'!$B$175","v":0},"#'T2-B(PP5)'!$B$175"]
["pp5_bl4_12_2_rate_in",{"$f":"'T2-B(PP5)'!$E$175","v":0},"#'T2-B(PP5)'!$E$175"]
["pp5_bl4_12_2_rate_out",{"$f":"'T2-B(PP5)'!$H$175","v":0},"#'T2-B(PP5)'!$H$175"]
["pp5_bl4_12_2_total",{"$f":"'T2-B(PP5)'!$J$175","v":0},"#'T2-B(PP5)'!$J$175"]
["pp5_bl4_12_2_total_in",{"$f":"'T2-B(PP5)'!$F$175","v":0},"#'T2-B(PP5)'!$F$175"]
["pp5_bl4_12_2_total_out",{"$f":"'T2-B(PP5)'!$I$175","v":0},"#'T2-B(PP5)'!$I$175"]
["pp5_bl4_12_2_unit",{"$f":"'T2-B(PP5)'!$C$175","v":0},"#'T2-B(PP5)'!$C$175"]
["pp5_bl4_12_2_unit_in",{"$f":"'T2-B(PP5)'!$D$175","v":0},"#'T2-B(PP5)'!$D$175"]
["pp5_bl4_12_2_units_out",{"$f":"'T2-B(PP5)'!$G$175","v":0},"#'T2-B(PP5)'!$G$175"]
["pp5_bl4_12_3_name",{"$f":"'T2-B(PP5)'!$B$176","v":0},"#'T2-B(PP5)'!$B$176"]
["pp5_bl4_12_3_rate_in",{"$f":"'T2-B(PP5)'!$E$176","v":0},"#'T2-B(PP5)'!$E$176"]
["pp5_bl4_12_3_rate_out",{"$f":"'T2-B(PP5)'!$H$176","v":0},"#'T2-B(PP5)'!$H$176"]
["pp5_bl4_12_3_total",{"$f":"'T2-B(PP5)'!$J$176","v":0},"#'T2-B(PP5)'!$J$176"]
["pp5_bl4_12_3_total_in",{"$f":"'T2-B(PP5)'!$F$176","v":0},"#'T2-B(PP5)'!$F$176"]
["pp5_bl4_12_3_total_out",{"$f":"'T2-B(PP5)'!$I$176","v":0},"#'T2-B(PP5)'!$I$176"]
["pp5_bl4_12_3_unit",{"$f":"'T2-B(PP5)'!$C$176","v":0},"#'T2-B(PP5)'!$C$176"]
["pp5_bl4_12_3_unit_in",{"$f":"'T2-B(PP5)'!$D$176","v":0},"#'T2-B(PP5)'!$D$176"]
["pp5_bl4_12_3_units_out",{"$f":"'T2-B(PP5)'!$G$176","v":0},"#'T2-B(PP5)'!$G$176"]
["pp5_bl4_12_4_name",{"$f":"'T2-B(PP5)'!$B$177","v":0},"#'T2-B(PP5)'!$B$177"]
["pp5_bl4_12_4_rate_in",{"$f":"'T2-B(PP5)'!$E$177","v":0},"#'T2-B(PP5)'!$E$177"]
["pp5_bl4_12_4_rate_out",{"$f":"'T2-B(PP5)'!$H$177","v":0},"#'T2-B(PP5)'!$H$177"]
["pp5_bl4_12_4_total",{"$f":"'T2-B(PP5)'!$J$177","v":0},"#'T2-B(PP5)'!$J$177"]
["pp5_bl4_12_4_total_in",{"$f":"'T2-B(PP5)'!$F$177","v":0},"#'T2-B(PP5)'!$F$177"]
["pp5_bl4_12_4_total_out",{"$f":"'T2-B(PP5)'!$I$177","v":0},"#'T2-B(PP5)'!$I$177"]
["pp5_bl4_12_4_unit",{"$f":"'T2-B(PP5)'!$C$177","v":0},"#'T2-B(PP5)'!$C$177"]
["pp5_bl4_12_4_unit_in",{"$f":"'T2-B(PP5)'!$D$177","v":0},"#'T2-B(PP5)'!$D$177"]
["pp5_bl4_12_4_units_out",{"$f":"'T2-B(PP5)'!$G$177","v":0},"#'T2-B(PP5)'!$G$177"]
["pp5_bl4_12_5_name",{"$f":"'T2-B(PP5)'!$B$178","v":0},"#'T2-B(PP5)'!$B$178"]
["pp5_bl4_12_5_rate_in",{"$f":"'T2-B(PP5)'!$E$178","v":0},"#'T2-B(PP5)'!$E$178"]
["pp5_bl4_12_5_rate_out",{"$f":"'T2-B(PP5)'!$H$178","v":0},"#'T2-B(PP5)'!$H$178"]
["pp5_bl4_12_5_total",{"$f":"'T2-B(PP5)'!$J$178","v":0},"#'T2-B(PP5)'!$J$178"]
["pp5_bl4_12_5_total_in",{"$f":"'T2-B(PP5)'!$F$178","v":0},"#'T2-B(PP5)'!$F$178"]
["pp5_bl4_12_5_total_out",{"$f":"'T2-B(PP5)'!$I$178","v":0},"#'T2-B(PP5)'!$I$178"]
["pp5_bl4_12_5_unit",{"$f":"'T2-B(PP5)'!$C$178","v":0},"#'T2-B(PP5)'!$C$178"]
["pp5_bl4_12_5_unit_in",{"$f":"'T2-B(PP5)'!$D$178","v":0},"#'T2-B(PP5)'!$D$178"]
["pp5_bl4_12_5_units_out",{"$f":"'T2-B(PP5)'!$G$178","v":0},"#'T2-B(PP5)'!$G$178"]
["pp5_bl4_12_6_name",{"$f":"'T2-B(PP5)'!$B$179","v":0},"#'T2-B(PP5)'!$B$179"]
["pp5_bl4_12_6_rate_in",{"$f":"'T2-B(PP5)'!$E$179","v":0},"#'T2-B(PP5)'!$E$179"]
["pp5_bl4_12_6_rate_out",{"$f":"'T2-B(PP5)'!$H$179","v":0},"#'T2-B(PP5)'!$H$179"]
["pp5_bl4_12_6_total",{"$f":"'T2-B(PP5)'!$J$179","v":0},"#'T2-B(PP5)'!$J$179"]
["pp5_bl4_12_6_total_in",{"$f":"'T2-B(PP5)'!$F$179","v":0},"#'T2-B(PP5)'!$F$179"]
["pp5_bl4_12_6_total_out",{"$f":"'T2-B(PP5)'!$I$179","v":0},"#'T2-B(PP5)'!$I$179"]
["pp5_bl4_12_6_unit",{"$f":"'T2-B(PP5)'!$C$179","v":0},"#'T2-B(PP5)'!$C$179"]
["pp5_bl4_12_6_unit_in",{"$f":"'T2-B(PP5)'!$D$179","v":0},"#'T2-B(PP5)'!$D$179"]
["pp5_bl4_12_6_units_out",{"$f":"'T2-B(PP5)'!$G$179","v":0},"#'T2-B(PP5)'!$G$179"]
["pp5_bl4_12_7_name",{"$f":"'T2-B(PP5)'!$B$180","v":0},"#'T2-B(PP5)'!$B$180"]
["pp5_bl4_12_7_rate_in",{"$f":"'T2-B(PP5)'!$E$180","v":0},"#'T2-B(PP5)'!$E$180"]
["pp5_bl4_12_7_rate_out",{"$f":"'T2-B(PP5)'!$H$180","v":0},"#'T2-B(PP5)'!$H$180"]
["pp5_bl4_12_7_total",{"$f":"'T2-B(PP5)'!$J$180","v":0},"#'T2-B(PP5)'!$J$180"]
["pp5_bl4_12_7_total_in",{"$f":"'T2-B(PP5)'!$F$180","v":0},"#'T2-B(PP5)'!$F$180"]
["pp5_bl4_12_7_total_out",{"$f":"'T2-B(PP5)'!$I$180","v":0},"#'T2-B(PP5)'!$I$180"]
["pp5_bl4_12_7_unit",{"$f":"'T2-B(PP5)'!$C$180","v":0},"#'T2-B(PP5)'!$C$180"]
["pp5_bl4_12_7_unit_in",{"$f":"'T2-B(PP5)'!$D$180","v":0},"#'T2-B(PP5)'!$D$180"]
["pp5_bl4_12_7_units_out",{"$f":"'T2-B(PP5)'!$G$180","v":0},"#'T2-B(PP5)'!$G$180"]
["pp5_bl4_12_8_name",{"$f":"'T2-B(PP5)'!$B$181","v":0},"#'T2-B(PP5)'!$B$181"]
["pp5_bl4_12_8_rate_in",{"$f":"'T2-B(PP5)'!$E$181","v":0},"#'T2-B(PP5)'!$E$181"]
["pp5_bl4_12_8_rate_out",{"$f":"'T2-B(PP5)'!$H$181","v":0},"#'T2-B(PP5)'!$H$181"]
["pp5_bl4_12_8_total",{"$f":"'T2-B(PP5)'!$J$181","v":0},"#'T2-B(PP5)'!$J$181"]
["pp5_bl4_12_8_total_in",{"$f":"'T2-B(PP5)'!$F$181","v":0},"#'T2-B(PP5)'!$F$181"]
["pp5_bl4_12_8_total_out",{"$f":"'T2-B(PP5)'!$I$181","v":0},"#'T2-B(PP5)'!$I$181"]
["pp5_bl4_12_8_unit",{"$f":"'T2-B(PP5)'!$C$181","v":0},"#'T2-B(PP5)'!$C$181"]
["pp5_bl4_12_8_unit_in",{"$f":"'T2-B(PP5)'!$D$181","v":0},"#'T2-B(PP5)'!$D$181"]
["pp5_bl4_12_8_units_out",{"$f":"'T2-B(PP5)'!$G$181","v":0},"#'T2-B(PP5)'!$G$181"]
["pp5_bl4_12_9_name",{"$f":"'T2-B(PP5)'!$B$182","v":0},"#'T2-B(PP5)'!$B$182"]
["pp5_bl4_12_9_rate_in",{"$f":"'T2-B(PP5)'!$E$182","v":0},"#'T2-B(PP5)'!$E$182"]
["pp5_bl4_12_9_rate_out",{"$f":"'T2-B(PP5)'!$H$182","v":0},"#'T2-B(PP5)'!$H$182"]
["pp5_bl4_12_9_total",{"$f":"'T2-B(PP5)'!$J$182","v":0},"#'T2-B(PP5)'!$J$182"]
["pp5_bl4_12_9_total_in",{"$f":"'T2-B(PP5)'!$F$182","v":0},"#'T2-B(PP5)'!$F$182"]
["pp5_bl4_12_9_total_out",{"$f":"'T2-B(PP5)'!$I$182","v":0},"#'T2-B(PP5)'!$I$182"]
["pp5_bl4_12_9_unit",{"$f":"'T2-B(PP5)'!$C$182","v":0},"#'T2-B(PP5)'!$C$182"]
["pp5_bl4_12_9_unit_in",{"$f":"'T2-B(PP5)'!$D$182","v":0},"#'T2-B(PP5)'!$D$182"]
["pp5_bl4_12_9_units_out",{"$f":"'T2-B(PP5)'!$G$182","v":0},"#'T2-B(PP5)'!$G$182"]
["pp5_bl4_12_total",{"$f":"'T2-B(PP5)'!$J$173","v":0},"#'T2-B(PP5)'!$J$173"]
["pp5_bl4_12_total_in",{"$f":"'T2-B(PP5)'!$F$173","v":0},"#'T2-B(PP5)'!$F$173"]
["pp5_bl4_12_total_out",{"$f":"'T2-B(PP5)'!$I$173","v":0},"#'T2-B(PP5)'!$I$173"]
["pp5_bl4_13_1_name",{"$f":"'T2-B(PP5)'!$B$185","v":0},"#'T2-B(PP5)'!$B$185"]
["pp5_bl4_13_1_rate_in",{"$f":"'T2-B(PP5)'!$E$185","v":0},"#'T2-B(PP5)'!$E$185"]
["pp5_bl4_13_1_rate_out",{"$f":"'T2-B(PP5)'!$H$185","v":0},"#'T2-B(PP5)'!$H$185"]
["pp5_bl4_13_1_total",{"$f":"'T2-B(PP5)'!$J$185","v":0},"#'T2-B(PP5)'!$J$185"]
["pp5_bl4_13_1_total_in",{"$f":"'T2-B(PP5)'!$F$185","v":0},"#'T2-B(PP5)'!$F$185"]
["pp5_bl4_13_1_total_out",{"$f":"'T2-B(PP5)'!$I$185","v":0},"#'T2-B(PP5)'!$I$185"]
["pp5_bl4_13_1_unit",{"$f":"'T2-B(PP5)'!$C$185","v":0},"#'T2-B(PP5)'!$C$185"]
["pp5_bl4_13_1_unit_in",{"$f":"'T2-B(PP5)'!$D$185","v":0},"#'T2-B(PP5)'!$D$185"]
["pp5_bl4_13_1_units_out",{"$f":"'T2-B(PP5)'!$G$185","v":0},"#'T2-B(PP5)'!$G$185"]
["pp5_bl4_13_10_name",{"$f":"'T2-B(PP5)'!$B$194","v":0},"#'T2-B(PP5)'!$B$194"]
["pp5_bl4_13_10_rate_in",{"$f":"'T2-B(PP5)'!$E$194","v":0},"#'T2-B(PP5)'!$E$194"]
["pp5_bl4_13_10_rate_out",{"$f":"'T2-B(PP5)'!$H$194","v":0},"#'T2-B(PP5)'!$H$194"]
["pp5_bl4_13_10_total",{"$f":"'T2-B(PP5)'!$J$194","v":0},"#'T2-B(PP5)'!$J$194"]
["pp5_bl4_13_10_total_in",{"$f":"'T2-B(PP5)'!$F$194","v":0},"#'T2-B(PP5)'!$F$194"]
["pp5_bl4_13_10_total_out",{"$f":"'T2-B(PP5)'!$I$194","v":0},"#'T2-B(PP5)'!$I$194"]
["pp5_bl4_13_10_unit",{"$f":"'T2-B(PP5)'!$C$194","v":0},"#'T2-B(PP5)'!$C$194"]
["pp5_bl4_13_10_unit_in",{"$f":"'T2-B(PP5)'!$D$194","v":0},"#'T2-B(PP5)'!$D$194"]
["pp5_bl4_13_10_units_out",{"$f":"'T2-B(PP5)'!$G$194","v":0},"#'T2-B(PP5)'!$G$194"]
["pp5_bl4_13_2_name",{"$f":"'T2-B(PP5)'!$B$186","v":0},"#'T2-B(PP5)'!$B$186"]
["pp5_bl4_13_2_rate_in",{"$f":"'T2-B(PP5)'!$E$186","v":0},"#'T2-B(PP5)'!$E$186"]
["pp5_bl4_13_2_rate_out",{"$f":"'T2-B(PP5)'!$H$186","v":0},"#'T2-B(PP5)'!$H$186"]
["pp5_bl4_13_2_total",{"$f":"'T2-B(PP5)'!$J$186","v":0},"#'T2-B(PP5)'!$J$186"]
["pp5_bl4_13_2_total_in",{"$f":"'T2-B(PP5)'!$F$186","v":0},"#'T2-B(PP5)'!$F$186"]
["pp5_bl4_13_2_total_out",{"$f":"'T2-B(PP5)'!$I$186","v":0},"#'T2-B(PP5)'!$I$186"]
["pp5_bl4_13_2_unit",{"$f":"'T2-B(PP5)'!$C$186","v":0},"#'T2-B(PP5)'!$C$186"]
["pp5_bl4_13_2_unit_in",{"$f":"'T2-B(PP5)'!$D$186","v":0},"#'T2-B(PP5)'!$D$186"]
["pp5_bl4_13_2_units_out",{"$f":"'T2-B(PP5)'!$G$186","v":0},"#'T2-B(PP5)'!$G$186"]
["pp5_bl4_13_3_name",{"$f":"'T2-B(PP5)'!$B$187","v":0},"#'T2-B(PP5)'!$B$187"]
["pp5_bl4_13_3_rate_in",{"$f":"'T2-B(PP5)'!$E$187","v":0},"#'T2-B(PP5)'!$E$187"]
["pp5_bl4_13_3_rate_out",{"$f":"'T2-B(PP5)'!$H$187","v":0},"#'T2-B(PP5)'!$H$187"]
["pp5_bl4_13_3_total",{"$f":"'T2-B(PP5)'!$J$187","v":0},"#'T2-B(PP5)'!$J$187"]
["pp5_bl4_13_3_total_in",{"$f":"'T2-B(PP5)'!$F$187","v":0},"#'T2-B(PP5)'!$F$187"]
["pp5_bl4_13_3_total_out",{"$f":"'T2-B(PP5)'!$I$187","v":0},"#'T2-B(PP5)'!$I$187"]
["pp5_bl4_13_3_unit",{"$f":"'T2-B(PP5)'!$C$187","v":0},"#'T2-B(PP5)'!$C$187"]
["pp5_bl4_13_3_unit_in",{"$f":"'T2-B(PP5)'!$D$187","v":0},"#'T2-B(PP5)'!$D$187"]
["pp5_bl4_13_3_units_out",{"$f":"'T2-B(PP5)'!$G$187","v":0},"#'T2-B(PP5)'!$G$187"]
["pp5_bl4_13_4_name",{"$f":"'T2-B(PP5)'!$B$188","v":0},"#'T2-B(PP5)'!$B$188"]
["pp5_bl4_13_4_rate_in",{"$f":"'T2-B(PP5)'!$E$188","v":0},"#'T2-B(PP5)'!$E$188"]
["pp5_bl4_13_4_rate_out",{"$f":"'T2-B(PP5)'!$H$188","v":0},"#'T2-B(PP5)'!$H$188"]
["pp5_bl4_13_4_total",{"$f":"'T2-B(PP5)'!$J$188","v":0},"#'T2-B(PP5)'!$J$188"]
["pp5_bl4_13_4_total_in",{"$f":"'T2-B(PP5)'!$F$188","v":0},"#'T2-B(PP5)'!$F$188"]
["pp5_bl4_13_4_total_out",{"$f":"'T2-B(PP5)'!$I$188","v":0},"#'T2-B(PP5)'!$I$188"]
["pp5_bl4_13_4_unit",{"$f":"'T2-B(PP5)'!$C$188","v":0},"#'T2-B(PP5)'!$C$188"]
["pp5_bl4_13_4_unit_in",{"$f":"'T2-B(PP5)'!$D$188","v":0},"#'T2-B(PP5)'!$D$188"]
["pp5_bl4_13_4_units_out",{"$f":"'T2-B(PP5)'!$G$188","v":0},"#'T2-B(PP5)'!$G$188"]
["pp5_bl4_13_5_name",{"$f":"'T2-B(PP5)'!$B$189","v":0},"#'T2-B(PP5)'!$B$189"]
["pp5_bl4_13_5_rate_in",{"$f":"'T2-B(PP5)'!$E$189","v":0},"#'T2-B(PP5)'!$E$189"]
["pp5_bl4_13_5_rate_out",{"$f":"'T2-B(PP5)'!$H$189","v":0},"#'T2-B(PP5)'!$H$189"]
["pp5_bl4_13_5_total",{"$f":"'T2-B(PP5)'!$J$189","v":0},"#'T2-B(PP5)'!$J$189"]
["pp5_bl4_13_5_total_in",{"$f":"'T2-B(PP5)'!$F$189","v":0},"#'T2-B(PP5)'!$F$189"]
["pp5_bl4_13_5_total_out",{"$f":"'T2-B(PP5)'!$I$189","v":0},"#'T2-B(PP5)'!$I$189"]
["pp5_bl4_13_5_unit",{"$f":"'T2-B(PP5)'!$C$189","v":0},"#'T2-B(PP5)'!$C$189"]
["pp5_bl4_13_5_unit_in",{"$f":"'T2-B(PP5)'!$D$189","v":0},"#'T2-B(PP5)'!$D$189"]
["pp5_bl4_13_5_units_out",{"$f":"'T2-B(PP5)'!$G$189","v":0},"#'T2-B(PP5)'!$G$189"]
["pp5_bl4_13_6_name",{"$f":"'T2-B(PP5)'!$B$190","v":0},"#'T2-B(PP5)'!$B$190"]
["pp5_bl4_13_6_rate_in",{"$f":"'T2-B(PP5)'!$E$190","v":0},"#'T2-B(PP5)'!$E$190"]
["pp5_bl4_13_6_rate_out",{"$f":"'T2-B(PP5)'!$H$190","v":0},"#'T2-B(PP5)'!$H$190"]
["pp5_bl4_13_6_total",{"$f":"'T2-B(PP5)'!$J$190","v":0},"#'T2-B(PP5)'!$J$190"]
["pp5_bl4_13_6_total_in",{"$f":"'T2-B(PP5)'!$F$190","v":0},"#'T2-B(PP5)'!$F$190"]
["pp5_bl4_13_6_total_out",{"$f":"'T2-B(PP5)'!$I$190","v":0},"#'T2-B(PP5)'!$I$190"]
["pp5_bl4_13_6_unit",{"$f":"'T2-B(PP5)'!$C$190","v":0},"#'T2-B(PP5)'!$C$190"]
["pp5_bl4_13_6_unit_in",{"$f":"'T2-B(PP5)'!$D$190","v":0},"#'T2-B(PP5)'!$D$190"]
["pp5_bl4_13_6_units_out",{"$f":"'T2-B(PP5)'!$G$190","v":0},"#'T2-B(PP5)'!$G$190"]
["pp5_bl4_13_7_name",{"$f":"'T2-B(PP5)'!$B$191","v":0},"#'T2-B(PP5)'!$B$191"]
["pp5_bl4_13_7_rate_in",{"$f":"'T2-B(PP5)'!$E$191","v":0},"#'T2-B(PP5)'!$E$191"]
["pp5_bl4_13_7_rate_out",{"$f":"'T2-B(PP5)'!$H$191","v":0},"#'T2-B(PP5)'!$H$191"]
["pp5_bl4_13_7_total",{"$f":"'T2-B(PP5)'!$J$191","v":0},"#'T2-B(PP5)'!$J$191"]
["pp5_bl4_13_7_total_in",{"$f":"'T2-B(PP5)'!$F$191","v":0},"#'T2-B(PP5)'!$F$191"]
["pp5_bl4_13_7_total_out",{"$f":"'T2-B(PP5)'!$I$191","v":0},"#'T2-B(PP5)'!$I$191"]
["pp5_bl4_13_7_unit",{"$f":"'T2-B(PP5)'!$C$191","v":0},"#'T2-B(PP5)'!$C$191"]
["pp5_bl4_13_7_unit_in",{"$f":"'T2-B(PP5)'!$D$191","v":0},"#'T2-B(PP5)'!$D$191"]
["pp5_bl4_13_7_units_out",{"$f":"'T2-B(PP5)'!$G$191","v":0},"#'T2-B(PP5)'!$G$191"]
["pp5_bl4_13_8_name",{"$f":"'T2-B(PP5)'!$B$192","v":0},"#'T2-B(PP5)'!$B$192"]
["pp5_bl4_13_8_rate_in",{"$f":"'T2-B(PP5)'!$E$192","v":0},"#'T2-B(PP5)'!$E$192"]
["pp5_bl4_13_8_rate_out",{"$f":"'T2-B(PP5)'!$H$192","v":0},"#'T2-B(PP5)'!$H$192"]
["pp5_bl4_13_8_total",{"$f":"'T2-B(PP5)'!$J$192","v":0},"#'T2-B(PP5)'!$J$192"]
["pp5_bl4_13_8_total_in",{"$f":"'T2-B(PP5)'!$F$192","v":0},"#'T2-B(PP5)'!$F$192"]
["pp5_bl4_13_8_total_out",{"$f":"'T2-B(PP5)'!$I$192","v":0},"#'T2-B(PP5)'!$I$192"]
["pp5_bl4_13_8_unit",{"$f":"'T2-B(PP5)'!$C$192","v":0},"#'T2-B(PP5)'!$C$192"]
["pp5_bl4_13_8_unit_in",{"$f":"'T2-B(PP5)'!$D$192","v":0},"#'T2-B(PP5)'!$D$192"]
["pp5_bl4_13_8_units_out",{"$f":"'T2-B(PP5)'!$G$192","v":0},"#'T2-B(PP5)'!$G$192"]
["pp5_bl4_13_9_name",{"$f":"'T2-B(PP5)'!$B$193","v":0},"#'T2-B(PP5)'!$B$193"]
["pp5_bl4_13_9_rate_in",{"$f":"'T2-B(PP5)'!$E$193","v":0},"#'T2-B(PP5)'!$E$193"]
["pp5_bl4_13_9_rate_out",{"$f":"'T2-B(PP5)'!$H$193","v":0},"#'T2-B(PP5)'!$H$193"]
["pp5_bl4_13_9_total",{"$f":"'T2-B(PP5)'!$J$193","v":0},"#'T2-B(PP5)'!$J$193"]
["pp5_bl4_13_9_total_in",{"$f":"'T2-B(PP5)'!$F$193","v":0},"#'T2-B(PP5)'!$F$193"]
["pp5_bl4_13_9_total_out",{"$f":"'T2-B(PP5)'!$I$193","v":0},"#'T2-B(PP5)'!$I$193"]
["pp5_bl4_13_9_unit",{"$f":"'T2-B(PP5)'!$C$193","v":0},"#'T2-B(PP5)'!$C$193"]
["pp5_bl4_13_9_unit_in",{"$f":"'T2-B(PP5)'!$D$193","v":0},"#'T2-B(PP5)'!$D$193"]
["pp5_bl4_13_9_units_out",{"$f":"'T2-B(PP5)'!$G$193","v":0},"#'T2-B(PP5)'!$G$193"]
["pp5_bl4_13_total",{"$f":"'T2-B(PP5)'!$J$184","v":0},"#'T2-B(PP5)'!$J$184"]
["pp5_bl4_13_total_in",{"$f":"'T2-B(PP5)'!$F$184","v":0},"#'T2-B(PP5)'!$F$184"]
["pp5_bl4_13_total_out",{"$f":"'T2-B(PP5)'!$I$184","v":0},"#'T2-B(PP5)'!$I$184"]
["pp5_bl4_14_1_name",{"$f":"'T2-B(PP5)'!$B$196","v":0},"#'T2-B(PP5)'!$B$196"]
["pp5_bl4_14_1_rate_in",{"$f":"'T2-B(PP5)'!$E$196","v":0},"#'T2-B(PP5)'!$E$196"]
["pp5_bl4_14_1_rate_out",{"$f":"'T2-B(PP5)'!$H$196","v":0},"#'T2-B(PP5)'!$H$196"]
["pp5_bl4_14_1_total",{"$f":"'T2-B(PP5)'!$J$196","v":0},"#'T2-B(PP5)'!$J$196"]
["pp5_bl4_14_1_total_in",{"$f":"'T2-B(PP5)'!$F$196","v":0},"#'T2-B(PP5)'!$F$196"]
["pp5_bl4_14_1_total_out",{"$f":"'T2-B(PP5)'!$I$196","v":0},"#'T2-B(PP5)'!$I$196"]
["pp5_bl4_14_1_unit",{"$f":"'T2-B(PP5)'!$C$196","v":0},"#'T2-B(PP5)'!$C$196"]
["pp5_bl4_14_1_unit_in",{"$f":"'T2-B(PP5)'!$D$196","v":0},"#'T2-B(PP5)'!$D$196"]
["pp5_bl4_14_1_units_out",{"$f":"'T2-B(PP5)'!$G$196","v":0},"#'T2-B(PP5)'!$G$196"]
["pp5_bl4_14_10_name",{"$f":"'T2-B(PP5)'!$B$205","v":0},"#'T2-B(PP5)'!$B$205"]
["pp5_bl4_14_10_rate_in",{"$f":"'T2-B(PP5)'!$E$205","v":0},"#'T2-B(PP5)'!$E$205"]
["pp5_bl4_14_10_rate_out",{"$f":"'T2-B(PP5)'!$H$205","v":0},"#'T2-B(PP5)'!$H$205"]
["pp5_bl4_14_10_total",{"$f":"'T2-B(PP5)'!$J$205","v":0},"#'T2-B(PP5)'!$J$205"]
["pp5_bl4_14_10_total_in",{"$f":"'T2-B(PP5)'!$F$205","v":0},"#'T2-B(PP5)'!$F$205"]
["pp5_bl4_14_10_total_out",{"$f":"'T2-B(PP5)'!$I$205","v":0},"#'T2-B(PP5)'!$I$205"]
["pp5_bl4_14_10_unit",{"$f":"'T2-B(PP5)'!$C$205","v":0},"#'T2-B(PP5)'!$C$205"]
["pp5_bl4_14_10_unit_in",{"$f":"'T2-B(PP5)'!$D$205","v":0},"#'T2-B(PP5)'!$D$205"]
["pp5_bl4_14_10_units_out",{"$f":"'T2-B(PP5)'!$G$205","v":0},"#'T2-B(PP5)'!$G$205"]
["pp5_bl4_14_2_name",{"$f":"'T2-B(PP5)'!$B$197","v":0},"#'T2-B(PP5)'!$B$197"]
["pp5_bl4_14_2_rate_in",{"$f":"'T2-B(PP5)'!$E$197","v":0},"#'T2-B(PP5)'!$E$197"]
["pp5_bl4_14_2_rate_out",{"$f":"'T2-B(PP5)'!$H$197","v":0},"#'T2-B(PP5)'!$H$197"]
["pp5_bl4_14_2_total",{"$f":"'T2-B(PP5)'!$J$197","v":0},"#'T2-B(PP5)'!$J$197"]
["pp5_bl4_14_2_total_in",{"$f":"'T2-B(PP5)'!$F$197","v":0},"#'T2-B(PP5)'!$F$197"]
["pp5_bl4_14_2_total_out",{"$f":"'T2-B(PP5)'!$I$197","v":0},"#'T2-B(PP5)'!$I$197"]
["pp5_bl4_14_2_unit",{"$f":"'T2-B(PP5)'!$C$197","v":0},"#'T2-B(PP5)'!$C$197"]
["pp5_bl4_14_2_unit_in",{"$f":"'T2-B(PP5)'!$D$197","v":0},"#'T2-B(PP5)'!$D$197"]
["pp5_bl4_14_2_units_out",{"$f":"'T2-B(PP5)'!$G$197","v":0},"#'T2-B(PP5)'!$G$197"]
["pp5_bl4_14_3_name",{"$f":"'T2-B(PP5)'!$B$198","v":0},"#'T2-B(PP5)'!$B$198"]
["pp5_bl4_14_3_rate_in",{"$f":"'T2-B(PP5)'!$E$198","v":0},"#'T2-B(PP5)'!$E$198"]
["pp5_bl4_14_3_rate_out",{"$f":"'T2-B(PP5)'!$H$198","v":0},"#'T2-B(PP5)'!$H$198"]
["pp5_bl4_14_3_total",{"$f":"'T2-B(PP5)'!$J$198","v":0},"#'T2-B(PP5)'!$J$198"]
["pp5_bl4_14_3_total_in",{"$f":"'T2-B(PP5)'!$F$198","v":0},"#'T2-B(PP5)'!$F$198"]
["pp5_bl4_14_3_total_out",{"$f":"'T2-B(PP5)'!$I$198","v":0},"#'T2-B(PP5)'!$I$198"]
["pp5_bl4_14_3_unit",{"$f":"'T2-B(PP5)'!$C$198","v":0},"#'T2-B(PP5)'!$C$198"]
["pp5_bl4_14_3_unit_in",{"$f":"'T2-B(PP5)'!$D$198","v":0},"#'T2-B(PP5)'!$D$198"]
["pp5_bl4_14_3_units_out",{"$f":"'T2-B(PP5)'!$G$198","v":0},"#'T2-B(PP5)'!$G$198"]
["pp5_bl4_14_4_name",{"$f":"'T2-B(PP5)'!$B$199","v":0},"#'T2-B(PP5)'!$B$199"]
["pp5_bl4_14_4_rate_in",{"$f":"'T2-B(PP5)'!$E$199","v":0},"#'T2-B(PP5)'!$E$199"]
["pp5_bl4_14_4_rate_out",{"$f":"'T2-B(PP5)'!$H$199","v":0},"#'T2-B(PP5)'!$H$199"]
["pp5_bl4_14_4_total",{"$f":"'T2-B(PP5)'!$J$199","v":0},"#'T2-B(PP5)'!$J$199"]
["pp5_bl4_14_4_total_in",{"$f":"'T2-B(PP5)'!$F$199","v":0},"#'T2-B(PP5)'!$F$199"]
["pp5_bl4_14_4_total_out",{"$f":"'T2-B(PP5)'!$I$199","v":0},"#'T2-B(PP5)'!$I$199"]
["pp5_bl4_14_4_unit",{"$f":"'T2-B(PP5)'!$C$199","v":0},"#'T2-B(PP5)'!$C$199"]
["pp5_bl4_14_4_unit_in",{"$f":"'T2-B(PP5)'!$D$199","v":0},"#'T2-B(PP5)'!$D$199"]
["pp5_bl4_14_4_units_out",{"$f":"'T2-B(PP5)'!$G$199","v":0},"#'T2-B(PP5)'!$G$199"]
["pp5_bl4_14_5_name",{"$f":"'T2-B(PP5)'!$B$200","v":0},"#'T2-B(PP5)'!$B$200"]
["pp5_bl4_14_5_rate_in",{"$f":"'T2-B(PP5)'!$E$200","v":0},"#'T2-B(PP5)'!$E$200"]
["pp5_bl4_14_5_rate_out",{"$f":"'T2-B(PP5)'!$H$200","v":0},"#'T2-B(PP5)'!$H$200"]
["pp5_bl4_14_5_total",{"$f":"'T2-B(PP5)'!$J$200","v":0},"#'T2-B(PP5)'!$J$200"]
["pp5_bl4_14_5_total_in",{"$f":"'T2-B(PP5)'!$F$200","v":0},"#'T2-B(PP5)'!$F$200"]
["pp5_bl4_14_5_total_out",{"$f":"'T2-B(PP5)'!$I$200","v":0},"#'T2-B(PP5)'!$I$200"]
["pp5_bl4_14_5_unit",{"$f":"'T2-B(PP5)'!$C$200","v":0},"#'T2-B(PP5)'!$C$200"]
["pp5_bl4_14_5_unit_in",{"$f":"'T2-B(PP5)'!$D$200","v":0},"#'T2-B(PP5)'!$D$200"]
["pp5_bl4_14_5_units_out",{"$f":"'T2-B(PP5)'!$G$200","v":0},"#'T2-B(PP5)'!$G$200"]
["pp5_bl4_14_6_name",{"$f":"'T2-B(PP5)'!$B$201","v":0},"#'T2-B(PP5)'!$B$201"]
["pp5_bl4_14_6_rate_in",{"$f":"'T2-B(PP5)'!$E$201","v":0},"#'T2-B(PP5)'!$E$201"]
["pp5_bl4_14_6_rate_out",{"$f":"'T2-B(PP5)'!$H$201","v":0},"#'T2-B(PP5)'!$H$201"]
["pp5_bl4_14_6_total",{"$f":"'T2-B(PP5)'!$J$201","v":0},"#'T2-B(PP5)'!$J$201"]
["pp5_bl4_14_6_total_in",{"$f":"'T2-B(PP5)'!$F$201","v":0},"#'T2-B(PP5)'!$F$201"]
["pp5_bl4_14_6_total_out",{"$f":"'T2-B(PP5)'!$I$201","v":0},"#'T2-B(PP5)'!$I$201"]
["pp5_bl4_14_6_unit",{"$f":"'T2-B(PP5)'!$C$201","v":0},"#'T2-B(PP5)'!$C$201"]
["pp5_bl4_14_6_unit_in",{"$f":"'T2-B(PP5)'!$D$201","v":0},"#'T2-B(PP5)'!$D$201"]
["pp5_bl4_14_6_units_out",{"$f":"'T2-B(PP5)'!$G$201","v":0},"#'T2-B(PP5)'!$G$201"]
["pp5_bl4_14_7_name",{"$f":"'T2-B(PP5)'!$B$202","v":0},"#'T2-B(PP5)'!$B$202"]
["pp5_bl4_14_7_rate_in",{"$f":"'T2-B(PP5)'!$E$202","v":0},"#'T2-B(PP5)'!$E$202"]
["pp5_bl4_14_7_rate_out",{"$f":"'T2-B(PP5)'!$H$202","v":0},"#'T2-B(PP5)'!$H$202"]
["pp5_bl4_14_7_total",{"$f":"'T2-B(PP5)'!$J$202","v":0},"#'T2-B(PP5)'!$J$202"]
["pp5_bl4_14_7_total_in",{"$f":"'T2-B(PP5)'!$F$202","v":0},"#'T2-B(PP5)'!$F$202"]
["pp5_bl4_14_7_total_out",{"$f":"'T2-B(PP5)'!$I$202","v":0},"#'T2-B(PP5)'!$I$202"]
["pp5_bl4_14_7_unit",{"$f":"'T2-B(PP5)'!$C$202","v":0},"#'T2-B(PP5)'!$C$202"]
["pp5_bl4_14_7_unit_in",{"$f":"'T2-B(PP5)'!$D$202","v":0},"#'T2-B(PP5)'!$D$202"]
["pp5_bl4_14_7_units_out",{"$f":"'T2-B(PP5)'!$G$202","v":0},"#'T2-B(PP5)'!$G$202"]
["pp5_bl4_14_8_name",{"$f":"'T2-B(PP5)'!$B$203","v":0},"#'T2-B(PP5)'!$B$203"]
["pp5_bl4_14_8_rate_in",{"$f":"'T2-B(PP5)'!$E$203","v":0},"#'T2-B(PP5)'!$E$203"]
["pp5_bl4_14_8_rate_out",{"$f":"'T2-B(PP5)'!$H$203","v":0},"#'T2-B(PP5)'!$H$203"]
["pp5_bl4_14_8_total",{"$f":"'T2-B(PP5)'!$J$203","v":0},"#'T2-B(PP5)'!$J$203"]
["pp5_bl4_14_8_total_in",{"$f":"'T2-B(PP5)'!$F$203","v":0},"#'T2-B(PP5)'!$F$203"]
["pp5_bl4_14_8_total_out",{"$f":"'T2-B(PP5)'!$I$203","v":0},"#'T2-B(PP5)'!$I$203"]
["pp5_bl4_14_8_unit",{"$f":"'T2-B(PP5)'!$C$203","v":0},"#'T2-B(PP5)'!$C$203"]
["pp5_bl4_14_8_unit_in",{"$f":"'T2-B(PP5)'!$D$203","v":0},"#'T2-B(PP5)'!$D$203"]
["pp5_bl4_14_8_units_out",{"$f":"'T2-B(PP5)'!$G$203","v":0},"#'T2-B(PP5)'!$G$203"]
["pp5_bl4_14_9_name",{"$f":"'T2-B(PP5)'!$B$204","v":0},"#'T2-B(PP5)'!$B$204"]
["pp5_bl4_14_9_rate_in",{"$f":"'T2-B(PP5)'!$E$204","v":0},"#'T2-B(PP5)'!$E$204"]
["pp5_bl4_14_9_rate_out",{"$f":"'T2-B(PP5)'!$H$204","v":0},"#'T2-B(PP5)'!$H$204"]
["pp5_bl4_14_9_total",{"$f":"'T2-B(PP5)'!$J$204","v":0},"#'T2-B(PP5)'!$J$204"]
["pp5_bl4_14_9_total_in",{"$f":"'T2-B(PP5)'!$F$204","v":0},"#'T2-B(PP5)'!$F$204"]
["pp5_bl4_14_9_total_out",{"$f":"'T2-B(PP5)'!$I$204","v":0},"#'T2-B(PP5)'!$I$204"]
["pp5_bl4_14_9_unit",{"$f":"'T2-B(PP5)'!$C$204","v":0},"#'T2-B(PP5)'!$C$204"]
["pp5_bl4_14_9_unit_in",{"$f":"'T2-B(PP5)'!$D$204","v":0},"#'T2-B(PP5)'!$D$204"]
["pp5_bl4_14_9_units_out",{"$f":"'T2-B(PP5)'!$G$204","v":0},"#'T2-B(PP5)'!$G$204"]
["pp5_bl4_14_total",{"$f":"'T2-B(PP5)'!$J$195","v":0},"#'T2-B(PP5)'!$J$195"]
["pp5_bl4_14_total_in",{"$f":"'T2-B(PP5)'!$F$195","v":0},"#'T2-B(PP5)'!$F$195"]
["pp5_bl4_14_total_out",{"$f":"'T2-B(PP5)'!$I$195","v":0},"#'T2-B(PP5)'!$I$195"]
["pp5_bl4_2_1_name",{"$f":"'T2-B(PP5)'!$B$64","v":0},"#'T2-B(PP5)'!$B$64"]
["pp5_bl4_2_1_rate_in",{"$f":"'T2-B(PP5)'!$E$64","v":0},"#'T2-B(PP5)'!$E$64"]
["pp5_bl4_2_1_rate_out",{"$f":"'T2-B(PP5)'!$H$64","v":0},"#'T2-B(PP5)'!$H$64"]
["pp5_bl4_2_1_total",{"$f":"'T2-B(PP5)'!$J$64","v":0},"#'T2-B(PP5)'!$J$64"]
["pp5_bl4_2_1_total_in",{"$f":"'T2-B(PP5)'!$F$64","v":0},"#'T2-B(PP5)'!$F$64"]
["pp5_bl4_2_1_total_out",{"$f":"'T2-B(PP5)'!$I$64","v":0},"#'T2-B(PP5)'!$I$64"]
["pp5_bl4_2_1_unit",{"$f":"'T2-B(PP5)'!$C$64","v":0},"#'T2-B(PP5)'!$C$64"]
["pp5_bl4_2_1_unit_in",{"$f":"'T2-B(PP5)'!$D$64","v":0},"#'T2-B(PP5)'!$D$64"]
["pp5_bl4_2_1_units_out",{"$f":"'T2-B(PP5)'!$G$64","v":0},"#'T2-B(PP5)'!$G$64"]
["pp5_bl4_2_10_name",{"$f":"'T2-B(PP5)'!$B$73","v":0},"#'T2-B(PP5)'!$B$73"]
["pp5_bl4_2_10_rate_in",{"$f":"'T2-B(PP5)'!$E$73","v":0},"#'T2-B(PP5)'!$E$73"]
["pp5_bl4_2_10_rate_out",{"$f":"'T2-B(PP5)'!$H$73","v":0},"#'T2-B(PP5)'!$H$73"]
["pp5_bl4_2_10_total",{"$f":"'T2-B(PP5)'!$J$73","v":0},"#'T2-B(PP5)'!$J$73"]
["pp5_bl4_2_10_total_in",{"$f":"'T2-B(PP5)'!$F$73","v":0},"#'T2-B(PP5)'!$F$73"]
["pp5_bl4_2_10_total_out",{"$f":"'T2-B(PP5)'!$I$73","v":0},"#'T2-B(PP5)'!$I$73"]
["pp5_bl4_2_10_unit",{"$f":"'T2-B(PP5)'!$C$73","v":0},"#'T2-B(PP5)'!$C$73"]
["pp5_bl4_2_10_unit_in",{"$f":"'T2-B(PP5)'!$D$73","v":0},"#'T2-B(PP5)'!$D$73"]
["pp5_bl4_2_10_units_out",{"$f":"'T2-B(PP5)'!$G$73","v":0},"#'T2-B(PP5)'!$G$73"]
["pp5_bl4_2_2_name",{"$f":"'T2-B(PP5)'!$B$65","v":0},"#'T2-B(PP5)'!$B$65"]
["pp5_bl4_2_2_rate_in",{"$f":"'T2-B(PP5)'!$E$65","v":0},"#'T2-B(PP5)'!$E$65"]
["pp5_bl4_2_2_rate_out",{"$f":"'T2-B(PP5)'!$H$65","v":0},"#'T2-B(PP5)'!$H$65"]
["pp5_bl4_2_2_total",{"$f":"'T2-B(PP5)'!$J$65","v":0},"#'T2-B(PP5)'!$J$65"]
["pp5_bl4_2_2_total_in",{"$f":"'T2-B(PP5)'!$F$65","v":0},"#'T2-B(PP5)'!$F$65"]
["pp5_bl4_2_2_total_out",{"$f":"'T2-B(PP5)'!$I$65","v":0},"#'T2-B(PP5)'!$I$65"]
["pp5_bl4_2_2_unit",{"$f":"'T2-B(PP5)'!$C$65","v":0},"#'T2-B(PP5)'!$C$65"]
["pp5_bl4_2_2_unit_in",{"$f":"'T2-B(PP5)'!$D$65","v":0},"#'T2-B(PP5)'!$D$65"]
["pp5_bl4_2_2_units_out",{"$f":"'T2-B(PP5)'!$G$65","v":0},"#'T2-B(PP5)'!$G$65"]
["pp5_bl4_2_3_name",{"$f":"'T2-B(PP5)'!$B$66","v":0},"#'T2-B(PP5)'!$B$66"]
["pp5_bl4_2_3_rate_in",{"$f":"'T2-B(PP5)'!$E$66","v":0},"#'T2-B(PP5)'!$E$66"]
["pp5_bl4_2_3_rate_out",{"$f":"'T2-B(PP5)'!$H$66","v":0},"#'T2-B(PP5)'!$H$66"]
["pp5_bl4_2_3_total",{"$f":"'T2-B(PP5)'!$J$66","v":0},"#'T2-B(PP5)'!$J$66"]
["pp5_bl4_2_3_total_in",{"$f":"'T2-B(PP5)'!$F$66","v":0},"#'T2-B(PP5)'!$F$66"]
["pp5_bl4_2_3_total_out",{"$f":"'T2-B(PP5)'!$I$66","v":0},"#'T2-B(PP5)'!$I$66"]
["pp5_bl4_2_3_unit",{"$f":"'T2-B(PP5)'!$C$66","v":0},"#'T2-B(PP5)'!$C$66"]
["pp5_bl4_2_3_unit_in",{"$f":"'T2-B(PP5)'!$D$66","v":0},"#'T2-B(PP5)'!$D$66"]
["pp5_bl4_2_3_units_out",{"$f":"'T2-B(PP5)'!$G$66","v":0},"#'T2-B(PP5)'!$G$66"]
["pp5_bl4_2_4_name",{"$f":"'T2-B(PP5)'!$B$67","v":0},"#'T2-B(PP5)'!$B$67"]
["pp5_bl4_2_4_rate_in",{"$f":"'T2-B(PP5)'!$E$67","v":0},"#'T2-B(PP5)'!$E$67"]
["pp5_bl4_2_4_rate_out",{"$f":"'T2-B(PP5)'!$H$67","v":0},"#'T2-B(PP5)'!$H$67"]
["pp5_bl4_2_4_total",{"$f":"'T2-B(PP5)'!$J$67","v":0},"#'T2-B(PP5)'!$J$67"]
["pp5_bl4_2_4_total_in",{"$f":"'T2-B(PP5)'!$F$67","v":0},"#'T2-B(PP5)'!$F$67"]
["pp5_bl4_2_4_total_out",{"$f":"'T2-B(PP5)'!$I$67","v":0},"#'T2-B(PP5)'!$I$67"]
["pp5_bl4_2_4_unit",{"$f":"'T2-B(PP5)'!$C$67","v":0},"#'T2-B(PP5)'!$C$67"]
["pp5_bl4_2_4_unit_in",{"$f":"'T2-B(PP5)'!$D$67","v":0},"#'T2-B(PP5)'!$D$67"]
["pp5_bl4_2_4_units_out",{"$f":"'T2-B(PP5)'!$G$67","v":0},"#'T2-B(PP5)'!$G$67"]
["pp5_bl4_2_5_name",{"$f":"'T2-B(PP5)'!$B$68","v":0},"#'T2-B(PP5)'!$B$68"]
["pp5_bl4_2_5_rate_in",{"$f":"'T2-B(PP5)'!$E$68","v":0},"#'T2-B(PP5)'!$E$68"]
["pp5_bl4_2_5_rate_out",{"$f":"'T2-B(PP5)'!$H$68","v":0},"#'T2-B(PP5)'!$H$68"]
["pp5_bl4_2_5_total",{"$f":"'T2-B(PP5)'!$J$68","v":0},"#'T2-B(PP5)'!$J$68"]
["pp5_bl4_2_5_total_in",{"$f":"'T2-B(PP5)'!$F$68","v":0},"#'T2-B(PP5)'!$F$68"]
["pp5_bl4_2_5_total_out",{"$f":"'T2-B(PP5)'!$I$68","v":0},"#'T2-B(PP5)'!$I$68"]
["pp5_bl4_2_5_unit",{"$f":"'T2-B(PP5)'!$C$68","v":0},"#'T2-B(PP5)'!$C$68"]
["pp5_bl4_2_5_unit_in",{"$f":"'T2-B(PP5)'!$D$68","v":0},"#'T2-B(PP5)'!$D$68"]
["pp5_bl4_2_5_units_out",{"$f":"'T2-B(PP5)'!$G$68","v":0},"#'T2-B(PP5)'!$G$68"]
["pp5_bl4_2_6_name",{"$f":"'T2-B(PP5)'!$B$69","v":0},"#'T2-B(PP5)'!$B$69"]
["pp5_bl4_2_6_rate_in",{"$f":"'T2-B(PP5)'!$E$69","v":0},"#'T2-B(PP5)'!$E$69"]
["pp5_bl4_2_6_rate_out",{"$f":"'T2-B(PP5)'!$H$69","v":0},"#'T2-B(PP5)'!$H$69"]
["pp5_bl4_2_6_total",{"$f":"'T2-B(PP5)'!$J$69","v":0},"#'T2-B(PP5)'!$J$69"]
["pp5_bl4_2_6_total_in",{"$f":"'T2-B(PP5)'!$F$69","v":0},"#'T2-B(PP5)'!$F$69"]
["pp5_bl4_2_6_total_out",{"$f":"'T2-B(PP5)'!$I$69","v":0},"#'T2-B(PP5)'!$I$69"]
["pp5_bl4_2_6_unit",{"$f":"'T2-B(PP5)'!$C$69","v":0},"#'T2-B(PP5)'!$C$69"]
["pp5_bl4_2_6_unit_in",{"$f":"'T2-B(PP5)'!$D$69","v":0},"#'T2-B(PP5)'!$D$69"]
["pp5_bl4_2_6_units_out",{"$f":"'T2-B(PP5)'!$G$69","v":0},"#'T2-B(PP5)'!$G$69"]
["pp5_bl4_2_7_name",{"$f":"'T2-B(PP5)'!$B$70","v":0},"#'T2-B(PP5)'!$B$70"]
["pp5_bl4_2_7_rate_in",{"$f":"'T2-B(PP5)'!$E$70","v":0},"#'T2-B(PP5)'!$E$70"]
["pp5_bl4_2_7_rate_out",{"$f":"'T2-B(PP5)'!$H$70","v":0},"#'T2-B(PP5)'!$H$70"]
["pp5_bl4_2_7_total",{"$f":"'T2-B(PP5)'!$J$70","v":0},"#'T2-B(PP5)'!$J$70"]
["pp5_bl4_2_7_total_in",{"$f":"'T2-B(PP5)'!$F$70","v":0},"#'T2-B(PP5)'!$F$70"]
["pp5_bl4_2_7_total_out",{"$f":"'T2-B(PP5)'!$I$70","v":0},"#'T2-B(PP5)'!$I$70"]
["pp5_bl4_2_7_unit",{"$f":"'T2-B(PP5)'!$C$70","v":0},"#'T2-B(PP5)'!$C$70"]
["pp5_bl4_2_7_unit_in",{"$f":"'T2-B(PP5)'!$D$70","v":0},"#'T2-B(PP5)'!$D$70"]
["pp5_bl4_2_7_units_out",{"$f":"'T2-B(PP5)'!$G$70","v":0},"#'T2-B(PP5)'!$G$70"]
["pp5_bl4_2_8_name",{"$f":"'T2-B(PP5)'!$B$71","v":0},"#'T2-B(PP5)'!$B$71"]
["pp5_bl4_2_8_rate_in",{"$f":"'T2-B(PP5)'!$E$71","v":0},"#'T2-B(PP5)'!$E$71"]
["pp5_bl4_2_8_rate_out",{"$f":"'T2-B(PP5)'!$H$71","v":0},"#'T2-B(PP5)'!$H$71"]
["pp5_bl4_2_8_total",{"$f":"'T2-B(PP5)'!$J$71","v":0},"#'T2-B(PP5)'!$J$71"]
["pp5_bl4_2_8_total_in",{"$f":"'T2-B(PP5)'!$F$71","v":0},"#'T2-B(PP5)'!$F$71"]
["pp5_bl4_2_8_total_out",{"$f":"'T2-B(PP5)'!$I$71","v":0},"#'T2-B(PP5)'!$I$71"]
["pp5_bl4_2_8_unit",{"$f":"'T2-B(PP5)'!$C$71","v":0},"#'T2-B(PP5)'!$C$71"]
["pp5_bl4_2_8_unit_in",{"$f":"'T2-B(PP5)'!$D$71","v":0},"#'T2-B(PP5)'!$D$71"]
["pp5_bl4_2_8_units_out",{"$f":"'T2-B(PP5)'!$G$71","v":0},"#'T2-B(PP5)'!$G$71"]
["pp5_bl4_2_9_name",{"$f":"'T2-B(PP5)'!$B$72","v":0},"#'T2-B(PP5)'!$B$72"]
["pp5_bl4_2_9_rate_in",{"$f":"'T2-B(PP5)'!$E$72","v":0},"#'T2-B(PP5)'!$E$72"]
["pp5_bl4_2_9_rate_out",{"$f":"'T2-B(PP5)'!$H$72","v":0},"#'T2-B(PP5)'!$H$72"]
["pp5_bl4_2_9_total",{"$f":"'T2-B(PP5)'!$J$72","v":0},"#'T2-B(PP5)'!$J$72"]
["pp5_bl4_2_9_total_in",{"$f":"'T2-B(PP5)'!$F$72","v":0},"#'T2-B(PP5)'!$F$72"]
["pp5_bl4_2_9_total_out",{"$f":"'T2-B(PP5)'!$I$72","v":0},"#'T2-B(PP5)'!$I$72"]
["pp5_bl4_2_9_unit",{"$f":"'T2-B(PP5)'!$C$72","v":0},"#'T2-B(PP5)'!$C$72"]
["pp5_bl4_2_9_unit_in",{"$f":"'T2-B(PP5)'!$D$72","v":0},"#'T2-B(PP5)'!$D$72"]
["pp5_bl4_2_9_units_out",{"$f":"'T2-B(PP5)'!$G$72","v":0},"#'T2-B(PP5)'!$G$72"]
["pp5_bl4_2_total",{"$f":"'T2-B(PP5)'!$J$63","v":0},"#'T2-B(PP5)'!$J$63"]
["pp5_bl4_2_total_in",{"$f":"'T2-B(PP5)'!$F$63","v":0},"#'T2-B(PP5)'!$F$63"]
["pp5_bl4_2_total_out",{"$f":"'T2-B(PP5)'!$I$63","v":0},"#'T2-B(PP5)'!$I$63"]
["pp5_bl4_3_1_name",{"$f":"'T2-B(PP5)'!$B$75","v":0},"#'T2-B(PP5)'!$B$75"]
["pp5_bl4_3_1_rate_in",{"$f":"'T2-B(PP5)'!$E$75","v":0},"#'T2-B(PP5)'!$E$75"]
["pp5_bl4_3_1_rate_out",{"$f":"'T2-B(PP5)'!$H$75","v":0},"#'T2-B(PP5)'!$H$75"]
["pp5_bl4_3_1_total",{"$f":"'T2-B(PP5)'!$J$75","v":0},"#'T2-B(PP5)'!$J$75"]
["pp5_bl4_3_1_total_in",{"$f":"'T2-B(PP5)'!$F$75","v":0},"#'T2-B(PP5)'!$F$75"]
["pp5_bl4_3_1_total_out",{"$f":"'T2-B(PP5)'!$I$75","v":0},"#'T2-B(PP5)'!$I$75"]
["pp5_bl4_3_1_unit",{"$f":"'T2-B(PP5)'!$C$75","v":0},"#'T2-B(PP5)'!$C$75"]
["pp5_bl4_3_1_unit_in",{"$f":"'T2-B(PP5)'!$D$75","v":0},"#'T2-B(PP5)'!$D$75"]
["pp5_bl4_3_1_units_out",{"$f":"'T2-B(PP5)'!$G$75","v":0},"#'T2-B(PP5)'!$G$75"]
["pp5_bl4_3_10_name",{"$f":"'T2-B(PP5)'!$B$84","v":0},"#'T2-B(PP5)'!$B$84"]
["pp5_bl4_3_10_rate_in",{"$f":"'T2-B(PP5)'!$E$84","v":0},"#'T2-B(PP5)'!$E$84"]
["pp5_bl4_3_10_rate_out",{"$f":"'T2-B(PP5)'!$H$84","v":0},"#'T2-B(PP5)'!$H$84"]
["pp5_bl4_3_10_total",{"$f":"'T2-B(PP5)'!$J$84","v":0},"#'T2-B(PP5)'!$J$84"]
["pp5_bl4_3_10_total_in",{"$f":"'T2-B(PP5)'!$F$84","v":0},"#'T2-B(PP5)'!$F$84"]
["pp5_bl4_3_10_total_out",{"$f":"'T2-B(PP5)'!$I$84","v":0},"#'T2-B(PP5)'!$I$84"]
["pp5_bl4_3_10_unit",{"$f":"'T2-B(PP5)'!$C$84","v":0},"#'T2-B(PP5)'!$C$84"]
["pp5_bl4_3_10_unit_in",{"$f":"'T2-B(PP5)'!$D$84","v":0},"#'T2-B(PP5)'!$D$84"]
["pp5_bl4_3_10_units_out",{"$f":"'T2-B(PP5)'!$G$84","v":0},"#'T2-B(PP5)'!$G$84"]
["pp5_bl4_3_2_name",{"$f":"'T2-B(PP5)'!$B$76","v":0},"#'T2-B(PP5)'!$B$76"]
["pp5_bl4_3_2_rate_in",{"$f":"'T2-B(PP5)'!$E$76","v":0},"#'T2-B(PP5)'!$E$76"]
["pp5_bl4_3_2_rate_out",{"$f":"'T2-B(PP5)'!$H$76","v":0},"#'T2-B(PP5)'!$H$76"]
["pp5_bl4_3_2_total",{"$f":"'T2-B(PP5)'!$J$76","v":0},"#'T2-B(PP5)'!$J$76"]
["pp5_bl4_3_2_total_in",{"$f":"'T2-B(PP5)'!$F$76","v":0},"#'T2-B(PP5)'!$F$76"]
["pp5_bl4_3_2_total_out",{"$f":"'T2-B(PP5)'!$I$76","v":0},"#'T2-B(PP5)'!$I$76"]
["pp5_bl4_3_2_unit",{"$f":"'T2-B(PP5)'!$C$76","v":0},"#'T2-B(PP5)'!$C$76"]
["pp5_bl4_3_2_unit_in",{"$f":"'T2-B(PP5)'!$D$76","v":0},"#'T2-B(PP5)'!$D$76"]
["pp5_bl4_3_2_units_out",{"$f":"'T2-B(PP5)'!$G$76","v":0},"#'T2-B(PP5)'!$G$76"]
["pp5_bl4_3_3_name",{"$f":"'T2-B(PP5)'!$B$77","v":0},"#'T2-B(PP5)'!$B$77"]
["pp5_bl4_3_3_rate_in",{"$f":"'T2-B(PP5)'!$E$77","v":0},"#'T2-B(PP5)'!$E$77"]
["pp5_bl4_3_3_rate_out",{"$f":"'T2-B(PP5)'!$H$77","v":0},"#'T2-B(PP5)'!$H$77"]
["pp5_bl4_3_3_total",{"$f":"'T2-B(PP5)'!$J$77","v":0},"#'T2-B(PP5)'!$J$77"]
["pp5_bl4_3_3_total_in",{"$f":"'T2-B(PP5)'!$F$77","v":0},"#'T2-B(PP5)'!$F$77"]
["pp5_bl4_3_3_total_out",{"$f":"'T2-B(PP5)'!$I$77","v":0},"#'T2-B(PP5)'!$I$77"]
["pp5_bl4_3_3_unit",{"$f":"'T2-B(PP5)'!$C$77","v":0},"#'T2-B(PP5)'!$C$77"]
["pp5_bl4_3_3_unit_in",{"$f":"'T2-B(PP5)'!$D$77","v":0},"#'T2-B(PP5)'!$D$77"]
["pp5_bl4_3_3_units_out",{"$f":"'T2-B(PP5)'!$G$77","v":0},"#'T2-B(PP5)'!$G$77"]
["pp5_bl4_3_4_name",{"$f":"'T2-B(PP5)'!$B$78","v":0},"#'T2-B(PP5)'!$B$78"]
["pp5_bl4_3_4_rate_in",{"$f":"'T2-B(PP5)'!$E$78","v":0},"#'T2-B(PP5)'!$E$78"]
["pp5_bl4_3_4_rate_out",{"$f":"'T2-B(PP5)'!$H$78","v":0},"#'T2-B(PP5)'!$H$78"]
["pp5_bl4_3_4_total",{"$f":"'T2-B(PP5)'!$J$78","v":0},"#'T2-B(PP5)'!$J$78"]
["pp5_bl4_3_4_total_in",{"$f":"'T2-B(PP5)'!$F$78","v":0},"#'T2-B(PP5)'!$F$78"]
["pp5_bl4_3_4_total_out",{"$f":"'T2-B(PP5)'!$I$78","v":0},"#'T2-B(PP5)'!$I$78"]
["pp5_bl4_3_4_unit",{"$f":"'T2-B(PP5)'!$C$78","v":0},"#'T2-B(PP5)'!$C$78"]
["pp5_bl4_3_4_unit_in",{"$f":"'T2-B(PP5)'!$D$78","v":0},"#'T2-B(PP5)'!$D$78"]
["pp5_bl4_3_4_units_out",{"$f":"'T2-B(PP5)'!$G$78","v":0},"#'T2-B(PP5)'!$G$78"]
["pp5_bl4_3_5_name",{"$f":"'T2-B(PP5)'!$B$79","v":0},"#'T2-B(PP5)'!$B$79"]
["pp5_bl4_3_5_rate_in",{"$f":"'T2-B(PP5)'!$E$79","v":0},"#'T2-B(PP5)'!$E$79"]
["pp5_bl4_3_5_rate_out",{"$f":"'T2-B(PP5)'!$H$79","v":0},"#'T2-B(PP5)'!$H$79"]
["pp5_bl4_3_5_total",{"$f":"'T2-B(PP5)'!$J$79","v":0},"#'T2-B(PP5)'!$J$79"]
["pp5_bl4_3_5_total_in",{"$f":"'T2-B(PP5)'!$F$79","v":0},"#'T2-B(PP5)'!$F$79"]
["pp5_bl4_3_5_total_out",{"$f":"'T2-B(PP5)'!$I$79","v":0},"#'T2-B(PP5)'!$I$79"]
["pp5_bl4_3_5_unit",{"$f":"'T2-B(PP5)'!$C$79","v":0},"#'T2-B(PP5)'!$C$79"]
["pp5_bl4_3_5_unit_in",{"$f":"'T2-B(PP5)'!$D$79","v":0},"#'T2-B(PP5)'!$D$79"]
["pp5_bl4_3_5_units_out",{"$f":"'T2-B(PP5)'!$G$79","v":0},"#'T2-B(PP5)'!$G$79"]
["pp5_bl4_3_6_name",{"$f":"'T2-B(PP5)'!$B$80","v":0},"#'T2-B(PP5)'!$B$80"]
["pp5_bl4_3_6_rate_in",{"$f":"'T2-B(PP5)'!$E$80","v":0},"#'T2-B(PP5)'!$E$80"]
["pp5_bl4_3_6_rate_out",{"$f":"'T2-B(PP5)'!$H$80","v":0},"#'T2-B(PP5)'!$H$80"]
["pp5_bl4_3_6_total",{"$f":"'T2-B(PP5)'!$J$80","v":0},"#'T2-B(PP5)'!$J$80"]
["pp5_bl4_3_6_total_in",{"$f":"'T2-B(PP5)'!$F$80","v":0},"#'T2-B(PP5)'!$F$80"]
["pp5_bl4_3_6_total_out",{"$f":"'T2-B(PP5)'!$I$80","v":0},"#'T2-B(PP5)'!$I$80"]
["pp5_bl4_3_6_unit",{"$f":"'T2-B(PP5)'!$C$80","v":0},"#'T2-B(PP5)'!$C$80"]
["pp5_bl4_3_6_unit_in",{"$f":"'T2-B(PP5)'!$D$80","v":0},"#'T2-B(PP5)'!$D$80"]
["pp5_bl4_3_6_units_out",{"$f":"'T2-B(PP5)'!$G$80","v":0},"#'T2-B(PP5)'!$G$80"]
["pp5_bl4_3_7_name",{"$f":"'T2-B(PP5)'!$B$81","v":0},"#'T2-B(PP5)'!$B$81"]
["pp5_bl4_3_7_rate_in",{"$f":"'T2-B(PP5)'!$E$81","v":0},"#'T2-B(PP5)'!$E$81"]
["pp5_bl4_3_7_rate_out",{"$f":"'T2-B(PP5)'!$H$81","v":0},"#'T2-B(PP5)'!$H$81"]
["pp5_bl4_3_7_total",{"$f":"'T2-B(PP5)'!$J$81","v":0},"#'T2-B(PP5)'!$J$81"]
["pp5_bl4_3_7_total_in",{"$f":"'T2-B(PP5)'!$F$81","v":0},"#'T2-B(PP5)'!$F$81"]
["pp5_bl4_3_7_total_out",{"$f":"'T2-B(PP5)'!$I$81","v":0},"#'T2-B(PP5)'!$I$81"]
["pp5_bl4_3_7_unit",{"$f":"'T2-B(PP5)'!$C$81","v":0},"#'T2-B(PP5)'!$C$81"]
["pp5_bl4_3_7_unit_in",{"$f":"'T2-B(PP5)'!$D$81","v":0},"#'T2-B(PP5)'!$D$81"]
["pp5_bl4_3_7_units_out",{"$f":"'T2-B(PP5)'!$G$81","v":0},"#'T2-B(PP5)'!$G$81"]
["pp5_bl4_3_8_name",{"$f":"'T2-B(PP5)'!$B$82","v":0},"#'T2-B(PP5)'!$B$82"]
["pp5_bl4_3_8_rate_in",{"$f":"'T2-B(PP5)'!$E$82","v":0},"#'T2-B(PP5)'!$E$82"]
["pp5_bl4_3_8_rate_out",{"$f":"'T2-B(PP5)'!$H$82","v":0},"#'T2-B(PP5)'!$H$82"]
["pp5_bl4_3_8_total",{"$f":"'T2-B(PP5)'!$J$82","v":0},"#'T2-B(PP5)'!$J$82"]
["pp5_bl4_3_8_total_in",{"$f":"'T2-B(PP5)'!$F$82","v":0},"#'T2-B(PP5)'!$F$82"]
["pp5_bl4_3_8_total_out",{"$f":"'T2-B(PP5)'!$I$82","v":0},"#'T2-B(PP5)'!$I$82"]
["pp5_bl4_3_8_unit",{"$f":"'T2-B(PP5)'!$C$82","v":0},"#'T2-B(PP5)'!$C$82"]
["pp5_bl4_3_8_unit_in",{"$f":"'T2-B(PP5)'!$D$82","v":0},"#'T2-B(PP5)'!$D$82"]
["pp5_bl4_3_8_units_out",{"$f":"'T2-B(PP5)'!$G$82","v":0},"#'T2-B(PP5)'!$G$82"]
["pp5_bl4_3_9_name",{"$f":"'T2-B(PP5)'!$B$83","v":0},"#'T2-B(PP5)'!$B$83"]
["pp5_bl4_3_9_rate_in",{"$f":"'T2-B(PP5)'!$E$83","v":0},"#'T2-B(PP5)'!$E$83"]
["pp5_bl4_3_9_rate_out",{"$f":"'T2-B(PP5)'!$H$83","v":0},"#'T2-B(PP5)'!$H$83"]
["pp5_bl4_3_9_total",{"$f":"'T2-B(PP5)'!$J$83","v":0},"#'T2-B(PP5)'!$J$83"]
["pp5_bl4_3_9_total_in",{"$f":"'T2-B(PP5)'!$F$83","v":0},"#'T2-B(PP5)'!$F$83"]
["pp5_bl4_3_9_total_out",{"$f":"'T2-B(PP5)'!$I$83","v":0},"#'T2-B(PP5)'!$I$83"]
["pp5_bl4_3_9_unit",{"$f":"'T2-B(PP5)'!$C$83","v":0},"#'T2-B(PP5)'!$C$83"]
["pp5_bl4_3_9_unit_in",{"$f":"'T2-B(PP5)'!$D$83","v":0},"#'T2-B(PP5)'!$D$83"]
["pp5_bl4_3_9_units_out",{"$f":"'T2-B(PP5)'!$G$83","v":0},"#'T2-B(PP5)'!$G$83"]
["pp5_bl4_3_total",{"$f":"'T2-B(PP5)'!$J$74","v":0},"#'T2-B(PP5)'!$J$74"]
["pp5_bl4_3_total_in",{"$f":"'T2-B(PP5)'!$F$74","v":0},"#'T2-B(PP5)'!$F$74"]
["pp5_bl4_3_total_out",{"$f":"'T2-B(PP5)'!$I$74","v":0},"#'T2-B(PP5)'!$I$74"]
["pp5_bl4_4_1_name",{"$f":"'T2-B(PP5)'!$B$86","v":0},"#'T2-B(PP5)'!$B$86"]
["pp5_bl4_4_1_rate_in",{"$f":"'T2-B(PP5)'!$E$86","v":0},"#'T2-B(PP5)'!$E$86"]
["pp5_bl4_4_1_rate_out",{"$f":"'T2-B(PP5)'!$H$86","v":0},"#'T2-B(PP5)'!$H$86"]
["pp5_bl4_4_1_total",{"$f":"'T2-B(PP5)'!$J$86","v":0},"#'T2-B(PP5)'!$J$86"]
["pp5_bl4_4_1_total_in",{"$f":"'T2-B(PP5)'!$F$86","v":0},"#'T2-B(PP5)'!$F$86"]
["pp5_bl4_4_1_total_out",{"$f":"'T2-B(PP5)'!$I$86","v":0},"#'T2-B(PP5)'!$I$86"]
["pp5_bl4_4_1_unit",{"$f":"'T2-B(PP5)'!$C$86","v":0},"#'T2-B(PP5)'!$C$86"]
["pp5_bl4_4_1_unit_in",{"$f":"'T2-B(PP5)'!$D$86","v":0},"#'T2-B(PP5)'!$D$86"]
["pp5_bl4_4_1_units_out",{"$f":"'T2-B(PP5)'!$G$86","v":0},"#'T2-B(PP5)'!$G$86"]
["pp5_bl4_4_10_name",{"$f":"'T2-B(PP5)'!$B$95","v":0},"#'T2-B(PP5)'!$B$95"]
["pp5_bl4_4_10_rate_in",{"$f":"'T2-B(PP5)'!$E$95","v":0},"#'T2-B(PP5)'!$E$95"]
["pp5_bl4_4_10_rate_out",{"$f":"'T2-B(PP5)'!$H$95","v":0},"#'T2-B(PP5)'!$H$95"]
["pp5_bl4_4_10_total",{"$f":"'T2-B(PP5)'!$J$95","v":0},"#'T2-B(PP5)'!$J$95"]
["pp5_bl4_4_10_total_in",{"$f":"'T2-B(PP5)'!$F$95","v":0},"#'T2-B(PP5)'!$F$95"]
["pp5_bl4_4_10_total_out",{"$f":"'T2-B(PP5)'!$I$95","v":0},"#'T2-B(PP5)'!$I$95"]
["pp5_bl4_4_10_unit",{"$f":"'T2-B(PP5)'!$C$95","v":0},"#'T2-B(PP5)'!$C$95"]
["pp5_bl4_4_10_unit_in",{"$f":"'T2-B(PP5)'!$D$95","v":0},"#'T2-B(PP5)'!$D$95"]
["pp5_bl4_4_10_units_out",{"$f":"'T2-B(PP5)'!$G$95","v":0},"#'T2-B(PP5)'!$G$95"]
["pp5_bl4_4_2_name",{"$f":"'T2-B(PP5)'!$B$87","v":0},"#'T2-B(PP5)'!$B$87"]
["pp5_bl4_4_2_rate_in",{"$f":"'T2-B(PP5)'!$E$87","v":0},"#'T2-B(PP5)'!$E$87"]
["pp5_bl4_4_2_rate_out",{"$f":"'T2-B(PP5)'!$H$87","v":0},"#'T2-B(PP5)'!$H$87"]
["pp5_bl4_4_2_total",{"$f":"'T2-B(PP5)'!$J$87","v":0},"#'T2-B(PP5)'!$J$87"]
["pp5_bl4_4_2_total_in",{"$f":"'T2-B(PP5)'!$F$87","v":0},"#'T2-B(PP5)'!$F$87"]
["pp5_bl4_4_2_total_out",{"$f":"'T2-B(PP5)'!$I$87","v":0},"#'T2-B(PP5)'!$I$87"]
["pp5_bl4_4_2_unit",{"$f":"'T2-B(PP5)'!$C$87","v":0},"#'T2-B(PP5)'!$C$87"]
["pp5_bl4_4_2_unit_in",{"$f":"'T2-B(PP5)'!$D$87","v":0},"#'T2-B(PP5)'!$D$87"]
["pp5_bl4_4_2_units_out",{"$f":"'T2-B(PP5)'!$G$87","v":0},"#'T2-B(PP5)'!$G$87"]
["pp5_bl4_4_3_name",{"$f":"'T2-B(PP5)'!$B$88","v":0},"#'T2-B(PP5)'!$B$88"]
["pp5_bl4_4_3_rate_in",{"$f":"'T2-B(PP5)'!$E$88","v":0},"#'T2-B(PP5)'!$E$88"]
["pp5_bl4_4_3_rate_out",{"$f":"'T2-B(PP5)'!$H$88","v":0},"#'T2-B(PP5)'!$H$88"]
["pp5_bl4_4_3_total",{"$f":"'T2-B(PP5)'!$J$88","v":0},"#'T2-B(PP5)'!$J$88"]
["pp5_bl4_4_3_total_in",{"$f":"'T2-B(PP5)'!$F$88","v":0},"#'T2-B(PP5)'!$F$88"]
["pp5_bl4_4_3_total_out",{"$f":"'T2-B(PP5)'!$I$88","v":0},"#'T2-B(PP5)'!$I$88"]
["pp5_bl4_4_3_unit",{"$f":"'T2-B(PP5)'!$C$88","v":0},"#'T2-B(PP5)'!$C$88"]
["pp5_bl4_4_3_unit_in",{"$f":"'T2-B(PP5)'!$D$88","v":0},"#'T2-B(PP5)'!$D$88"]
["pp5_bl4_4_3_units_out",{"$f":"'T2-B(PP5)'!$G$88","v":0},"#'T2-B(PP5)'!$G$88"]
["pp5_bl4_4_4_name",{"$f":"'T2-B(PP5)'!$B$89","v":0},"#'T2-B(PP5)'!$B$89"]
["pp5_bl4_4_4_rate_in",{"$f":"'T2-B(PP5)'!$E$89","v":0},"#'T2-B(PP5)'!$E$89"]
["pp5_bl4_4_4_rate_out",{"$f":"'T2-B(PP5)'!$H$89","v":0},"#'T2-B(PP5)'!$H$89"]
["pp5_bl4_4_4_total",{"$f":"'T2-B(PP5)'!$J$89","v":0},"#'T2-B(PP5)'!$J$89"]
["pp5_bl4_4_4_total_in",{"$f":"'T2-B(PP5)'!$F$89","v":0},"#'T2-B(PP5)'!$F$89"]
["pp5_bl4_4_4_total_out",{"$f":"'T2-B(PP5)'!$I$89","v":0},"#'T2-B(PP5)'!$I$89"]
["pp5_bl4_4_4_unit",{"$f":"'T2-B(PP5)'!$C$89","v":0},"#'T2-B(PP5)'!$C$89"]
["pp5_bl4_4_4_unit_in",{"$f":"'T2-B(PP5)'!$D$89","v":0},"#'T2-B(PP5)'!$D$89"]
["pp5_bl4_4_4_units_out",{"$f":"'T2-B(PP5)'!$G$89","v":0},"#'T2-B(PP5)'!$G$89"]
["pp5_bl4_4_5_name",{"$f":"'T2-B(PP5)'!$B$90","v":0},"#'T2-B(PP5)'!$B$90"]
["pp5_bl4_4_5_rate_in",{"$f":"'T2-B(PP5)'!$E$90","v":0},"#'T2-B(PP5)'!$E$90"]
["pp5_bl4_4_5_rate_out",{"$f":"'T2-B(PP5)'!$H$90","v":0},"#'T2-B(PP5)'!$H$90"]
["pp5_bl4_4_5_total",{"$f":"'T2-B(PP5)'!$J$90","v":0},"#'T2-B(PP5)'!$J$90"]
["pp5_bl4_4_5_total_in",{"$f":"'T2-B(PP5)'!$F$90","v":0},"#'T2-B(PP5)'!$F$90"]
["pp5_bl4_4_5_total_out",{"$f":"'T2-B(PP5)'!$I$90","v":0},"#'T2-B(PP5)'!$I$90"]
["pp5_bl4_4_5_unit",{"$f":"'T2-B(PP5)'!$C$90","v":0},"#'T2-B(PP5)'!$C$90"]
["pp5_bl4_4_5_unit_in",{"$f":"'T2-B(PP5)'!$D$90","v":0},"#'T2-B(PP5)'!$D$90"]
["pp5_bl4_4_5_units_out",{"$f":"'T2-B(PP5)'!$G$90","v":0},"#'T2-B(PP5)'!$G$90"]
["pp5_bl4_4_6_name",{"$f":"'T2-B(PP5)'!$B$91","v":0},"#'T2-B(PP5)'!$B$91"]
["pp5_bl4_4_6_rate_in",{"$f":"'T2-B(PP5)'!$E$91","v":0},"#'T2-B(PP5)'!$E$91"]
["pp5_bl4_4_6_rate_out",{"$f":"'T2-B(PP5)'!$H$91","v":0},"#'T2-B(PP5)'!$H$91"]
["pp5_bl4_4_6_total",{"$f":"'T2-B(PP5)'!$J$91","v":0},"#'T2-B(PP5)'!$J$91"]
["pp5_bl4_4_6_total_in",{"$f":"'T2-B(PP5)'!$F$91","v":0},"#'T2-B(PP5)'!$F$91"]
["pp5_bl4_4_6_total_out",{"$f":"'T2-B(PP5)'!$I$91","v":0},"#'T2-B(PP5)'!$I$91"]
["pp5_bl4_4_6_unit",{"$f":"'T2-B(PP5)'!$C$91","v":0},"#'T2-B(PP5)'!$C$91"]
["pp5_bl4_4_6_unit_in",{"$f":"'T2-B(PP5)'!$D$91","v":0},"#'T2-B(PP5)'!$D$91"]
["pp5_bl4_4_6_units_out",{"$f":"'T2-B(PP5)'!$G$91","v":0},"#'T2-B(PP5)'!$G$91"]
["pp5_bl4_4_7_name",{"$f":"'T2-B(PP5)'!$B$92","v":0},"#'T2-B(PP5)'!$B$92"]
["pp5_bl4_4_7_rate_in",{"$f":"'T2-B(PP5)'!$E$92","v":0},"#'T2-B(PP5)'!$E$92"]
["pp5_bl4_4_7_rate_out",{"$f":"'T2-B(PP5)'!$H$92","v":0},"#'T2-B(PP5)'!$H$92"]
["pp5_bl4_4_7_total",{"$f":"'T2-B(PP5)'!$J$92","v":0},"#'T2-B(PP5)'!$J$92"]
["pp5_bl4_4_7_total_in",{"$f":"'T2-B(PP5)'!$F$92","v":0},"#'T2-B(PP5)'!$F$92"]
["pp5_bl4_4_7_total_out",{"$f":"'T2-B(PP5)'!$I$92","v":0},"#'T2-B(PP5)'!$I$92"]
["pp5_bl4_4_7_unit",{"$f":"'T2-B(PP5)'!$C$92","v":0},"#'T2-B(PP5)'!$C$92"]
["pp5_bl4_4_7_unit_in",{"$f":"'T2-B(PP5)'!$D$92","v":0},"#'T2-B(PP5)'!$D$92"]
["pp5_bl4_4_7_units_out",{"$f":"'T2-B(PP5)'!$G$92","v":0},"#'T2-B(PP5)'!$G$92"]
["pp5_bl4_4_8_name",{"$f":"'T2-B(PP5)'!$B$93","v":0},"#'T2-B(PP5)'!$B$93"]
["pp5_bl4_4_8_rate_in",{"$f":"'T2-B(PP5)'!$E$93","v":0},"#'T2-B(PP5)'!$E$93"]
["pp5_bl4_4_8_rate_out",{"$f":"'T2-B(PP5)'!$H$93","v":0},"#'T2-B(PP5)'!$H$93"]
["pp5_bl4_4_8_total",{"$f":"'T2-B(PP5)'!$J$93","v":0},"#'T2-B(PP5)'!$J$93"]
["pp5_bl4_4_8_total_in",{"$f":"'T2-B(PP5)'!$F$93","v":0},"#'T2-B(PP5)'!$F$93"]
["pp5_bl4_4_8_total_out",{"$f":"'T2-B(PP5)'!$I$93","v":0},"#'T2-B(PP5)'!$I$93"]
["pp5_bl4_4_8_unit",{"$f":"'T2-B(PP5)'!$C$93","v":0},"#'T2-B(PP5)'!$C$93"]
["pp5_bl4_4_8_unit_in",{"$f":"'T2-B(PP5)'!$D$93","v":0},"#'T2-B(PP5)'!$D$93"]
["pp5_bl4_4_8_units_out",{"$f":"'T2-B(PP5)'!$G$93","v":0},"#'T2-B(PP5)'!$G$93"]
["pp5_bl4_4_9_name",{"$f":"'T2-B(PP5)'!$B$94","v":0},"#'T2-B(PP5)'!$B$94"]
["pp5_bl4_4_9_rate_in",{"$f":"'T2-B(PP5)'!$E$94","v":0},"#'T2-B(PP5)'!$E$94"]
["pp5_bl4_4_9_rate_out",{"$f":"'T2-B(PP5)'!$H$94","v":0},"#'T2-B(PP5)'!$H$94"]
["pp5_bl4_4_9_total",{"$f":"'T2-B(PP5)'!$J$94","v":0},"#'T2-B(PP5)'!$J$94"]
["pp5_bl4_4_9_total_in",{"$f":"'T2-B(PP5)'!$F$94","v":0},"#'T2-B(PP5)'!$F$94"]
["pp5_bl4_4_9_total_out",{"$f":"'T2-B(PP5)'!$I$94","v":0},"#'T2-B(PP5)'!$I$94"]
["pp5_bl4_4_9_unit",{"$f":"'T2-B(PP5)'!$C$94","v":0},"#'T2-B(PP5)'!$C$94"]
["pp5_bl4_4_9_unit_in",{"$f":"'T2-B(PP5)'!$D$94","v":0},"#'T2-B(PP5)'!$D$94"]
["pp5_bl4_4_9_units_out",{"$f":"'T2-B(PP5)'!$G$94","v":0},"#'T2-B(PP5)'!$G$94"]
["pp5_bl4_4_total",{"$f":"'T2-B(PP5)'!$J$85","v":0},"#'T2-B(PP5)'!$J$85"]
["pp5_bl4_4_total_in",{"$f":"'T2-B(PP5)'!$F$85","v":0},"#'T2-B(PP5)'!$F$85"]
["pp5_bl4_4_total_out",{"$f":"'T2-B(PP5)'!$I$85","v":0},"#'T2-B(PP5)'!$I$85"]
["pp5_bl4_5_1_name",{"$f":"'T2-B(PP5)'!$B$97","v":0},"#'T2-B(PP5)'!$B$97"]
["pp5_bl4_5_1_rate_in",{"$f":"'T2-B(PP5)'!$E$97","v":0},"#'T2-B(PP5)'!$E$97"]
["pp5_bl4_5_1_rate_out",{"$f":"'T2-B(PP5)'!$H$97","v":0},"#'T2-B(PP5)'!$H$97"]
["pp5_bl4_5_1_total",{"$f":"'T2-B(PP5)'!$J$97","v":0},"#'T2-B(PP5)'!$J$97"]
["pp5_bl4_5_1_total_in",{"$f":"'T2-B(PP5)'!$F$97","v":0},"#'T2-B(PP5)'!$F$97"]
["pp5_bl4_5_1_total_out",{"$f":"'T2-B(PP5)'!$I$97","v":0},"#'T2-B(PP5)'!$I$97"]
["pp5_bl4_5_1_unit",{"$f":"'T2-B(PP5)'!$C$97","v":0},"#'T2-B(PP5)'!$C$97"]
["pp5_bl4_5_1_unit_in",{"$f":"'T2-B(PP5)'!$D$97","v":0},"#'T2-B(PP5)'!$D$97"]
["pp5_bl4_5_1_units_out",{"$f":"'T2-B(PP5)'!$G$97","v":0},"#'T2-B(PP5)'!$G$97"]
["pp5_bl4_5_10_name",{"$f":"'T2-B(PP5)'!$B$106","v":0},"#'T2-B(PP5)'!$B$106"]
["pp5_bl4_5_10_rate_in",{"$f":"'T2-B(PP5)'!$E$106","v":0},"#'T2-B(PP5)'!$E$106"]
["pp5_bl4_5_10_rate_out",{"$f":"'T2-B(PP5)'!$H$106","v":0},"#'T2-B(PP5)'!$H$106"]
["pp5_bl4_5_10_total",{"$f":"'T2-B(PP5)'!$J$106","v":0},"#'T2-B(PP5)'!$J$106"]
["pp5_bl4_5_10_total_in",{"$f":"'T2-B(PP5)'!$F$106","v":0},"#'T2-B(PP5)'!$F$106"]
["pp5_bl4_5_10_total_out",{"$f":"'T2-B(PP5)'!$I$106","v":0},"#'T2-B(PP5)'!$I$106"]
["pp5_bl4_5_10_unit",{"$f":"'T2-B(PP5)'!$C$106","v":0},"#'T2-B(PP5)'!$C$106"]
["pp5_bl4_5_10_unit_in",{"$f":"'T2-B(PP5)'!$D$106","v":0},"#'T2-B(PP5)'!$D$106"]
["pp5_bl4_5_10_units_out",{"$f":"'T2-B(PP5)'!$G$106","v":0},"#'T2-B(PP5)'!$G$106"]
["pp5_bl4_5_2_name",{"$f":"'T2-B(PP5)'!$B$98","v":0},"#'T2-B(PP5)'!$B$98"]
["pp5_bl4_5_2_rate_in",{"$f":"'T2-B(PP5)'!$E$98","v":0},"#'T2-B(PP5)'!$E$98"]
["pp5_bl4_5_2_rate_out",{"$f":"'T2-B(PP5)'!$H$98","v":0},"#'T2-B(PP5)'!$H$98"]
["pp5_bl4_5_2_total",{"$f":"'T2-B(PP5)'!$J$98","v":0},"#'T2-B(PP5)'!$J$98"]
["pp5_bl4_5_2_total_in",{"$f":"'T2-B(PP5)'!$F$98","v":0},"#'T2-B(PP5)'!$F$98"]
["pp5_bl4_5_2_total_out",{"$f":"'T2-B(PP5)'!$I$98","v":0},"#'T2-B(PP5)'!$I$98"]
["pp5_bl4_5_2_unit",{"$f":"'T2-B(PP5)'!$C$98","v":0},"#'T2-B(PP5)'!$C$98"]
["pp5_bl4_5_2_unit_in",{"$f":"'T2-B(PP5)'!$D$98","v":0},"#'T2-B(PP5)'!$D$98"]
["pp5_bl4_5_2_units_out",{"$f":"'T2-B(PP5)'!$G$98","v":0},"#'T2-B(PP5)'!$G$98"]
["pp5_bl4_5_3_name",{"$f":"'T2-B(PP5)'!$B$99","v":0},"#'T2-B(PP5)'!$B$99"]
["pp5_bl4_5_3_rate_in",{"$f":"'T2-B(PP5)'!$E$99","v":0},"#'T2-B(PP5)'!$E$99"]
["pp5_bl4_5_3_rate_out",{"$f":"'T2-B(PP5)'!$H$99","v":0},"#'T2-B(PP5)'!$H$99"]
["pp5_bl4_5_3_total",{"$f":"'T2-B(PP5)'!$J$99","v":0},"#'T2-B(PP5)'!$J$99"]
["pp5_bl4_5_3_total_in",{"$f":"'T2-B(PP5)'!$F$99","v":0},"#'T2-B(PP5)'!$F$99"]
["pp5_bl4_5_3_total_out",{"$f":"'T2-B(PP5)'!$I$99","v":0},"#'T2-B(PP5)'!$I$99"]
["pp5_bl4_5_3_unit",{"$f":"'T2-B(PP5)'!$C$99","v":0},"#'T2-B(PP5)'!$C$99"]
["pp5_bl4_5_3_unit_in",{"$f":"'T2-B(PP5)'!$D$99","v":0},"#'T2-B(PP5)'!$D$99"]
["pp5_bl4_5_3_units_out",{"$f":"'T2-B(PP5)'!$G$99","v":0},"#'T2-B(PP5)'!$G$99"]
["pp5_bl4_5_4_name",{"$f":"'T2-B(PP5)'!$B$100","v":0},"#'T2-B(PP5)'!$B$100"]
["pp5_bl4_5_4_rate_in",{"$f":"'T2-B(PP5)'!$E$100","v":0},"#'T2-B(PP5)'!$E$100"]
["pp5_bl4_5_4_rate_out",{"$f":"'T2-B(PP5)'!$H$100","v":0},"#'T2-B(PP5)'!$H$100"]
["pp5_bl4_5_4_total",{"$f":"'T2-B(PP5)'!$J$100","v":0},"#'T2-B(PP5)'!$J$100"]
["pp5_bl4_5_4_total_in",{"$f":"'T2-B(PP5)'!$F$100","v":0},"#'T2-B(PP5)'!$F$100"]
["pp5_bl4_5_4_total_out",{"$f":"'T2-B(PP5)'!$I$100","v":0},"#'T2-B(PP5)'!$I$100"]
["pp5_bl4_5_4_unit",{"$f":"'T2-B(PP5)'!$C$100","v":0},"#'T2-B(PP5)'!$C$100"]
["pp5_bl4_5_4_unit_in",{"$f":"'T2-B(PP5)'!$D$100","v":0},"#'T2-B(PP5)'!$D$100"]
["pp5_bl4_5_4_units_out",{"$f":"'T2-B(PP5)'!$G$100","v":0},"#'T2-B(PP5)'!$G$100"]
["pp5_bl4_5_5_name",{"$f":"'T2-B(PP5)'!$B$101","v":0},"#'T2-B(PP5)'!$B$101"]
["pp5_bl4_5_5_rate_in",{"$f":"'T2-B(PP5)'!$E$101","v":0},"#'T2-B(PP5)'!$E$101"]
["pp5_bl4_5_5_rate_out",{"$f":"'T2-B(PP5)'!$H$101","v":0},"#'T2-B(PP5)'!$H$101"]
["pp5_bl4_5_5_total",{"$f":"'T2-B(PP5)'!$J$101","v":0},"#'T2-B(PP5)'!$J$101"]
["pp5_bl4_5_5_total_in",{"$f":"'T2-B(PP5)'!$F$101","v":0},"#'T2-B(PP5)'!$F$101"]
["pp5_bl4_5_5_total_out",{"$f":"'T2-B(PP5)'!$I$101","v":0},"#'T2-B(PP5)'!$I$101"]
["pp5_bl4_5_5_unit",{"$f":"'T2-B(PP5)'!$C$101","v":0},"#'T2-B(PP5)'!$C$101"]
["pp5_bl4_5_5_unit_in",{"$f":"'T2-B(PP5)'!$D$101","v":0},"#'T2-B(PP5)'!$D$101"]
["pp5_bl4_5_5_units_out",{"$f":"'T2-B(PP5)'!$G$101","v":0},"#'T2-B(PP5)'!$G$101"]
["pp5_bl4_5_6_name",{"$f":"'T2-B(PP5)'!$B$102","v":0},"#'T2-B(PP5)'!$B$102"]
["pp5_bl4_5_6_rate_in",{"$f":"'T2-B(PP5)'!$E$102","v":0},"#'T2-B(PP5)'!$E$102"]
["pp5_bl4_5_6_rate_out",{"$f":"'T2-B(PP5)'!$H$102","v":0},"#'T2-B(PP5)'!$H$102"]
["pp5_bl4_5_6_total",{"$f":"'T2-B(PP5)'!$J$102","v":0},"#'T2-B(PP5)'!$J$102"]
["pp5_bl4_5_6_total_in",{"$f":"'T2-B(PP5)'!$F$102","v":0},"#'T2-B(PP5)'!$F$102"]
["pp5_bl4_5_6_total_out",{"$f":"'T2-B(PP5)'!$I$102","v":0},"#'T2-B(PP5)'!$I$102"]
["pp5_bl4_5_6_unit",{"$f":"'T2-B(PP5)'!$C$102","v":0},"#'T2-B(PP5)'!$C$102"]
["pp5_bl4_5_6_unit_in",{"$f":"'T2-B(PP5)'!$D$102","v":0},"#'T2-B(PP5)'!$D$102"]
["pp5_bl4_5_6_units_out",{"$f":"'T2-B(PP5)'!$G$102","v":0},"#'T2-B(PP5)'!$G$102"]
["pp5_bl4_5_7_name",{"$f":"'T2-B(PP5)'!$B$103","v":0},"#'T2-B(PP5)'!$B$103"]
["pp5_bl4_5_7_rate_in",{"$f":"'T2-B(PP5)'!$E$103","v":0},"#'T2-B(PP5)'!$E$103"]
["pp5_bl4_5_7_rate_out",{"$f":"'T2-B(PP5)'!$H$103","v":0},"#'T2-B(PP5)'!$H$103"]
["pp5_bl4_5_7_total",{"$f":"'T2-B(PP5)'!$J$103","v":0},"#'T2-B(PP5)'!$J$103"]
["pp5_bl4_5_7_total_in",{"$f":"'T2-B(PP5)'!$F$103","v":0},"#'T2-B(PP5)'!$F$103"]
["pp5_bl4_5_7_total_out",{"$f":"'T2-B(PP5)'!$I$103","v":0},"#'T2-B(PP5)'!$I$103"]
["pp5_bl4_5_7_unit",{"$f":"'T2-B(PP5)'!$C$103","v":0},"#'T2-B(PP5)'!$C$103"]
["pp5_bl4_5_7_unit_in",{"$f":"'T2-B(PP5)'!$D$103","v":0},"#'T2-B(PP5)'!$D$103"]
["pp5_bl4_5_7_units_out",{"$f":"'T2-B(PP5)'!$G$103","v":0},"#'T2-B(PP5)'!$G$103"]
["pp5_bl4_5_8_name",{"$f":"'T2-B(PP5)'!$B$104","v":0},"#'T2-B(PP5)'!$B$104"]
["pp5_bl4_5_8_rate_in",{"$f":"'T2-B(PP5)'!$E$104","v":0},"#'T2-B(PP5)'!$E$104"]
["pp5_bl4_5_8_rate_out",{"$f":"'T2-B(PP5)'!$H$104","v":0},"#'T2-B(PP5)'!$H$104"]
["pp5_bl4_5_8_total",{"$f":"'T2-B(PP5)'!$J$104","v":0},"#'T2-B(PP5)'!$J$104"]
["pp5_bl4_5_8_total_in",{"$f":"'T2-B(PP5)'!$F$104","v":0},"#'T2-B(PP5)'!$F$104"]
["pp5_bl4_5_8_total_out",{"$f":"'T2-B(PP5)'!$I$104","v":0},"#'T2-B(PP5)'!$I$104"]
["pp5_bl4_5_8_unit",{"$f":"'T2-B(PP5)'!$C$104","v":0},"#'T2-B(PP5)'!$C$104"]
["pp5_bl4_5_8_unit_in",{"$f":"'T2-B(PP5)'!$D$104","v":0},"#'T2-B(PP5)'!$D$104"]
["pp5_bl4_5_8_units_out",{"$f":"'T2-B(PP5)'!$G$104","v":0},"#'T2-B(PP5)'!$G$104"]
["pp5_bl4_5_9_name",{"$f":"'T2-B(PP5)'!$B$105","v":0},"#'T2-B(PP5)'!$B$105"]
["pp5_bl4_5_9_rate_in",{"$f":"'T2-B(PP5)'!$E$105","v":0},"#'T2-B(PP5)'!$E$105"]
["pp5_bl4_5_9_rate_out",{"$f":"'T2-B(PP5)'!$H$105","v":0},"#'T2-B(PP5)'!$H$105"]
["pp5_bl4_5_9_total",{"$f":"'T2-B(PP5)'!$J$105","v":0},"#'T2-B(PP5)'!$J$105"]
["pp5_bl4_5_9_total_in",{"$f":"'T2-B(PP5)'!$F$105","v":0},"#'T2-B(PP5)'!$F$105"]
["pp5_bl4_5_9_total_out",{"$f":"'T2-B(PP5)'!$I$105","v":0},"#'T2-B(PP5)'!$I$105"]
["pp5_bl4_5_9_unit",{"$f":"'T2-B(PP5)'!$C$105","v":0},"#'T2-B(PP5)'!$C$105"]
["pp5_bl4_5_9_unit_in",{"$f":"'T2-B(PP5)'!$D$105","v":0},"#'T2-B(PP5)'!$D$105"]
["pp5_bl4_5_9_units_out",{"$f":"'T2-B(PP5)'!$G$105","v":0},"#'T2-B(PP5)'!$G$105"]
["pp5_bl4_5_total",{"$f":"'T2-B(PP5)'!$J$96","v":0},"#'T2-B(PP5)'!$J$96"]
["pp5_bl4_5_total_in",{"$f":"'T2-B(PP5)'!$F$96","v":0},"#'T2-B(PP5)'!$F$96"]
["pp5_bl4_5_total_out",{"$f":"'T2-B(PP5)'!$I$96","v":0},"#'T2-B(PP5)'!$I$96"]
["pp5_bl4_6_1_name",{"$f":"'T2-B(PP5)'!$B$108","v":0},"#'T2-B(PP5)'!$B$108"]
["pp5_bl4_6_1_rate_in",{"$f":"'T2-B(PP5)'!$E$108","v":0},"#'T2-B(PP5)'!$E$108"]
["pp5_bl4_6_1_rate_out",{"$f":"'T2-B(PP5)'!$H$108","v":0},"#'T2-B(PP5)'!$H$108"]
["pp5_bl4_6_1_total",{"$f":"'T2-B(PP5)'!$J$108","v":0},"#'T2-B(PP5)'!$J$108"]
["pp5_bl4_6_1_total_in",{"$f":"'T2-B(PP5)'!$F$108","v":0},"#'T2-B(PP5)'!$F$108"]
["pp5_bl4_6_1_total_out",{"$f":"'T2-B(PP5)'!$I$108","v":0},"#'T2-B(PP5)'!$I$108"]
["pp5_bl4_6_1_unit",{"$f":"'T2-B(PP5)'!$C$108","v":0},"#'T2-B(PP5)'!$C$108"]
["pp5_bl4_6_1_unit_in",{"$f":"'T2-B(PP5)'!$D$108","v":0},"#'T2-B(PP5)'!$D$108"]
["pp5_bl4_6_1_units_out",{"$f":"'T2-B(PP5)'!$G$108","v":0},"#'T2-B(PP5)'!$G$108"]
["pp5_bl4_6_10_name",{"$f":"'T2-B(PP5)'!$B$117","v":0},"#'T2-B(PP5)'!$B$117"]
["pp5_bl4_6_10_rate_in",{"$f":"'T2-B(PP5)'!$E$117","v":0},"#'T2-B(PP5)'!$E$117"]
["pp5_bl4_6_10_rate_out",{"$f":"'T2-B(PP5)'!$H$117","v":0},"#'T2-B(PP5)'!$H$117"]
["pp5_bl4_6_10_total",{"$f":"'T2-B(PP5)'!$J$117","v":0},"#'T2-B(PP5)'!$J$117"]
["pp5_bl4_6_10_total_in",{"$f":"'T2-B(PP5)'!$F$117","v":0},"#'T2-B(PP5)'!$F$117"]
["pp5_bl4_6_10_total_out",{"$f":"'T2-B(PP5)'!$I$117","v":0},"#'T2-B(PP5)'!$I$117"]
["pp5_bl4_6_10_unit",{"$f":"'T2-B(PP5)'!$C$117","v":0},"#'T2-B(PP5)'!$C$117"]
["pp5_bl4_6_10_unit_in",{"$f":"'T2-B(PP5)'!$D$117","v":0},"#'T2-B(PP5)'!$D$117"]
["pp5_bl4_6_10_units_out",{"$f":"'T2-B(PP5)'!$G$117","v":0},"#'T2-B(PP5)'!$G$117"]
["pp5_bl4_6_2_name",{"$f":"'T2-B(PP5)'!$B$109","v":0},"#'T2-B(PP5)'!$B$109"]
["pp5_bl4_6_2_rate_in",{"$f":"'T2-B(PP5)'!$E$109","v":0},"#'T2-B(PP5)'!$E$109"]
["pp5_bl4_6_2_rate_out",{"$f":"'T2-B(PP5)'!$H$109","v":0},"#'T2-B(PP5)'!$H$109"]
["pp5_bl4_6_2_total",{"$f":"'T2-B(PP5)'!$J$109","v":0},"#'T2-B(PP5)'!$J$109"]
["pp5_bl4_6_2_total_in",{"$f":"'T2-B(PP5)'!$F$109","v":0},"#'T2-B(PP5)'!$F$109"]
["pp5_bl4_6_2_total_out",{"$f":"'T2-B(PP5)'!$I$109","v":0},"#'T2-B(PP5)'!$I$109"]
["pp5_bl4_6_2_unit",{"$f":"'T2-B(PP5)'!$C$109","v":0},"#'T2-B(PP5)'!$C$109"]
["pp5_bl4_6_2_unit_in",{"$f":"'T2-B(PP5)'!$D$109","v":0},"#'T2-B(PP5)'!$D$109"]
["pp5_bl4_6_2_units_out",{"$f":"'T2-B(PP5)'!$G$109","v":0},"#'T2-B(PP5)'!$G$109"]
["pp5_bl4_6_3_name",{"$f":"'T2-B(PP5)'!$B$110","v":0},"#'T2-B(PP5)'!$B$110"]
["pp5_bl4_6_3_rate_in",{"$f":"'T2-B(PP5)'!$E$110","v":0},"#'T2-B(PP5)'!$E$110"]
["pp5_bl4_6_3_rate_out",{"$f":"'T2-B(PP5)'!$H$110","v":0},"#'T2-B(PP5)'!$H$110"]
["pp5_bl4_6_3_total",{"$f":"'T2-B(PP5)'!$J$110","v":0},"#'T2-B(PP5)'!$J$110"]
["pp5_bl4_6_3_total_in",{"$f":"'T2-B(PP5)'!$F$110","v":0},"#'T2-B(PP5)'!$F$110"]
["pp5_bl4_6_3_total_out",{"$f":"'T2-B(PP5)'!$I$110","v":0},"#'T2-B(PP5)'!$I$110"]
["pp5_bl4_6_3_unit",{"$f":"'T2-B(PP5)'!$C$110","v":0},"#'T2-B(PP5)'!$C$110"]
["pp5_bl4_6_3_unit_in",{"$f":"'T2-B(PP5)'!$D$110","v":0},"#'T2-B(PP5)'!$D$110"]
["pp5_bl4_6_3_units_out",{"$f":"'T2-B(PP5)'!$G$110","v":0},"#'T2-B(PP5)'!$G$110"]
["pp5_bl4_6_4_name",{"$f":"'T2-B(PP5)'!$B$111","v":0},"#'T2-B(PP5)'!$B$111"]
["pp5_bl4_6_4_rate_in",{"$f":"'T2-B(PP5)'!$E$111","v":0},"#'T2-B(PP5)'!$E$111"]
["pp5_bl4_6_4_rate_out",{"$f":"'T2-B(PP5)'!$H$111","v":0},"#'T2-B(PP5)'!$H$111"]
["pp5_bl4_6_4_total",{"$f":"'T2-B(PP5)'!$J$111","v":0},"#'T2-B(PP5)'!$J$111"]
["pp5_bl4_6_4_total_in",{"$f":"'T2-B(PP5)'!$F$111","v":0},"#'T2-B(PP5)'!$F$111"]
["pp5_bl4_6_4_total_out",{"$f":"'T2-B(PP5)'!$I$111","v":0},"#'T2-B(PP5)'!$I$111"]
["pp5_bl4_6_4_unit",{"$f":"'T2-B(PP5)'!$C$111","v":0},"#'T2-B(PP5)'!$C$111"]
["pp5_bl4_6_4_unit_in",{"$f":"'T2-B(PP5)'!$D$111","v":0},"#'T2-B(PP5)'!$D$111"]
["pp5_bl4_6_4_units_out",{"$f":"'T2-B(PP5)'!$G$111","v":0},"#'T2-B(PP5)'!$G$111"]
["pp5_bl4_6_5_name",{"$f":"'T2-B(PP5)'!$B$112","v":0},"#'T2-B(PP5)'!$B$112"]
["pp5_bl4_6_5_rate_in",{"$f":"'T2-B(PP5)'!$E$112","v":0},"#'T2-B(PP5)'!$E$112"]
["pp5_bl4_6_5_rate_out",{"$f":"'T2-B(PP5)'!$H$112","v":0},"#'T2-B(PP5)'!$H$112"]
["pp5_bl4_6_5_total",{"$f":"'T2-B(PP5)'!$J$112","v":0},"#'T2-B(PP5)'!$J$112"]
["pp5_bl4_6_5_total_in",{"$f":"'T2-B(PP5)'!$F$112","v":0},"#'T2-B(PP5)'!$F$112"]
["pp5_bl4_6_5_total_out",{"$f":"'T2-B(PP5)'!$I$112","v":0},"#'T2-B(PP5)'!$I$112"]
["pp5_bl4_6_5_unit",{"$f":"'T2-B(PP5)'!$C$112","v":0},"#'T2-B(PP5)'!$C$112"]
["pp5_bl4_6_5_unit_in",{"$f":"'T2-B(PP5)'!$D$112","v":0},"#'T2-B(PP5)'!$D$112"]
["pp5_bl4_6_5_units_out",{"$f":"'T2-B(PP5)'!$G$112","v":0},"#'T2-B(PP5)'!$G$112"]
["pp5_bl4_6_6_name",{"$f":"'T2-B(PP5)'!$B$113","v":0},"#'T2-B(PP5)'!$B$113"]
["pp5_bl4_6_6_rate_in",{"$f":"'T2-B(PP5)'!$E$113","v":0},"#'T2-B(PP5)'!$E$113"]
["pp5_bl4_6_6_rate_out",{"$f":"'T2-B(PP5)'!$H$113","v":0},"#'T2-B(PP5)'!$H$113"]
["pp5_bl4_6_6_total",{"$f":"'T2-B(PP5)'!$J$113","v":0},"#'T2-B(PP5)'!$J$113"]
["pp5_bl4_6_6_total_in",{"$f":"'T2-B(PP5)'!$F$113","v":0},"#'T2-B(PP5)'!$F$113"]
["pp5_bl4_6_6_total_out",{"$f":"'T2-B(PP5)'!$I$113","v":0},"#'T2-B(PP5)'!$I$113"]
["pp5_bl4_6_6_unit",{"$f":"'T2-B(PP5)'!$C$113","v":0},"#'T2-B(PP5)'!$C$113"]
["pp5_bl4_6_6_unit_in",{"$f":"'T2-B(PP5)'!$D$113","v":0},"#'T2-B(PP5)'!$D$113"]
["pp5_bl4_6_6_units_out",{"$f":"'T2-B(PP5)'!$G$113","v":0},"#'T2-B(PP5)'!$G$113"]
["pp5_bl4_6_7_name",{"$f":"'T2-B(PP5)'!$B$114","v":0},"#'T2-B(PP5)'!$B$114"]
["pp5_bl4_6_7_rate_in",{"$f":"'T2-B(PP5)'!$E$114","v":0},"#'T2-B(PP5)'!$E$114"]
["pp5_bl4_6_7_rate_out",{"$f":"'T2-B(PP5)'!$H$114","v":0},"#'T2-B(PP5)'!$H$114"]
["pp5_bl4_6_7_total",{"$f":"'T2-B(PP5)'!$J$114","v":0},"#'T2-B(PP5)'!$J$114"]
["pp5_bl4_6_7_total_in",{"$f":"'T2-B(PP5)'!$F$114","v":0},"#'T2-B(PP5)'!$F$114"]
["pp5_bl4_6_7_total_out",{"$f":"'T2-B(PP5)'!$I$114","v":0},"#'T2-B(PP5)'!$I$114"]
["pp5_bl4_6_7_unit",{"$f":"'T2-B(PP5)'!$C$114","v":0},"#'T2-B(PP5)'!$C$114"]
["pp5_bl4_6_7_unit_in",{"$f":"'T2-B(PP5)'!$D$114","v":0},"#'T2-B(PP5)'!$D$114"]
["pp5_bl4_6_7_units_out",{"$f":"'T2-B(PP5)'!$G$114","v":0},"#'T2-B(PP5)'!$G$114"]
["pp5_bl4_6_8_name",{"$f":"'T2-B(PP5)'!$B$115","v":0},"#'T2-B(PP5)'!$B$115"]
["pp5_bl4_6_8_rate_in",{"$f":"'T2-B(PP5)'!$E$115","v":0},"#'T2-B(PP5)'!$E$115"]
["pp5_bl4_6_8_rate_out",{"$f":"'T2-B(PP5)'!$H$115","v":0},"#'T2-B(PP5)'!$H$115"]
["pp5_bl4_6_8_total",{"$f":"'T2-B(PP5)'!$J$115","v":0},"#'T2-B(PP5)'!$J$115"]
["pp5_bl4_6_8_total_in",{"$f":"'T2-B(PP5)'!$F$115","v":0},"#'T2-B(PP5)'!$F$115"]
["pp5_bl4_6_8_total_out",{"$f":"'T2-B(PP5)'!$I$115","v":0},"#'T2-B(PP5)'!$I$115"]
["pp5_bl4_6_8_unit",{"$f":"'T2-B(PP5)'!$C$115","v":0},"#'T2-B(PP5)'!$C$115"]
["pp5_bl4_6_8_unit_in",{"$f":"'T2-B(PP5)'!$D$115","v":0},"#'T2-B(PP5)'!$D$115"]
["pp5_bl4_6_8_units_out",{"$f":"'T2-B(PP5)'!$G$115","v":0},"#'T2-B(PP5)'!$G$115"]
["pp5_bl4_6_9_name",{"$f":"'T2-B(PP5)'!$B$116","v":0},"#'T2-B(PP5)'!$B$116"]
["pp5_bl4_6_9_rate_in",{"$f":"'T2-B(PP5)'!$E$116","v":0},"#'T2-B(PP5)'!$E$116"]
["pp5_bl4_6_9_rate_out",{"$f":"'T2-B(PP5)'!$H$116","v":0},"#'T2-B(PP5)'!$H$116"]
["pp5_bl4_6_9_total",{"$f":"'T2-B(PP5)'!$J$116","v":0},"#'T2-B(PP5)'!$J$116"]
["pp5_bl4_6_9_total_in",{"$f":"'T2-B(PP5)'!$F$116","v":0},"#'T2-B(PP5)'!$F$116"]
["pp5_bl4_6_9_total_out",{"$f":"'T2-B(PP5)'!$I$116","v":0},"#'T2-B(PP5)'!$I$116"]
["pp5_bl4_6_9_unit",{"$f":"'T2-B(PP5)'!$C$116","v":0},"#'T2-B(PP5)'!$C$116"]
["pp5_bl4_6_9_unit_in",{"$f":"'T2-B(PP5)'!$D$116","v":0},"#'T2-B(PP5)'!$D$116"]
["pp5_bl4_6_9_units_out",{"$f":"'T2-B(PP5)'!$G$116","v":0},"#'T2-B(PP5)'!$G$116"]
["pp5_bl4_6_total",{"$f":"'T2-B(PP5)'!$J$107","v":0},"#'T2-B(PP5)'!$J$107"]
["pp5_bl4_6_total_in",{"$f":"'T2-B(PP5)'!$F$107","v":0},"#'T2-B(PP5)'!$F$107"]
["pp5_bl4_6_total_out",{"$f":"'T2-B(PP5)'!$I$107","v":0},"#'T2-B(PP5)'!$I$107"]
["pp5_bl4_7_1_name",{"$f":"'T2-B(PP5)'!$B$119","v":0},"#'T2-B(PP5)'!$B$119"]
["pp5_bl4_7_1_rate_in",{"$f":"'T2-B(PP5)'!$E$119","v":0},"#'T2-B(PP5)'!$E$119"]
["pp5_bl4_7_1_rate_out",{"$f":"'T2-B(PP5)'!$H$119","v":0},"#'T2-B(PP5)'!$H$119"]
["pp5_bl4_7_1_total",{"$f":"'T2-B(PP5)'!$J$119","v":0},"#'T2-B(PP5)'!$J$119"]
["pp5_bl4_7_1_total_in",{"$f":"'T2-B(PP5)'!$F$119","v":0},"#'T2-B(PP5)'!$F$119"]
["pp5_bl4_7_1_total_out",{"$f":"'T2-B(PP5)'!$I$119","v":0},"#'T2-B(PP5)'!$I$119"]
["pp5_bl4_7_1_unit",{"$f":"'T2-B(PP5)'!$C$119","v":0},"#'T2-B(PP5)'!$C$119"]
["pp5_bl4_7_1_unit_in",{"$f":"'T2-B(PP5)'!$D$119","v":0},"#'T2-B(PP5)'!$D$119"]
["pp5_bl4_7_1_units_out",{"$f":"'T2-B(PP5)'!$G$119","v":0},"#'T2-B(PP5)'!$G$119"]
["pp5_bl4_7_10_name",{"$f":"'T2-B(PP5)'!$B$128","v":0},"#'T2-B(PP5)'!$B$128"]
["pp5_bl4_7_10_rate_in",{"$f":"'T2-B(PP5)'!$E$128","v":0},"#'T2-B(PP5)'!$E$128"]
["pp5_bl4_7_10_rate_out",{"$f":"'T2-B(PP5)'!$H$128","v":0},"#'T2-B(PP5)'!$H$128"]
["pp5_bl4_7_10_total",{"$f":"'T2-B(PP5)'!$J$128","v":0},"#'T2-B(PP5)'!$J$128"]
["pp5_bl4_7_10_total_in",{"$f":"'T2-B(PP5)'!$F$128","v":0},"#'T2-B(PP5)'!$F$128"]
["pp5_bl4_7_10_total_out",{"$f":"'T2-B(PP5)'!$I$128","v":0},"#'T2-B(PP5)'!$I$128"]
["pp5_bl4_7_10_unit",{"$f":"'T2-B(PP5)'!$C$128","v":0},"#'T2-B(PP5)'!$C$128"]
["pp5_bl4_7_10_unit_in",{"$f":"'T2-B(PP5)'!$D$128","v":0},"#'T2-B(PP5)'!$D$128"]
["pp5_bl4_7_10_units_out",{"$f":"'T2-B(PP5)'!$G$128","v":0},"#'T2-B(PP5)'!$G$128"]
["pp5_bl4_7_2_name",{"$f":"'T2-B(PP5)'!$B$120","v":0},"#'T2-B(PP5)'!$B$120"]
["pp5_bl4_7_2_rate_in",{"$f":"'T2-B(PP5)'!$E$120","v":0},"#'T2-B(PP5)'!$E$120"]
["pp5_bl4_7_2_rate_out",{"$f":"'T2-B(PP5)'!$H$120","v":0},"#'T2-B(PP5)'!$H$120"]
["pp5_bl4_7_2_total",{"$f":"'T2-B(PP5)'!$J$120","v":0},"#'T2-B(PP5)'!$J$120"]
["pp5_bl4_7_2_total_in",{"$f":"'T2-B(PP5)'!$F$120","v":0},"#'T2-B(PP5)'!$F$120"]
["pp5_bl4_7_2_total_out",{"$f":"'T2-B(PP5)'!$I$120","v":0},"#'T2-B(PP5)'!$I$120"]
["pp5_bl4_7_2_unit",{"$f":"'T2-B(PP5)'!$C$120","v":0},"#'T2-B(PP5)'!$C$120"]
["pp5_bl4_7_2_unit_in",{"$f":"'T2-B(PP5)'!$D$120","v":0},"#'T2-B(PP5)'!$D$120"]
["pp5_bl4_7_2_units_out",{"$f":"'T2-B(PP5)'!$G$120","v":0},"#'T2-B(PP5)'!$G$120"]
["pp5_bl4_7_3_name",{"$f":"'T2-B(PP5)'!$B$121","v":0},"#'T2-B(PP5)'!$B$121"]
["pp5_bl4_7_3_rate_in",{"$f":"'T2-B(PP5)'!$E$121","v":0},"#'T2-B(PP5)'!$E$121"]
["pp5_bl4_7_3_rate_out",{"$f":"'T2-B(PP5)'!$H$121","v":0},"#'T2-B(PP5)'!$H$121"]
["pp5_bl4_7_3_total",{"$f":"'T2-B(PP5)'!$J$121","v":0},"#'T2-B(PP5)'!$J$121"]
["pp5_bl4_7_3_total_in",{"$f":"'T2-B(PP5)'!$F$121","v":0},"#'T2-B(PP5)'!$F$121"]
["pp5_bl4_7_3_total_out",{"$f":"'T2-B(PP5)'!$I$121","v":0},"#'T2-B(PP5)'!$I$121"]
["pp5_bl4_7_3_unit",{"$f":"'T2-B(PP5)'!$C$121","v":0},"#'T2-B(PP5)'!$C$121"]
["pp5_bl4_7_3_unit_in",{"$f":"'T2-B(PP5)'!$D$121","v":0},"#'T2-B(PP5)'!$D$121"]
["pp5_bl4_7_3_units_out",{"$f":"'T2-B(PP5)'!$G$121","v":0},"#'T2-B(PP5)'!$G$121"]
["pp5_bl4_7_4_name",{"$f":"'T2-B(PP5)'!$B$122","v":0},"#'T2-B(PP5)'!$B$122"]
["pp5_bl4_7_4_rate_in",{"$f":"'T2-B(PP5)'!$E$122","v":0},"#'T2-B(PP5)'!$E$122"]
["pp5_bl4_7_4_rate_out",{"$f":"'T2-B(PP5)'!$H$122","v":0},"#'T2-B(PP5)'!$H$122"]
["pp5_bl4_7_4_total",{"$f":"'T2-B(PP5)'!$J$122","v":0},"#'T2-B(PP5)'!$J$122"]
["pp5_bl4_7_4_total_in",{"$f":"'T2-B(PP5)'!$F$122","v":0},"#'T2-B(PP5)'!$F$122"]
["pp5_bl4_7_4_total_out",{"$f":"'T2-B(PP5)'!$I$122","v":0},"#'T2-B(PP5)'!$I$122"]
["pp5_bl4_7_4_unit",{"$f":"'T2-B(PP5)'!$C$122","v":0},"#'T2-B(PP5)'!$C$122"]
["pp5_bl4_7_4_unit_in",{"$f":"'T2-B(PP5)'!$D$122","v":0},"#'T2-B(PP5)'!$D$122"]
["pp5_bl4_7_4_units_out",{"$f":"'T2-B(PP5)'!$G$122","v":0},"#'T2-B(PP5)'!$G$122"]
["pp5_bl4_7_5_name",{"$f":"'T2-B(PP5)'!$B$123","v":0},"#'T2-B(PP5)'!$B$123"]
["pp5_bl4_7_5_rate_in",{"$f":"'T2-B(PP5)'!$E$123","v":0},"#'T2-B(PP5)'!$E$123"]
["pp5_bl4_7_5_rate_out",{"$f":"'T2-B(PP5)'!$H$123","v":0},"#'T2-B(PP5)'!$H$123"]
["pp5_bl4_7_5_total",{"$f":"'T2-B(PP5)'!$J$123","v":0},"#'T2-B(PP5)'!$J$123"]
["pp5_bl4_7_5_total_in",{"$f":"'T2-B(PP5)'!$F$123","v":0},"#'T2-B(PP5)'!$F$123"]
["pp5_bl4_7_5_total_out",{"$f":"'T2-B(PP5)'!$I$123","v":0},"#'T2-B(PP5)'!$I$123"]
["pp5_bl4_7_5_unit",{"$f":"'T2-B(PP5)'!$C$123","v":0},"#'T2-B(PP5)'!$C$123"]
["pp5_bl4_7_5_unit_in",{"$f":"'T2-B(PP5)'!$D$123","v":0},"#'T2-B(PP5)'!$D$123"]
["pp5_bl4_7_5_units_out",{"$f":"'T2-B(PP5)'!$G$123","v":0},"#'T2-B(PP5)'!$G$123"]
["pp5_bl4_7_6_name",{"$f":"'T2-B(PP5)'!$B$124","v":0},"#'T2-B(PP5)'!$B$124"]
["pp5_bl4_7_6_rate_in",{"$f":"'T2-B(PP5)'!$E$124","v":0},"#'T2-B(PP5)'!$E$124"]
["pp5_bl4_7_6_rate_out",{"$f":"'T2-B(PP5)'!$H$124","v":0},"#'T2-B(PP5)'!$H$124"]
["pp5_bl4_7_6_total",{"$f":"'T2-B(PP5)'!$J$124","v":0},"#'T2-B(PP5)'!$J$124"]
["pp5_bl4_7_6_total_in",{"$f":"'T2-B(PP5)'!$F$124","v":0},"#'T2-B(PP5)'!$F$124"]
["pp5_bl4_7_6_total_out",{"$f":"'T2-B(PP5)'!$I$124","v":0},"#'T2-B(PP5)'!$I$124"]
["pp5_bl4_7_6_unit",{"$f":"'T2-B(PP5)'!$C$124","v":0},"#'T2-B(PP5)'!$C$124"]
["pp5_bl4_7_6_unit_in",{"$f":"'T2-B(PP5)'!$D$124","v":0},"#'T2-B(PP5)'!$D$124"]
["pp5_bl4_7_6_units_out",{"$f":"'T2-B(PP5)'!$G$124","v":0},"#'T2-B(PP5)'!$G$124"]
["pp5_bl4_7_7_name",{"$f":"'T2-B(PP5)'!$B$125","v":0},"#'T2-B(PP5)'!$B$125"]
["pp5_bl4_7_7_rate_in",{"$f":"'T2-B(PP5)'!$E$125","v":0},"#'T2-B(PP5)'!$E$125"]
["pp5_bl4_7_7_rate_out",{"$f":"'T2-B(PP5)'!$H$125","v":0},"#'T2-B(PP5)'!$H$125"]
["pp5_bl4_7_7_total",{"$f":"'T2-B(PP5)'!$J$125","v":0},"#'T2-B(PP5)'!$J$125"]
["pp5_bl4_7_7_total_in",{"$f":"'T2-B(PP5)'!$F$125","v":0},"#'T2-B(PP5)'!$F$125"]
["pp5_bl4_7_7_total_out",{"$f":"'T2-B(PP5)'!$I$125","v":0},"#'T2-B(PP5)'!$I$125"]
["pp5_bl4_7_7_unit",{"$f":"'T2-B(PP5)'!$C$125","v":0},"#'T2-B(PP5)'!$C$125"]
["pp5_bl4_7_7_unit_in",{"$f":"'T2-B(PP5)'!$D$125","v":0},"#'T2-B(PP5)'!$D$125"]
["pp5_bl4_7_7_units_out",{"$f":"'T2-B(PP5)'!$G$125","v":0},"#'T2-B(PP5)'!$G$125"]
["pp5_bl4_7_8_name",{"$f":"'T2-B(PP5)'!$B$126","v":0},"#'T2-B(PP5)'!$B$126"]
["pp5_bl4_7_8_rate_in",{"$f":"'T2-B(PP5)'!$E$126","v":0},"#'T2-B(PP5)'!$E$126"]
["pp5_bl4_7_8_rate_out",{"$f":"'T2-B(PP5)'!$H$126","v":0},"#'T2-B(PP5)'!$H$126"]
["pp5_bl4_7_8_total",{"$f":"'T2-B(PP5)'!$J$126","v":0},"#'T2-B(PP5)'!$J$126"]
["pp5_bl4_7_8_total_in",{"$f":"'T2-B(PP5)'!$F$126","v":0},"#'T2-B(PP5)'!$F$126"]
["pp5_bl4_7_8_total_out",{"$f":"'T2-B(PP5)'!$I$126","v":0},"#'T2-B(PP5)'!$I$126"]
["pp5_bl4_7_8_unit",{"$f":"'T2-B(PP5)'!$C$126","v":0},"#'T2-B(PP5)'!$C$126"]
["pp5_bl4_7_8_unit_in",{"$f":"'T2-B(PP5)'!$D$126","v":0},"#'T2-B(PP5)'!$D$126"]
["pp5_bl4_7_8_units_out",{"$f":"'T2-B(PP5)'!$G$126","v":0},"#'T2-B(PP5)'!$G$126"]
["pp5_bl4_7_9_name",{"$f":"'T2-B(PP5)'!$B$127","v":0},"#'T2-B(PP5)'!$B$127"]
["pp5_bl4_7_9_rate_in",{"$f":"'T2-B(PP5)'!$E$127","v":0},"#'T2-B(PP5)'!$E$127"]
["pp5_bl4_7_9_rate_out",{"$f":"'T2-B(PP5)'!$H$127","v":0},"#'T2-B(PP5)'!$H$127"]
["pp5_bl4_7_9_total",{"$f":"'T2-B(PP5)'!$J$127","v":0},"#'T2-B(PP5)'!$J$127"]
["pp5_bl4_7_9_total_in",{"$f":"'T2-B(PP5)'!$F$127","v":0},"#'T2-B(PP5)'!$F$127"]
["pp5_bl4_7_9_total_out",{"$f":"'T2-B(PP5)'!$I$127","v":0},"#'T2-B(PP5)'!$I$127"]
["pp5_bl4_7_9_unit",{"$f":"'T2-B(PP5)'!$C$127","v":0},"#'T2-B(PP5)'!$C$127"]
["pp5_bl4_7_9_unit_in",{"$f":"'T2-B(PP5)'!$D$127","v":0},"#'T2-B(PP5)'!$D$127"]
["pp5_bl4_7_9_units_out",{"$f":"'T2-B(PP5)'!$G$127","v":0},"#'T2-B(PP5)'!$G$127"]
["pp5_bl4_7_total",{"$f":"'T2-B(PP5)'!$J$118","v":0},"#'T2-B(PP5)'!$J$118"]
["pp5_bl4_7_total_in",{"$f":"'T2-B(PP5)'!$F$118","v":0},"#'T2-B(PP5)'!$F$118"]
["pp5_bl4_7_total_out",{"$f":"'T2-B(PP5)'!$I$118","v":0},"#'T2-B(PP5)'!$I$118"]
["pp5_bl4_8_1_name",{"$f":"'T2-B(PP5)'!$B$130","v":0},"#'T2-B(PP5)'!$B$130"]
["pp5_bl4_8_1_rate_in",{"$f":"'T2-B(PP5)'!$E$130","v":0},"#'T2-B(PP5)'!$E$130"]
["pp5_bl4_8_1_rate_out",{"$f":"'T2-B(PP5)'!$H$130","v":0},"#'T2-B(PP5)'!$H$130"]
["pp5_bl4_8_1_total",{"$f":"'T2-B(PP5)'!$J$130","v":0},"#'T2-B(PP5)'!$J$130"]
["pp5_bl4_8_1_total_in",{"$f":"'T2-B(PP5)'!$F$130","v":0},"#'T2-B(PP5)'!$F$130"]
["pp5_bl4_8_1_total_out",{"$f":"'T2-B(PP5)'!$I$130","v":0},"#'T2-B(PP5)'!$I$130"]
["pp5_bl4_8_1_unit",{"$f":"'T2-B(PP5)'!$C$130","v":0},"#'T2-B(PP5)'!$C$130"]
["pp5_bl4_8_1_unit_in",{"$f":"'T2-B(PP5)'!$D$130","v":0},"#'T2-B(PP5)'!$D$130"]
["pp5_bl4_8_1_units_out",{"$f":"'T2-B(PP5)'!$G$130","v":0},"#'T2-B(PP5)'!$G$130"]
["pp5_bl4_8_10_name",{"$f":"'T2-B(PP5)'!$B$139","v":0},"#'T2-B(PP5)'!$B$139"]
["pp5_bl4_8_10_rate_in",{"$f":"'T2-B(PP5)'!$E$139","v":0},"#'T2-B(PP5)'!$E$139"]
["pp5_bl4_8_10_rate_out",{"$f":"'T2-B(PP5)'!$H$139","v":0},"#'T2-B(PP5)'!$H$139"]
["pp5_bl4_8_10_total",{"$f":"'T2-B(PP5)'!$J$139","v":0},"#'T2-B(PP5)'!$J$139"]
["pp5_bl4_8_10_total_in",{"$f":"'T2-B(PP5)'!$F$139","v":0},"#'T2-B(PP5)'!$F$139"]
["pp5_bl4_8_10_total_out",{"$f":"'T2-B(PP5)'!$I$139","v":0},"#'T2-B(PP5)'!$I$139"]
["pp5_bl4_8_10_unit",{"$f":"'T2-B(PP5)'!$C$139","v":0},"#'T2-B(PP5)'!$C$139"]
["pp5_bl4_8_10_unit_in",{"$f":"'T2-B(PP5)'!$D$139","v":0},"#'T2-B(PP5)'!$D$139"]
["pp5_bl4_8_10_units_out",{"$f":"'T2-B(PP5)'!$G$139","v":0},"#'T2-B(PP5)'!$G$139"]
["pp5_bl4_8_2_name",{"$f":"'T2-B(PP5)'!$B$131","v":0},"#'T2-B(PP5)'!$B$131"]
["pp5_bl4_8_2_rate_in",{"$f":"'T2-B(PP5)'!$E$131","v":0},"#'T2-B(PP5)'!$E$131"]
["pp5_bl4_8_2_rate_out",{"$f":"'T2-B(PP5)'!$H$131","v":0},"#'T2-B(PP5)'!$H$131"]
["pp5_bl4_8_2_total",{"$f":"'T2-B(PP5)'!$J$131","v":0},"#'T2-B(PP5)'!$J$131"]
["pp5_bl4_8_2_total_in",{"$f":"'T2-B(PP5)'!$F$131","v":0},"#'T2-B(PP5)'!$F$131"]
["pp5_bl4_8_2_total_out",{"$f":"'T2-B(PP5)'!$I$131","v":0},"#'T2-B(PP5)'!$I$131"]
["pp5_bl4_8_2_unit",{"$f":"'T2-B(PP5)'!$C$131","v":0},"#'T2-B(PP5)'!$C$131"]
["pp5_bl4_8_2_unit_in",{"$f":"'T2-B(PP5)'!$D$131","v":0},"#'T2-B(PP5)'!$D$131"]
["pp5_bl4_8_2_units_out",{"$f":"'T2-B(PP5)'!$G$131","v":0},"#'T2-B(PP5)'!$G$131"]
["pp5_bl4_8_3_name",{"$f":"'T2-B(PP5)'!$B$132","v":0},"#'T2-B(PP5)'!$B$132"]
["pp5_bl4_8_3_rate_in",{"$f":"'T2-B(PP5)'!$E$132","v":0},"#'T2-B(PP5)'!$E$132"]
["pp5_bl4_8_3_rate_out",{"$f":"'T2-B(PP5)'!$H$132","v":0},"#'T2-B(PP5)'!$H$132"]
["pp5_bl4_8_3_total",{"$f":"'T2-B(PP5)'!$J$132","v":0},"#'T2-B(PP5)'!$J$132"]
["pp5_bl4_8_3_total_in",{"$f":"'T2-B(PP5)'!$F$132","v":0},"#'T2-B(PP5)'!$F$132"]
["pp5_bl4_8_3_total_out",{"$f":"'T2-B(PP5)'!$I$132","v":0},"#'T2-B(PP5)'!$I$132"]
["pp5_bl4_8_3_unit",{"$f":"'T2-B(PP5)'!$C$132","v":0},"#'T2-B(PP5)'!$C$132"]
["pp5_bl4_8_3_unit_in",{"$f":"'T2-B(PP5)'!$D$132","v":0},"#'T2-B(PP5)'!$D$132"]
["pp5_bl4_8_3_units_out",{"$f":"'T2-B(PP5)'!$G$132","v":0},"#'T2-B(PP5)'!$G$132"]
["pp5_bl4_8_4_name",{"$f":"'T2-B(PP5)'!$B$133","v":0},"#'T2-B(PP5)'!$B$133"]
["pp5_bl4_8_4_rate_in",{"$f":"'T2-B(PP5)'!$E$133","v":0},"#'T2-B(PP5)'!$E$133"]
["pp5_bl4_8_4_rate_out",{"$f":"'T2-B(PP5)'!$H$133","v":0},"#'T2-B(PP5)'!$H$133"]
["pp5_bl4_8_4_total",{"$f":"'T2-B(PP5)'!$J$133","v":0},"#'T2-B(PP5)'!$J$133"]
["pp5_bl4_8_4_total_in",{"$f":"'T2-B(PP5)'!$F$133","v":0},"#'T2-B(PP5)'!$F$133"]
["pp5_bl4_8_4_total_out",{"$f":"'T2-B(PP5)'!$I$133","v":0},"#'T2-B(PP5)'!$I$133"]
["pp5_bl4_8_4_unit",{"$f":"'T2-B(PP5)'!$C$133","v":0},"#'T2-B(PP5)'!$C$133"]
["pp5_bl4_8_4_unit_in",{"$f":"'T2-B(PP5)'!$D$133","v":0},"#'T2-B(PP5)'!$D$133"]
["pp5_bl4_8_4_units_out",{"$f":"'T2-B(PP5)'!$G$133","v":0},"#'T2-B(PP5)'!$G$133"]
["pp5_bl4_8_5_name",{"$f":"'T2-B(PP5)'!$B$134","v":0},"#'T2-B(PP5)'!$B$134"]
["pp5_bl4_8_5_rate_in",{"$f":"'T2-B(PP5)'!$E$134","v":0},"#'T2-B(PP5)'!$E$134"]
["pp5_bl4_8_5_rate_out",{"$f":"'T2-B(PP5)'!$H$134","v":0},"#'T2-B(PP5)'!$H$134"]
["pp5_bl4_8_5_total",{"$f":"'T2-B(PP5)'!$J$134","v":0},"#'T2-B(PP5)'!$J$134"]
["pp5_bl4_8_5_total_in",{"$f":"'T2-B(PP5)'!$F$134","v":0},"#'T2-B(PP5)'!$F$134"]
["pp5_bl4_8_5_total_out",{"$f":"'T2-B(PP5)'!$I$134","v":0},"#'T2-B(PP5)'!$I$134"]
["pp5_bl4_8_5_unit",{"$f":"'T2-B(PP5)'!$C$134","v":0},"#'T2-B(PP5)'!$C$134"]
["pp5_bl4_8_5_unit_in",{"$f":"'T2-B(PP5)'!$D$134","v":0},"#'T2-B(PP5)'!$D$134"]
["pp5_bl4_8_5_units_out",{"$f":"'T2-B(PP5)'!$G$134","v":0},"#'T2-B(PP5)'!$G$134"]
["pp5_bl4_8_6_name",{"$f":"'T2-B(PP5)'!$B$135","v":0},"#'T2-B(PP5)'!$B$135"]
["pp5_bl4_8_6_rate_in",{"$f":"'T2-B(PP5)'!$E$135","v":0},"#'T2-B(PP5)'!$E$135"]
["pp5_bl4_8_6_rate_out",{"$f":"'T2-B(PP5)'!$H$135","v":0},"#'T2-B(PP5)'!$H$135"]
["pp5_bl4_8_6_total",{"$f":"'T2-B(PP5)'!$J$135","v":0},"#'T2-B(PP5)'!$J$135"]
["pp5_bl4_8_6_total_in",{"$f":"'T2-B(PP5)'!$F$135","v":0},"#'T2-B(PP5)'!$F$135"]
["pp5_bl4_8_6_total_out",{"$f":"'T2-B(PP5)'!$I$135","v":0},"#'T2-B(PP5)'!$I$135"]
["pp5_bl4_8_6_unit",{"$f":"'T2-B(PP5)'!$C$135","v":0},"#'T2-B(PP5)'!$C$135"]
["pp5_bl4_8_6_unit_in",{"$f":"'T2-B(PP5)'!$D$135","v":0},"#'T2-B(PP5)'!$D$135"]
["pp5_bl4_8_6_units_out",{"$f":"'T2-B(PP5)'!$G$135","v":0},"#'T2-B(PP5)'!$G$135"]
["pp5_bl4_8_7_name",{"$f":"'T2-B(PP5)'!$B$136","v":0},"#'T2-B(PP5)'!$B$136"]
["pp5_bl4_8_7_rate_in",{"$f":"'T2-B(PP5)'!$E$136","v":0},"#'T2-B(PP5)'!$E$136"]
["pp5_bl4_8_7_rate_out",{"$f":"'T2-B(PP5)'!$H$136","v":0},"#'T2-B(PP5)'!$H$136"]
["pp5_bl4_8_7_total",{"$f":"'T2-B(PP5)'!$J$136","v":0},"#'T2-B(PP5)'!$J$136"]
["pp5_bl4_8_7_total_in",{"$f":"'T2-B(PP5)'!$F$136","v":0},"#'T2-B(PP5)'!$F$136"]
["pp5_bl4_8_7_total_out",{"$f":"'T2-B(PP5)'!$I$136","v":0},"#'T2-B(PP5)'!$I$136"]
["pp5_bl4_8_7_unit",{"$f":"'T2-B(PP5)'!$C$136","v":0},"#'T2-B(PP5)'!$C$136"]
["pp5_bl4_8_7_unit_in",{"$f":"'T2-B(PP5)'!$D$136","v":0},"#'T2-B(PP5)'!$D$136"]
["pp5_bl4_8_7_units_out",{"$f":"'T2-B(PP5)'!$G$136","v":0},"#'T2-B(PP5)'!$G$136"]
["pp5_bl4_8_8_name",{"$f":"'T2-B(PP5)'!$B$137","v":0},"#'T2-B(PP5)'!$B$137"]
["pp5_bl4_8_8_rate_in",{"$f":"'T2-B(PP5)'!$E$137","v":0},"#'T2-B(PP5)'!$E$137"]
["pp5_bl4_8_8_rate_out",{"$f":"'T2-B(PP5)'!$H$137","v":0},"#'T2-B(PP5)'!$H$137"]
["pp5_bl4_8_8_total",{"$f":"'T2-B(PP5)'!$J$137","v":0},"#'T2-B(PP5)'!$J$137"]
["pp5_bl4_8_8_total_in",{"$f":"'T2-B(PP5)'!$F$137","v":0},"#'T2-B(PP5)'!$F$137"]
["pp5_bl4_8_8_total_out",{"$f":"'T2-B(PP5)'!$I$137","v":0},"#'T2-B(PP5)'!$I$137"]
["pp5_bl4_8_8_unit",{"$f":"'T2-B(PP5)'!$C$137","v":0},"#'T2-B(PP5)'!$C$137"]
["pp5_bl4_8_8_unit_in",{"$f":"'T2-B(PP5)'!$D$137","v":0},"#'T2-B(PP5)'!$D$137"]
["pp5_bl4_8_8_units_out",{"$f":"'T2-B(PP5)'!$G$137","v":0},"#'T2-B(PP5)'!$G$137"]
["pp5_bl4_8_9_name",{"$f":"'T2-B(PP5)'!$B$138","v":0},"#'T2-B(PP5)'!$B$138"]
["pp5_bl4_8_9_rate_in",{"$f":"'T2-B(PP5)'!$E$138","v":0},"#'T2-B(PP5)'!$E$138"]
["pp5_bl4_8_9_rate_out",{"$f":"'T2-B(PP5)'!$H$138","v":0},"#'T2-B(PP5)'!$H$138"]
["pp5_bl4_8_9_total",{"$f":"'T2-B(PP5)'!$J$138","v":0},"#'T2-B(PP5)'!$J$138"]
["pp5_bl4_8_9_total_in",{"$f":"'T2-B(PP5)'!$F$138","v":0},"#'T2-B(PP5)'!$F$138"]
["pp5_bl4_8_9_total_out",{"$f":"'T2-B(PP5)'!$I$138","v":0},"#'T2-B(PP5)'!$I$138"]
["pp5_bl4_8_9_unit",{"$f":"'T2-B(PP5)'!$C$138","v":0},"#'T2-B(PP5)'!$C$138"]
["pp5_bl4_8_9_unit_in",{"$f":"'T2-B(PP5)'!$D$138","v":0},"#'T2-B(PP5)'!$D$138"]
["pp5_bl4_8_9_units_out",{"$f":"'T2-B(PP5)'!$G$138","v":0},"#'T2-B(PP5)'!$G$138"]
["pp5_bl4_8_total",{"$f":"'T2-B(PP5)'!$J$129","v":0},"#'T2-B(PP5)'!$J$129"]
["pp5_bl4_8_total_in",{"$f":"'T2-B(PP5)'!$F$129","v":0},"#'T2-B(PP5)'!$F$129"]
["pp5_bl4_8_total_out",{"$f":"'T2-B(PP5)'!$I$129","v":0},"#'T2-B(PP5)'!$I$129"]
["pp5_bl4_9_1_name",{"$f":"'T2-B(PP5)'!$B$141","v":0},"#'T2-B(PP5)'!$B$141"]
["pp5_bl4_9_1_rate_in",{"$f":"'T2-B(PP5)'!$E$141","v":0},"#'T2-B(PP5)'!$E$141"]
["pp5_bl4_9_1_rate_out",{"$f":"'T2-B(PP5)'!$H$141","v":0},"#'T2-B(PP5)'!$H$141"]
["pp5_bl4_9_1_total",{"$f":"'T2-B(PP5)'!$J$141","v":0},"#'T2-B(PP5)'!$J$141"]
["pp5_bl4_9_1_total_in",{"$f":"'T2-B(PP5)'!$F$141","v":0},"#'T2-B(PP5)'!$F$141"]
["pp5_bl4_9_1_total_out",{"$f":"'T2-B(PP5)'!$I$141","v":0},"#'T2-B(PP5)'!$I$141"]
["pp5_bl4_9_1_unit",{"$f":"'T2-B(PP5)'!$C$141","v":0},"#'T2-B(PP5)'!$C$141"]
["pp5_bl4_9_1_unit_in",{"$f":"'T2-B(PP5)'!$D$141","v":0},"#'T2-B(PP5)'!$D$141"]
["pp5_bl4_9_1_units_out",{"$f":"'T2-B(PP5)'!$G$141","v":0},"#'T2-B(PP5)'!$G$141"]
["pp5_bl4_9_10_name",{"$f":"'T2-B(PP5)'!$B$150","v":0},"#'T2-B(PP5)'!$B$150"]
["pp5_bl4_9_10_rate_in",{"$f":"'T2-B(PP5)'!$E$150","v":0},"#'T2-B(PP5)'!$E$150"]
["pp5_bl4_9_10_rate_out",{"$f":"'T2-B(PP5)'!$H$150","v":0},"#'T2-B(PP5)'!$H$150"]
["pp5_bl4_9_10_total",{"$f":"'T2-B(PP5)'!$J$150","v":0},"#'T2-B(PP5)'!$J$150"]
["pp5_bl4_9_10_total_in",{"$f":"'T2-B(PP5)'!$F$150","v":0},"#'T2-B(PP5)'!$F$150"]
["pp5_bl4_9_10_total_out",{"$f":"'T2-B(PP5)'!$I$150","v":0},"#'T2-B(PP5)'!$I$150"]
["pp5_bl4_9_10_unit",{"$f":"'T2-B(PP5)'!$C$150","v":0},"#'T2-B(PP5)'!$C$150"]
["pp5_bl4_9_10_unit_in",{"$f":"'T2-B(PP5)'!$D$150","v":0},"#'T2-B(PP5)'!$D$150"]
["pp5_bl4_9_10_units_out",{"$f":"'T2-B(PP5)'!$G$150","v":0},"#'T2-B(PP5)'!$G$150"]
["pp5_bl4_9_2_name",{"$f":"'T2-B(PP5)'!$B$142","v":0},"#'T2-B(PP5)'!$B$142"]
["pp5_bl4_9_2_rate_in",{"$f":"'T2-B(PP5)'!$E$142","v":0},"#'T2-B(PP5)'!$E$142"]
["pp5_bl4_9_2_rate_out",{"$f":"'T2-B(PP5)'!$H$142","v":0},"#'T2-B(PP5)'!$H$142"]
["pp5_bl4_9_2_total",{"$f":"'T2-B(PP5)'!$J$142","v":0},"#'T2-B(PP5)'!$J$142"]
["pp5_bl4_9_2_total_in",{"$f":"'T2-B(PP5)'!$F$142","v":0},"#'T2-B(PP5)'!$F$142"]
["pp5_bl4_9_2_total_out",{"$f":"'T2-B(PP5)'!$I$142","v":0},"#'T2-B(PP5)'!$I$142"]
["pp5_bl4_9_2_unit",{"$f":"'T2-B(PP5)'!$C$142","v":0},"#'T2-B(PP5)'!$C$142"]
["pp5_bl4_9_2_unit_in",{"$f":"'T2-B(PP5)'!$D$142","v":0},"#'T2-B(PP5)'!$D$142"]
["pp5_bl4_9_2_units_out",{"$f":"'T2-B(PP5)'!$G$142","v":0},"#'T2-B(PP5)'!$G$142"]
["pp5_bl4_9_3_name",{"$f":"'T2-B(PP5)'!$B$143","v":0},"#'T2-B(PP5)'!$B$143"]
["pp5_bl4_9_3_rate_in",{"$f":"'T2-B(PP5)'!$E$143","v":0},"#'T2-B(PP5)'!$E$143"]
["pp5_bl4_9_3_rate_out",{"$f":"'T2-B(PP5)'!$H$143","v":0},"#'T2-B(PP5)'!$H$143"]
["pp5_bl4_9_3_total",{"$f":"'T2-B(PP5)'!$J$143","v":0},"#'T2-B(PP5)'!$J$143"]
["pp5_bl4_9_3_total_in",{"$f":"'T2-B(PP5)'!$F$143","v":0},"#'T2-B(PP5)'!$F$143"]
["pp5_bl4_9_3_total_out",{"$f":"'T2-B(PP5)'!$I$143","v":0},"#'T2-B(PP5)'!$I$143"]
["pp5_bl4_9_3_unit",{"$f":"'T2-B(PP5)'!$C$143","v":0},"#'T2-B(PP5)'!$C$143"]
["pp5_bl4_9_3_unit_in",{"$f":"'T2-B(PP5)'!$D$143","v":0},"#'T2-B(PP5)'!$D$143"]
["pp5_bl4_9_3_units_out",{"$f":"'T2-B(PP5)'!$G$143","v":0},"#'T2-B(PP5)'!$G$143"]
["pp5_bl4_9_4_name",{"$f":"'T2-B(PP5)'!$B$144","v":0},"#'T2-B(PP5)'!$B$144"]
["pp5_bl4_9_4_rate_in",{"$f":"'T2-B(PP5)'!$E$144","v":0},"#'T2-B(PP5)'!$E$144"]
["pp5_bl4_9_4_rate_out",{"$f":"'T2-B(PP5)'!$H$144","v":0},"#'T2-B(PP5)'!$H$144"]
["pp5_bl4_9_4_total",{"$f":"'T2-B(PP5)'!$J$144","v":0},"#'T2-B(PP5)'!$J$144"]
["pp5_bl4_9_4_total_in",{"$f":"'T2-B(PP5)'!$F$144","v":0},"#'T2-B(PP5)'!$F$144"]
["pp5_bl4_9_4_total_out",{"$f":"'T2-B(PP5)'!$I$144","v":0},"#'T2-B(PP5)'!$I$144"]
["pp5_bl4_9_4_unit",{"$f":"'T2-B(PP5)'!$C$144","v":0},"#'T2-B(PP5)'!$C$144"]
["pp5_bl4_9_4_unit_in",{"$f":"'T2-B(PP5)'!$D$144","v":0},"#'T2-B(PP5)'!$D$144"]
["pp5_bl4_9_4_units_out",{"$f":"'T2-B(PP5)'!$G$144","v":0},"#'T2-B(PP5)'!$G$144"]
["pp5_bl4_9_5_name",{"$f":"'T2-B(PP5)'!$B$145","v":0},"#'T2-B(PP5)'!$B$145"]
["pp5_bl4_9_5_rate_in",{"$f":"'T2-B(PP5)'!$E$145","v":0},"#'T2-B(PP5)'!$E$145"]
["pp5_bl4_9_5_rate_out",{"$f":"'T2-B(PP5)'!$H$145","v":0},"#'T2-B(PP5)'!$H$145"]
["pp5_bl4_9_5_total",{"$f":"'T2-B(PP5)'!$J$145","v":0},"#'T2-B(PP5)'!$J$145"]
["pp5_bl4_9_5_total_in",{"$f":"'T2-B(PP5)'!$F$145","v":0},"#'T2-B(PP5)'!$F$145"]
["pp5_bl4_9_5_total_out",{"$f":"'T2-B(PP5)'!$I$145","v":0},"#'T2-B(PP5)'!$I$145"]
["pp5_bl4_9_5_unit",{"$f":"'T2-B(PP5)'!$C$145","v":0},"#'T2-B(PP5)'!$C$145"]
["pp5_bl4_9_5_unit_in",{"$f":"'T2-B(PP5)'!$D$145","v":0},"#'T2-B(PP5)'!$D$145"]
["pp5_bl4_9_5_units_out",{"$f":"'T2-B(PP5)'!$G$145","v":0},"#'T2-B(PP5)'!$G$145"]
["pp5_bl4_9_6_name",{"$f":"'T2-B(PP5)'!$B$146","v":0},"#'T2-B(PP5)'!$B$146"]
["pp5_bl4_9_6_rate_in",{"$f":"'T2-B(PP5)'!$E$146","v":0},"#'T2-B(PP5)'!$E$146"]
["pp5_bl4_9_6_rate_out",{"$f":"'T2-B(PP5)'!$H$146","v":0},"#'T2-B(PP5)'!$H$146"]
["pp5_bl4_9_6_total",{"$f":"'T2-B(PP5)'!$J$146","v":0},"#'T2-B(PP5)'!$J$146"]
["pp5_bl4_9_6_total_in",{"$f":"'T2-B(PP5)'!$F$146","v":0},"#'T2-B(PP5)'!$F$146"]
["pp5_bl4_9_6_total_out",{"$f":"'T2-B(PP5)'!$I$146","v":0},"#'T2-B(PP5)'!$I$146"]
["pp5_bl4_9_6_unit",{"$f":"'T2-B(PP5)'!$C$146","v":0},"#'T2-B(PP5)'!$C$146"]
["pp5_bl4_9_6_unit_in",{"$f":"'T2-B(PP5)'!$D$146","v":0},"#'T2-B(PP5)'!$D$146"]
["pp5_bl4_9_6_units_out",{"$f":"'T2-B(PP5)'!$G$146","v":0},"#'T2-B(PP5)'!$G$146"]
["pp5_bl4_9_7_name",{"$f":"'T2-B(PP5)'!$B$147","v":0},"#'T2-B(PP5)'!$B$147"]
["pp5_bl4_9_7_rate_in",{"$f":"'T2-B(PP5)'!$E$147","v":0},"#'T2-B(PP5)'!$E$147"]
["pp5_bl4_9_7_rate_out",{"$f":"'T2-B(PP5)'!$H$147","v":0},"#'T2-B(PP5)'!$H$147"]
["pp5_bl4_9_7_total",{"$f":"'T2-B(PP5)'!$J$147","v":0},"#'T2-B(PP5)'!$J$147"]
["pp5_bl4_9_7_total_in",{"$f":"'T2-B(PP5)'!$F$147","v":0},"#'T2-B(PP5)'!$F$147"]
["pp5_bl4_9_7_total_out",{"$f":"'T2-B(PP5)'!$I$147","v":0},"#'T2-B(PP5)'!$I$147"]
["pp5_bl4_9_7_unit",{"$f":"'T2-B(PP5)'!$C$147","v":0},"#'T2-B(PP5)'!$C$147"]
["pp5_bl4_9_7_unit_in",{"$f":"'T2-B(PP5)'!$D$147","v":0},"#'T2-B(PP5)'!$D$147"]
["pp5_bl4_9_7_units_out",{"$f":"'T2-B(PP5)'!$G$147","v":0},"#'T2-B(PP5)'!$G$147"]
["pp5_bl4_9_8_name",{"$f":"'T2-B(PP5)'!$B$148","v":0},"#'T2-B(PP5)'!$B$148"]
["pp5_bl4_9_8_rate_in",{"$f":"'T2-B(PP5)'!$E$148","v":0},"#'T2-B(PP5)'!$E$148"]
["pp5_bl4_9_8_rate_out",{"$f":"'T2-B(PP5)'!$H$148","v":0},"#'T2-B(PP5)'!$H$148"]
["pp5_bl4_9_8_total",{"$f":"'T2-B(PP5)'!$J$148","v":0},"#'T2-B(PP5)'!$J$148"]
["pp5_bl4_9_8_total_in",{"$f":"'T2-B(PP5)'!$F$148","v":0},"#'T2-B(PP5)'!$F$148"]
["pp5_bl4_9_8_total_out",{"$f":"'T2-B(PP5)'!$I$148","v":0},"#'T2-B(PP5)'!$I$148"]
["pp5_bl4_9_8_unit",{"$f":"'T2-B(PP5)'!$C$148","v":0},"#'T2-B(PP5)'!$C$148"]
["pp5_bl4_9_8_unit_in",{"$f":"'T2-B(PP5)'!$D$148","v":0},"#'T2-B(PP5)'!$D$148"]
["pp5_bl4_9_8_units_out",{"$f":"'T2-B(PP5)'!$G$148","v":0},"#'T2-B(PP5)'!$G$148"]
["pp5_bl4_9_9_name",{"$f":"'T2-B(PP5)'!$B$149","v":0},"#'T2-B(PP5)'!$B$149"]
["pp5_bl4_9_9_rate_in",{"$f":"'T2-B(PP5)'!$E$149","v":0},"#'T2-B(PP5)'!$E$149"]
["pp5_bl4_9_9_rate_out",{"$f":"'T2-B(PP5)'!$H$149","v":0},"#'T2-B(PP5)'!$H$149"]
["pp5_bl4_9_9_total",{"$f":"'T2-B(PP5)'!$J$149","v":0},"#'T2-B(PP5)'!$J$149"]
["pp5_bl4_9_9_total_in",{"$f":"'T2-B(PP5)'!$F$149","v":0},"#'T2-B(PP5)'!$F$149"]
["pp5_bl4_9_9_total_out",{"$f":"'T2-B(PP5)'!$I$149","v":0},"#'T2-B(PP5)'!$I$149"]
["pp5_bl4_9_9_unit",{"$f":"'T2-B(PP5)'!$C$149","v":0},"#'T2-B(PP5)'!$C$149"]
["pp5_bl4_9_9_unit_in",{"$f":"'T2-B(PP5)'!$D$149","v":0},"#'T2-B(PP5)'!$D$149"]
["pp5_bl4_9_9_units_out",{"$f":"'T2-B(PP5)'!$G$149","v":0},"#'T2-B(PP5)'!$G$149"]
["pp5_bl4_9_total",{"$f":"'T2-B(PP5)'!$J$140","v":0},"#'T2-B(PP5)'!$J$140"]
["pp5_bl4_9_total_in",{"$f":"'T2-B(PP5)'!$F$140","v":0},"#'T2-B(PP5)'!$F$140"]
["pp5_bl4_9_total_out",{"$f":"'T2-B(PP5)'!$I$140","v":0},"#'T2-B(PP5)'!$I$140"]
["pp5_bl4_total",{"$f":"'T2-B(PP5)'!$J$206","v":0},"#'T2-B(PP5)'!$J$206"]
["pp5_bl4_total_in",{"$f":"'T2-B(PP5)'!$F$206","v":0},"#'T2-B(PP5)'!$F$206"]
["pp5_bl4_total_out",{"$f":"'T2-B(PP5)'!$I$206","v":0},"#'T2-B(PP5)'!$I$206"]
["pp5_bl5_1_1_name",{"$f":"'T2-B(PP5)'!$B$211","v":0},"#'T2-B(PP5)'!$B$211"]
["pp5_bl5_1_1_rate_in",{"$f":"'T2-B(PP5)'!$E$211","v":0},"#'T2-B(PP5)'!$E$211"]
["pp5_bl5_1_1_rate_out",{"$f":"'T2-B(PP5)'!$H$211","v":0},"#'T2-B(PP5)'!$H$211"]
["pp5_bl5_1_1_total",{"$f":"'T2-B(PP5)'!$J$211","v":0},"#'T2-B(PP5)'!$J$211"]
["pp5_bl5_1_1_total_in",{"$f":"'T2-B(PP5)'!$F$211","v":0},"#'T2-B(PP5)'!$F$211"]
["pp5_bl5_1_1_total_out",{"$f":"'T2-B(PP5)'!$I$211","v":0},"#'T2-B(PP5)'!$I$211"]
["pp5_bl5_1_1_unit",{"$f":"'T2-B(PP5)'!$C$211","v":0},"#'T2-B(PP5)'!$C$211"]
["pp5_bl5_1_1_unit_in",{"$f":"'T2-B(PP5)'!$D$211","v":0},"#'T2-B(PP5)'!$D$211"]
["pp5_bl5_1_1_units_out",{"$f":"'T2-B(PP5)'!$G$211","v":0},"#'T2-B(PP5)'!$G$211"]
["pp5_bl5_1_10_name",{"$f":"'T2-B(PP5)'!$B$220","v":0},"#'T2-B(PP5)'!$B$220"]
["pp5_bl5_1_10_rate_in",{"$f":"'T2-B(PP5)'!$E$220","v":0},"#'T2-B(PP5)'!$E$220"]
["pp5_bl5_1_10_rate_out",{"$f":"'T2-B(PP5)'!$H$220","v":0},"#'T2-B(PP5)'!$H$220"]
["pp5_bl5_1_10_total",{"$f":"'T2-B(PP5)'!$J$220","v":0},"#'T2-B(PP5)'!$J$220"]
["pp5_bl5_1_10_total_in",{"$f":"'T2-B(PP5)'!$F$220","v":0},"#'T2-B(PP5)'!$F$220"]
["pp5_bl5_1_10_total_out",{"$f":"'T2-B(PP5)'!$I$220","v":0},"#'T2-B(PP5)'!$I$220"]
["pp5_bl5_1_10_unit",{"$f":"'T2-B(PP5)'!$C$220","v":0},"#'T2-B(PP5)'!$C$220"]
["pp5_bl5_1_10_unit_in",{"$f":"'T2-B(PP5)'!$D$220","v":0},"#'T2-B(PP5)'!$D$220"]
["pp5_bl5_1_10_units_out",{"$f":"'T2-B(PP5)'!$G$220","v":0},"#'T2-B(PP5)'!$G$220"]
["pp5_bl5_1_2_name",{"$f":"'T2-B(PP5)'!$B$212","v":0},"#'T2-B(PP5)'!$B$212"]
["pp5_bl5_1_2_rate_in",{"$f":"'T2-B(PP5)'!$E$212","v":0},"#'T2-B(PP5)'!$E$212"]
["pp5_bl5_1_2_rate_out",{"$f":"'T2-B(PP5)'!$H$212","v":0},"#'T2-B(PP5)'!$H$212"]
["pp5_bl5_1_2_total",{"$f":"'T2-B(PP5)'!$J$212","v":0},"#'T2-B(PP5)'!$J$212"]
["pp5_bl5_1_2_total_in",{"$f":"'T2-B(PP5)'!$F$212","v":0},"#'T2-B(PP5)'!$F$212"]
["pp5_bl5_1_2_total_out",{"$f":"'T2-B(PP5)'!$I$212","v":0},"#'T2-B(PP5)'!$I$212"]
["pp5_bl5_1_2_unit",{"$f":"'T2-B(PP5)'!$C$212","v":0},"#'T2-B(PP5)'!$C$212"]
["pp5_bl5_1_2_unit_in",{"$f":"'T2-B(PP5)'!$D$212","v":0},"#'T2-B(PP5)'!$D$212"]
["pp5_bl5_1_2_units_out",{"$f":"'T2-B(PP5)'!$G$212","v":0},"#'T2-B(PP5)'!$G$212"]
["pp5_bl5_1_3_name",{"$f":"'T2-B(PP5)'!$B$213","v":0},"#'T2-B(PP5)'!$B$213"]
["pp5_bl5_1_3_rate_in",{"$f":"'T2-B(PP5)'!$E$213","v":0},"#'T2-B(PP5)'!$E$213"]
["pp5_bl5_1_3_rate_out",{"$f":"'T2-B(PP5)'!$H$213","v":0},"#'T2-B(PP5)'!$H$213"]
["pp5_bl5_1_3_total",{"$f":"'T2-B(PP5)'!$J$213","v":0},"#'T2-B(PP5)'!$J$213"]
["pp5_bl5_1_3_total_in",{"$f":"'T2-B(PP5)'!$F$213","v":0},"#'T2-B(PP5)'!$F$213"]
["pp5_bl5_1_3_total_out",{"$f":"'T2-B(PP5)'!$I$213","v":0},"#'T2-B(PP5)'!$I$213"]
["pp5_bl5_1_3_unit",{"$f":"'T2-B(PP5)'!$C$213","v":0},"#'T2-B(PP5)'!$C$213"]
["pp5_bl5_1_3_unit_in",{"$f":"'T2-B(PP5)'!$D$213","v":0},"#'T2-B(PP5)'!$D$213"]
["pp5_bl5_1_3_units_out",{"$f":"'T2-B(PP5)'!$G$213","v":0},"#'T2-B(PP5)'!$G$213"]
["pp5_bl5_1_4_name",{"$f":"'T2-B(PP5)'!$B$214","v":0},"#'T2-B(PP5)'!$B$214"]
["pp5_bl5_1_4_rate_in",{"$f":"'T2-B(PP5)'!$E$214","v":0},"#'T2-B(PP5)'!$E$214"]
["pp5_bl5_1_4_rate_out",{"$f":"'T2-B(PP5)'!$H$214","v":0},"#'T2-B(PP5)'!$H$214"]
["pp5_bl5_1_4_total",{"$f":"'T2-B(PP5)'!$J$214","v":0},"#'T2-B(PP5)'!$J$214"]
["pp5_bl5_1_4_total_in",{"$f":"'T2-B(PP5)'!$F$214","v":0},"#'T2-B(PP5)'!$F$214"]
["pp5_bl5_1_4_total_out",{"$f":"'T2-B(PP5)'!$I$214","v":0},"#'T2-B(PP5)'!$I$214"]
["pp5_bl5_1_4_unit",{"$f":"'T2-B(PP5)'!$C$214","v":0},"#'T2-B(PP5)'!$C$214"]
["pp5_bl5_1_4_unit_in",{"$f":"'T2-B(PP5)'!$D$214","v":0},"#'T2-B(PP5)'!$D$214"]
["pp5_bl5_1_4_units_out",{"$f":"'T2-B(PP5)'!$G$214","v":0},"#'T2-B(PP5)'!$G$214"]
["pp5_bl5_1_5_name",{"$f":"'T2-B(PP5)'!$B$215","v":0},"#'T2-B(PP5)'!$B$215"]
["pp5_bl5_1_5_rate_in",{"$f":"'T2-B(PP5)'!$E$215","v":0},"#'T2-B(PP5)'!$E$215"]
["pp5_bl5_1_5_rate_out",{"$f":"'T2-B(PP5)'!$H$215","v":0},"#'T2-B(PP5)'!$H$215"]
["pp5_bl5_1_5_total",{"$f":"'T2-B(PP5)'!$J$215","v":0},"#'T2-B(PP5)'!$J$215"]
["pp5_bl5_1_5_total_in",{"$f":"'T2-B(PP5)'!$F$215","v":0},"#'T2-B(PP5)'!$F$215"]
["pp5_bl5_1_5_total_out",{"$f":"'T2-B(PP5)'!$I$215","v":0},"#'T2-B(PP5)'!$I$215"]
["pp5_bl5_1_5_unit",{"$f":"'T2-B(PP5)'!$C$215","v":0},"#'T2-B(PP5)'!$C$215"]
["pp5_bl5_1_5_unit_in",{"$f":"'T2-B(PP5)'!$D$215","v":0},"#'T2-B(PP5)'!$D$215"]
["pp5_bl5_1_5_units_out",{"$f":"'T2-B(PP5)'!$G$215","v":0},"#'T2-B(PP5)'!$G$215"]
["pp5_bl5_1_6_name",{"$f":"'T2-B(PP5)'!$B$216","v":0},"#'T2-B(PP5)'!$B$216"]
["pp5_bl5_1_6_rate_in",{"$f":"'T2-B(PP5)'!$E$216","v":0},"#'T2-B(PP5)'!$E$216"]
["pp5_bl5_1_6_rate_out",{"$f":"'T2-B(PP5)'!$H$216","v":0},"#'T2-B(PP5)'!$H$216"]
["pp5_bl5_1_6_total",{"$f":"'T2-B(PP5)'!$J$216","v":0},"#'T2-B(PP5)'!$J$216"]
["pp5_bl5_1_6_total_in",{"$f":"'T2-B(PP5)'!$F$216","v":0},"#'T2-B(PP5)'!$F$216"]
["pp5_bl5_1_6_total_out",{"$f":"'T2-B(PP5)'!$I$216","v":0},"#'T2-B(PP5)'!$I$216"]
["pp5_bl5_1_6_unit",{"$f":"'T2-B(PP5)'!$C$216","v":0},"#'T2-B(PP5)'!$C$216"]
["pp5_bl5_1_6_unit_in",{"$f":"'T2-B(PP5)'!$D$216","v":0},"#'T2-B(PP5)'!$D$216"]
["pp5_bl5_1_6_units_out",{"$f":"'T2-B(PP5)'!$G$216","v":0},"#'T2-B(PP5)'!$G$216"]
["pp5_bl5_1_7_name",{"$f":"'T2-B(PP5)'!$B$217","v":0},"#'T2-B(PP5)'!$B$217"]
["pp5_bl5_1_7_rate_in",{"$f":"'T2-B(PP5)'!$E$217","v":0},"#'T2-B(PP5)'!$E$217"]
["pp5_bl5_1_7_rate_out",{"$f":"'T2-B(PP5)'!$H$217","v":0},"#'T2-B(PP5)'!$H$217"]
["pp5_bl5_1_7_total",{"$f":"'T2-B(PP5)'!$J$217","v":0},"#'T2-B(PP5)'!$J$217"]
["pp5_bl5_1_7_total_in",{"$f":"'T2-B(PP5)'!$F$217","v":0},"#'T2-B(PP5)'!$F$217"]
["pp5_bl5_1_7_total_out",{"$f":"'T2-B(PP5)'!$I$217","v":0},"#'T2-B(PP5)'!$I$217"]
["pp5_bl5_1_7_unit",{"$f":"'T2-B(PP5)'!$C$217","v":0},"#'T2-B(PP5)'!$C$217"]
["pp5_bl5_1_7_unit_in",{"$f":"'T2-B(PP5)'!$D$217","v":0},"#'T2-B(PP5)'!$D$217"]
["pp5_bl5_1_7_units_out",{"$f":"'T2-B(PP5)'!$G$217","v":0},"#'T2-B(PP5)'!$G$217"]
["pp5_bl5_1_8_name",{"$f":"'T2-B(PP5)'!$B$218","v":0},"#'T2-B(PP5)'!$B$218"]
["pp5_bl5_1_8_rate_in",{"$f":"'T2-B(PP5)'!$E$218","v":0},"#'T2-B(PP5)'!$E$218"]
["pp5_bl5_1_8_rate_out",{"$f":"'T2-B(PP5)'!$H$218","v":0},"#'T2-B(PP5)'!$H$218"]
["pp5_bl5_1_8_total",{"$f":"'T2-B(PP5)'!$J$218","v":0},"#'T2-B(PP5)'!$J$218"]
["pp5_bl5_1_8_total_in",{"$f":"'T2-B(PP5)'!$F$218","v":0},"#'T2-B(PP5)'!$F$218"]
["pp5_bl5_1_8_total_out",{"$f":"'T2-B(PP5)'!$I$218","v":0},"#'T2-B(PP5)'!$I$218"]
["pp5_bl5_1_8_unit",{"$f":"'T2-B(PP5)'!$C$218","v":0},"#'T2-B(PP5)'!$C$218"]
["pp5_bl5_1_8_unit_in",{"$f":"'T2-B(PP5)'!$D$218","v":0},"#'T2-B(PP5)'!$D$218"]
["pp5_bl5_1_8_units_out",{"$f":"'T2-B(PP5)'!$G$218","v":0},"#'T2-B(PP5)'!$G$218"]
["pp5_bl5_1_9_name",{"$f":"'T2-B(PP5)'!$B$219","v":0},"#'T2-B(PP5)'!$B$219"]
["pp5_bl5_1_9_rate_in",{"$f":"'T2-B(PP5)'!$E$219","v":0},"#'T2-B(PP5)'!$E$219"]
["pp5_bl5_1_9_rate_out",{"$f":"'T2-B(PP5)'!$H$219","v":0},"#'T2-B(PP5)'!$H$219"]
["pp5_bl5_1_9_total",{"$f":"'T2-B(PP5)'!$J$219","v":0},"#'T2-B(PP5)'!$J$219"]
["pp5_bl5_1_9_total_in",{"$f":"'T2-B(PP5)'!$F$219","v":0},"#'T2-B(PP5)'!$F$219"]
["pp5_bl5_1_9_total_out",{"$f":"'T2-B(PP5)'!$I$219","v":0},"#'T2-B(PP5)'!$I$219"]
["pp5_bl5_1_9_unit",{"$f":"'T2-B(PP5)'!$C$219","v":0},"#'T2-B(PP5)'!$C$219"]
["pp5_bl5_1_9_unit_in",{"$f":"'T2-B(PP5)'!$D$219","v":0},"#'T2-B(PP5)'!$D$219"]
["pp5_bl5_1_9_units_out",{"$f":"'T2-B(PP5)'!$G$219","v":0},"#'T2-B(PP5)'!$G$219"]
["pp5_bl5_1_total",{"$f":"'T2-B(PP5)'!$J$210","v":0},"#'T2-B(PP5)'!$J$210"]
["pp5_bl5_1_total_in",{"$f":"'T2-B(PP5)'!$F$210","v":0},"#'T2-B(PP5)'!$F$210"]
["pp5_bl5_1_total_out",{"$f":"'T2-B(PP5)'!$I$210","v":0},"#'T2-B(PP5)'!$I$210"]
["pp5_bl5_2_1_name",{"$f":"'T2-B(PP5)'!$B$222","v":0},"#'T2-B(PP5)'!$B$222"]
["pp5_bl5_2_1_rate_in",{"$f":"'T2-B(PP5)'!$E$222","v":0},"#'T2-B(PP5)'!$E$222"]
["pp5_bl5_2_1_rate_out",{"$f":"'T2-B(PP5)'!$H$222","v":0},"#'T2-B(PP5)'!$H$222"]
["pp5_bl5_2_1_total",{"$f":"'T2-B(PP5)'!$J$222","v":0},"#'T2-B(PP5)'!$J$222"]
["pp5_bl5_2_1_total_in",{"$f":"'T2-B(PP5)'!$F$222","v":0},"#'T2-B(PP5)'!$F$222"]
["pp5_bl5_2_1_total_out",{"$f":"'T2-B(PP5)'!$I$222","v":0},"#'T2-B(PP5)'!$I$222"]
["pp5_bl5_2_1_unit",{"$f":"'T2-B(PP5)'!$C$222","v":0},"#'T2-B(PP5)'!$C$222"]
["pp5_bl5_2_1_unit_in",{"$f":"'T2-B(PP5)'!$D$222","v":0},"#'T2-B(PP5)'!$D$222"]
["pp5_bl5_2_1_units_out",{"$f":"'T2-B(PP5)'!$G$222","v":0},"#'T2-B(PP5)'!$G$222"]
["pp5_bl5_2_10_name",{"$f":"'T2-B(PP5)'!$B$231","v":0},"#'T2-B(PP5)'!$B$231"]
["pp5_bl5_2_10_rate_in",{"$f":"'T2-B(PP5)'!$E$231","v":0},"#'T2-B(PP5)'!$E$231"]
["pp5_bl5_2_10_rate_out",{"$f":"'T2-B(PP5)'!$H$231","v":0},"#'T2-B(PP5)'!$H$231"]
["pp5_bl5_2_10_total",{"$f":"'T2-B(PP5)'!$J$231","v":0},"#'T2-B(PP5)'!$J$231"]
["pp5_bl5_2_10_total_in",{"$f":"'T2-B(PP5)'!$F$231","v":0},"#'T2-B(PP5)'!$F$231"]
["pp5_bl5_2_10_total_out",{"$f":"'T2-B(PP5)'!$I$231","v":0},"#'T2-B(PP5)'!$I$231"]
["pp5_bl5_2_10_unit",{"$f":"'T2-B(PP5)'!$C$231","v":0},"#'T2-B(PP5)'!$C$231"]
["pp5_bl5_2_10_unit_in",{"$f":"'T2-B(PP5)'!$D$231","v":0},"#'T2-B(PP5)'!$D$231"]
["pp5_bl5_2_10_units_out",{"$f":"'T2-B(PP5)'!$G$231","v":0},"#'T2-B(PP5)'!$G$231"]
["pp5_bl5_2_2_name",{"$f":"'T2-B(PP5)'!$B$223","v":0},"#'T2-B(PP5)'!$B$223"]
["pp5_bl5_2_2_rate_in",{"$f":"'T2-B(PP5)'!$E$223","v":0},"#'T2-B(PP5)'!$E$223"]
["pp5_bl5_2_2_rate_out",{"$f":"'T2-B(PP5)'!$H$223","v":0},"#'T2-B(PP5)'!$H$223"]
["pp5_bl5_2_2_total",{"$f":"'T2-B(PP5)'!$J$223","v":0},"#'T2-B(PP5)'!$J$223"]
["pp5_bl5_2_2_total_in",{"$f":"'T2-B(PP5)'!$F$223","v":0},"#'T2-B(PP5)'!$F$223"]
["pp5_bl5_2_2_total_out",{"$f":"'T2-B(PP5)'!$I$223","v":0},"#'T2-B(PP5)'!$I$223"]
["pp5_bl5_2_2_unit",{"$f":"'T2-B(PP5)'!$C$223","v":0},"#'T2-B(PP5)'!$C$223"]
["pp5_bl5_2_2_unit_in",{"$f":"'T2-B(PP5)'!$D$223","v":0},"#'T2-B(PP5)'!$D$223"]
["pp5_bl5_2_2_units_out",{"$f":"'T2-B(PP5)'!$G$223","v":0},"#'T2-B(PP5)'!$G$223"]
["pp5_bl5_2_3_name",{"$f":"'T2-B(PP5)'!$B$224","v":0},"#'T2-B(PP5)'!$B$224"]
["pp5_bl5_2_3_rate_in",{"$f":"'T2-B(PP5)'!$E$224","v":0},"#'T2-B(PP5)'!$E$224"]
["pp5_bl5_2_3_rate_out",{"$f":"'T2-B(PP5)'!$H$224","v":0},"#'T2-B(PP5)'!$H$224"]
["pp5_bl5_2_3_total",{"$f":"'T2-B(PP5)'!$J$224","v":0},"#'T2-B(PP5)'!$J$224"]
["pp5_bl5_2_3_total_in",{"$f":"'T2-B(PP5)'!$F$224","v":0},"#'T2-B(PP5)'!$F$224"]
["pp5_bl5_2_3_total_out",{"$f":"'T2-B(PP5)'!$I$224","v":0},"#'T2-B(PP5)'!$I$224"]
["pp5_bl5_2_3_unit",{"$f":"'T2-B(PP5)'!$C$224","v":0},"#'T2-B(PP5)'!$C$224"]
["pp5_bl5_2_3_unit_in",{"$f":"'T2-B(PP5)'!$D$224","v":0},"#'T2-B(PP5)'!$D$224"]
["pp5_bl5_2_3_units_out",{"$f":"'T2-B(PP5)'!$G$224","v":0},"#'T2-B(PP5)'!$G$224"]
["pp5_bl5_2_4_name",{"$f":"'T2-B(PP5)'!$B$225","v":0},"#'T2-B(PP5)'!$B$225"]
["pp5_bl5_2_4_rate_in",{"$f":"'T2-B(PP5)'!$E$225","v":0},"#'T2-B(PP5)'!$E$225"]
["pp5_bl5_2_4_rate_out",{"$f":"'T2-B(PP5)'!$H$225","v":0},"#'T2-B(PP5)'!$H$225"]
["pp5_bl5_2_4_total",{"$f":"'T2-B(PP5)'!$J$225","v":0},"#'T2-B(PP5)'!$J$225"]
["pp5_bl5_2_4_total_in",{"$f":"'T2-B(PP5)'!$F$225","v":0},"#'T2-B(PP5)'!$F$225"]
["pp5_bl5_2_4_total_out",{"$f":"'T2-B(PP5)'!$I$225","v":0},"#'T2-B(PP5)'!$I$225"]
["pp5_bl5_2_4_unit",{"$f":"'T2-B(PP5)'!$C$225","v":0},"#'T2-B(PP5)'!$C$225"]
["pp5_bl5_2_4_unit_in",{"$f":"'T2-B(PP5)'!$D$225","v":0},"#'T2-B(PP5)'!$D$225"]
["pp5_bl5_2_4_units_out",{"$f":"'T2-B(PP5)'!$G$225","v":0},"#'T2-B(PP5)'!$G$225"]
["pp5_bl5_2_5_name",{"$f":"'T2-B(PP5)'!$B$226","v":0},"#'T2-B(PP5)'!$B$226"]
["pp5_bl5_2_5_rate_in",{"$f":"'T2-B(PP5)'!$E$226","v":0},"#'T2-B(PP5)'!$E$226"]
["pp5_bl5_2_5_rate_out",{"$f":"'T2-B(PP5)'!$H$226","v":0},"#'T2-B(PP5)'!$H$226"]
["pp5_bl5_2_5_total",{"$f":"'T2-B(PP5)'!$J$226","v":0},"#'T2-B(PP5)'!$J$226"]
["pp5_bl5_2_5_total_in",{"$f":"'T2-B(PP5)'!$F$226","v":0},"#'T2-B(PP5)'!$F$226"]
["pp5_bl5_2_5_total_out",{"$f":"'T2-B(PP5)'!$I$226","v":0},"#'T2-B(PP5)'!$I$226"]
["pp5_bl5_2_5_unit",{"$f":"'T2-B(PP5)'!$C$226","v":0},"#'T2-B(PP5)'!$C$226"]
["pp5_bl5_2_5_unit_in",{"$f":"'T2-B(PP5)'!$D$226","v":0},"#'T2-B(PP5)'!$D$226"]
["pp5_bl5_2_5_units_out",{"$f":"'T2-B(PP5)'!$G$226","v":0},"#'T2-B(PP5)'!$G$226"]
["pp5_bl5_2_6_name",{"$f":"'T2-B(PP5)'!$B$227","v":0},"#'T2-B(PP5)'!$B$227"]
["pp5_bl5_2_6_rate_in",{"$f":"'T2-B(PP5)'!$E$227","v":0},"#'T2-B(PP5)'!$E$227"]
["pp5_bl5_2_6_rate_out",{"$f":"'T2-B(PP5)'!$H$227","v":0},"#'T2-B(PP5)'!$H$227"]
["pp5_bl5_2_6_total",{"$f":"'T2-B(PP5)'!$J$227","v":0},"#'T2-B(PP5)'!$J$227"]
["pp5_bl5_2_6_total_in",{"$f":"'T2-B(PP5)'!$F$227","v":0},"#'T2-B(PP5)'!$F$227"]
["pp5_bl5_2_6_total_out",{"$f":"'T2-B(PP5)'!$I$227","v":0},"#'T2-B(PP5)'!$I$227"]
["pp5_bl5_2_6_unit",{"$f":"'T2-B(PP5)'!$C$227","v":0},"#'T2-B(PP5)'!$C$227"]
["pp5_bl5_2_6_unit_in",{"$f":"'T2-B(PP5)'!$D$227","v":0},"#'T2-B(PP5)'!$D$227"]
["pp5_bl5_2_6_units_out",{"$f":"'T2-B(PP5)'!$G$227","v":0},"#'T2-B(PP5)'!$G$227"]
["pp5_bl5_2_7_name",{"$f":"'T2-B(PP5)'!$B$228","v":0},"#'T2-B(PP5)'!$B$228"]
["pp5_bl5_2_7_rate_in",{"$f":"'T2-B(PP5)'!$E$228","v":0},"#'T2-B(PP5)'!$E$228"]
["pp5_bl5_2_7_rate_out",{"$f":"'T2-B(PP5)'!$H$228","v":0},"#'T2-B(PP5)'!$H$228"]
["pp5_bl5_2_7_total",{"$f":"'T2-B(PP5)'!$J$228","v":0},"#'T2-B(PP5)'!$J$228"]
["pp5_bl5_2_7_total_in",{"$f":"'T2-B(PP5)'!$F$228","v":0},"#'T2-B(PP5)'!$F$228"]
["pp5_bl5_2_7_total_out",{"$f":"'T2-B(PP5)'!$I$228","v":0},"#'T2-B(PP5)'!$I$228"]
["pp5_bl5_2_7_unit",{"$f":"'T2-B(PP5)'!$C$228","v":0},"#'T2-B(PP5)'!$C$228"]
["pp5_bl5_2_7_unit_in",{"$f":"'T2-B(PP5)'!$D$228","v":0},"#'T2-B(PP5)'!$D$228"]
["pp5_bl5_2_7_units_out",{"$f":"'T2-B(PP5)'!$G$228","v":0},"#'T2-B(PP5)'!$G$228"]
["pp5_bl5_2_8_name",{"$f":"'T2-B(PP5)'!$B$229","v":0},"#'T2-B(PP5)'!$B$229"]
["pp5_bl5_2_8_rate_in",{"$f":"'T2-B(PP5)'!$E$229","v":0},"#'T2-B(PP5)'!$E$229"]
["pp5_bl5_2_8_rate_out",{"$f":"'T2-B(PP5)'!$H$229","v":0},"#'T2-B(PP5)'!$H$229"]
["pp5_bl5_2_8_total",{"$f":"'T2-B(PP5)'!$J$229","v":0},"#'T2-B(PP5)'!$J$229"]
["pp5_bl5_2_8_total_in",{"$f":"'T2-B(PP5)'!$F$229","v":0},"#'T2-B(PP5)'!$F$229"]
["pp5_bl5_2_8_total_out",{"$f":"'T2-B(PP5)'!$I$229","v":0},"#'T2-B(PP5)'!$I$229"]
["pp5_bl5_2_8_unit",{"$f":"'T2-B(PP5)'!$C$229","v":0},"#'T2-B(PP5)'!$C$229"]
["pp5_bl5_2_8_unit_in",{"$f":"'T2-B(PP5)'!$D$229","v":0},"#'T2-B(PP5)'!$D$229"]
["pp5_bl5_2_8_units_out",{"$f":"'T2-B(PP5)'!$G$229","v":0},"#'T2-B(PP5)'!$G$229"]
["pp5_bl5_2_9_name",{"$f":"'T2-B(PP5)'!$B$230","v":0},"#'T2-B(PP5)'!$B$230"]
["pp5_bl5_2_9_rate_in",{"$f":"'T2-B(PP5)'!$E$230","v":0},"#'T2-B(PP5)'!$E$230"]
["pp5_bl5_2_9_rate_out",{"$f":"'T2-B(PP5)'!$H$230","v":0},"#'T2-B(PP5)'!$H$230"]
["pp5_bl5_2_9_total",{"$f":"'T2-B(PP5)'!$J$230","v":0},"#'T2-B(PP5)'!$J$230"]
["pp5_bl5_2_9_total_in",{"$f":"'T2-B(PP5)'!$F$230","v":0},"#'T2-B(PP5)'!$F$230"]
["pp5_bl5_2_9_total_out",{"$f":"'T2-B(PP5)'!$I$230","v":0},"#'T2-B(PP5)'!$I$230"]
["pp5_bl5_2_9_unit",{"$f":"'T2-B(PP5)'!$C$230","v":0},"#'T2-B(PP5)'!$C$230"]
["pp5_bl5_2_9_unit_in",{"$f":"'T2-B(PP5)'!$D$230","v":0},"#'T2-B(PP5)'!$D$230"]
["pp5_bl5_2_9_units_out",{"$f":"'T2-B(PP5)'!$G$230","v":0},"#'T2-B(PP5)'!$G$230"]
["pp5_bl5_2_total",{"$f":"'T2-B(PP5)'!$J$221","v":0},"#'T2-B(PP5)'!$J$221"]
["pp5_bl5_2_total_in",{"$f":"'T2-B(PP5)'!$F$221","v":0},"#'T2-B(PP5)'!$F$221"]
["pp5_bl5_2_total_out",{"$f":"'T2-B(PP5)'!$I$221","v":0},"#'T2-B(PP5)'!$I$221"]
["pp5_bl5_total",{"$f":"'T2-B(PP5)'!$J$232","v":0},"#'T2-B(PP5)'!$J$232"]
["pp5_bl5_total_in",{"$f":"'T2-B(PP5)'!$F$232","v":0},"#'T2-B(PP5)'!$F$232"]
["pp5_bl5_total_out",{"$f":"'T2-B(PP5)'!$I$232","v":0},"#'T2-B(PP5)'!$I$232"]
["pp5_bl6_1_1_name",{"$f":"'T2-B(PP5)'!$B$236","v":0},"#'T2-B(PP5)'!$B$236"]
["pp5_bl6_1_1_rate_in",{"$f":"'T2-B(PP5)'!$E$236","v":0},"#'T2-B(PP5)'!$E$236"]
["pp5_bl6_1_1_rate_out",{"$f":"'T2-B(PP5)'!$H$236","v":0},"#'T2-B(PP5)'!$H$236"]
["pp5_bl6_1_1_total",{"$f":"'T2-B(PP5)'!$J$236","v":0},"#'T2-B(PP5)'!$J$236"]
["pp5_bl6_1_1_total_in",{"$f":"'T2-B(PP5)'!$F$236","v":0},"#'T2-B(PP5)'!$F$236"]
["pp5_bl6_1_1_total_out",{"$f":"'T2-B(PP5)'!$I$236","v":0},"#'T2-B(PP5)'!$I$236"]
["pp5_bl6_1_1_unit",{"$f":"'T2-B(PP5)'!$C$236","v":0},"#'T2-B(PP5)'!$C$236"]
["pp5_bl6_1_1_unit_in",{"$f":"'T2-B(PP5)'!$D$236","v":0},"#'T2-B(PP5)'!$D$236"]
["pp5_bl6_1_1_units_out",{"$f":"'T2-B(PP5)'!$G$236","v":0},"#'T2-B(PP5)'!$G$236"]
["pp5_bl6_1_10_name",{"$f":"'T2-B(PP5)'!$B$245","v":0},"#'T2-B(PP5)'!$B$245"]
["pp5_bl6_1_10_rate_in",{"$f":"'T2-B(PP5)'!$E$245","v":0},"#'T2-B(PP5)'!$E$245"]
["pp5_bl6_1_10_rate_out",{"$f":"'T2-B(PP5)'!$H$245","v":0},"#'T2-B(PP5)'!$H$245"]
["pp5_bl6_1_10_total",{"$f":"'T2-B(PP5)'!$J$245","v":0},"#'T2-B(PP5)'!$J$245"]
["pp5_bl6_1_10_total_in",{"$f":"'T2-B(PP5)'!$F$245","v":0},"#'T2-B(PP5)'!$F$245"]
["pp5_bl6_1_10_total_out",{"$f":"'T2-B(PP5)'!$I$245","v":0},"#'T2-B(PP5)'!$I$245"]
["pp5_bl6_1_10_unit",{"$f":"'T2-B(PP5)'!$C$245","v":0},"#'T2-B(PP5)'!$C$245"]
["pp5_bl6_1_10_unit_in",{"$f":"'T2-B(PP5)'!$D$245","v":0},"#'T2-B(PP5)'!$D$245"]
["pp5_bl6_1_10_units_out",{"$f":"'T2-B(PP5)'!$G$245","v":0},"#'T2-B(PP5)'!$G$245"]
["pp5_bl6_1_2_name",{"$f":"'T2-B(PP5)'!$B$237","v":0},"#'T2-B(PP5)'!$B$237"]
["pp5_bl6_1_2_rate_in",{"$f":"'T2-B(PP5)'!$E$237","v":0},"#'T2-B(PP5)'!$E$237"]
["pp5_bl6_1_2_rate_out",{"$f":"'T2-B(PP5)'!$H$237","v":0},"#'T2-B(PP5)'!$H$237"]
["pp5_bl6_1_2_total",{"$f":"'T2-B(PP5)'!$J$237","v":0},"#'T2-B(PP5)'!$J$237"]
["pp5_bl6_1_2_total_in",{"$f":"'T2-B(PP5)'!$F$237","v":0},"#'T2-B(PP5)'!$F$237"]
["pp5_bl6_1_2_total_out",{"$f":"'T2-B(PP5)'!$I$237","v":0},"#'T2-B(PP5)'!$I$237"]
["pp5_bl6_1_2_unit",{"$f":"'T2-B(PP5)'!$C$237","v":0},"#'T2-B(PP5)'!$C$237"]
["pp5_bl6_1_2_unit_in",{"$f":"'T2-B(PP5)'!$D$237","v":0},"#'T2-B(PP5)'!$D$237"]
["pp5_bl6_1_2_units_out",{"$f":"'T2-B(PP5)'!$G$237","v":0},"#'T2-B(PP5)'!$G$237"]
["pp5_bl6_1_3_name",{"$f":"'T2-B(PP5)'!$B$238","v":0},"#'T2-B(PP5)'!$B$238"]
["pp5_bl6_1_3_rate_in",{"$f":"'T2-B(PP5)'!$E$238","v":0},"#'T2-B(PP5)'!$E$238"]
["pp5_bl6_1_3_rate_out",{"$f":"'T2-B(PP5)'!$H$238","v":0},"#'T2-B(PP5)'!$H$238"]
["pp5_bl6_1_3_total",{"$f":"'T2-B(PP5)'!$J$238","v":0},"#'T2-B(PP5)'!$J$238"]
["pp5_bl6_1_3_total_in",{"$f":"'T2-B(PP5)'!$F$238","v":0},"#'T2-B(PP5)'!$F$238"]
["pp5_bl6_1_3_total_out",{"$f":"'T2-B(PP5)'!$I$238","v":0},"#'T2-B(PP5)'!$I$238"]
["pp5_bl6_1_3_unit",{"$f":"'T2-B(PP5)'!$C$238","v":0},"#'T2-B(PP5)'!$C$238"]
["pp5_bl6_1_3_unit_in",{"$f":"'T2-B(PP5)'!$D$238","v":0},"#'T2-B(PP5)'!$D$238"]
["pp5_bl6_1_3_units_out",{"$f":"'T2-B(PP5)'!$G$238","v":0},"#'T2-B(PP5)'!$G$238"]
["pp5_bl6_1_4_name",{"$f":"'T2-B(PP5)'!$B$239","v":0},"#'T2-B(PP5)'!$B$239"]
["pp5_bl6_1_4_rate_in",{"$f":"'T2-B(PP5)'!$E$239","v":0},"#'T2-B(PP5)'!$E$239"]
["pp5_bl6_1_4_rate_out",{"$f":"'T2-B(PP5)'!$H$239","v":0},"#'T2-B(PP5)'!$H$239"]
["pp5_bl6_1_4_total",{"$f":"'T2-B(PP5)'!$J$239","v":0},"#'T2-B(PP5)'!$J$239"]
["pp5_bl6_1_4_total_in",{"$f":"'T2-B(PP5)'!$F$239","v":0},"#'T2-B(PP5)'!$F$239"]
["pp5_bl6_1_4_total_out",{"$f":"'T2-B(PP5)'!$I$239","v":0},"#'T2-B(PP5)'!$I$239"]
["pp5_bl6_1_4_unit",{"$f":"'T2-B(PP5)'!$C$239","v":0},"#'T2-B(PP5)'!$C$239"]
["pp5_bl6_1_4_unit_in",{"$f":"'T2-B(PP5)'!$D$239","v":0},"#'T2-B(PP5)'!$D$239"]
["pp5_bl6_1_4_units_out",{"$f":"'T2-B(PP5)'!$G$239","v":0},"#'T2-B(PP5)'!$G$239"]
["pp5_bl6_1_5_name",{"$f":"'T2-B(PP5)'!$B$240","v":0},"#'T2-B(PP5)'!$B$240"]
["pp5_bl6_1_5_rate_in",{"$f":"'T2-B(PP5)'!$E$240","v":0},"#'T2-B(PP5)'!$E$240"]
["pp5_bl6_1_5_rate_out",{"$f":"'T2-B(PP5)'!$H$240","v":0},"#'T2-B(PP5)'!$H$240"]
["pp5_bl6_1_5_total",{"$f":"'T2-B(PP5)'!$J$240","v":0},"#'T2-B(PP5)'!$J$240"]
["pp5_bl6_1_5_total_in",{"$f":"'T2-B(PP5)'!$F$240","v":0},"#'T2-B(PP5)'!$F$240"]
["pp5_bl6_1_5_total_out",{"$f":"'T2-B(PP5)'!$I$240","v":0},"#'T2-B(PP5)'!$I$240"]
["pp5_bl6_1_5_unit",{"$f":"'T2-B(PP5)'!$C$240","v":0},"#'T2-B(PP5)'!$C$240"]
["pp5_bl6_1_5_unit_in",{"$f":"'T2-B(PP5)'!$D$240","v":0},"#'T2-B(PP5)'!$D$240"]
["pp5_bl6_1_5_units_out",{"$f":"'T2-B(PP5)'!$G$240","v":0},"#'T2-B(PP5)'!$G$240"]
["pp5_bl6_1_6_name",{"$f":"'T2-B(PP5)'!$B$241","v":0},"#'T2-B(PP5)'!$B$241"]
["pp5_bl6_1_6_rate_in",{"$f":"'T2-B(PP5)'!$E$241","v":0},"#'T2-B(PP5)'!$E$241"]
["pp5_bl6_1_6_rate_out",{"$f":"'T2-B(PP5)'!$H$241","v":0},"#'T2-B(PP5)'!$H$241"]
["pp5_bl6_1_6_total",{"$f":"'T2-B(PP5)'!$J$241","v":0},"#'T2-B(PP5)'!$J$241"]
["pp5_bl6_1_6_total_in",{"$f":"'T2-B(PP5)'!$F$241","v":0},"#'T2-B(PP5)'!$F$241"]
["pp5_bl6_1_6_total_out",{"$f":"'T2-B(PP5)'!$I$241","v":0},"#'T2-B(PP5)'!$I$241"]
["pp5_bl6_1_6_unit",{"$f":"'T2-B(PP5)'!$C$241","v":0},"#'T2-B(PP5)'!$C$241"]
["pp5_bl6_1_6_unit_in",{"$f":"'T2-B(PP5)'!$D$241","v":0},"#'T2-B(PP5)'!$D$241"]
["pp5_bl6_1_6_units_out",{"$f":"'T2-B(PP5)'!$G$241","v":0},"#'T2-B(PP5)'!$G$241"]
["pp5_bl6_1_7_name",{"$f":"'T2-B(PP5)'!$B$242","v":0},"#'T2-B(PP5)'!$B$242"]
["pp5_bl6_1_7_rate_in",{"$f":"'T2-B(PP5)'!$E$242","v":0},"#'T2-B(PP5)'!$E$242"]
["pp5_bl6_1_7_rate_out",{"$f":"'T2-B(PP5)'!$H$242","v":0},"#'T2-B(PP5)'!$H$242"]
["pp5_bl6_1_7_total",{"$f":"'T2-B(PP5)'!$J$242","v":0},"#'T2-B(PP5)'!$J$242"]
["pp5_bl6_1_7_total_in",{"$f":"'T2-B(PP5)'!$F$242","v":0},"#'T2-B(PP5)'!$F$242"]
["pp5_bl6_1_7_total_out",{"$f":"'T2-B(PP5)'!$I$242","v":0},"#'T2-B(PP5)'!$I$242"]
["pp5_bl6_1_7_unit",{"$f":"'T2-B(PP5)'!$C$242","v":0},"#'T2-B(PP5)'!$C$242"]
["pp5_bl6_1_7_unit_in",{"$f":"'T2-B(PP5)'!$D$242","v":0},"#'T2-B(PP5)'!$D$242"]
["pp5_bl6_1_7_units_out",{"$f":"'T2-B(PP5)'!$G$242","v":0},"#'T2-B(PP5)'!$G$242"]
["pp5_bl6_1_8_name",{"$f":"'T2-B(PP5)'!$B$243","v":0},"#'T2-B(PP5)'!$B$243"]
["pp5_bl6_1_8_rate_in",{"$f":"'T2-B(PP5)'!$E$243","v":0},"#'T2-B(PP5)'!$E$243"]
["pp5_bl6_1_8_rate_out",{"$f":"'T2-B(PP5)'!$H$243","v":0},"#'T2-B(PP5)'!$H$243"]
["pp5_bl6_1_8_total",{"$f":"'T2-B(PP5)'!$J$243","v":0},"#'T2-B(PP5)'!$J$243"]
["pp5_bl6_1_8_total_in",{"$f":"'T2-B(PP5)'!$F$243","v":0},"#'T2-B(PP5)'!$F$243"]
["pp5_bl6_1_8_total_out",{"$f":"'T2-B(PP5)'!$I$243","v":0},"#'T2-B(PP5)'!$I$243"]
["pp5_bl6_1_8_unit",{"$f":"'T2-B(PP5)'!$C$243","v":0},"#'T2-B(PP5)'!$C$243"]
["pp5_bl6_1_8_unit_in",{"$f":"'T2-B(PP5)'!$D$243","v":0},"#'T2-B(PP5)'!$D$243"]
["pp5_bl6_1_8_units_out",{"$f":"'T2-B(PP5)'!$G$243","v":0},"#'T2-B(PP5)'!$G$243"]
["pp5_bl6_1_9_name",{"$f":"'T2-B(PP5)'!$B$244","v":0},"#'T2-B(PP5)'!$B$244"]
["pp5_bl6_1_9_rate_in",{"$f":"'T2-B(PP5)'!$E$244","v":0},"#'T2-B(PP5)'!$E$244"]
["pp5_bl6_1_9_rate_out",{"$f":"'T2-B(PP5)'!$H$244","v":0},"#'T2-B(PP5)'!$H$244"]
["pp5_bl6_1_9_total",{"$f":"'T2-B(PP5)'!$J$244","v":0},"#'T2-B(PP5)'!$J$244"]
["pp5_bl6_1_9_total_in",{"$f":"'T2-B(PP5)'!$F$244","v":0},"#'T2-B(PP5)'!$F$244"]
["pp5_bl6_1_9_total_out",{"$f":"'T2-B(PP5)'!$I$244","v":0},"#'T2-B(PP5)'!$I$244"]
["pp5_bl6_1_9_unit",{"$f":"'T2-B(PP5)'!$C$244","v":0},"#'T2-B(PP5)'!$C$244"]
["pp5_bl6_1_9_unit_in",{"$f":"'T2-B(PP5)'!$D$244","v":0},"#'T2-B(PP5)'!$D$244"]
["pp5_bl6_1_9_units_out",{"$f":"'T2-B(PP5)'!$G$244","v":0},"#'T2-B(PP5)'!$G$244"]
["pp5_bl6_1_total",{"$f":"'T2-B(PP5)'!$J$235","v":0},"#'T2-B(PP5)'!$J$235"]
["pp5_bl6_1_total_in",{"$f":"'T2-B(PP5)'!$F$235","v":"TOTAL"},"#'T2-B(PP5)'!$F$235"]
["pp5_bl6_1_total_out",{"$f":"'T2-B(PP5)'!$I$235","v":"TOTAL"},"#'T2-B(PP5)'!$I$235"]
["pp5_bl6_total",{"$f":"'T2-B(PP5)'!$J$246","v":0},"#'T2-B(PP5)'!$J$246"]
["pp5_bl6_total_in",{"$f":"'T2-B(PP5)'!$F$246","v":0},"#'T2-B(PP5)'!$F$246"]
["pp5_bl6_total_out",{"$f":"'T2-B(PP5)'!$I$246","v":0},"#'T2-B(PP5)'!$I$246"]
["pp5_country",{"$f":"'PP5'!$K$14","v":2},"#'PP5'!$K$14"]
["pp5_fax",{"$f":"'PP5'!$C$29","v":0},"#'PP5'!$C$29"]
["pp5_is_bg",{"$f":"'PP5'!$D$13","v":0},"#'PP5'!$D$13"]
["pp5_is_pc",{"$f":"'PP5'!$F$13","v":0},"#'PP5'!$F$13"]
["pp5_legal_representative",{"$f":"'PP5'!$C$23","v":0},"#'PP5'!$C$23"]
["pp5_legal_representative_position",{"$f":"'PP5'!$C$25","v":0},"#'PP5'!$C$25"]
["pp5_mail",{"$f":"'PP5'!$C$31","v":0},"#'PP5'!$C$31"]
["pp5_nat_code",{"$f":"'PP5'!$C$70","v":0},"#'PP5'!$C$70"]
["pp5_nuts3",{"$f":"'PP5'!$C$15","v":0},"#'PP5'!$C$15"]
["pp5_organisation_en",{"$f":"'PP5'!$C$7","v":0},"#'PP5'!$C$7"]
["pp5_organisation_native",{"$f":"'PP5'!$C$9","v":0},"#'PP5'!$C$9"]
["pp5_pe_date1",{"$f":"'PP5'!$G$47","v":0},"#'PP5'!$G$47"]
["pp5_pe_date2",{"$f":"'PP5'!$G$55","v":0},"#'PP5'!$G$55"]
["pp5_pe_date3",{"$f":"'PP5'!$G$63","v":0},"#'PP5'!$G$63"]
["pp5_pe_ga1",{"$f":"'PP5'!$G$46","v":0},"#'PP5'!$G$46"]
["pp5_pe_ga2",{"$f":"'PP5'!$G$54","v":0},"#'PP5'!$G$54"]
["pp5_pe_ga3",{"$f":"'PP5'!$G$62","v":0},"#'PP5'!$G$62"]
["pp5_pe_ip1",{"$f":"'PP5'!$C$43","v":0},"#'PP5'!$C$43"]
["pp5_pe_ip2",{"$f":"'PP5'!$C$51","v":0},"#'PP5'!$C$51"]
["pp5_pe_ip3",{"$f":"'PP5'!$C$59","v":0},"#'PP5'!$C$59"]
["pp5_pe_or1",{"$f":"'PP5'!$C$47","v":0},"#'PP5'!$C$47"]
["pp5_pe_or2",{"$f":"'PP5'!$C$55","v":0},"#'PP5'!$C$55"]
["pp5_pe_or3",{"$f":"'PP5'!$C$63","v":0},"#'PP5'!$C$63"]
["pp5_pe_pt1",{"$f":"'PP5'!$C$44","v":0},"#'PP5'!$C$44"]
["pp5_pe_pt2",{"$f":"'PP5'!$C$52","v":0},"#'PP5'!$C$52"]
["pp5_pe_pt3",{"$f":"'PP5'!$C$60","v":0},"#'PP5'!$C$60"]
["pp5_pe_sd1",{"$f":"'PP5'!$C$45","v":0},"#'PP5'!$C$45"]
["pp5_pe_sd2",{"$f":"'PP5'!$C$53","v":0},"#'PP5'!$C$53"]
["pp5_pe_sd3",{"$f":"'PP5'!$C$61","v":0},"#'PP5'!$C$61"]
["pp5_pe_tev1",{"$f":"'PP5'!$C$46","v":0},"#'PP5'!$C$46"]
["pp5_pe_tev2",{"$f":"'PP5'!$C$54","v":0},"#'PP5'!$C$54"]
["pp5_pe_tev3",{"$f":"'PP5'!$C$62","v":0},"#'PP5'!$C$62"]
["pp5_phone",{"$f":"'PP5'!$C$27","v":0},"#'PP5'!$C$27"]
["pp5_post_code",{"$f":"'PP5'!$C$21","v":0},"#'PP5'!$C$21"]
["pp5_profile",{"$f":"'PP5'!$B$38","v":0},"#'PP5'!$B$38"]
["pp5_proj_direct_total",{"$f":"'T2-B(PP5)'!$J$248","v":0},"#'T2-B(PP5)'!$J$248"]
["pp5_proj_direct_total_in",{"$f":"'T2-B(PP5)'!$F$248","v":0},"#'T2-B(PP5)'!$F$248"]
["pp5_proj_direct_total_out",{"$f":"'T2-B(PP5)'!$I$248","v":0},"#'T2-B(PP5)'!$I$248"]
["pp5_proj_total",{"$f":"'T2-B(PP5)'!$J$249","v":0},"#'T2-B(PP5)'!$J$249"]
["pp5_proj_total_in",{"$f":"'T2-B(PP5)'!$F$249","v":0},"#'T2-B(PP5)'!$F$249"]
["pp5_proj_total_out",{"$f":"'T2-B(PP5)'!$G$249","v":0},"#'T2-B(PP5)'!$G$249"]
["pp5_town",{"$f":"'PP5'!$C$17","v":0},"#'PP5'!$C$17"]
["pp5_type_org",{"$f":"'PP5'!$C$11","v":0},"#'PP5'!$C$11"]
["pp5_vat_code",{"$f":"'PP5'!$C$72","v":0},"#'PP5'!$C$72"]
["pp5_website",{"$f":"'PP5'!$C$33","v":0},"#'PP5'!$C$33"]
["Priority",{"$f":"'Project identification'!$R$9:$R$11","v":{"$error":"#VALUE!"}},"#'Project identification'!$R$9:$R$11"]
["priority_axis",{"$f":"Cover!$C$27","v":0},"#Cover!$C$27"]
["project_title",{"$f":"Cover!$C$22","v":0},"#Cover!$C$22"]
["project_type",{"$f":"Cover!$C$31","v":0},"#Cover!$C$31"]
["smr_duration_bg",{"$f":"Summary!$B$27","v":0},"#Summary!$B$27"]
["smr_duration_en",{"$f":"Summary!$B$8","v":0},"#Summary!$B$8"]
["smr_duration_mk",{"$f":"Summary!$B$48","v":0},"#Summary!$B$48"]
["smr_lead_partner_bg",{"$f":"Summary!$B$20","v":0},"#Summary!$B$20"]
["smr_lead_partner_en",{"$f":"Summary!$B$4","v":0},"#Summary!$B$4"]
["smr_lead_partner_mk",{"$f":"Summary!$B$40","v":0},"#Summary!$B$40"]
["smr_partners_bg",{"$f":"Summary!$B$22","v":0},"#Summary!$B$22"]
["smr_partners_en",{"$f":"Summary!$B$5","v":0},"#Summary!$B$5"]
["smr_partners_mk",{"$f":"Summary!$B$42","v":0},"#Summary!$B$42"]
["smr_priority_axis_bg",{"$f":"Summary!$B$23","v":0},"#Summary!$B$23"]
["smr_priority_axis_en",{"$f":"Summary!$B$6","v":0},"#Summary!$B$6"]
["smr_priority_axis_mk",{"$f":"Summary!$B$44","v":0},"#Summary!$B$44"]
["smr_project_activities_bg",{"$f":"Summary!$B$30","v":0},"#Summary!$B$30"]
["smr_project_activities_en",{"$f":"Summary!$B$10","v":0},"#Summary!$B$10"]
["smr_project_activities_mk",{"$f":"Summary!$B$51","v":0},"#Summary!$B$51"]
["smr_project_objectives_mk",{"$f":"Summary!$B$49","v":0},"#Summary!$B$49"]
["smr_project_Results_bg",{"$f":"Summary!$B$32","v":0},"#Summary!$B$32"]
["smr_project_Results_en",{"$f":"Summary!$B$12","v":0},"#Summary!$B$12"]
["smr_project_Results_mk",{"$f":"Summary!$B$53","v":0},"#Summary!$B$53"]
["smr_specific_objective_bg",{"$f":"Summary!$B$25","v":0},"#Summary!$B$25"]
["smr_specific_objective_en",{"$f":"Summary!$B$7","v":0},"#Summary!$B$7"]
["smr_specific_objective_mk",{"$f":"Summary!$B$46","v":0},"#Summary!$B$46"]
["smr_target_groups_bg",{"$f":"Summary!$B$34","v":0},"#Summary!$B$34"]
["smr_target_groups_en",{"$f":"Summary!$B$14","v":0},"#Summary!$B$14"]
["smr_target_groups_mk",{"$f":"Summary!$B$55","v":0},"#Summary!$B$55"]
["smr_title_bg",{"$f":"Summary!$B$19","v":0},"#Summary!$B$19"]
["smr_title_en",{"$f":"Summary!$B$3","v":0},"#Summary!$B$3"]
["smr_title_mk",{"$f":"Summary!$B$39","v":0},"#Summary!$B$39"]
["smr_total_budget_bg",{"$f":"Summary!$B$29","v":0},"#Summary!$B$29"]
["smr_total_budget_en",{"$f":"Summary!$B$9","v":0},"#Summary!$B$9"]
["smr_total_budget_mk",{"$f":"Summary!$B$50","v":0},"#Summary!$B$50"]
["SO1.1",{"$f":"'Project identification'!$N$329:$N$333","v":{"$error":"#VALUE!"}},"#'Project identification'!$N$329:$N$333"]
["SO1.2",{"$f":"'Project identification'!$N$335:$Q$335","v":{"$error":"#VALUE!"}},"#'Project identification'!$N$335:$Q$335"]
["SO2.1",{"$f":"'Project identification'!$S$335:$V$335","v":{"$error":"#VALUE!"}},"#'Project identification'!$S$335:$V$335"]
["SO2.2",{"$f":"'Project identification'!#REF!","v":{"$error":"#REF!"}},"#'Project identification'!#REF!"]
["SO2.3",{"$f":"'Project identification'!#REF!","v":{"$error":"#REF!"}},"#'Project identification'!#REF!"]
["SO3.1",{"$f":"'Project identification'!#REF!","v":{"$error":"#REF!"}},"#'Project identification'!#REF!"]
["Cover!Soft",{"$f":"Cover!$N$31","v":"Soft"},"#Cover!$N$31"]
["Soft",{"$f":"'Project identification'!$N$19","v":"Soft"},"#'Project identification'!$N$19"]
["specific_objective",{"$f":"Cover!$C$29","v":0},"#Cover!$C$29"]
["t2_Bl1",{"$f":"'Table 2-total'!$D$4","v":0},"#'Table 2-total'!$D$4"]
["t2_Bl1_perc",{"$f":"'Table 2-total'!$E$4","v":{"$error":"#DIV/0!"}},"#'Table 2-total'!$E$4"]
["t2_Bl2",{"$f":"'Table 2-total'!$D$7","v":0},"#'Table 2-total'!$D$7"]
["t2_Bl2_perc",{"$f":"'Table 2-total'!$E$7","v":{"$error":"#DIV/0!"}},"#'Table 2-total'!$E$7"]
["t2_Bl3",{"$f":"'Table 2-total'!$D$13","v":0},"#'Table 2-total'!$D$13"]
["t2_Bl3_1",{"$f":"'Table 2-total'!$D$10","v":0},"#'Table 2-total'!$D$10"]
["t2_Bl3_1_in_area",{"$f":"'Table 2-total'!$B$10","v":0},"#'Table 2-total'!$B$10"]
["t2_Bl3_1_out_area",{"$f":"'Table 2-total'!$C$10","v":0},"#'Table 2-total'!$C$10"]
["t2_Bl3_1_perc",{"$f":"'Table 2-total'!$E$10","v":{"$error":"#DIV/0!"}},"#'Table 2-total'!$E$10"]
["t2_Bl3_2",{"$f":"'Table 2-total'!$D$11","v":0},"#'Table 2-total'!$D$11"]
["t2_Bl3_2_in_area",{"$f":"'Table 2-total'!$B$11","v":0},"#'Table 2-total'!$B$11"]
["t2_Bl3_2_out_area",{"$f":"'Table 2-total'!$C$11","v":0},"#'Table 2-total'!$C$11"]
["t2_Bl3_2_perc",{"$f":"'Table 2-total'!$E$11","v":{"$error":"#DIV/0!"}},"#'Table 2-total'!$E$11"]
["t2_Bl3_3",{"$f":"'Table 2-total'!$D$12","v":0},"#'Table 2-total'!$D$12"]
["t2_Bl3_3_in_area",{"$f":"'Table 2-total'!$B$12","v":0},"#'Table 2-total'!$B$12"]
["t2_Bl3_3_out_area",{"$f":"'Table 2-total'!$C$12","v":0},"#'Table 2-total'!$C$12"]
["t2_Bl3_3_perc",{"$f":"'Table 2-total'!$E$12","v":{"$error":"#DIV/0!"}},"#'Table 2-total'!$E$12"]
["t2_Bl3_in_area",{"$f":"'Table 2-total'!$B$13","v":0},"#'Table 2-total'!$B$13"]
["t2_Bl3_out_area",{"$f":"'Table 2-total'!$C$13","v":0},"#'Table 2-total'!$C$13"]
["t2_Bl3_perc",{"$f":"'Table 2-total'!$E$13","v":{"$error":"#DIV/0!"}},"#'Table 2-total'!$E$13"]
["t2_Bl4",{"$f":"'Table 2-total'!$D$30","v":0},"#'Table 2-total'!$D$30"]
["t2_Bl4_1",{"$f":"'Table 2-total'!$D$16","v":0},"#'Table 2-total'!$D$16"]
["t2_Bl4_1_in_area",{"$f":"'Table 2-total'!$B$16","v":0},"#'Table 2-total'!$B$16"]
["t2_Bl4_1_out_area",{"$f":"'Table 2-total'!$C$16","v":0},"#'Table 2-total'!$C$16"]
["t2_Bl4_1_perc",{"$f":"'Table 2-total'!$E$16","v":{"$error":"#DIV/0!"}},"#'Table 2-total'!$E$16"]
["t2_Bl4_10",{"$f":"'Table 2-total'!$D$25","v":0},"#'Table 2-total'!$D$25"]
["t2_Bl4_10_in_area",{"$f":"'Table 2-total'!$B$25","v":0},"#'Table 2-total'!$B$25"]
["t2_Bl4_10_out_area",{"$f":"'Table 2-total'!$C$25","v":0},"#'Table 2-total'!$C$25"]
["t2_Bl4_10_perc",{"$f":"'Table 2-total'!$E$25","v":{"$error":"#DIV/0!"}},"#'Table 2-total'!$E$25"]
["t2_Bl4_11",{"$f":"'Table 2-total'!$D$26","v":0},"#'Table 2-total'!$D$26"]
["t2_Bl4_11_in_area",{"$f":"'Table 2-total'!$B$26","v":0},"#'Table 2-total'!$B$26"]
["t2_Bl4_11_out_area",{"$f":"'Table 2-total'!$C$26","v":0},"#'Table 2-total'!$C$26"]
["t2_Bl4_11_perc",{"$f":"'Table 2-total'!$E$26","v":{"$error":"#DIV/0!"}},"#'Table 2-total'!$E$26"]
["t2_Bl4_12",{"$f":"'Table 2-total'!$D$27","v":0},"#'Table 2-total'!$D$27"]
["t2_Bl4_12_in_area",{"$f":"'Table 2-total'!$B$27","v":0},"#'Table 2-total'!$B$27"]
["t2_Bl4_12_out_area",{"$f":"'Table 2-total'!$C$27","v":0},"#'Table 2-total'!$C$27"]
["t2_Bl4_12_perc",{"$f":"'Table 2-total'!$E$27","v":{"$error":"#DIV/0!"}},"#'Table 2-total'!$E$27"]
["t2_Bl4_13",{"$f":"'Table 2-total'!$D$28","v":0},"#'Table 2-total'!$D$28"]
["t2_Bl4_13_in_area",{"$f":"'Table 2-total'!$B$28","v":0},"#'Table 2-total'!$B$28"]
["t2_Bl4_13_out_area",{"$f":"'Table 2-total'!$C$28","v":0},"#'Table 2-total'!$C$28"]
["t2_Bl4_13_perc",{"$f":"'Table 2-total'!$E$28","v":{"$error":"#DIV/0!"}},"#'Table 2-total'!$E$28"]
["t2_Bl4_14",{"$f":"'Table 2-total'!$D$29","v":0},"#'Table 2-total'!$D$29"]
["t2_Bl4_14_in_area",{"$f":"'Table 2-total'!$B$29","v":0},"#'Table 2-total'!$B$29"]
["t2_Bl4_14_out_area",{"$f":"'Table 2-total'!$C$29","v":0},"#'Table 2-total'!$C$29"]
["t2_Bl4_14_perc",{"$f":"'Table 2-total'!$E$29","v":{"$error":"#DIV/0!"}},"#'Table 2-total'!$E$29"]
["t2_Bl4_2",{"$f":"'Table 2-total'!$D$17","v":0},"#'Table 2-total'!$D$17"]
["t2_Bl4_2_in_area",{"$f":"'Table 2-total'!$B$17","v":0},"#'Table 2-total'!$B$17"]
["t2_Bl4_2_out_area",{"$f":"'Table 2-total'!$C$17","v":0},"#'Table 2-total'!$C$17"]
["t2_Bl4_2_perc",{"$f":"'Table 2-total'!$E$17","v":{"$error":"#DIV/0!"}},"#'Table 2-total'!$E$17"]
["t2_Bl4_3",{"$f":"'Table 2-total'!$D$18","v":0},"#'Table 2-total'!$D$18"]
["t2_Bl4_3_in_area",{"$f":"'Table 2-total'!$B$18","v":0},"#'Table 2-total'!$B$18"]
["t2_Bl4_3_out_area",{"$f":"'Table 2-total'!$C$18","v":0},"#'Table 2-total'!$C$18"]
["t2_Bl4_3_perc",{"$f":"'Table 2-total'!$E$18","v":{"$error":"#DIV/0!"}},"#'Table 2-total'!$E$18"]
["t2_Bl4_4",{"$f":"'Table 2-total'!$D$19","v":0},"#'Table 2-total'!$D$19"]
["t2_Bl4_4_in_area",{"$f":"'Table 2-total'!$B$19","v":0},"#'Table 2-total'!$B$19"]
["t2_Bl4_4_out_area",{"$f":"'Table 2-total'!$C$19","v":0},"#'Table 2-total'!$C$19"]
["t2_Bl4_4_perc",{"$f":"'Table 2-total'!$E$19","v":{"$error":"#DIV/0!"}},"#'Table 2-total'!$E$19"]
["t2_Bl4_5",{"$f":"'Table 2-total'!$D$20","v":0},"#'Table 2-total'!$D$20"]
["t2_Bl4_5_in_area",{"$f":"'Table 2-total'!$B$20","v":0},"#'Table 2-total'!$B$20"]
["t2_Bl4_5_out_area",{"$f":"'Table 2-total'!$C$20","v":0},"#'Table 2-total'!$C$20"]
["t2_Bl4_5_perc",{"$f":"'Table 2-total'!$E$20","v":{"$error":"#DIV/0!"}},"#'Table 2-total'!$E$20"]
["t2_Bl4_6",{"$f":"'Table 2-total'!$D$21","v":0},"#'Table 2-total'!$D$21"]
["t2_Bl4_6_in_area",{"$f":"'Table 2-total'!$B$21","v":0},"#'Table 2-total'!$B$21"]
["t2_Bl4_6_out_area",{"$f":"'Table 2-total'!$C$21","v":0},"#'Table 2-total'!$C$21"]
["t2_Bl4_6_perc",{"$f":"'Table 2-total'!$E$21","v":{"$error":"#DIV/0!"}},"#'Table 2-total'!$E$21"]
["t2_Bl4_7",{"$f":"'Table 2-total'!$D$22","v":0},"#'Table 2-total'!$D$22"]
["t2_Bl4_7_in_area",{"$f":"'Table 2-total'!$B$22","v":0},"#'Table 2-total'!$B$22"]
["t2_Bl4_7_out_area",{"$f":"'Table 2-total'!$C$22","v":0},"#'Table 2-total'!$C$22"]
["t2_Bl4_7_perc",{"$f":"'Table 2-total'!$E$22","v":{"$error":"#DIV/0!"}},"#'Table 2-total'!$E$22"]
["t2_Bl4_8",{"$f":"'Table 2-total'!$D$23","v":0},"#'Table 2-total'!$D$23"]
["t2_Bl4_8_in_area",{"$f":"'Table 2-total'!$B$23","v":0},"#'Table 2-total'!$B$23"]
["t2_Bl4_8_out_area",{"$f":"'Table 2-total'!$C$23","v":0},"#'Table 2-total'!$C$23"]
["t2_Bl4_8_perc",{"$f":"'Table 2-total'!$E$23","v":{"$error":"#DIV/0!"}},"#'Table 2-total'!$E$23"]
["t2_Bl4_9",{"$f":"'Table 2-total'!$D$24","v":0},"#'Table 2-total'!$D$24"]
["t2_Bl4_9_in_area",{"$f":"'Table 2-total'!$B$24","v":0},"#'Table 2-total'!$B$24"]
["t2_Bl4_9_out_area",{"$f":"'Table 2-total'!$C$24","v":0},"#'Table 2-total'!$C$24"]
["t2_Bl4_9_perc",{"$f":"'Table 2-total'!$E$24","v":{"$error":"#DIV/0!"}},"#'Table 2-total'!$E$24"]
["t2_Bl4_in_area",{"$f":"'Table 2-total'!$B$30","v":0},"#'Table 2-total'!$B$30"]
["t2_Bl4_out_area",{"$f":"'Table 2-total'!$C$30","v":0},"#'Table 2-total'!$C$30"]
["t2_Bl4_perc",{"$f":"'Table 2-total'!$E$30","v":{"$error":"#DIV/0!"}},"#'Table 2-total'!$E$30"]
["t2_Bl5",{"$f":"'Table 2-total'!$D$35","v":0},"#'Table 2-total'!$D$35"]
["t2_Bl5_1",{"$f":"'Table 2-total'!$D$33","v":0},"#'Table 2-total'!$D$33"]
["t2_Bl5_1_in_area",{"$f":"'Table 2-total'!$B$33","v":0},"#'Table 2-total'!$B$33"]
["t2_Bl5_1_out_area",{"$f":"'Table 2-total'!$C$33","v":0},"#'Table 2-total'!$C$33"]
["t2_Bl5_1_perc",{"$f":"'Table 2-total'!$E$33","v":{"$error":"#DIV/0!"}},"#'Table 2-total'!$E$33"]
["t2_Bl5_2",{"$f":"'Table 2-total'!$D$34","v":0},"#'Table 2-total'!$D$34"]
["t2_Bl5_2_in_area",{"$f":"'Table 2-total'!$B$34","v":0},"#'Table 2-total'!$B$34"]
["t2_Bl5_2_out_area",{"$f":"'Table 2-total'!$C$34","v":0},"#'Table 2-total'!$C$34"]
["t2_Bl5_2_perc",{"$f":"'Table 2-total'!$E$35","v":{"$error":"#DIV/0!"}},"#'Table 2-total'!$E$35"]
["t2_Bl5_in_area",{"$f":"'Table 2-total'!$B$35","v":0},"#'Table 2-total'!$B$35"]
["t2_Bl5_out_area",{"$f":"'Table 2-total'!$C$35","v":0},"#'Table 2-total'!$C$35"]
["t2_Bl5_perc",{"$f":"'Table 2-total'!$E$34","v":{"$error":"#DIV/0!"}},"#'Table 2-total'!$E$34"]
["t2_Bl6",{"$f":"'Table 2-total'!$D$38","v":0},"#'Table 2-total'!$D$38"]
["t2_Bl6_in_area",{"$f":"'Table 2-total'!$B$38","v":0},"#'Table 2-total'!$B$38"]
["t2_Bl6_out_area",{"$f":"'Table 2-total'!$C$38","v":0},"#'Table 2-total'!$C$38"]
["t2_Bl6_perc",{"$f":"'Table 2-total'!$E$38","v":{"$error":"#DIV/0!"}},"#'Table 2-total'!$E$38"]
["t2_Bl6_total",{"$f":"'Table 2-total'!$D$39","v":0},"#'Table 2-total'!$D$39"]
["t2_own_in_area",{"$f":"'Table 2-total'!$B$39","v":0},"#'Table 2-total'!$B$39"]
["t2_own_perc",{"$f":"'Table 2-total'!$E$39","v":{"$error":"#DIV/0!"}},"#'Table 2-total'!$E$39"]
["t2_t2_own_out_area",{"$f":"'Table 2-total'!$C$39","v":0},"#'Table 2-total'!$C$39"]
["t2_total",{"$f":"'Table 2-total'!$D$43","v":0},"#'Table 2-total'!$D$43"]
["t2_total_direct",{"$f":"'Table 2-total'!$D$41","v":0},"#'Table 2-total'!$D$41"]
["t2_total_direct_in_area",{"$f":"'Table 2-total'!$B$41","v":0},"#'Table 2-total'!$B$41"]
["t2_total_direct_out_area",{"$f":"'Table 2-total'!$C$41","v":0},"#'Table 2-total'!$C$41"]
["t2_total_direct_perc",{"$f":"'Table 2-total'!$E$41","v":{"$error":"#DIV/0!"}},"#'Table 2-total'!$E$41"]
["t2_total_in_area",{"$f":"'Table 2-total'!$B$43","v":0},"#'Table 2-total'!$B$43"]
["t2_total_out_area",{"$f":"'Table 2-total'!$C$43","v":0},"#'Table 2-total'!$C$43"]
["t2_total_perc",{"$f":"'Table 2-total'!$E$43","v":0},"#'Table 2-total'!$E$43"]
["t3_BL1_in_area",{"$f":"'Table 3-summary'!$C$5","v":0},"#'Table 3-summary'!$C$5"]
["t3_BL1_tot",{"$f":"'Table 3-summary'!$E$5","v":0},"#'Table 3-summary'!$E$5"]
["t3_BL1_tot_perc",{"$f":"'Table 3-summary'!$F$5","v":{"$error":"#DIV/0!"}},"#'Table 3-summary'!$F$5"]
["t3_BL2_in_area",{"$f":"'Table 3-summary'!$C$6","v":0},"#'Table 3-summary'!$C$6"]
["t3_BL2_tot",{"$f":"'Table 3-summary'!$E$6","v":0},"#'Table 3-summary'!$E$6"]
["t3_BL2_tot_perc",{"$f":"'Table 3-summary'!$F$6","v":{"$error":"#DIV/0!"}},"#'Table 3-summary'!$F$6"]
["t3_BL3_in_area",{"$f":"'Table 3-summary'!$C$7","v":0},"#'Table 3-summary'!$C$7"]
["t3_BL3_out_area",{"$f":"'Table 3-summary'!$D$7","v":0},"#'Table 3-summary'!$D$7"]
["t3_BL3_tot",{"$f":"'Table 3-summary'!$E$7","v":0},"#'Table 3-summary'!$E$7"]
["t3_BL3_tot_perc",{"$f":"'Table 3-summary'!$F$7","v":{"$error":"#DIV/0!"}},"#'Table 3-summary'!$F$7"]
["t3_BL4_in_area",{"$f":"'Table 3-summary'!$C$8","v":0},"#'Table 3-summary'!$C$8"]
["t3_BL4_out_area",{"$f":"'Table 3-summary'!$D$8","v":0},"#'Table 3-summary'!$D$8"]
["t3_BL4_tot",{"$f":"'Table 3-summary'!$E$8","v":0},"#'Table 3-summary'!$E$8"]
["t3_BL4_tot_perc",{"$f":"'Table 3-summary'!$F$8","v":{"$error":"#DIV/0!"}},"#'Table 3-summary'!$F$8"]
["t3_BL5_in_area",{"$f":"'Table 3-summary'!$C$9","v":0},"#'Table 3-summary'!$C$9"]
["t3_BL5_tot",{"$f":"'Table 3-summary'!$E$9","v":0},"#'Table 3-summary'!$E$9"]
["t3_BL5_tot_perc",{"$f":"'Table 3-summary'!$F$9","v":{"$error":"#DIV/0!"}},"#'Table 3-summary'!$F$9"]
["t3_BL6_in_area",{"$f":"'Table 3-summary'!$C$10","v":0},"#'Table 3-summary'!$C$10"]
["t3_BL6_tot",{"$f":"'Table 3-summary'!$E$10","v":0},"#'Table 3-summary'!$E$10"]
["t3_BL6_tot_perc",{"$f":"'Table 3-summary'!$F$10","v":{"$error":"#DIV/0!"}},"#'Table 3-summary'!$F$10"]
["t3_total_in_area",{"$f":"'Table 3-summary'!$C$11","v":0},"#'Table 3-summary'!$C$11"]
["t3_total_out_area",{"$f":"'Table 3-summary'!$D$11","v":0},"#'Table 3-summary'!$D$11"]
["t3_total_tot",{"$f":"'Table 3-summary'!$E$11","v":0},"#'Table 3-summary'!$E$11"]
["t3_total_tot_perc",{"$f":"'Table 3-summary'!$F$11","v":0},"#'Table 3-summary'!$F$11"]
["t4_BL1",{"$f":"'Table 4 PP`BL'!$H$4","v":0},"#'Table 4 PP`BL'!$H$4"]
["t4_BL1_pp1",{"$f":"'Table 4 PP`BL'!$C$4","v":0},"#'Table 4 PP`BL'!$C$4"]
["t4_BL1_pp2",{"$f":"'Table 4 PP`BL'!$D$4","v":0},"#'Table 4 PP`BL'!$D$4"]
["t4_BL1_pp3",{"$f":"'Table 4 PP`BL'!$E$4","v":0},"#'Table 4 PP`BL'!$E$4"]
["t4_BL1_pp4",{"$f":"'Table 4 PP`BL'!$F$4","v":0},"#'Table 4 PP`BL'!$F$4"]
["t4_BL1_pp5",{"$f":"'Table 4 PP`BL'!$G$4","v":0},"#'Table 4 PP`BL'!$G$4"]
["t4_BL2",{"$f":"'Table 4 PP`BL'!$H$5","v":0},"#'Table 4 PP`BL'!$H$5"]
["t4_BL2_pp1",{"$f":"'Table 4 PP`BL'!$C$5","v":0},"#'Table 4 PP`BL'!$C$5"]
["t4_BL2_pp2",{"$f":"'Table 4 PP`BL'!$D$5","v":0},"#'Table 4 PP`BL'!$D$5"]
["t4_BL2_pp3",{"$f":"'Table 4 PP`BL'!$E$5","v":0},"#'Table 4 PP`BL'!$E$5"]
["t4_BL2_pp4",{"$f":"'Table 4 PP`BL'!$F$5","v":0},"#'Table 4 PP`BL'!$F$5"]
["t4_BL2_pp5",{"$f":"'Table 4 PP`BL'!$G$5","v":0},"#'Table 4 PP`BL'!$G$5"]
["t4_BL3",{"$f":"'Table 4 PP`BL'!$H$6","v":0},"#'Table 4 PP`BL'!$H$6"]
["t4_BL3_pp1",{"$f":"'Table 4 PP`BL'!$C$6","v":0},"#'Table 4 PP`BL'!$C$6"]
["t4_BL3_pp2",{"$f":"'Table 4 PP`BL'!$D$6","v":0},"#'Table 4 PP`BL'!$D$6"]
["t4_BL3_pp3",{"$f":"'Table 4 PP`BL'!$E$6","v":0},"#'Table 4 PP`BL'!$E$6"]
["t4_BL3_pp4",{"$f":"'Table 4 PP`BL'!$F$6","v":0},"#'Table 4 PP`BL'!$F$6"]
["t4_BL3_pp5",{"$f":"'Table 4 PP`BL'!$G$6","v":0},"#'Table 4 PP`BL'!$G$6"]
["t4_BL4",{"$f":"'Table 4 PP`BL'!$H$7","v":0},"#'Table 4 PP`BL'!$H$7"]
["t4_BL4_pp1",{"$f":"'Table 4 PP`BL'!$C$7","v":0},"#'Table 4 PP`BL'!$C$7"]
["t4_BL4_pp2",{"$f":"'Table 4 PP`BL'!$D$7","v":0},"#'Table 4 PP`BL'!$D$7"]
["t4_BL4_pp3",{"$f":"'Table 4 PP`BL'!$E$7","v":0},"#'Table 4 PP`BL'!$E$7"]
["t4_BL4_pp4",{"$f":"'Table 4 PP`BL'!$F$7","v":0},"#'Table 4 PP`BL'!$F$7"]
["t4_BL4_pp5",{"$f":"'Table 4 PP`BL'!$G$7","v":0},"#'Table 4 PP`BL'!$G$7"]
["t4_BL5",{"$f":"'Table 4 PP`BL'!$H$8","v":0},"#'Table 4 PP`BL'!$H$8"]
["t4_BL5_pp1",{"$f":"'Table 4 PP`BL'!$C$8","v":0},"#'Table 4 PP`BL'!$C$8"]
["t4_BL5_pp2",{"$f":"'Table 4 PP`BL'!$D$8","v":0},"#'Table 4 PP`BL'!$D$8"]
["t4_BL5_pp3",{"$f":"'Table 4 PP`BL'!$E$8","v":0},"#'Table 4 PP`BL'!$E$8"]
["t4_BL5_pp4",{"$f":"'Table 4 PP`BL'!$F$8","v":0},"#'Table 4 PP`BL'!$F$8"]
["t4_BL5_pp5",{"$f":"'Table 4 PP`BL'!$G$8","v":0},"#'Table 4 PP`BL'!$G$8"]
["t4_BL6",{"$f":"'Table 4 PP`BL'!$H$9","v":0},"#'Table 4 PP`BL'!$H$9"]
["t4_BL6_pp1",{"$f":"'Table 4 PP`BL'!$C$9","v":0},"#'Table 4 PP`BL'!$C$9"]
["t4_BL6_pp2",{"$f":"'Table 4 PP`BL'!$D$9","v":0},"#'Table 4 PP`BL'!$D$9"]
["t4_BL6_pp3",{"$f":"'Table 4 PP`BL'!$E$9","v":0},"#'Table 4 PP`BL'!$E$9"]
["t4_BL6_pp4",{"$f":"'Table 4 PP`BL'!$F$9","v":0},"#'Table 4 PP`BL'!$F$9"]
["t4_BL6_pp5",{"$f":"'Table 4 PP`BL'!$G$9","v":0},"#'Table 4 PP`BL'!$G$9"]
["t4_total",{"$f":"'Table 4 PP`BL'!$H$10","v":0},"#'Table 4 PP`BL'!$H$10"]
["t4_total_perc",{"$f":"'Table 4 PP`BL'!$H$11","v":0},"#'Table 4 PP`BL'!$H$11"]
["t4_total_perc_pp1",{"$f":"'Table 4 PP`BL'!$C$11","v":{"$error":"#DIV/0!"}},"#'Table 4 PP`BL'!$C$11"]
["t4_total_perc_pp2",{"$f":"'Table 4 PP`BL'!$D$11","v":{"$error":"#DIV/0!"}},"#'Table 4 PP`BL'!$D$11"]
["t4_total_perc_pp3",{"$f":"'Table 4 PP`BL'!$E$11","v":{"$error":"#DIV/0!"}},"#'Table 4 PP`BL'!$E$11"]
["t4_total_perc_pp4",{"$f":"'Table 4 PP`BL'!$F$11","v":{"$error":"#DIV/0!"}},"#'Table 4 PP`BL'!$F$11"]
["t4_total_perc_pp5",{"$f":"'Table 4 PP`BL'!$G$11","v":{"$error":"#DIV/0!"}},"#'Table 4 PP`BL'!$G$11"]
["t4_total_pp1",{"$f":"'Table 4 PP`BL'!$C$10","v":0},"#'Table 4 PP`BL'!$C$10"]
["t4_total_pp2",{"$f":"'Table 4 PP`BL'!$D$10","v":0},"#'Table 4 PP`BL'!$D$10"]
["t4_total_pp3",{"$f":"'Table 4 PP`BL'!$E$10","v":0},"#'Table 4 PP`BL'!$E$10"]
["t4_total_pp4",{"$f":"'Table 4 PP`BL'!$F$10","v":0},"#'Table 4 PP`BL'!$F$10"]
["t4_total_pp5",{"$f":"'Table 4 PP`BL'!$G$10","v":0},"#'Table 4 PP`BL'!$G$10"]
["t5_eu_rate",{"$f":"'Table 5-Sources'!$G$10","v":0},"#'Table 5-Sources'!$G$10"]
["t5_eu_rate_pp1",{"$f":"'Table 5-Sources'!$B$10","v":{"$error":"#DIV/0!"}},"#'Table 5-Sources'!$B$10"]
["t5_eu_rate_pp2",{"$f":"'Table 5-Sources'!$C$10","v":{"$error":"#DIV/0!"}},"#'Table 5-Sources'!$C$10"]
["t5_eu_rate_pp3",{"$f":"'Table 5-Sources'!$D$10","v":{"$error":"#DIV/0!"}},"#'Table 5-Sources'!$D$10"]
["t5_eu_rate_pp4",{"$f":"'Table 5-Sources'!$E$10","v":{"$error":"#DIV/0!"}},"#'Table 5-Sources'!$E$10"]
["t5_eu_rate_pp5",{"$f":"'Table 5-Sources'!$F$10","v":{"$error":"#DIV/0!"}},"#'Table 5-Sources'!$F$10"]
["t5_eu_subsidy",{"$f":"'Table 5-Sources'!$G$11","v":0},"#'Table 5-Sources'!$G$11"]
["t5_eu_subsidy_pp1",{"$f":"'Table 5-Sources'!$B$11","v":0},"#'Table 5-Sources'!$B$11"]
["t5_eu_subsidy_pp2",{"$f":"'Table 5-Sources'!$C$11","v":0},"#'Table 5-Sources'!$C$11"]
["t5_eu_subsidy_pp3",{"$f":"'Table 5-Sources'!$D$11","v":0},"#'Table 5-Sources'!$D$11"]
["t5_eu_subsidy_pp4",{"$f":"'Table 5-Sources'!$E$11","v":0},"#'Table 5-Sources'!$E$11"]
["t5_eu_subsidy_pp5",{"$f":"'Table 5-Sources'!$F$11","v":0},"#'Table 5-Sources'!$F$11"]
["t5_national",{"$f":"'Table 5-Sources'!$G$6","v":0},"#'Table 5-Sources'!$G$6"]
["t5_national_pp1",{"$f":"'Table 5-Sources'!$B$6","v":0},"#'Table 5-Sources'!$B$6"]
["t5_national_pp2",{"$f":"'Table 5-Sources'!$C$6","v":0},"#'Table 5-Sources'!$C$6"]
["t5_national_pp3",{"$f":"'Table 5-Sources'!$D$6","v":0},"#'Table 5-Sources'!$D$6"]
["t5_national_pp4",{"$f":"'Table 5-Sources'!$E$6","v":0},"#'Table 5-Sources'!$E$6"]
["t5_national_pp5",{"$f":"'Table 5-Sources'!$F$6","v":0},"#'Table 5-Sources'!$F$6"]
["t5_own",{"$f":"'Table 5-Sources'!$G$8","v":0},"#'Table 5-Sources'!$G$8"]
["t5_own_pp1",{"$f":"'Table 5-Sources'!$B$8","v":0},"#'Table 5-Sources'!$B$8"]
["t5_own_pp2",{"$f":"'Table 5-Sources'!$C$8","v":0},"#'Table 5-Sources'!$C$8"]
["t5_own_pp3",{"$f":"'Table 5-Sources'!$D$8","v":0},"#'Table 5-Sources'!$D$8"]
["t5_own_pp4",{"$f":"'Table 5-Sources'!$E$8","v":0},"#'Table 5-Sources'!$E$8"]
["t5_own_pp5",{"$f":"'Table 5-Sources'!$F$8","v":0},"#'Table 5-Sources'!$F$8"]
["t5_state",{"$f":"'Table 5-Sources'!$G$7","v":0},"#'Table 5-Sources'!$G$7"]
["t5_state_pp1",{"$f":"'Table 5-Sources'!$B$7","v":0},"#'Table 5-Sources'!$B$7"]
["t5_state_pp2",{"$f":"'Table 5-Sources'!$C$7","v":0},"#'Table 5-Sources'!$C$7"]
["t5_state_pp3",{"$f":"'Table 5-Sources'!$D$7","v":0},"#'Table 5-Sources'!$D$7"]
["t5_state_pp4",{"$f":"'Table 5-Sources'!$E$7","v":0},"#'Table 5-Sources'!$E$7"]
["t5_state_pp5",{"$f":"'Table 5-Sources'!$F$7","v":0},"#'Table 5-Sources'!$F$7"]
["t5_total",{"$f":"'Table 5-Sources'!$G$5","v":0},"#'Table 5-Sources'!$G$5"]
["t5_total_pp1",{"$f":"'Table 5-Sources'!$B$5","v":0},"#'Table 5-Sources'!$B$5"]
["t5_total_pp2",{"$f":"'Table 5-Sources'!$C$5","v":0},"#'Table 5-Sources'!$C$5"]
["t5_total_pp3",{"$f":"'Table 5-Sources'!$D$5","v":0},"#'Table 5-Sources'!$D$5"]
["t5_total_pp4",{"$f":"'Table 5-Sources'!$E$5","v":0},"#'Table 5-Sources'!$E$5"]
["t5_total_pp5",{"$f":"'Table 5-Sources'!$F$5","v":0},"#'Table 5-Sources'!$F$5"]
["Declarations!Text1",{"$f":"Declarations!$A$7","v":"I, the undersigned      "},"#Declarations!$A$7"]
["Declarations!Text2",{"$f":"Declarations!$A$9","v":"In my capacity of an official legal representative of       "},"#Declarations!$A$9"]
["Declarations!Text3",{"$f":"Declarations!$A$11","v":"With its official address at:      "},"#Declarations!$A$11"]
["Declarations!Text4",{"$f":"Declarations!$A$13","v":"VAT №/ equivalent :      "},"#Declarations!$A$13"]
["Declarations!Text5",{"$f":"Declarations!$A$12","v":"National registration code:       "},"#Declarations!$A$12"]
["Declarations!Text7",{"$f":"Declarations!$A$37","v":"     .      "},"#Declarations!$A$37"]
["Cover!Tourism",{"$f":"Cover!$T$27:$T$29","v":{"$error":"#VALUE!"}},"#Cover!$T$27:$T$29"]
["TOURISM",{"$f":"'Project identification'!$S$2:$S$4","v":{"$error":"#VALUE!"}},"#'Project identification'!$S$2:$S$4"]
["Cover!Tourism1",{"$f":"Cover!$O$46:$O$52","v":{"$error":"#VALUE!"}},"#Cover!$O$46:$O$52"]
["TOURISM1",{"$f":"'Project identification'!$P$87:$P$93","v":{"$error":"#VALUE!"}},"#'Project identification'!$P$87:$P$93"]